{"text_format":"1","workbook":"xlsx","n_sheets":5,"sheets":["Introduction","User_entry","Results","Computations","Controls"],"not_rendered":{"charts":4,"images":0,"macros":0,"external_links":0,"defined_names":9,"comments":0,"pivot_tables":0},"unopened":[],"bounds":{"document_bytes":16777216,"sheet_cells":100000,"rows_first":2000,"rows_last":500,"rows_between":2000,"halvings":0,"cell_chars":16384,"cell_head_chars":4096},"cells_cut":0,"cells_raw":0,"read":"whole","date_system":"1900"}

{"sheet":"Introduction","index":0,"n_rows":13,"n_cols":2,"rows_kept":13,"cut":false,"hidden":false,"merged":[[8,1,10,12],[3,1,6,12],[16,1,16,6],[15,1,15,6],[13,1,13,6]]}
[]
[null,"A practical tool for establishing the health benefits of research to support research prioritisation "]
[]
[null,"This tool provides an intuitive illustration of how to estimate the health benefits of research and a practical means for estimating the value of collecting further information on a study endpoint in certain circumstances (often called the Expected Value of Partial Perfect Information, EVPPI). It is intended to be used when standard approaches, which require probabilistic analyses of a model already addressing the policy question of interest, are not feasible."]
[]
[]
[]
[]
[null,"This tool should be used with reference to the accompanying paper: Woods, Beth; Schmitt, Laetitia; Rothery, Claire; Phillips, Andrew; Hallett, Timothy B; Revill, Paul; Claxton, Karl. Practical metrics for establishing the health benefits of research to support research prioritisation. BMJ Global Health (under review)."]
[]
[]
[]
[null,"If you get stuck or something doesn't work with the tool please let us know via the corresponding author: beth.woods@york.ac.uk"]

{"sheet":"User_entry","index":1,"n_rows":56,"n_cols":6,"rows_kept":56,"cut":false,"hidden":false,"merged":[[51,1,54,5]]}
[]
[null,"Instructions"]
[null,"Please insert information in to the green cells"]
[null,"When you have filled in the information required you can view the results on the \"Results\" tab"]
[null,"Note that although the tool refers to DALYs averted, it can be used with data on QALYs gained without modification."]
[null,"Note that although the tool users US$ for illustration, it can be used to make calculations in any currency."]
[]
[null,"Current understanding of the study endpoint",null,null,null,"Notes:"]
[null,"What type of endpoint is this?",null,null,"Proportion or probability"]
[null,"Distribution selected",null,null,{"$f":"selected_dist","v":"Beta"}]
[null,"What is themean value of this endpoint?",null,null,0.1,"Enter values on natural (not log) scale"]
[null,"What is the standard error for this endpoint?",null,null,0.04,"Enter values on natural (not log) scale"]
[null,"Here is a summary of the data you have entered on the natural scale",null,null,{"$f":"\"Mean: \"&TEXT(Computations!D6,\"#,##0.00\")&\", 95% confidence interval: \"&TEXT(Computations!D7,\"#,##0.00\")&\" to \"&TEXT(Computations!D8,\"#,##0.00\")","v":"Mean: 0.10, 95% confidence interval: 0.04 to 0.19"}]
[]
[null,"Cost-effectiveness of intervention of interest",null,null,null,"Notes"]
[null,"How many DALYs is the intervention expected to avert on average compared to current care",null,null,2000,"Enter discounted value"]
[null,"What are the total incremental costs of the intervention on average compared to current care?",null,null,450000,"Enter discounted value"]
[null,"Enter a cost-effectiveness threshold describing the opportunity cost of health care funds",null,null,300,"per DALY averted"]
[null,"Are the numbers above for one patient or all patients expected to receive the intervention over time",null,null,"All patients"]
[null,{"$f":"IF(E19=\"One patient\", \"OK, please enter the number of patients you expect to receive the intervention per year\",\"\")","v":""}]
[null,{"$f":"IF(E19=\"One patient\", \"OK, please enter the time period over which you expect this intervention to be in use\",\"\")","v":""},null,null,null,"years"]
[null,{"$f":"IF(E19=\"One patient\", \"OK, please enter the discount rate\",\"\")","v":""},null,null,null,"per annum"]
[]
[null,"Impact of changes in endpoint on DALYs averted and costs"]
[null,"In the tables below describe how DALYs averted and costs change for different values of the endpoint"]
[null,"Notes: data can be entered for between 2 and 20 values of the endpoint, the values of the endpoint used for costs and DALYs do not have to match"]
[null,"For hazard ratio, relative risk and odds ratio endpoints please enter values of the endpoint on the natural (i.e. not log) scale"]
[]
[null,"Values of endpoint","DALYs averted compared to current care",null,"Values of endpoint","Total  costs compared to current care"]
[1,{"$f":"E11","v":0.1},{"$f":"E16","v":2000},1,{"$f":"B30","v":0.1},{"$f":"E17","v":450000}]
[2,0.04,1000,2]
[3,0.19,3000,3]
[4,null,null,4]
[5,null,null,5]
[6,null,null,6]
[7,null,null,7]
[8,null,null,8]
[9,null,null,9]
[10,null,null,10]
[11,null,null,11]
[12,null,null,12]
[13,null,null,13]
[14,null,null,14]
[15,null,null,15]
[16,null,null,16]
[17,null,null,17]
[18,null,null,18]
[19,null,null,19]
[20,null,null,20]
[]
[null,"Preferred function fitted to model how DALYs averted change with the endpoint",null,null,"Preferred function fitted to model how costs incurred change with endpoint"]
[null,"Notes: The options below fit a regression model to the estimates provided. Users can specify different functional forms for these regressions. Users should review the correspondence between the information they have entered (blue dots) and the regression predictions (grey line), R-squared values are alo provided. Users should also consider carefully whether the relationship between DALYs averted/costs and the endpoint implied by the regression model (grey line) seem realistic."]
[]
[]
[]
[null,"Linear",null,null,"Linear"]

{"sheet":"Results","index":2,"n_rows":27,"n_cols":10,"rows_kept":27,"cut":false,"hidden":false,"merged":[[26,1,28,9]]}
[]
[null,"Net health benefit of intervention",null,null,null,null,null,null,{"$f":"Computations!B38","v":"Summary of value of information analysis"}]
[]
[null,null,null,null,null,null,null,null,{"$f":"Computations!B39","v":"Implications of decision making without further research "}]
[null,null,null,null,null,null,null,null,{"$f":"Computations!B40","v":"Expected DALYs averted by programme"},{"$f":"Computations!E40","v":1867.9477680063922}]
[null,null,null,null,null,null,null,null,{"$f":"Computations!B41","v":"Expected additional long-term costs associated with programme"},{"$f":"Computations!E41","v":449955.00000000093}]
[null,null,null,null,null,null,null,null,{"$f":"Computations!B42","v":"Expected health opportunity costs of funding programme"},{"$f":"Computations!E42","v":1499.8500000000031}]
[null,null,null,null,null,null,null,null,{"$f":"Computations!B43","v":"Incremental cost-effectiveness ratio ($/DALY)"},{"$f":"Computations!E43","v":240.8820030766841}]
[null,null,null,null,null,null,null,null,{"$f":"Computations!B44","v":"Expected net DALYs averted by implementation"},{"$f":"Computations!E44","v":368.09776800638906}]
[]
[]
[]
[null,"Current understanding of the study endpoint",null,null,null,null,null,null,{"$f":"Computations!B46","v":"Implications of decision making informed by further research "}]
[null,null,null,null,null,null,null,null,{"$f":"Computations!B47","v":"Value of endpoint at which decision changes"},{"$f":"Computations!E47","v":7.223068482948905E-2}]
[null,null,null,null,null,null,null,null,{"$f":"Computations!B48","v":"Probability further research could change decision"},{"$f":"Computations!E48","v":0.26275492864943162}]
[null,null,null,null,null,null,null,null,{"$f":"Computations!B49","v":"Expected net DALYs averted via research"},{"$f":"Computations!E49","v":59.387183226425975}]
[null,null,null,null,null,null,null,null,{"$f":"Computations!B50","v":"Potential maximum expenditure on study"},{"$f":"Computations!E50","v":17816.154967927792}]
[null,null,null,null,null,null,null,null,{"$f":"Computations!B51","v":"Total expected net DALYs averted"},{"$f":"Computations!E51","v":427.48495123281504}]
[]
[]
[]
[]
[]
[]
[]
[]
[null,"Note: if the trigger point is outside the plausible range for the endpoint (i.e. not between the 0.01% to 99.99% confidence bounds) then it is not shown. The tool is not currently set up for contexts where there are multiple values of the endpoint at which the decision changes as these are, from our experience, unusual in practise."]

{"sheet":"Computations","index":3,"n_rows":1123,"n_cols":23,"rows_kept":1123,"cut":false,"hidden":false,"merged":[[13,2,13,5],[13,6,13,9]]}
[]
[null,"Information relating to the prior"]
[null,"Distribution selected for prior",null,{"$f":"VLOOKUP(User_entry!E9,Controls!B2:C5,2,FALSE)","v":"Beta"}]
[null,"Parameter 1",{"$f":"IF(OR(D3=\"Lognorm\",D3=\"Normal\"),\"Mean\",\"Alpha\")","v":"Alpha"},{"$f":"IF(D3=\"Beta\",(mean*(1-mean)/(se^2)-1)*mean,IF(D3=\"Gamma\",mean^2/se^2,IF(selected_dist=\"Lognorm\",LN(mean),mean)))","v":5.5250000000000012}]
[null,"Parameter 2",{"$f":"IF(OR(D3=\"Lognorm\",D3=\"Normal\"),\"Standard error\",\"Beta\")","v":"Beta"},{"$f":"IF(D3=\"Beta\",(mean*(1-mean)/(se^2)-1)-D4,IF(D3=\"Gamma\",se^2/mean,IF(selected_dist=\"Lognorm\",(LN(mean+1.96*se)-LN(mean-1.96*se))/(2*1.96),se)))","v":49.725000000000009}]
[null,"Mean on natural scale",null,{"$f":"mean","v":0.1}]
[null,"95% CI","2.5% on distribution",{"$f":"IF(D3=\"Beta\",_xlfn.BETA.INV(0.025,D4,D5),IF(D3=\"Gamma\",_xlfn.GAMMA.INV(0.025,D4,D5),IF(D3=\"Lognorm\", _xlfn.LOGNORM.INV(0.025,D4,D5),_xlfn.NORM.INV(0.025,D4,D5))))","v":3.6323007951774795E-2}]
[null,null,"97.5% on distribution",{"$f":"IF(D3=\"Beta\",_xlfn.BETA.INV(0.975,D4,D5),IF(D3=\"Gamma\",_xlfn.GAMMA.INV(0.975,D4,D5),IF(D3=\"Lognorm\",_xlfn.LOGNORM.INV(0.975,D4,D5),_xlfn.NORM.INV(0.975,D4,D5))))","v":0.19084517242971166}]
[null,"Lowest bound for calculations","0.01% on distribution",{"$f":"IF(D3=\"Beta\",_xlfn.BETA.INV(0.0001,D4,D5),IF(D3=\"Gamma\",_xlfn.GAMMA.INV(0.0001,D4,D5), IF(D3=\"Lognorm\",_xlfn.LOGNORM.INV(0.0001,D4,D5),_xlfn.NORM.INV(0.0001,D4,D5))))","v":1.1088684501295472E-2}]
[null,"Highest bound for calculations","99.99% on distribution",{"$f":"IF(D3=\"Beta\",_xlfn.BETA.INV(0.9999,D4,D5),IF(D3=\"Gamma\",_xlfn.GAMMA.INV(0.9999,D4,D5), IF(D3=\"Lognorm\",_xlfn.LOGNORM.INV(0.9999,D4,D5),_xlfn.NORM.INV(0.9999,D4,D5))))","v":0.30293594143778158}]
[null,"Interval for discretising distribution",null,{"$f":"(D10-D9)/1000","v":2.9184725693648611E-4}]
[]
[null,"Functions fitted to cost and DALY data"]
[null,null,"Outcomes model",null,null,null,"Costs model"]
[null,{"$f":"Controls!B10","v":"Linear"},null,null,{"$f":"LINEST(OFFSET(User_entry!C30,0,0,COUNTA(DALYs_varied)),OFFSET(User_entry!B30,0,0,COUNTA(endpoint_DALYs)),TRUE,FALSE)","v":13157.8947368421},552.63157894736901,null,null,{"$f":"LINEST(OFFSET(User_entry!F30,0,0,COUNTA(Costs_varied)),OFFSET(User_entry!E30,0,0,COUNTA(endpoint_costs)),TRUE,FALSE)","v":0},450000]
[null,{"$f":"Controls!B11","v":"Exponential"},null,null,{"$f":"LINEST(LN(OFFSET(User_entry!C30,0,0,COUNTA(DALYs_varied))),OFFSET(User_entry!B30,0,0,COUNTA(endpoint_DALYs)),TRUE,FALSE)","v":7.101536077881514},6.723839466824522,null,null,{"$f":"LINEST(LN(OFFSET(User_entry!F30,0,0,COUNTA(Costs_varied))),OFFSET(User_entry!E30,0,0,COUNTA(endpoint_costs)),TRUE,FALSE)","v":0},13.017002861746503]
[null,{"$f":"Controls!B12","v":"Logarithmic"},null,null,{"$f":"LINEST(OFFSET(User_entry!C30,0,0,COUNTA(DALYs_varied)),LN(OFFSET(User_entry!B30,0,0,COUNTA(endpoint_DALYs))),TRUE,FALSE)","v":1270.4407127889419},5041.5164274235121,null,null,{"$f":"LINEST(OFFSET(User_entry!F30,0,0,COUNTA(Costs_varied)),LN(OFFSET(User_entry!E30,0,0,COUNTA(endpoint_costs))),TRUE,FALSE)","v":0},450000]
[null,{"$f":"Controls!B13","v":"Polynomial - quadratic"},null,{"$f":"LINEST(OFFSET(User_entry!C30,0,0,COUNTA(DALYs_varied)),OFFSET(User_entry!B30,0,0,COUNTA(endpoint_DALYs))^{1,2},TRUE,FALSE)","v":-37037.037037036898},21851.851851851814,185.18518518518738,null,{"$f":"LINEST(OFFSET(User_entry!F30,0,0,COUNTA(Costs_varied)),OFFSET(User_entry!E30,0,0,COUNTA(endpoint_costs))^{1,2},TRUE,FALSE)","v":0},0,450000]
[null,{"$f":"Controls!B14","v":"Polynomial - cubic"},{"$f":"LINEST(OFFSET(User_entry!C30,0,0,COUNTA(DALYs_varied)),OFFSET(User_entry!B30,0,0,COUNTA(endpoint_DALYs))^{1,2,3},TRUE,FALSE)","v":0},-37037.037037036898,21851.851851851814,185.18518518518738,{"$f":"LINEST(OFFSET(User_entry!F30,0,0,COUNTA(Costs_varied)),OFFSET(User_entry!E30,0,0,COUNTA(endpoint_costs))^{1,2,3},TRUE,FALSE)","v":0},0,0,450000]
[]
[null,"Fit statistics for selected models"]
[null,"Selected model outcomes",{"$f":"User_entry!B56","v":"Linear"},{"$f":"C22&\" (R-squared=\"&TEXT(B25,\"0.00\")&\")\"","v":"Linear (R-squared=0.99)"},null,null,"Selected model costs",{"$f":"User_entry!E56","v":"Linear"},{"$f":"H22&\" (R-squared=\"&TEXT(G25,\"0.00\")&\")\"","v":"Linear (R-squared=1.00)"}]
[null,{"$f":"LINEST(IF(C22=B16,LN(OFFSET(User_entry!C30,0,0,COUNTA(DALYs_varied))),OFFSET(User_entry!C30,0,0,COUNTA(DALYs_varied))),IF(C22=B19,OFFSET(User_entry!B30,0,0,COUNTA(endpoint_DALYs))^{1,2,3},IF(C22=B18,OFFSET(User_entry!B30,0,0,COUNTA(endpoint_DALYs))^{1,2},IF(C22=B17,LN(OFFSET(User_entry!B30,0,0,COUNTA(endpoint_DALYs))),OFFSET(User_entry!B30,0,0,COUNTA(endpoint_DALYs))))),TRUE,TRUE)","v":13157.8947368421},552.63157894736901,{"$error":"#N/A"},{"$error":"#N/A"},null,{"$f":"LINEST(IF(H22=B16,LN(OFFSET(User_entry!F30,0,0,COUNTA(Costs_varied))),OFFSET(User_entry!F30,0,0,COUNTA(Costs_varied))),IF(H22=B19,OFFSET(User_entry!E30,0,0,COUNTA(endpoint_costs))^{1,2,3},IF(H22=B18,OFFSET(User_entry!E30,0,0,COUNTA(endpoint_costs))^{1,2},IF(H22=B17,LN(OFFSET(User_entry!E30,0,0,COUNTA(endpoint_costs))),OFFSET(User_entry!E30,0,0,COUNTA(endpoint_costs))))),TRUE,TRUE)","v":0},450000,{"$error":"#N/A"},{"$error":"#N/A"}]
[null,1519.3428136569057,191.58183919159208,{"$error":"#N/A"},{"$error":"#N/A"},null,0,0,{"$error":"#N/A"},{"$error":"#N/A"}]
[null,0.98684210526315796,162.22142113076211,{"$error":"#N/A"},{"$error":"#N/A"},null,1,0,{"$error":"#N/A"},{"$error":"#N/A"}]
[null,75.000000000000398,1,{"$error":"#N/A"},{"$error":"#N/A"},null,{"$error":"#NUM!"},0,{"$error":"#N/A"},{"$error":"#N/A"}]
[null,1973684.210526316,26315.789473684072,{"$error":"#N/A"},{"$error":"#N/A"},null,0,0,{"$error":"#N/A"},{"$error":"#N/A"}]
[]
[]
[]
[]
[]
[null,"Multiplier for population size",null,null,{"$f":"IF(User_entry!E19=\"One patient\",User_entry!E20*(1-(1/(1+User_entry!E22))^(User_entry!E21))/(1-1/(1+User_entry!E22)),1)","v":1},"This calculates the net present value for the time horizon specified assuming a constant flow of patients"]
[null,"Intervention expected to be cost-effective:",null,null,{"$f":"IF(SUMPRODUCT(F55:F1054,I55:I1054)>0,\"Yes\",\"No\")","v":"Yes"}]
[null,"Always cost-effective?",null,null,{"$f":"COUNTIF(I55:I1054,\">0\")=1000","v":false}]
[null,"Never cost-effective?",null,null,{"$f":"COUNTIF(I55:I1054,\"<=0\")=1000","v":false}]
[]
[null,"Summary of value of information analysis"]
[null,"Implications of decision making without further research "]
[null,"Expected DALYs averted by programme",null,null,{"$f":"SUMPRODUCT(F55:F1054,G55:G1054)*E33","v":1867.9477680063922}]
[null,"Expected additional long-term costs associated with programme",null,null,{"$f":"SUMPRODUCT(F55:F1054,H55:H1054)*E33","v":449955.00000000093}]
[null,"Expected health opportunity costs of funding programme",null,null,{"$f":"E41/User_entry!E18","v":1499.8500000000031}]
[null,"Incremental cost-effectiveness ratio ($/DALY)",null,null,{"$f":"E41/E40","v":240.8820030766841}]
[null,"Expected net DALYs averted by implementation",null,null,{"$f":"E40-E41/User_entry!E18","v":368.09776800638906}]
[]
[null,"Implications of decision making informed by further research "]
[null,"Value of endpoint at which decision changes",null,null,{"$f":"IF(OR(E35,E36),\"Not applicable\",INDEX(D55:D1054,MATCH(TRUE,IF(I55<=0,I55:I1054>0,I55:I1054<=0),0)))","v":7.223068482948905E-2}]
[null,"Probability further research could change decision",null,null,{"$f":"IF(E34=\"Yes\",SUMIF(I55:I1054,\"<=0\",F55:F1054),SUMIF(I55:I1054,\">0\",F55:F1054))","v":0.26275492864943162}]
[null,"Expected net DALYs averted via research",null,null,{"$f":"E51-E44","v":59.387183226425975}]
[null,"Potential maximum expenditure on study",null,null,{"$f":"E49*User_entry!E18","v":17816.154967927792}]
[null,"Total expected net DALYs averted",null,null,{"$f":"SUMPRODUCT(F55:F1054,J55:J1054)*E33","v":427.48495123281504}]
[]
["Index","Lower bound interval","Upper bound interval","Midpoint","Cumulative density","Density within interval","Predicted DALYs averted","Predicted costs incurred","Net DALYs | endpoint","Net DALYs with research",null,"Selected models",null,"Outcomes predicted by different functions",null,null,null,null,"Costs predicted by different functions"]
[null,null,null,null,null,null,null,null,null,null,null,"Outcomes","Costs",{"$f":"TRANSPOSE(Controls!B10:B14)","v":"Linear"},"Exponential","Logarithmic","Polynomial - quadratic","Polynomial - cubic",{"$f":"N54","v":"Linear"},{"$f":"O54","v":"Exponential"},"Logarithmic","Polynomial - quadratic","Polynomial - cubic"]
[1,{"$f":"D9","v":1.1088684501295472E-2},{"$f":"B55+$D$11","v":1.1380531758231957E-2},{"$f":"AVERAGE(B55:C55)","v":1.1234608129763714E-2},{"$f":"IF($D$3=\"Beta\",_xlfn.BETA.DIST(C55,$D$4,$D$5,TRUE),IF($D$3=\"Gamma\",_xlfn.GAMMA.DIST(C55,$D$4,$D$5,TRUE),IF($D$3=\"Lognorm\",_xlfn.LOGNORM.DIST(C55,$D$4,$D$5,TRUE),_xlfn.NORM.DIST(C55,$D$4,$D$5,TRUE))))","v":1.1405591038533528E-4},{"$f":"E55-E54","v":1.1405591038533528E-4},{"$f":"L55","v":700.45537012847046},{"$f":"M55","v":450000},{"$f":"G55-H55/User_entry!$E$18","v":-799.54462987152954},{"$f":"MAX(I55,0)","v":0},null,{"$f":"HLOOKUP(User_entry!$B$56,Computations!$N$54:$R$1054,Computations!A55+1,FALSE)","v":700.45537012847046},{"$f":"HLOOKUP(User_entry!$E$56,Computations!$S$54:$W$1054,Computations!A55+1,FALSE)","v":450000},{"$f":"Computations!$F$15+Computations!$E$15*D55","v":700.45537012847046},{"$f":"EXP(Computations!$F$16)*EXP(Computations!$E$16)^Computations!D55","v":901.10558912424267},{"$f":"Computations!$F$17+Computations!$E$17*LN(Computations!D55)","v":-661.18226664232589},{"$f":"Computations!$F$18+Computations!$E$18*Computations!D55+Computations!$D$18*Computations!D55^2","v":426.00749543449206},{"$f":"Computations!$F$19+Computations!$E$19*Computations!D55+Computations!$D$19*Computations!D55^2+Computations!$C$19*Computations!D55^3","v":426.00749543449206},{"$f":"Computations!$J$15+Computations!$I$15*D55","v":450000},{"$f":"EXP(Computations!$J$16)*EXP(Computations!$I$16)^Computations!D55","v":450000.00000000035},{"$f":"Computations!$J$17+Computations!$I$17*LN(Computations!D55)","v":450000},{"$f":"Computations!$J$18+Computations!$I$18*Computations!D55+Computations!$H$18*Computations!D55^2","v":450000},{"$f":"Computations!$J$19+Computations!$I$19*Computations!D55+Computations!$H$19*Computations!D55^2+Computations!$G$19*Computations!D55^3","v":450000}]
[2,{"$f":"C55","v":1.1380531758231957E-2},{"$f":"B56+$D$11","v":1.1672379015168443E-2},{"$f":"AVERAGE(B56:C56)","v":1.1526455386700201E-2},{"$f":"IF($D$3=\"Beta\",_xlfn.BETA.DIST(C56,$D$4,$D$5,TRUE),IF($D$3=\"Gamma\",_xlfn.GAMMA.DIST(C56,$D$4,$D$5,TRUE),IF($D$3=\"Lognorm\",_xlfn.LOGNORM.DIST(C56,$D$4,$D$5,TRUE),_xlfn.NORM.DIST(C56,$D$4,$D$5,TRUE))))","v":1.2961566178785382E-4},{"$f":"E56-E55","v":1.5559751402518539E-5},{"$f":"L56","v":704.29546561447683},{"$f":"M56","v":450000},{"$f":"G56-H56/User_entry!$E$18","v":-795.70453438552317},{"$f":"MAX(I56,0)","v":0},null,{"$f":"HLOOKUP(User_entry!$B$56,Computations!$N$54:$R$1054,Computations!A56+1,FALSE)","v":704.29546561447683},{"$f":"HLOOKUP(User_entry!$E$56,Computations!$S$54:$W$1054,Computations!A56+1,FALSE)","v":450000},{"$f":"Computations!$F$15+Computations!$E$15*D56","v":704.29546561447683},{"$f":"EXP(Computations!$F$16)*EXP(Computations!$E$16)^Computations!D56","v":902.9751246668427},{"$f":"Computations!$F$17+Computations!$E$17*LN(Computations!D56)","v":-628.60075229857284},{"$f":"Computations!$F$18+Computations!$E$18*Computations!D56+Computations!$D$18*Computations!D56^2","v":432.13887053228063},{"$f":"Computations!$F$19+Computations!$E$19*Computations!D56+Computations!$D$19*Computations!D56^2+Computations!$C$19*Computations!D56^3","v":432.13887053228063},{"$f":"Computations!$J$15+Computations!$I$15*D56","v":450000},{"$f":"EXP(Computations!$J$16)*EXP(Computations!$I$16)^Computations!D56","v":450000.00000000035},{"$f":"Computations!$J$17+Computations!$I$17*LN(Computations!D56)","v":450000},{"$f":"Computations!$J$18+Computations!$I$18*Computations!D56+Computations!$H$18*Computations!D56^2","v":450000},{"$f":"Computations!$J$19+Computations!$I$19*Computations!D56+Computations!$H$19*Computations!D56^2+Computations!$G$19*Computations!D56^3","v":450000}]
[3,{"$f":"C56","v":1.1672379015168443E-2},1.1964226272104929E-2,1.1818302643636685E-2,1.4679019157014668E-4,1.7174529782292859E-5,708.13556110048319,450000,{"$f":"G57-H57/User_entry!$E$18","v":-791.86443889951681},0,null,{"$f":"HLOOKUP(User_entry!$B$56,Computations!$N$54:$R$1054,Computations!A57+1,FALSE)","v":708.13556110048319},{"$f":"HLOOKUP(User_entry!$E$56,Computations!$S$54:$W$1054,Computations!A57+1,FALSE)","v":450000},{"$f":"Computations!$F$15+Computations!$E$15*D57","v":708.13556110048319},{"$f":"EXP(Computations!$F$16)*EXP(Computations!$E$16)^Computations!D57","v":904.84853895926665},{"$f":"Computations!$F$17+Computations!$E$17*LN(Computations!D57)","v":-596.8339672552238},{"$f":"Computations!$F$18+Computations!$E$18*Computations!D57+Computations!$D$18*Computations!D57^2","v":438.26393638404079},{"$f":"Computations!$F$19+Computations!$E$19*Computations!D57+Computations!$D$19*Computations!D57^2+Computations!$C$19*Computations!D57^3","v":438.26393638404079},{"$f":"Computations!$J$15+Computations!$I$15*D57","v":450000},{"$f":"EXP(Computations!$J$16)*EXP(Computations!$I$16)^Computations!D57","v":450000.00000000035},{"$f":"Computations!$J$17+Computations!$I$17*LN(Computations!D57)","v":450000},{"$f":"Computations!$J$18+Computations!$I$18*Computations!D57+Computations!$H$18*Computations!D57^2","v":450000},{"$f":"Computations!$J$19+Computations!$I$19*Computations!D57+Computations!$H$19*Computations!D57^2+Computations!$G$19*Computations!D57^3","v":450000}]
[4,1.1964226272104929E-2,1.2256073529041414E-2,1.2110149900573172E-2,1.6569477073525833E-4,1.8904579165111656E-5,711.97565658648966,450000,{"$f":"G58-H58/User_entry!$E$18","v":-788.02434341351034},0,null,{"$f":"HLOOKUP(User_entry!$B$56,Computations!$N$54:$R$1054,Computations!A58+1,FALSE)","v":711.97565658648966},{"$f":"HLOOKUP(User_entry!$E$56,Computations!$S$54:$W$1054,Computations!A58+1,FALSE)","v":450000},{"$f":"Computations!$F$15+Computations!$E$15*D58","v":711.97565658648966},{"$f":"EXP(Computations!$F$16)*EXP(Computations!$E$16)^Computations!D58","v":906.72584004880741},{"$f":"Computations!$F$17+Computations!$E$17*LN(Computations!D58)","v":-565.84215753531225},{"$f":"Computations!$F$18+Computations!$E$18*Computations!D58+Computations!$D$18*Computations!D58^2","v":444.38269298977286},{"$f":"Computations!$F$19+Computations!$E$19*Computations!D58+Computations!$D$19*Computations!D58^2+Computations!$C$19*Computations!D58^3","v":444.38269298977286},{"$f":"Computations!$J$15+Computations!$I$15*D58","v":450000},{"$f":"EXP(Computations!$J$16)*EXP(Computations!$I$16)^Computations!D58","v":450000.00000000035},{"$f":"Computations!$J$17+Computations!$I$17*LN(Computations!D58)","v":450000},{"$f":"Computations!$J$18+Computations!$I$18*Computations!D58+Computations!$H$18*Computations!D58^2","v":450000},{"$f":"Computations!$J$19+Computations!$I$19*Computations!D58+Computations!$H$19*Computations!D58^2+Computations!$G$19*Computations!D58^3","v":450000}]
[5,1.2256073529041414E-2,1.25479207859779E-2,1.2401997157509656E-2,1.8644897913131119E-4,{"$f":"E59-E58","v":2.0754208396052854E-5},715.81575207249602,450000,{"$f":"G59-H59/User_entry!$E$18","v":-784.18424792750398},0,null,{"$f":"HLOOKUP(User_entry!$B$56,Computations!$N$54:$R$1054,Computations!A59+1,FALSE)","v":715.81575207249602},{"$f":"HLOOKUP(User_entry!$E$56,Computations!$S$54:$W$1054,Computations!A59+1,FALSE)","v":450000},{"$f":"Computations!$F$15+Computations!$E$15*D59","v":715.81575207249602},{"$f":"EXP(Computations!$F$16)*EXP(Computations!$E$16)^Computations!D59","v":908.60703599945361},{"$f":"Computations!$F$17+Computations!$E$17*LN(Computations!D59)","v":-535.58840963896091},{"$f":"Computations!$F$18+Computations!$E$18*Computations!D59+Computations!$D$18*Computations!D59^2","v":450.49514034947657},{"$f":"Computations!$F$19+Computations!$E$19*Computations!D59+Computations!$D$19*Computations!D59^2+Computations!$C$19*Computations!D59^3","v":450.49514034947657},{"$f":"Computations!$J$15+Computations!$I$15*D59","v":450000},{"$f":"EXP(Computations!$J$16)*EXP(Computations!$I$16)^Computations!D59","v":450000.00000000035},{"$f":"Computations!$J$17+Computations!$I$17*LN(Computations!D59)","v":450000},{"$f":"Computations!$J$18+Computations!$I$18*Computations!D59+Computations!$H$18*Computations!D59^2","v":450000},{"$f":"Computations!$J$19+Computations!$I$19*Computations!D59+Computations!$H$19*Computations!D59^2+Computations!$G$19*Computations!D59^3","v":450000}]
[6,1.25479207859779E-2,1.2839768042914385E-2,1.2693844414446143E-2,2.0917667442635593E-4,2.2727695295044739E-5,719.65584755850239,450000,{"$f":"G60-H60/User_entry!$E$18","v":-780.34415244149761},0,null,{"$f":"HLOOKUP(User_entry!$B$56,Computations!$N$54:$R$1054,Computations!A60+1,FALSE)","v":719.65584755850239},{"$f":"HLOOKUP(User_entry!$E$56,Computations!$S$54:$W$1054,Computations!A60+1,FALSE)","v":450000},{"$f":"Computations!$F$15+Computations!$E$15*D60","v":719.65584755850239},{"$f":"EXP(Computations!$F$16)*EXP(Computations!$E$16)^Computations!D60","v":910.49213489192471},{"$f":"Computations!$F$17+Computations!$E$17*LN(Computations!D60)","v":-506.03838621857722},{"$f":"Computations!$F$18+Computations!$E$18*Computations!D60+Computations!$D$18*Computations!D60^2","v":456.60127846315208},{"$f":"Computations!$F$19+Computations!$E$19*Computations!D60+Computations!$D$19*Computations!D60^2+Computations!$C$19*Computations!D60^3","v":456.60127846315208},{"$f":"Computations!$J$15+Computations!$I$15*D60","v":450000},{"$f":"EXP(Computations!$J$16)*EXP(Computations!$I$16)^Computations!D60","v":450000.00000000035},{"$f":"Computations!$J$17+Computations!$I$17*LN(Computations!D60)","v":450000},{"$f":"Computations!$J$18+Computations!$I$18*Computations!D60+Computations!$H$18*Computations!D60^2","v":450000},{"$f":"Computations!$J$19+Computations!$I$19*Computations!D60+Computations!$H$19*Computations!D60^2+Computations!$G$19*Computations!D60^3","v":450000}]
[7,1.2839768042914385E-2,1.3131615299850871E-2,1.2985691671382627E-2,2.340059550570482E-4,2.4829280630692271E-5,723.49594304450875,450000,{"$f":"G61-H61/User_entry!$E$18","v":-776.50405695549125},0,null,{"$f":"HLOOKUP(User_entry!$B$56,Computations!$N$54:$R$1054,Computations!A61+1,FALSE)","v":723.49594304450875},{"$f":"HLOOKUP(User_entry!$E$56,Computations!$S$54:$W$1054,Computations!A61+1,FALSE)","v":450000},{"$f":"Computations!$F$15+Computations!$E$15*D61","v":723.49594304450875},{"$f":"EXP(Computations!$F$16)*EXP(Computations!$E$16)^Computations!D61","v":912.38114482370486},{"$f":"Computations!$F$17+Computations!$E$17*LN(Computations!D61)","v":-477.16009180273704},{"$f":"Computations!$F$18+Computations!$E$18*Computations!D61+Computations!$D$18*Computations!D61^2","v":462.70110733079929},{"$f":"Computations!$F$19+Computations!$E$19*Computations!D61+Computations!$D$19*Computations!D61^2+Computations!$C$19*Computations!D61^3","v":462.70110733079929},{"$f":"Computations!$J$15+Computations!$I$15*D61","v":450000},{"$f":"EXP(Computations!$J$16)*EXP(Computations!$I$16)^Computations!D61","v":450000.00000000035},{"$f":"Computations!$J$17+Computations!$I$17*LN(Computations!D61)","v":450000},{"$f":"Computations!$J$18+Computations!$I$18*Computations!D61+Computations!$H$18*Computations!D61^2","v":450000},{"$f":"Computations!$J$19+Computations!$I$19*Computations!D61+Computations!$H$19*Computations!D61^2+Computations!$G$19*Computations!D61^3","v":450000}]
[8,1.3131615299850871E-2,1.3423462556787356E-2,1.3277538928319114E-2,2.610691173572531E-4,2.70631623002049E-5,727.33603853051522,450000,{"$f":"G62-H62/User_entry!$E$18","v":-772.66396146948478},0,null,{"$f":"HLOOKUP(User_entry!$B$56,Computations!$N$54:$R$1054,Computations!A62+1,FALSE)","v":727.33603853051522},{"$f":"HLOOKUP(User_entry!$E$56,Computations!$S$54:$W$1054,Computations!A62+1,FALSE)","v":450000},{"$f":"Computations!$F$15+Computations!$E$15*D62","v":727.33603853051522},{"$f":"EXP(Computations!$F$16)*EXP(Computations!$E$16)^Computations!D62","v":914.27407390907877},{"$f":"Computations!$F$17+Computations!$E$17*LN(Computations!D62)","v":-448.92366456056152},{"$f":"Computations!$F$18+Computations!$E$18*Computations!D62+Computations!$D$18*Computations!D62^2","v":468.7946269524183},{"$f":"Computations!$F$19+Computations!$E$19*Computations!D62+Computations!$D$19*Computations!D62^2+Computations!$C$19*Computations!D62^3","v":468.7946269524183},{"$f":"Computations!$J$15+Computations!$I$15*D62","v":450000},{"$f":"EXP(Computations!$J$16)*EXP(Computations!$I$16)^Computations!D62","v":450000.00000000035},{"$f":"Computations!$J$17+Computations!$I$17*LN(Computations!D62)","v":450000},{"$f":"Computations!$J$18+Computations!$I$18*Computations!D62+Computations!$H$18*Computations!D62^2","v":450000},{"$f":"Computations!$J$19+Computations!$I$19*Computations!D62+Computations!$H$19*Computations!D62^2+Computations!$G$19*Computations!D62^3","v":450000}]
[9,1.3423462556787356E-2,1.3715309813723842E-2,1.3569386185255598E-2,2.9050260707454563E-4,2.943348971729253E-5,731.17613401652147,450000,{"$f":"G63-H63/User_entry!$E$18","v":-768.82386598347853},0,null,{"$f":"HLOOKUP(User_entry!$B$56,Computations!$N$54:$R$1054,Computations!A63+1,FALSE)","v":731.17613401652147},{"$f":"HLOOKUP(User_entry!$E$56,Computations!$S$54:$W$1054,Computations!A63+1,FALSE)","v":450000},{"$f":"Computations!$F$15+Computations!$E$15*D63","v":731.17613401652147},{"$f":"EXP(Computations!$F$16)*EXP(Computations!$E$16)^Computations!D63","v":916.17093027916519},{"$f":"Computations!$F$17+Computations!$E$17*LN(Computations!D63)","v":-421.30119070862111},{"$f":"Computations!$F$18+Computations!$E$18*Computations!D63+Computations!$D$18*Computations!D63^2","v":474.88183732800906},{"$f":"Computations!$F$19+Computations!$E$19*Computations!D63+Computations!$D$19*Computations!D63^2+Computations!$C$19*Computations!D63^3","v":474.88183732800906},{"$f":"Computations!$J$15+Computations!$I$15*D63","v":450000},{"$f":"EXP(Computations!$J$16)*EXP(Computations!$I$16)^Computations!D63","v":450000.00000000035},{"$f":"Computations!$J$17+Computations!$I$17*LN(Computations!D63)","v":450000},{"$f":"Computations!$J$18+Computations!$I$18*Computations!D63+Computations!$H$18*Computations!D63^2","v":450000},{"$f":"Computations!$J$19+Computations!$I$19*Computations!D63+Computations!$H$19*Computations!D63^2+Computations!$G$19*Computations!D63^3","v":450000}]
[10,1.3715309813723842E-2,1.4007157070660328E-2,1.3861233442192086E-2,3.2244696548387888E-4,3.194435840933325E-5,735.01622950252795,450000,{"$f":"G64-H64/User_entry!$E$18","v":-764.98377049747205},0,null,{"$f":"HLOOKUP(User_entry!$B$56,Computations!$N$54:$R$1054,Computations!A64+1,FALSE)","v":735.01622950252795},{"$f":"HLOOKUP(User_entry!$E$56,Computations!$S$54:$W$1054,Computations!A64+1,FALSE)","v":450000},{"$f":"Computations!$F$15+Computations!$E$15*D64","v":735.01622950252795},{"$f":"EXP(Computations!$F$16)*EXP(Computations!$E$16)^Computations!D64","v":918.07172208195334},{"$f":"Computations!$F$17+Computations!$E$17*LN(Computations!D64)","v":-394.2665386686831},{"$f":"Computations!$F$18+Computations!$E$18*Computations!D64+Computations!$D$18*Computations!D64^2","v":480.96273845757156},{"$f":"Computations!$F$19+Computations!$E$19*Computations!D64+Computations!$D$19*Computations!D64^2+Computations!$C$19*Computations!D64^3","v":480.96273845757156},{"$f":"Computations!$J$15+Computations!$I$15*D64","v":450000},{"$f":"EXP(Computations!$J$16)*EXP(Computations!$I$16)^Computations!D64","v":450000.00000000035},{"$f":"Computations!$J$17+Computations!$I$17*LN(Computations!D64)","v":450000},{"$f":"Computations!$J$18+Computations!$I$18*Computations!D64+Computations!$H$18*Computations!D64^2","v":450000},{"$f":"Computations!$J$19+Computations!$I$19*Computations!D64+Computations!$H$19*Computations!D64^2+Computations!$G$19*Computations!D64^3","v":450000}]
[11,1.4007157070660328E-2,1.4299004327596813E-2,1.4153080699128569E-2,3.5704677030844395E-4,3.4599804824565078E-5,738.85632498853431,450000,{"$f":"G65-H65/User_entry!$E$18","v":-761.14367501146569},0,null,{"$f":"HLOOKUP(User_entry!$B$56,Computations!$N$54:$R$1054,Computations!A65+1,FALSE)","v":738.85632498853431},{"$f":"HLOOKUP(User_entry!$E$56,Computations!$S$54:$W$1054,Computations!A65+1,FALSE)","v":450000},{"$f":"Computations!$F$15+Computations!$E$15*D65","v":738.85632498853431},{"$f":"EXP(Computations!$F$16)*EXP(Computations!$E$16)^Computations!D65","v":919.97645748233697},{"$f":"Computations!$F$17+Computations!$E$17*LN(Computations!D65)","v":-367.79521050652602},{"$f":"Computations!$F$18+Computations!$E$18*Computations!D65+Computations!$D$18*Computations!D65^2","v":487.03733034110576},{"$f":"Computations!$F$19+Computations!$E$19*Computations!D65+Computations!$D$19*Computations!D65^2+Computations!$C$19*Computations!D65^3","v":487.03733034110576},{"$f":"Computations!$J$15+Computations!$I$15*D65","v":450000},{"$f":"EXP(Computations!$J$16)*EXP(Computations!$I$16)^Computations!D65","v":450000.00000000035},{"$f":"Computations!$J$17+Computations!$I$17*LN(Computations!D65)","v":450000},{"$f":"Computations!$J$18+Computations!$I$18*Computations!D65+Computations!$H$18*Computations!D65^2","v":450000},{"$f":"Computations!$J$19+Computations!$I$19*Computations!D65+Computations!$H$19*Computations!D65^2+Computations!$G$19*Computations!D65^3","v":450000}]
[12,1.4299004327596813E-2,1.4590851584533299E-2,1.4444927956065057E-2,3.9445057165803511E-4,3.7403801349591157E-5,742.69642047454067,450000,{"$f":"G66-H66/User_entry!$E$18","v":-757.30357952545933},0,null,{"$f":"HLOOKUP(User_entry!$B$56,Computations!$N$54:$R$1054,Computations!A66+1,FALSE)","v":742.69642047454067},{"$f":"HLOOKUP(User_entry!$E$56,Computations!$S$54:$W$1054,Computations!A66+1,FALSE)","v":450000},{"$f":"Computations!$F$15+Computations!$E$15*D66","v":742.69642047454067},{"$f":"EXP(Computations!$F$16)*EXP(Computations!$E$16)^Computations!D66","v":921.88514466214906},{"$f":"Computations!$F$17+Computations!$E$17*LN(Computations!D66)","v":-341.86420853498748},{"$f":"Computations!$F$18+Computations!$E$18*Computations!D66+Computations!$D$18*Computations!D66^2","v":493.10561297861182},{"$f":"Computations!$F$19+Computations!$E$19*Computations!D66+Computations!$D$19*Computations!D66^2+Computations!$C$19*Computations!D66^3","v":493.10561297861182},{"$f":"Computations!$J$15+Computations!$I$15*D66","v":450000},{"$f":"EXP(Computations!$J$16)*EXP(Computations!$I$16)^Computations!D66","v":450000.00000000035},{"$f":"Computations!$J$17+Computations!$I$17*LN(Computations!D66)","v":450000},{"$f":"Computations!$J$18+Computations!$I$18*Computations!D66+Computations!$H$18*Computations!D66^2","v":450000},{"$f":"Computations!$J$19+Computations!$I$19*Computations!D66+Computations!$H$19*Computations!D66^2+Computations!$G$19*Computations!D66^3","v":450000}]
[13,1.4590851584533299E-2,1.4882698841469784E-2,1.4736775213001541E-2,4.3481082319505216E-4,4.0360251537017045E-5,746.53651596054715,450000,{"$f":"G67-H67/User_entry!$E$18","v":-753.46348403945285},0,null,{"$f":"HLOOKUP(User_entry!$B$56,Computations!$N$54:$R$1054,Computations!A67+1,FALSE)","v":746.53651596054715},{"$f":"HLOOKUP(User_entry!$E$56,Computations!$S$54:$W$1054,Computations!A67+1,FALSE)","v":450000},{"$f":"Computations!$F$15+Computations!$E$15*D67","v":746.53651596054715},{"$f":"EXP(Computations!$F$16)*EXP(Computations!$E$16)^Computations!D67","v":923.79779182019865},{"$f":"Computations!$F$17+Computations!$E$17*LN(Computations!D67)","v":-316.45191526090821},{"$f":"Computations!$F$18+Computations!$E$18*Computations!D67+Computations!$D$18*Computations!D67^2","v":499.16758637008951},{"$f":"Computations!$F$19+Computations!$E$19*Computations!D67+Computations!$D$19*Computations!D67^2+Computations!$C$19*Computations!D67^3","v":499.16758637008951},{"$f":"Computations!$J$15+Computations!$I$15*D67","v":450000},{"$f":"EXP(Computations!$J$16)*EXP(Computations!$I$16)^Computations!D67","v":450000.00000000035},{"$f":"Computations!$J$17+Computations!$I$17*LN(Computations!D67)","v":450000},{"$f":"Computations!$J$18+Computations!$I$18*Computations!D67+Computations!$H$18*Computations!D67^2","v":450000},{"$f":"Computations!$J$19+Computations!$I$19*Computations!D67+Computations!$H$19*Computations!D67^2+Computations!$G$19*Computations!D67^3","v":450000}]
[14,1.4882698841469784E-2,1.517454609840627E-2,1.5028622469938028E-2,4.7828380873770764E-4,4.347298554265548E-5,750.37661144655351,450000,{"$f":"G68-H68/User_entry!$E$18","v":-749.62338855344649},0,null,{"$f":"HLOOKUP(User_entry!$B$56,Computations!$N$54:$R$1054,Computations!A68+1,FALSE)","v":750.37661144655351},{"$f":"HLOOKUP(User_entry!$E$56,Computations!$S$54:$W$1054,Computations!A68+1,FALSE)","v":450000},{"$f":"Computations!$F$15+Computations!$E$15*D68","v":750.37661144655351},{"$f":"EXP(Computations!$F$16)*EXP(Computations!$E$16)^Computations!D68","v":925.71440717230394},{"$f":"Computations!$F$17+Computations!$E$17*LN(Computations!D68)","v":-291.5379851055568},{"$f":"Computations!$F$18+Computations!$E$18*Computations!D68+Computations!$D$18*Computations!D68^2","v":505.22325051553906},{"$f":"Computations!$F$19+Computations!$E$19*Computations!D68+Computations!$D$19*Computations!D68^2+Computations!$C$19*Computations!D68^3","v":505.22325051553906},{"$f":"Computations!$J$15+Computations!$I$15*D68","v":450000},{"$f":"EXP(Computations!$J$16)*EXP(Computations!$I$16)^Computations!D68","v":450000.00000000035},{"$f":"Computations!$J$17+Computations!$I$17*LN(Computations!D68)","v":450000},{"$f":"Computations!$J$18+Computations!$I$18*Computations!D68+Computations!$H$18*Computations!D68^2","v":450000},{"$f":"Computations!$J$19+Computations!$I$19*Computations!D68+Computations!$H$19*Computations!D68^2+Computations!$G$19*Computations!D68^3","v":450000}]
[15,1.517454609840627E-2,1.5466393355342755E-2,1.5320469726874512E-2,5.2502956450903695E-4,4.6745755771329309E-5,754.21670693255987,450000,{"$f":"G69-H69/User_entry!$E$18","v":-745.78329306744013},0,null,{"$f":"HLOOKUP(User_entry!$B$56,Computations!$N$54:$R$1054,Computations!A69+1,FALSE)","v":754.21670693255987},{"$f":"HLOOKUP(User_entry!$E$56,Computations!$S$54:$W$1054,Computations!A69+1,FALSE)","v":450000},{"$f":"Computations!$F$15+Computations!$E$15*D69","v":754.21670693255987},{"$f":"EXP(Computations!$F$16)*EXP(Computations!$E$16)^Computations!D69","v":927.63499895132907},{"$f":"Computations!$F$17+Computations!$E$17*LN(Computations!D69)","v":-267.10324653961925},{"$f":"Computations!$F$18+Computations!$E$18*Computations!D69+Computations!$D$18*Computations!D69^2","v":511.27260541496031},{"$f":"Computations!$F$19+Computations!$E$19*Computations!D69+Computations!$D$19*Computations!D69^2+Computations!$C$19*Computations!D69^3","v":511.27260541496031},{"$f":"Computations!$J$15+Computations!$I$15*D69","v":450000},{"$f":"EXP(Computations!$J$16)*EXP(Computations!$I$16)^Computations!D69","v":450000.00000000035},{"$f":"Computations!$J$17+Computations!$I$17*LN(Computations!D69)","v":450000},{"$f":"Computations!$J$18+Computations!$I$18*Computations!D69+Computations!$H$18*Computations!D69^2","v":450000},{"$f":"Computations!$J$19+Computations!$I$19*Computations!D69+Computations!$H$19*Computations!D69^2+Computations!$G$19*Computations!D69^3","v":450000}]
[16,1.5466393355342755E-2,1.5758240612279241E-2,1.5612316983810999E-2,5.7521179723903266E-4,5.0182232729995718E-5,758.05680241856624,450000,{"$f":"G70-H70/User_entry!$E$18","v":-741.94319758143376},0,null,{"$f":"HLOOKUP(User_entry!$B$56,Computations!$N$54:$R$1054,Computations!A70+1,FALSE)","v":758.05680241856624},{"$f":"HLOOKUP(User_entry!$E$56,Computations!$S$54:$W$1054,Computations!A70+1,FALSE)","v":450000},{"$f":"Computations!$F$15+Computations!$E$15*D70","v":758.05680241856624},{"$f":"EXP(Computations!$F$16)*EXP(Computations!$E$16)^Computations!D70","v":929.55957540721909},{"$f":"Computations!$F$17+Computations!$E$17*LN(Computations!D70)","v":-243.12961345335498},{"$f":"Computations!$F$18+Computations!$E$18*Computations!D70+Computations!$D$18*Computations!D70^2","v":517.31565106835342},{"$f":"Computations!$F$19+Computations!$E$19*Computations!D70+Computations!$D$19*Computations!D70^2+Computations!$C$19*Computations!D70^3","v":517.31565106835342},{"$f":"Computations!$J$15+Computations!$I$15*D70","v":450000},{"$f":"EXP(Computations!$J$16)*EXP(Computations!$I$16)^Computations!D70","v":450000.00000000035},{"$f":"Computations!$J$17+Computations!$I$17*LN(Computations!D70)","v":450000},{"$f":"Computations!$J$18+Computations!$I$18*Computations!D70+Computations!$H$18*Computations!D70^2","v":450000},{"$f":"Computations!$J$19+Computations!$I$19*Computations!D70+Computations!$H$19*Computations!D70^2+Computations!$G$19*Computations!D70^3","v":450000}]
[17,1.5758240612279241E-2,1.6050087869215728E-2,1.5904164240747483E-2,6.2899779832559135E-4,5.3786001086558689E-5,761.8968979045726,450000,{"$f":"G71-H71/User_entry!$E$18","v":-738.1031020954274},0,null,{"$f":"HLOOKUP(User_entry!$B$56,Computations!$N$54:$R$1054,Computations!A71+1,FALSE)","v":761.8968979045726},{"$f":"HLOOKUP(User_entry!$E$56,Computations!$S$54:$W$1054,Computations!A71+1,FALSE)","v":450000},{"$f":"Computations!$F$15+Computations!$E$15*D71","v":761.8968979045726},{"$f":"EXP(Computations!$F$16)*EXP(Computations!$E$16)^Computations!D71","v":931.48814480703481},{"$f":"Computations!$F$17+Computations!$E$17*LN(Computations!D71)","v":-219.60000473550554},{"$f":"Computations!$F$18+Computations!$E$18*Computations!D71+Computations!$D$18*Computations!D71^2","v":523.35238747571816},{"$f":"Computations!$F$19+Computations!$E$19*Computations!D71+Computations!$D$19*Computations!D71^2+Computations!$C$19*Computations!D71^3","v":523.35238747571816},{"$f":"Computations!$J$15+Computations!$I$15*D71","v":450000},{"$f":"EXP(Computations!$J$16)*EXP(Computations!$I$16)^Computations!D71","v":450000.00000000035},{"$f":"Computations!$J$17+Computations!$I$17*LN(Computations!D71)","v":450000},{"$f":"Computations!$J$18+Computations!$I$18*Computations!D71+Computations!$H$18*Computations!D71^2","v":450000},{"$f":"Computations!$J$19+Computations!$I$19*Computations!D71+Computations!$H$19*Computations!D71^2+Computations!$G$19*Computations!D71^3","v":450000}]
[18,1.6050087869215728E-2,1.6341935126152216E-2,1.6196011497683974E-2,6.8655835425809658E-4,5.7560555932505229E-5,765.73699339057907,450000,{"$f":"G72-H72/User_entry!$E$18","v":-734.26300660942093},0,null,{"$f":"HLOOKUP(User_entry!$B$56,Computations!$N$54:$R$1054,Computations!A72+1,FALSE)","v":765.73699339057907},{"$f":"HLOOKUP(User_entry!$E$56,Computations!$S$54:$W$1054,Computations!A72+1,FALSE)","v":450000},{"$f":"Computations!$F$15+Computations!$E$15*D72","v":765.73699339057907},{"$f":"EXP(Computations!$F$16)*EXP(Computations!$E$16)^Computations!D72","v":933.4207154349898},{"$f":"Computations!$F$17+Computations!$E$17*LN(Computations!D72)","v":-196.49827116514189},{"$f":"Computations!$F$18+Computations!$E$18*Computations!D72+Computations!$D$18*Computations!D72^2","v":529.38281463705471},{"$f":"Computations!$F$19+Computations!$E$19*Computations!D72+Computations!$D$19*Computations!D72^2+Computations!$C$19*Computations!D72^3","v":529.38281463705471},{"$f":"Computations!$J$15+Computations!$I$15*D72","v":450000},{"$f":"EXP(Computations!$J$16)*EXP(Computations!$I$16)^Computations!D72","v":450000.00000000035},{"$f":"Computations!$J$17+Computations!$I$17*LN(Computations!D72)","v":450000},{"$f":"Computations!$J$18+Computations!$I$18*Computations!D72+Computations!$H$18*Computations!D72^2","v":450000},{"$f":"Computations!$J$19+Computations!$I$19*Computations!D72+Computations!$H$19*Computations!D72^2+Computations!$G$19*Computations!D72^3","v":450000}]
[19,1.6341935126152216E-2,1.6633782383088703E-2,1.6487858754620457E-2,7.4806765350528097E-4,6.1509299247184388E-5,769.57708887658544,450000,{"$f":"G73-H73/User_entry!$E$18","v":-730.42291112341456},0,null,{"$f":"HLOOKUP(User_entry!$B$56,Computations!$N$54:$R$1054,Computations!A73+1,FALSE)","v":769.57708887658544},{"$f":"HLOOKUP(User_entry!$E$56,Computations!$S$54:$W$1054,Computations!A73+1,FALSE)","v":450000},{"$f":"Computations!$F$15+Computations!$E$15*D73","v":769.57708887658544},{"$f":"EXP(Computations!$F$16)*EXP(Computations!$E$16)^Computations!D73","v":935.35729559248387},{"$f":"Computations!$F$17+Computations!$E$17*LN(Computations!D73)","v":-173.80912883274414},{"$f":"Computations!$F$18+Computations!$E$18*Computations!D73+Computations!$D$18*Computations!D73^2","v":535.40693255236295},{"$f":"Computations!$F$19+Computations!$E$19*Computations!D73+Computations!$D$19*Computations!D73^2+Computations!$C$19*Computations!D73^3","v":535.40693255236295},{"$f":"Computations!$J$15+Computations!$I$15*D73","v":450000},{"$f":"EXP(Computations!$J$16)*EXP(Computations!$I$16)^Computations!D73","v":450000.00000000035},{"$f":"Computations!$J$17+Computations!$I$17*LN(Computations!D73)","v":450000},{"$f":"Computations!$J$18+Computations!$I$18*Computations!D73+Computations!$H$18*Computations!D73^2","v":450000},{"$f":"Computations!$J$19+Computations!$I$19*Computations!D73+Computations!$H$19*Computations!D73^2+Computations!$G$19*Computations!D73^3","v":450000}]
[20,1.6633782383088703E-2,1.692562964002519E-2,1.6779706011556948E-2,8.1370319006661136E-4,6.5635536561330391E-5,773.41718436259191,450000,{"$f":"G74-H74/User_entry!$E$18","v":-726.58281563740809},0,null,{"$f":"HLOOKUP(User_entry!$B$56,Computations!$N$54:$R$1054,Computations!A74+1,FALSE)","v":773.41718436259191},{"$f":"HLOOKUP(User_entry!$E$56,Computations!$S$54:$W$1054,Computations!A74+1,FALSE)","v":450000},{"$f":"Computations!$F$15+Computations!$E$15*D74","v":773.41718436259191},{"$f":"EXP(Computations!$F$16)*EXP(Computations!$E$16)^Computations!D74","v":937.29789359814049},{"$f":"Computations!$F$17+Computations!$E$17*LN(Computations!D74)","v":-151.51809840298665},{"$f":"Computations!$F$18+Computations!$E$18*Computations!D74+Computations!$D$18*Computations!D74^2","v":541.42474122164299},{"$f":"Computations!$F$19+Computations!$E$19*Computations!D74+Computations!$D$19*Computations!D74^2+Computations!$C$19*Computations!D74^3","v":541.42474122164299},{"$f":"Computations!$J$15+Computations!$I$15*D74","v":450000},{"$f":"EXP(Computations!$J$16)*EXP(Computations!$I$16)^Computations!D74","v":450000.00000000035},{"$f":"Computations!$J$17+Computations!$I$17*LN(Computations!D74)","v":450000},{"$f":"Computations!$J$18+Computations!$I$18*Computations!D74+Computations!$H$18*Computations!D74^2","v":450000},{"$f":"Computations!$J$19+Computations!$I$19*Computations!D74+Computations!$H$19*Computations!D74^2+Computations!$G$19*Computations!D74^3","v":450000}]
[21,1.692562964002519E-2,1.7217476896961677E-2,1.7071553268493432E-2,8.8364566388389736E-4,6.9942473817286E-5,777.25727984859827,450000,{"$f":"G75-H75/User_entry!$E$18","v":-722.74272015140173},0,null,{"$f":"HLOOKUP(User_entry!$B$56,Computations!$N$54:$R$1054,Computations!A75+1,FALSE)","v":777.25727984859827},{"$f":"HLOOKUP(User_entry!$E$56,Computations!$S$54:$W$1054,Computations!A75+1,FALSE)","v":450000},{"$f":"Computations!$F$15+Computations!$E$15*D75","v":777.25727984859827},{"$f":"EXP(Computations!$F$16)*EXP(Computations!$E$16)^Computations!D75","v":939.24251778784173},{"$f":"Computations!$F$17+Computations!$E$17*LN(Computations!D75)","v":-129.61144961479386},{"$f":"Computations!$F$18+Computations!$E$18*Computations!D75+Computations!$D$18*Computations!D75^2","v":547.43624064489472},{"$f":"Computations!$F$19+Computations!$E$19*Computations!D75+Computations!$D$19*Computations!D75^2+Computations!$C$19*Computations!D75^3","v":547.43624064489472},{"$f":"Computations!$J$15+Computations!$I$15*D75","v":450000},{"$f":"EXP(Computations!$J$16)*EXP(Computations!$I$16)^Computations!D75","v":450000.00000000035},{"$f":"Computations!$J$17+Computations!$I$17*LN(Computations!D75)","v":450000},{"$f":"Computations!$J$18+Computations!$I$18*Computations!D75+Computations!$H$18*Computations!D75^2","v":450000},{"$f":"Computations!$J$19+Computations!$I$19*Computations!D75+Computations!$H$19*Computations!D75^2+Computations!$G$19*Computations!D75^3","v":450000}]
[22,1.7217476896961677E-2,1.7509324153898165E-2,1.7363400525429923E-2,9.5807887830691495E-4,7.4433214423017587E-5,781.09737533460475,450000,{"$f":"G76-H76/User_entry!$E$18","v":-718.90262466539525},0,null,{"$f":"HLOOKUP(User_entry!$B$56,Computations!$N$54:$R$1054,Computations!A76+1,FALSE)","v":781.09737533460475},{"$f":"HLOOKUP(User_entry!$E$56,Computations!$S$54:$W$1054,Computations!A76+1,FALSE)","v":450000},{"$f":"Computations!$F$15+Computations!$E$15*D76","v":781.09737533460475},{"$f":"EXP(Computations!$F$16)*EXP(Computations!$E$16)^Computations!D76","v":941.19117651476438},{"$f":"Computations!$F$17+Computations!$E$17*LN(Computations!D76)","v":-108.07615048588377},{"$f":"Computations!$F$18+Computations!$E$18*Computations!D76+Computations!$D$18*Computations!D76^2","v":553.44143082211838},{"$f":"Computations!$F$19+Computations!$E$19*Computations!D76+Computations!$D$19*Computations!D76^2+Computations!$C$19*Computations!D76^3","v":553.44143082211838},{"$f":"Computations!$J$15+Computations!$I$15*D76","v":450000},{"$f":"EXP(Computations!$J$16)*EXP(Computations!$I$16)^Computations!D76","v":450000.00000000035},{"$f":"Computations!$J$17+Computations!$I$17*LN(Computations!D76)","v":450000},{"$f":"Computations!$J$18+Computations!$I$18*Computations!D76+Computations!$H$18*Computations!D76^2","v":450000},{"$f":"Computations!$J$19+Computations!$I$19*Computations!D76+Computations!$H$19*Computations!D76^2+Computations!$G$19*Computations!D76^3","v":450000}]
[23,1.7509324153898165E-2,1.7801171410834652E-2,1.7655247782366407E-2,1.0371896348039822E-3,7.9110756497067212E-5,784.93747082061111,450000,{"$f":"G77-H77/User_entry!$E$18","v":-715.06252917938889},0,null,{"$f":"HLOOKUP(User_entry!$B$56,Computations!$N$54:$R$1054,Computations!A77+1,FALSE)","v":784.93747082061111},{"$f":"HLOOKUP(User_entry!$E$56,Computations!$S$54:$W$1054,Computations!A77+1,FALSE)","v":450000},{"$f":"Computations!$F$15+Computations!$E$15*D77","v":784.93747082061111},{"$f":"EXP(Computations!$F$16)*EXP(Computations!$E$16)^Computations!D77","v":943.14387814941517},{"$f":"Computations!$F$17+Computations!$E$17*LN(Computations!D77)","v":-86.899820751250445},{"$f":"Computations!$F$18+Computations!$E$18*Computations!D77+Computations!$D$18*Computations!D77^2","v":559.44031175331361},{"$f":"Computations!$F$19+Computations!$E$19*Computations!D77+Computations!$D$19*Computations!D77^2+Computations!$C$19*Computations!D77^3","v":559.44031175331361},{"$f":"Computations!$J$15+Computations!$I$15*D77","v":450000},{"$f":"EXP(Computations!$J$16)*EXP(Computations!$I$16)^Computations!D77","v":450000.00000000035},{"$f":"Computations!$J$17+Computations!$I$17*LN(Computations!D77)","v":450000},{"$f":"Computations!$J$18+Computations!$I$18*Computations!D77+Computations!$H$18*Computations!D77^2","v":450000},{"$f":"Computations!$J$19+Computations!$I$19*Computations!D77+Computations!$H$19*Computations!D77^2+Computations!$G$19*Computations!D77^3","v":450000}]
[24,1.7801171410834652E-2,1.8093018667771139E-2,1.7947095039302897E-2,1.1211676251051976E-3,8.3977990301215433E-5,788.77756630661759,450000,{"$f":"G78-H78/User_entry!$E$18","v":-711.22243369338241},0,null,{"$f":"HLOOKUP(User_entry!$B$56,Computations!$N$54:$R$1054,Computations!A78+1,FALSE)","v":788.77756630661759},{"$f":"HLOOKUP(User_entry!$E$56,Computations!$S$54:$W$1054,Computations!A78+1,FALSE)","v":450000},{"$f":"Computations!$F$15+Computations!$E$15*D78","v":788.77756630661759},{"$f":"EXP(Computations!$F$16)*EXP(Computations!$E$16)^Computations!D78","v":945.10063107966801},{"$f":"Computations!$F$17+Computations!$E$17*LN(Computations!D78)","v":-66.070689119029339},{"$f":"Computations!$F$18+Computations!$E$18*Computations!D78+Computations!$D$18*Computations!D78^2","v":565.43288343848076},{"$f":"Computations!$F$19+Computations!$E$19*Computations!D78+Computations!$D$19*Computations!D78^2+Computations!$C$19*Computations!D78^3","v":565.43288343848076},{"$f":"Computations!$J$15+Computations!$I$15*D78","v":450000},{"$f":"EXP(Computations!$J$16)*EXP(Computations!$I$16)^Computations!D78","v":450000.00000000035},{"$f":"Computations!$J$17+Computations!$I$17*LN(Computations!D78)","v":450000},{"$f":"Computations!$J$18+Computations!$I$18*Computations!D78+Computations!$H$18*Computations!D78^2","v":450000},{"$f":"Computations!$J$19+Computations!$I$19*Computations!D78+Computations!$H$19*Computations!D78^2+Computations!$G$19*Computations!D78^3","v":450000}]
[25,1.8093018667771139E-2,1.8384865924707627E-2,1.8238942296239381E-2,1.2102053209628427E-3,8.9037695857645087E-5,792.61766179262395,450000,{"$f":"G79-H79/User_entry!$E$18","v":-707.38233820737605},0,null,{"$f":"HLOOKUP(User_entry!$B$56,Computations!$N$54:$R$1054,Computations!A79+1,FALSE)","v":792.61766179262395},{"$f":"HLOOKUP(User_entry!$E$56,Computations!$S$54:$W$1054,Computations!A79+1,FALSE)","v":450000},{"$f":"Computations!$F$15+Computations!$E$15*D79","v":792.61766179262395},{"$f":"EXP(Computations!$F$16)*EXP(Computations!$E$16)^Computations!D79","v":947.06144371079881},{"$f":"Computations!$F$17+Computations!$E$17*LN(Computations!D79)","v":-45.577553974218972},{"$f":"Computations!$F$18+Computations!$E$18*Computations!D79+Computations!$D$18*Computations!D79^2","v":571.41914587761948},{"$f":"Computations!$F$19+Computations!$E$19*Computations!D79+Computations!$D$19*Computations!D79^2+Computations!$C$19*Computations!D79^3","v":571.41914587761948},{"$f":"Computations!$J$15+Computations!$I$15*D79","v":450000},{"$f":"EXP(Computations!$J$16)*EXP(Computations!$I$16)^Computations!D79","v":450000.00000000035},{"$f":"Computations!$J$17+Computations!$I$17*LN(Computations!D79)","v":450000},{"$f":"Computations!$J$18+Computations!$I$18*Computations!D79+Computations!$H$18*Computations!D79^2","v":450000},{"$f":"Computations!$J$19+Computations!$I$19*Computations!D79+Computations!$H$19*Computations!D79^2+Computations!$G$19*Computations!D79^3","v":450000}]
[26,1.8384865924707627E-2,1.8676713181644114E-2,1.8530789553175872E-2,1.3044978617099956E-3,9.4292540747152945E-5,796.45775727863042,450000,{"$f":"G80-H80/User_entry!$E$18","v":-703.54224272136958},0,null,{"$f":"HLOOKUP(User_entry!$B$56,Computations!$N$54:$R$1054,Computations!A80+1,FALSE)","v":796.45775727863042},{"$f":"HLOOKUP(User_entry!$E$56,Computations!$S$54:$W$1054,Computations!A80+1,FALSE)","v":450000},{"$f":"Computations!$F$15+Computations!$E$15*D80","v":796.45775727863042},{"$f":"EXP(Computations!$F$16)*EXP(Computations!$E$16)^Computations!D80","v":949.02632446552172},{"$f":"Computations!$F$17+Computations!$E$17*LN(Computations!D80)","v":-25.409747201821119},{"$f":"Computations!$F$18+Computations!$E$18*Computations!D80+Computations!$D$18*Computations!D80^2","v":577.39909907073024},{"$f":"Computations!$F$19+Computations!$E$19*Computations!D80+Computations!$D$19*Computations!D80^2+Computations!$C$19*Computations!D80^3","v":577.39909907073024},{"$f":"Computations!$J$15+Computations!$I$15*D80","v":450000},{"$f":"EXP(Computations!$J$16)*EXP(Computations!$I$16)^Computations!D80","v":450000.00000000035},{"$f":"Computations!$J$17+Computations!$I$17*LN(Computations!D80)","v":450000},{"$f":"Computations!$J$18+Computations!$I$18*Computations!D80+Computations!$H$18*Computations!D80^2","v":450000},{"$f":"Computations!$J$19+Computations!$I$19*Computations!D80+Computations!$H$19*Computations!D80^2+Computations!$G$19*Computations!D80^3","v":450000}]
[27,1.8676713181644114E-2,1.8968560438580601E-2,1.8822636810112356E-2,1.4042429397949927E-3,9.9745078084997061E-5,800.29785276463667,450000,{"$f":"G81-H81/User_entry!$E$18","v":-699.70214723536333},0,null,{"$f":"HLOOKUP(User_entry!$B$56,Computations!$N$54:$R$1054,Computations!A81+1,FALSE)","v":800.29785276463667},{"$f":"HLOOKUP(User_entry!$E$56,Computations!$S$54:$W$1054,Computations!A81+1,FALSE)","v":450000},{"$f":"Computations!$F$15+Computations!$E$15*D81","v":800.29785276463667},{"$f":"EXP(Computations!$F$16)*EXP(Computations!$E$16)^Computations!D81","v":950.99528178402636},{"$f":"Computations!$F$17+Computations!$E$17*LN(Computations!D81)","v":-5.5571008368924595},{"$f":"Computations!$F$18+Computations!$E$18*Computations!D81+Computations!$D$18*Computations!D81^2","v":583.37274301781247},{"$f":"Computations!$F$19+Computations!$E$19*Computations!D81+Computations!$D$19*Computations!D81^2+Computations!$C$19*Computations!D81^3","v":583.37274301781247},{"$f":"Computations!$J$15+Computations!$I$15*D81","v":450000},{"$f":"EXP(Computations!$J$16)*EXP(Computations!$I$16)^Computations!D81","v":450000.00000000035},{"$f":"Computations!$J$17+Computations!$I$17*LN(Computations!D81)","v":450000},{"$f":"Computations!$J$18+Computations!$I$18*Computations!D81+Computations!$H$18*Computations!D81^2","v":450000},{"$f":"Computations!$J$19+Computations!$I$19*Computations!D81+Computations!$H$19*Computations!D81^2+Computations!$G$19*Computations!D81^3","v":450000}]
[28,1.8968560438580601E-2,1.9260407695517089E-2,1.9114484067048847E-2,1.5096406844656303E-3,1.0539774467063757E-4,804.13794825064315,450000,{"$f":"G82-H82/User_entry!$E$18","v":-695.86205174935685},0,null,{"$f":"HLOOKUP(User_entry!$B$56,Computations!$N$54:$R$1054,Computations!A82+1,FALSE)","v":804.13794825064315},{"$f":"HLOOKUP(User_entry!$E$56,Computations!$S$54:$W$1054,Computations!A82+1,FALSE)","v":450000},{"$f":"Computations!$F$15+Computations!$E$15*D82","v":804.13794825064315},{"$f":"EXP(Computations!$F$16)*EXP(Computations!$E$16)^Computations!D82","v":952.9683241240125},{"$f":"Computations!$F$17+Computations!$E$17*LN(Computations!D82)","v":13.99008371950822},{"$f":"Computations!$F$18+Computations!$E$18*Computations!D82+Computations!$D$18*Computations!D82^2","v":589.3400777188665},{"$f":"Computations!$F$19+Computations!$E$19*Computations!D82+Computations!$D$19*Computations!D82^2+Computations!$C$19*Computations!D82^3","v":589.3400777188665},{"$f":"Computations!$J$15+Computations!$I$15*D82","v":450000},{"$f":"EXP(Computations!$J$16)*EXP(Computations!$I$16)^Computations!D82","v":450000.00000000035},{"$f":"Computations!$J$17+Computations!$I$17*LN(Computations!D82)","v":450000},{"$f":"Computations!$J$18+Computations!$I$18*Computations!D82+Computations!$H$18*Computations!D82^2","v":450000},{"$f":"Computations!$J$19+Computations!$I$19*Computations!D82+Computations!$H$19*Computations!D82^2+Computations!$G$19*Computations!D82^3","v":450000}]
[29,1.9260407695517089E-2,1.9552254952453576E-2,1.9406331323985331E-2,1.6208935437734564E-3,1.1125285930782612E-4,807.97804373664962,450000,{"$f":"G83-H83/User_entry!$E$18","v":-692.02195626335038},0,null,{"$f":"HLOOKUP(User_entry!$B$56,Computations!$N$54:$R$1054,Computations!A83+1,FALSE)","v":807.97804373664962},{"$f":"HLOOKUP(User_entry!$E$56,Computations!$S$54:$W$1054,Computations!A83+1,FALSE)","v":450000},{"$f":"Computations!$F$15+Computations!$E$15*D83","v":807.97804373664962},{"$f":"EXP(Computations!$F$16)*EXP(Computations!$E$16)^Computations!D83","v":954.94545996072782},{"$f":"Computations!$F$17+Computations!$E$17*LN(Computations!D83)","v":33.241064151786304},{"$f":"Computations!$F$18+Computations!$E$18*Computations!D83+Computations!$D$18*Computations!D83^2","v":595.30110317389233},{"$f":"Computations!$F$19+Computations!$E$19*Computations!D83+Computations!$D$19*Computations!D83^2+Computations!$C$19*Computations!D83^3","v":595.30110317389233},{"$f":"Computations!$J$15+Computations!$I$15*D83","v":450000},{"$f":"EXP(Computations!$J$16)*EXP(Computations!$I$16)^Computations!D83","v":450000.00000000035},{"$f":"Computations!$J$17+Computations!$I$17*LN(Computations!D83)","v":450000},{"$f":"Computations!$J$18+Computations!$I$18*Computations!D83+Computations!$H$18*Computations!D83^2","v":450000},{"$f":"Computations!$J$19+Computations!$I$19*Computations!D83+Computations!$H$19*Computations!D83^2+Computations!$G$19*Computations!D83^3","v":450000}]
[30,1.9552254952453576E-2,1.9844102209390063E-2,1.9698178580921821E-2,1.7382061650646366E-3,1.1731262129118024E-4,811.8181392226561,450000,{"$f":"G84-H84/User_entry!$E$18","v":-688.1818607773439},0,null,{"$f":"HLOOKUP(User_entry!$B$56,Computations!$N$54:$R$1054,Computations!A84+1,FALSE)","v":811.8181392226561},{"$f":"HLOOKUP(User_entry!$E$56,Computations!$S$54:$W$1054,Computations!A84+1,FALSE)","v":450000},{"$f":"Computations!$F$15+Computations!$E$15*D84","v":811.8181392226561},{"$f":"EXP(Computations!$F$16)*EXP(Computations!$E$16)^Computations!D84","v":956.92669778700326},{"$f":"Computations!$F$17+Computations!$E$17*LN(Computations!D84)","v":52.204683557622047},{"$f":"Computations!$F$18+Computations!$E$18*Computations!D84+Computations!$D$18*Computations!D84^2","v":601.25581938288997},{"$f":"Computations!$F$19+Computations!$E$19*Computations!D84+Computations!$D$19*Computations!D84^2+Computations!$C$19*Computations!D84^3","v":601.25581938288997},{"$f":"Computations!$J$15+Computations!$I$15*D84","v":450000},{"$f":"EXP(Computations!$J$16)*EXP(Computations!$I$16)^Computations!D84","v":450000.00000000035},{"$f":"Computations!$J$17+Computations!$I$17*LN(Computations!D84)","v":450000},{"$f":"Computations!$J$18+Computations!$I$18*Computations!D84+Computations!$H$18*Computations!D84^2","v":450000},{"$f":"Computations!$J$19+Computations!$I$19*Computations!D84+Computations!$H$19*Computations!D84^2+Computations!$G$19*Computations!D84^3","v":450000}]
[31,1.9844102209390063E-2,2.013594946632655E-2,1.9990025837858305E-2,1.8617852741201397E-3,1.2357910905550309E-4,815.65823470866235,450000,{"$f":"G85-H85/User_entry!$E$18","v":-684.34176529133765},0,null,{"$f":"HLOOKUP(User_entry!$B$56,Computations!$N$54:$R$1054,Computations!A85+1,FALSE)","v":815.65823470866235},{"$f":"HLOOKUP(User_entry!$E$56,Computations!$S$54:$W$1054,Computations!A85+1,FALSE)","v":450000},{"$f":"Computations!$F$15+Computations!$E$15*D85","v":815.65823470866235},{"$f":"EXP(Computations!$F$16)*EXP(Computations!$E$16)^Computations!D85","v":958.91204611329044},{"$f":"Computations!$F$17+Computations!$E$17*LN(Computations!D85)","v":70.889394839543456},{"$f":"Computations!$F$18+Computations!$E$18*Computations!D85+Computations!$D$18*Computations!D85^2","v":607.20422634585918},{"$f":"Computations!$F$19+Computations!$E$19*Computations!D85+Computations!$D$19*Computations!D85^2+Computations!$C$19*Computations!D85^3","v":607.20422634585918},{"$f":"Computations!$J$15+Computations!$I$15*D85","v":450000},{"$f":"EXP(Computations!$J$16)*EXP(Computations!$I$16)^Computations!D85","v":450000.00000000035},{"$f":"Computations!$J$17+Computations!$I$17*LN(Computations!D85)","v":450000},{"$f":"Computations!$J$18+Computations!$I$18*Computations!D85+Computations!$H$18*Computations!D85^2","v":450000},{"$f":"Computations!$J$19+Computations!$I$19*Computations!D85+Computations!$H$19*Computations!D85^2+Computations!$G$19*Computations!D85^3","v":450000}]
[32,2.013594946632655E-2,2.0427796723263038E-2,2.0281873094794796E-2,1.9918395531039871E-3,1.3005427898384742E-4,819.49833019466882,450000,{"$f":"G86-H86/User_entry!$E$18","v":-680.50166980533118},0,null,{"$f":"HLOOKUP(User_entry!$B$56,Computations!$N$54:$R$1054,Computations!A86+1,FALSE)","v":819.49833019466882},{"$f":"HLOOKUP(User_entry!$E$56,Computations!$S$54:$W$1054,Computations!A86+1,FALSE)","v":450000},{"$f":"Computations!$F$15+Computations!$E$15*D86","v":819.49833019466882},{"$f":"EXP(Computations!$F$16)*EXP(Computations!$E$16)^Computations!D86","v":960.90151346769733},{"$f":"Computations!$F$17+Computations!$E$17*LN(Computations!D86)","v":89.303283328679754},{"$f":"Computations!$F$18+Computations!$E$18*Computations!D86+Computations!$D$18*Computations!D86^2","v":613.14632406280043},{"$f":"Computations!$F$19+Computations!$E$19*Computations!D86+Computations!$D$19*Computations!D86^2+Computations!$C$19*Computations!D86^3","v":613.14632406280043},{"$f":"Computations!$J$15+Computations!$I$15*D86","v":450000},{"$f":"EXP(Computations!$J$16)*EXP(Computations!$I$16)^Computations!D86","v":450000.00000000035},{"$f":"Computations!$J$17+Computations!$I$17*LN(Computations!D86)","v":450000},{"$f":"Computations!$J$18+Computations!$I$18*Computations!D86+Computations!$H$18*Computations!D86^2","v":450000},{"$f":"Computations!$J$19+Computations!$I$19*Computations!D86+Computations!$H$19*Computations!D86^2+Computations!$G$19*Computations!D86^3","v":450000}]
[33,2.0427796723263038E-2,2.0719643980199525E-2,2.057372035173128E-2,2.1285795174746194E-3,1.3673996437063227E-4,823.33842568067519,450000,{"$f":"G87-H87/User_entry!$E$18","v":-676.66157431932481},0,null,{"$f":"HLOOKUP(User_entry!$B$56,Computations!$N$54:$R$1054,Computations!A87+1,FALSE)","v":823.33842568067519},{"$f":"HLOOKUP(User_entry!$E$56,Computations!$S$54:$W$1054,Computations!A87+1,FALSE)","v":450000},{"$f":"Computations!$F$15+Computations!$E$15*D87","v":823.33842568067519},{"$f":"EXP(Computations!$F$16)*EXP(Computations!$E$16)^Computations!D87","v":962.89510839602542},{"$f":"Computations!$F$17+Computations!$E$17*LN(Computations!D87)","v":107.45408779223089},{"$f":"Computations!$F$18+Computations!$E$18*Computations!D87+Computations!$D$18*Computations!D87^2","v":619.08211253371303},{"$f":"Computations!$F$19+Computations!$E$19*Computations!D87+Computations!$D$19*Computations!D87^2+Computations!$C$19*Computations!D87^3","v":619.08211253371303},{"$f":"Computations!$J$15+Computations!$I$15*D87","v":450000},{"$f":"EXP(Computations!$J$16)*EXP(Computations!$I$16)^Computations!D87","v":450000.00000000035},{"$f":"Computations!$J$17+Computations!$I$17*LN(Computations!D87)","v":450000},{"$f":"Computations!$J$18+Computations!$I$18*Computations!D87+Computations!$H$18*Computations!D87^2","v":450000},{"$f":"Computations!$J$19+Computations!$I$19*Computations!D87+Computations!$H$19*Computations!D87^2+Computations!$G$19*Computations!D87^3","v":450000}]
[34,2.0719643980199525E-2,2.1011491237136012E-2,2.086556760866777E-2,2.2722173920102016E-3,1.4363787453558225E-4,827.17852116668166,450000,{"$f":"G88-H88/User_entry!$E$18","v":-672.82147883331834},0,null,{"$f":"HLOOKUP(User_entry!$B$56,Computations!$N$54:$R$1054,Computations!A88+1,FALSE)","v":827.17852116668166},{"$f":"HLOOKUP(User_entry!$E$56,Computations!$S$54:$W$1054,Computations!A88+1,FALSE)","v":450000},{"$f":"Computations!$F$15+Computations!$E$15*D88","v":827.17852116668166},{"$f":"EXP(Computations!$F$16)*EXP(Computations!$E$16)^Computations!D88","v":964.89283946180615},{"$f":"Computations!$F$17+Computations!$E$17*LN(Computations!D88)","v":125.34921996128378},{"$f":"Computations!$F$18+Computations!$E$18*Computations!D88+Computations!$D$18*Computations!D88^2","v":625.01159175859766},{"$f":"Computations!$F$19+Computations!$E$19*Computations!D88+Computations!$D$19*Computations!D88^2+Computations!$C$19*Computations!D88^3","v":625.01159175859766},{"$f":"Computations!$J$15+Computations!$I$15*D88","v":450000},{"$f":"EXP(Computations!$J$16)*EXP(Computations!$I$16)^Computations!D88","v":450000.00000000035},{"$f":"Computations!$J$17+Computations!$I$17*LN(Computations!D88)","v":450000},{"$f":"Computations!$J$18+Computations!$I$18*Computations!D88+Computations!$H$18*Computations!D88^2","v":450000},{"$f":"Computations!$J$19+Computations!$I$19*Computations!D88+Computations!$H$19*Computations!D88^2+Computations!$G$19*Computations!D88^3","v":450000}]
[35,2.1011491237136012E-2,2.13033384940725E-2,2.1157414865604254E-2,2.4229669860949591E-3,1.5074959408475745E-4,831.01861665268802,450000,{"$f":"G89-H89/User_entry!$E$18","v":-668.98138334731198},0,null,{"$f":"HLOOKUP(User_entry!$B$56,Computations!$N$54:$R$1054,Computations!A89+1,FALSE)","v":831.01861665268802},{"$f":"HLOOKUP(User_entry!$E$56,Computations!$S$54:$W$1054,Computations!A89+1,FALSE)","v":450000},{"$f":"Computations!$F$15+Computations!$E$15*D89","v":831.01861665268802},{"$f":"EXP(Computations!$F$16)*EXP(Computations!$E$16)^Computations!D89","v":966.89471524633814},{"$f":"Computations!$F$17+Computations!$E$17*LN(Computations!D89)","v":142.99578270229176},{"$f":"Computations!$F$18+Computations!$E$18*Computations!D89+Computations!$D$18*Computations!D89^2","v":630.93476173745398},{"$f":"Computations!$F$19+Computations!$E$19*Computations!D89+Computations!$D$19*Computations!D89^2+Computations!$C$19*Computations!D89^3","v":630.93476173745398},{"$f":"Computations!$J$15+Computations!$I$15*D89","v":450000},{"$f":"EXP(Computations!$J$16)*EXP(Computations!$I$16)^Computations!D89","v":450000.00000000035},{"$f":"Computations!$J$17+Computations!$I$17*LN(Computations!D89)","v":450000},{"$f":"Computations!$J$18+Computations!$I$18*Computations!D89+Computations!$H$18*Computations!D89^2","v":450000},{"$f":"Computations!$J$19+Computations!$I$19*Computations!D89+Computations!$H$19*Computations!D89^2+Computations!$G$19*Computations!D89^3","v":450000}]
[36,2.13033384940725E-2,2.1595185751008987E-2,2.1449262122540745E-2,2.5810435684095333E-3,1.5807658231457421E-4,834.8587121386945,450000,{"$f":"G90-H90/User_entry!$E$18","v":-665.1412878613055},0,null,{"$f":"HLOOKUP(User_entry!$B$56,Computations!$N$54:$R$1054,Computations!A90+1,FALSE)","v":834.8587121386945},{"$f":"HLOOKUP(User_entry!$E$56,Computations!$S$54:$W$1054,Computations!A90+1,FALSE)","v":450000},{"$f":"Computations!$F$15+Computations!$E$15*D90","v":834.8587121386945},{"$f":"EXP(Computations!$F$16)*EXP(Computations!$E$16)^Computations!D90","v":968.90074434872349},{"$f":"Computations!$F$17+Computations!$E$17*LN(Computations!D90)","v":160.40058694373056},{"$f":"Computations!$F$18+Computations!$E$18*Computations!D90+Computations!$D$18*Computations!D90^2","v":636.85162247028211},{"$f":"Computations!$F$19+Computations!$E$19*Computations!D90+Computations!$D$19*Computations!D90^2+Computations!$C$19*Computations!D90^3","v":636.85162247028211},{"$f":"Computations!$J$15+Computations!$I$15*D90","v":450000},{"$f":"EXP(Computations!$J$16)*EXP(Computations!$I$16)^Computations!D90","v":450000.00000000035},{"$f":"Computations!$J$17+Computations!$I$17*LN(Computations!D90)","v":450000},{"$f":"Computations!$J$18+Computations!$I$18*Computations!D90+Computations!$H$18*Computations!D90^2","v":450000},{"$f":"Computations!$J$19+Computations!$I$19*Computations!D90+Computations!$H$19*Computations!D90^2+Computations!$G$19*Computations!D90^3","v":450000}]
[37,2.1595185751008987E-2,2.1887033007945474E-2,2.1741109379477229E-2,2.7466637411643052E-3,1.6562017275477186E-4,838.69880762470086,450000,{"$f":"G91-H91/User_entry!$E$18","v":-661.30119237529914},0,null,{"$f":"HLOOKUP(User_entry!$B$56,Computations!$N$54:$R$1054,Computations!A91+1,FALSE)","v":838.69880762470086},{"$f":"HLOOKUP(User_entry!$E$56,Computations!$S$54:$W$1054,Computations!A91+1,FALSE)","v":450000},{"$f":"Computations!$F$15+Computations!$E$15*D91","v":838.69880762470086},{"$f":"EXP(Computations!$F$16)*EXP(Computations!$E$16)^Computations!D91","v":970.91093538590496},{"$f":"Computations!$F$17+Computations!$E$17*LN(Computations!D91)","v":177.5701674588654},{"$f":"Computations!$F$18+Computations!$E$18*Computations!D91+Computations!$D$18*Computations!D91^2","v":642.76217395708193},{"$f":"Computations!$F$19+Computations!$E$19*Computations!D91+Computations!$D$19*Computations!D91^2+Computations!$C$19*Computations!D91^3","v":642.76217395708193},{"$f":"Computations!$J$15+Computations!$I$15*D91","v":450000},{"$f":"EXP(Computations!$J$16)*EXP(Computations!$I$16)^Computations!D91","v":450000.00000000035},{"$f":"Computations!$J$17+Computations!$I$17*LN(Computations!D91)","v":450000},{"$f":"Computations!$J$18+Computations!$I$18*Computations!D91+Computations!$H$18*Computations!D91^2","v":450000},{"$f":"Computations!$J$19+Computations!$I$19*Computations!D91+Computations!$H$19*Computations!D91^2+Computations!$G$19*Computations!D91^3","v":450000}]
[38,2.1887033007945474E-2,2.2178880264881962E-2,2.203295663641372E-2,2.9200453140107952E-3,1.7338157284649009E-4,842.53890311070722,450000,{"$f":"G92-H92/User_entry!$E$18","v":-657.46109688929278},0,null,{"$f":"HLOOKUP(User_entry!$B$56,Computations!$N$54:$R$1054,Computations!A92+1,FALSE)","v":842.53890311070722},{"$f":"HLOOKUP(User_entry!$E$56,Computations!$S$54:$W$1054,Computations!A92+1,FALSE)","v":450000},{"$f":"Computations!$F$15+Computations!$E$15*D92","v":842.53890311070722},{"$f":"EXP(Computations!$F$16)*EXP(Computations!$E$16)^Computations!D92","v":972.92529699270324},{"$f":"Computations!$F$17+Computations!$E$17*LN(Computations!D92)","v":194.51079759617005},{"$f":"Computations!$F$18+Computations!$E$18*Computations!D92+Computations!$D$18*Computations!D92^2","v":648.66641619785355},{"$f":"Computations!$F$19+Computations!$E$19*Computations!D92+Computations!$D$19*Computations!D92^2+Computations!$C$19*Computations!D92^3","v":648.66641619785355},{"$f":"Computations!$J$15+Computations!$I$15*D92","v":450000},{"$f":"EXP(Computations!$J$16)*EXP(Computations!$I$16)^Computations!D92","v":450000.00000000035},{"$f":"Computations!$J$17+Computations!$I$17*LN(Computations!D92)","v":450000},{"$f":"Computations!$J$18+Computations!$I$18*Computations!D92+Computations!$H$18*Computations!D92^2","v":450000},{"$f":"Computations!$J$19+Computations!$I$19*Computations!D92+Computations!$H$19*Computations!D92^2+Computations!$G$19*Computations!D92^3","v":450000}]
[39,2.2178880264881962E-2,2.2470727521818449E-2,2.2324803893350204E-2,3.1014071777620265E-3,1.8136186375123124E-4,846.3789985967137,450000,{"$f":"G93-H93/User_entry!$E$18","v":-653.6210014032863},0,null,{"$f":"HLOOKUP(User_entry!$B$56,Computations!$N$54:$R$1054,Computations!A93+1,FALSE)","v":846.3789985967137},{"$f":"HLOOKUP(User_entry!$E$56,Computations!$S$54:$W$1054,Computations!A93+1,FALSE)","v":450000},{"$f":"Computations!$F$15+Computations!$E$15*D93","v":846.3789985967137},{"$f":"EXP(Computations!$F$16)*EXP(Computations!$E$16)^Computations!D93","v":974.94383782185321},{"$f":"Computations!$F$17+Computations!$E$17*LN(Computations!D93)","v":211.22850304048097},{"$f":"Computations!$F$18+Computations!$E$18*Computations!D93+Computations!$D$18*Computations!D93^2","v":654.56434919259686},{"$f":"Computations!$F$19+Computations!$E$19*Computations!D93+Computations!$D$19*Computations!D93^2+Computations!$C$19*Computations!D93^3","v":654.56434919259686},{"$f":"Computations!$J$15+Computations!$I$15*D93","v":450000},{"$f":"EXP(Computations!$J$16)*EXP(Computations!$I$16)^Computations!D93","v":450000.00000000035},{"$f":"Computations!$J$17+Computations!$I$17*LN(Computations!D93)","v":450000},{"$f":"Computations!$J$18+Computations!$I$18*Computations!D93+Computations!$H$18*Computations!D93^2","v":450000},{"$f":"Computations!$J$19+Computations!$I$19*Computations!D93+Computations!$H$19*Computations!D93^2+Computations!$G$19*Computations!D93^3","v":450000}]
[40,2.2470727521818449E-2,2.2762574778754936E-2,2.2616651150286694E-2,3.2909691780489505E-3,1.8956200028692402E-4,850.21909408272018,450000,{"$f":"G94-H94/User_entry!$E$18","v":-649.78090591727982},0,null,{"$f":"HLOOKUP(User_entry!$B$56,Computations!$N$54:$R$1054,Computations!A94+1,FALSE)","v":850.21909408272018},{"$f":"HLOOKUP(User_entry!$E$56,Computations!$S$54:$W$1054,Computations!A94+1,FALSE)","v":450000},{"$f":"Computations!$F$15+Computations!$E$15*D94","v":850.21909408272018},{"$f":"EXP(Computations!$F$16)*EXP(Computations!$E$16)^Computations!D94","v":976.96656654404273},{"$f":"Computations!$F$17+Computations!$E$17*LN(Computations!D94)","v":227.72907468043923},{"$f":"Computations!$F$18+Computations!$E$18*Computations!D94+Computations!$D$18*Computations!D94^2","v":660.45597294131198},{"$f":"Computations!$F$19+Computations!$E$19*Computations!D94+Computations!$D$19*Computations!D94^2+Computations!$C$19*Computations!D94^3","v":660.45597294131198},{"$f":"Computations!$J$15+Computations!$I$15*D94","v":450000},{"$f":"EXP(Computations!$J$16)*EXP(Computations!$I$16)^Computations!D94","v":450000.00000000035},{"$f":"Computations!$J$17+Computations!$I$17*LN(Computations!D94)","v":450000},{"$f":"Computations!$J$18+Computations!$I$18*Computations!D94+Computations!$H$18*Computations!D94^2","v":450000},{"$f":"Computations!$J$19+Computations!$I$19*Computations!D94+Computations!$H$19*Computations!D94^2+Computations!$G$19*Computations!D94^3","v":450000}]
[41,2.2762574778754936E-2,2.3054422035691424E-2,2.2908498407223178E-2,3.488951989035882E-3,1.9798281098693145E-4,854.05918956872642,450000,{"$f":"G95-H95/User_entry!$E$18","v":-645.94081043127358},0,null,{"$f":"HLOOKUP(User_entry!$B$56,Computations!$N$54:$R$1054,Computations!A95+1,FALSE)","v":854.05918956872642},{"$f":"HLOOKUP(User_entry!$E$56,Computations!$S$54:$W$1054,Computations!A95+1,FALSE)","v":450000},{"$f":"Computations!$F$15+Computations!$E$15*D95","v":854.05918956872642},{"$f":"EXP(Computations!$F$16)*EXP(Computations!$E$16)^Computations!D95","v":978.99349184794767},{"$f":"Computations!$F$17+Computations!$E$17*LN(Computations!D95)","v":244.01808065096066},{"$f":"Computations!$F$18+Computations!$E$18*Computations!D95+Computations!$D$18*Computations!D95^2","v":666.34128744399868},{"$f":"Computations!$F$19+Computations!$E$19*Computations!D95+Computations!$D$19*Computations!D95^2+Computations!$C$19*Computations!D95^3","v":666.34128744399868},{"$f":"Computations!$J$15+Computations!$I$15*D95","v":450000},{"$f":"EXP(Computations!$J$16)*EXP(Computations!$I$16)^Computations!D95","v":450000.00000000035},{"$f":"Computations!$J$17+Computations!$I$17*LN(Computations!D95)","v":450000},{"$f":"Computations!$J$18+Computations!$I$18*Computations!D95+Computations!$H$18*Computations!D95^2","v":450000},{"$f":"Computations!$J$19+Computations!$I$19*Computations!D95+Computations!$H$19*Computations!D95^2+Computations!$G$19*Computations!D95^3","v":450000}]
[42,2.3054422035691424E-2,2.3346269292627911E-2,2.3200345664159669E-2,3.6955769873141735E-3,2.066249982782915E-4,857.8992850547329,450000,{"$f":"G96-H96/User_entry!$E$18","v":-642.1007149452671},0,null,{"$f":"HLOOKUP(User_entry!$B$56,Computations!$N$54:$R$1054,Computations!A96+1,FALSE)","v":857.8992850547329},{"$f":"HLOOKUP(User_entry!$E$56,Computations!$S$54:$W$1054,Computations!A96+1,FALSE)","v":450000},{"$f":"Computations!$F$15+Computations!$E$15*D96","v":857.8992850547329},{"$f":"EXP(Computations!$F$16)*EXP(Computations!$E$16)^Computations!D96","v":981.02462244027129},{"$f":"Computations!$F$17+Computations!$E$17*LN(Computations!D96)","v":260.10087761342402},{"$f":"Computations!$F$18+Computations!$E$18*Computations!D96+Computations!$D$18*Computations!D96^2","v":672.22029270065752},{"$f":"Computations!$F$19+Computations!$E$19*Computations!D96+Computations!$D$19*Computations!D96^2+Computations!$C$19*Computations!D96^3","v":672.22029270065752},{"$f":"Computations!$J$15+Computations!$I$15*D96","v":450000},{"$f":"EXP(Computations!$J$16)*EXP(Computations!$I$16)^Computations!D96","v":450000.00000000035},{"$f":"Computations!$J$17+Computations!$I$17*LN(Computations!D96)","v":450000},{"$f":"Computations!$J$18+Computations!$I$18*Computations!D96+Computations!$H$18*Computations!D96^2","v":450000},{"$f":"Computations!$J$19+Computations!$I$19*Computations!D96+Computations!$H$19*Computations!D96^2+Computations!$G$19*Computations!D96^3","v":450000}]
[43,2.3346269292627911E-2,2.3638116549564398E-2,2.3492192921096153E-2,3.9110661260890163E-3,2.1548913877484288E-4,861.73938054073938,450000,{"$f":"G97-H97/User_entry!$E$18","v":-638.26061945926062},0,null,{"$f":"HLOOKUP(User_entry!$B$56,Computations!$N$54:$R$1054,Computations!A97+1,FALSE)","v":861.73938054073938},{"$f":"HLOOKUP(User_entry!$E$56,Computations!$S$54:$W$1054,Computations!A97+1,FALSE)","v":450000},{"$f":"Computations!$F$15+Computations!$E$15*D97","v":861.73938054073938},{"$f":"EXP(Computations!$F$16)*EXP(Computations!$E$16)^Computations!D97","v":983.05996704578013},{"$f":"Computations!$F$17+Computations!$E$17*LN(Computations!D97)","v":275.98262133073604},{"$f":"Computations!$F$18+Computations!$E$18*Computations!D97+Computations!$D$18*Computations!D97^2","v":678.0929887112876},{"$f":"Computations!$F$19+Computations!$E$19*Computations!D97+Computations!$D$19*Computations!D97^2+Computations!$C$19*Computations!D97^3","v":678.0929887112876},{"$f":"Computations!$J$15+Computations!$I$15*D97","v":450000},{"$f":"EXP(Computations!$J$16)*EXP(Computations!$I$16)^Computations!D97","v":450000.00000000035},{"$f":"Computations!$J$17+Computations!$I$17*LN(Computations!D97)","v":450000},{"$f":"Computations!$J$18+Computations!$I$18*Computations!D97+Computations!$H$18*Computations!D97^2","v":450000},{"$f":"Computations!$J$19+Computations!$I$19*Computations!D97+Computations!$H$19*Computations!D97^2+Computations!$G$19*Computations!D97^3","v":450000}]
[44,2.3638116549564398E-2,2.3929963806500885E-2,2.3784040178032644E-2,4.1356418097708439E-3,2.2457568368182759E-4,865.57947602674574,450000,{"$f":"G98-H98/User_entry!$E$18","v":-634.42052397325426},0,null,{"$f":"HLOOKUP(User_entry!$B$56,Computations!$N$54:$R$1054,Computations!A98+1,FALSE)","v":865.57947602674574},{"$f":"HLOOKUP(User_entry!$E$56,Computations!$S$54:$W$1054,Computations!A98+1,FALSE)","v":450000},{"$f":"Computations!$F$15+Computations!$E$15*D98","v":865.57947602674574},{"$f":"EXP(Computations!$F$16)*EXP(Computations!$E$16)^Computations!D98","v":985.09953440734284},{"$f":"Computations!$F$17+Computations!$E$17*LN(Computations!D98)","v":291.6682765895257},{"$f":"Computations!$F$18+Computations!$E$18*Computations!D98+Computations!$D$18*Computations!D98^2","v":683.95937547588994},{"$f":"Computations!$F$19+Computations!$E$19*Computations!D98+Computations!$D$19*Computations!D98^2+Computations!$C$19*Computations!D98^3","v":683.95937547588994},{"$f":"Computations!$J$15+Computations!$I$15*D98","v":450000},{"$f":"EXP(Computations!$J$16)*EXP(Computations!$I$16)^Computations!D98","v":450000.00000000035},{"$f":"Computations!$J$17+Computations!$I$17*LN(Computations!D98)","v":450000},{"$f":"Computations!$J$18+Computations!$I$18*Computations!D98+Computations!$H$18*Computations!D98^2","v":450000},{"$f":"Computations!$J$19+Computations!$I$19*Computations!D98+Computations!$H$19*Computations!D98^2+Computations!$G$19*Computations!D98^3","v":450000}]
[45,2.3929963806500885E-2,2.4221811063437373E-2,2.4075887434969127E-2,4.3695267690785061E-3,2.3388495930766213E-4,869.4195715127521,450000,{"$f":"G99-H99/User_entry!$E$18","v":-630.5804284872479},0,null,{"$f":"HLOOKUP(User_entry!$B$56,Computations!$N$54:$R$1054,Computations!A99+1,FALSE)","v":869.4195715127521},{"$f":"HLOOKUP(User_entry!$E$56,Computations!$S$54:$W$1054,Computations!A99+1,FALSE)","v":450000},{"$f":"Computations!$F$15+Computations!$E$15*D99","v":869.4195715127521},{"$f":"EXP(Computations!$F$16)*EXP(Computations!$E$16)^Computations!D99","v":987.14333328596626},{"$f":"Computations!$F$17+Computations!$E$17*LN(Computations!D99)","v":307.16262651723719},{"$f":"Computations!$F$18+Computations!$E$18*Computations!D99+Computations!$D$18*Computations!D99^2","v":689.81945299446352},{"$f":"Computations!$F$19+Computations!$E$19*Computations!D99+Computations!$D$19*Computations!D99^2+Computations!$C$19*Computations!D99^3","v":689.81945299446352},{"$f":"Computations!$J$15+Computations!$I$15*D99","v":450000},{"$f":"EXP(Computations!$J$16)*EXP(Computations!$I$16)^Computations!D99","v":450000.00000000035},{"$f":"Computations!$J$17+Computations!$I$17*LN(Computations!D99)","v":450000},{"$f":"Computations!$J$18+Computations!$I$18*Computations!D99+Computations!$H$18*Computations!D99^2","v":450000},{"$f":"Computations!$J$19+Computations!$I$19*Computations!D99+Computations!$H$19*Computations!D99^2+Computations!$G$19*Computations!D99^3","v":450000}]
[46,2.4221811063437373E-2,2.451365832037386E-2,2.4367734691905618E-2,4.6129439367578644E-3,2.4341716767935836E-4,873.25966699875858,450000,{"$f":"G100-H100/User_entry!$E$18","v":-626.74033300124142},0,null,{"$f":"HLOOKUP(User_entry!$B$56,Computations!$N$54:$R$1054,Computations!A100+1,FALSE)","v":873.25966699875858},{"$f":"HLOOKUP(User_entry!$E$56,Computations!$S$54:$W$1054,Computations!A100+1,FALSE)","v":450000},{"$f":"Computations!$F$15+Computations!$E$15*D100","v":873.25966699875858},{"$f":"EXP(Computations!$F$16)*EXP(Computations!$E$16)^Computations!D100","v":989.19137246083426},{"$f":"Computations!$F$17+Computations!$E$17*LN(Computations!D100)","v":322.47028133788262},{"$f":"Computations!$F$18+Computations!$E$18*Computations!D100+Computations!$D$18*Computations!D100^2","v":695.67322126700935},{"$f":"Computations!$F$19+Computations!$E$19*Computations!D100+Computations!$D$19*Computations!D100^2+Computations!$C$19*Computations!D100^3","v":695.67322126700935},{"$f":"Computations!$J$15+Computations!$I$15*D100","v":450000},{"$f":"EXP(Computations!$J$16)*EXP(Computations!$I$16)^Computations!D100","v":450000.00000000035},{"$f":"Computations!$J$17+Computations!$I$17*LN(Computations!D100)","v":450000},{"$f":"Computations!$J$18+Computations!$I$18*Computations!D100+Computations!$H$18*Computations!D100^2","v":450000},{"$f":"Computations!$J$19+Computations!$I$19*Computations!D100+Computations!$H$19*Computations!D100^2+Computations!$G$19*Computations!D100^3","v":450000}]
[47,2.451365832037386E-2,2.4805505577310347E-2,2.4659581948842102E-2,4.8661163240153382E-3,2.5317238725747378E-4,877.09976248476494,450000,{"$f":"G101-H101/User_entry!$E$18","v":-622.90023751523506},0,null,{"$f":"HLOOKUP(User_entry!$B$56,Computations!$N$54:$R$1054,Computations!A101+1,FALSE)","v":877.09976248476494},{"$f":"HLOOKUP(User_entry!$E$56,Computations!$S$54:$W$1054,Computations!A101+1,FALSE)","v":450000},{"$f":"Computations!$F$15+Computations!$E$15*D101","v":877.09976248476494},{"$f":"EXP(Computations!$F$16)*EXP(Computations!$E$16)^Computations!D101","v":991.2436607293447},{"$f":"Computations!$F$17+Computations!$E$17*LN(Computations!D101)","v":337.59568660654168},{"$f":"Computations!$F$18+Computations!$E$18*Computations!D101+Computations!$D$18*Computations!D101^2","v":701.52068029352665},{"$f":"Computations!$F$19+Computations!$E$19*Computations!D101+Computations!$D$19*Computations!D101^2+Computations!$C$19*Computations!D101^3","v":701.52068029352665},{"$f":"Computations!$J$15+Computations!$I$15*D101","v":450000},{"$f":"EXP(Computations!$J$16)*EXP(Computations!$I$16)^Computations!D101","v":450000.00000000035},{"$f":"Computations!$J$17+Computations!$I$17*LN(Computations!D101)","v":450000},{"$f":"Computations!$J$18+Computations!$I$18*Computations!D101+Computations!$H$18*Computations!D101^2","v":450000},{"$f":"Computations!$J$19+Computations!$I$19*Computations!D101+Computations!$H$19*Computations!D101^2+Computations!$G$19*Computations!D101^3","v":450000}]
[48,2.4805505577310347E-2,2.5097352834246835E-2,2.4951429205778593E-2,5.1292668977625704E-3,2.6315057374723221E-4,880.93985797077141,450000,{"$f":"G102-H102/User_entry!$E$18","v":-619.06014202922859},0,null,{"$f":"HLOOKUP(User_entry!$B$56,Computations!$N$54:$R$1054,Computations!A102+1,FALSE)","v":880.93985797077141},{"$f":"HLOOKUP(User_entry!$E$56,Computations!$S$54:$W$1054,Computations!A102+1,FALSE)","v":450000},{"$f":"Computations!$F$15+Computations!$E$15*D102","v":880.93985797077141},{"$f":"EXP(Computations!$F$16)*EXP(Computations!$E$16)^Computations!D102","v":993.30020690714809},{"$f":"Computations!$F$17+Computations!$E$17*LN(Computations!D102)","v":352.54313095942143},{"$f":"Computations!$F$18+Computations!$E$18*Computations!D102+Computations!$D$18*Computations!D102^2","v":707.36183007401576},{"$f":"Computations!$F$19+Computations!$E$19*Computations!D102+Computations!$D$19*Computations!D102^2+Computations!$C$19*Computations!D102^3","v":707.36183007401576},{"$f":"Computations!$J$15+Computations!$I$15*D102","v":450000},{"$f":"EXP(Computations!$J$16)*EXP(Computations!$I$16)^Computations!D102","v":450000.00000000035},{"$f":"Computations!$J$17+Computations!$I$17*LN(Computations!D102)","v":450000},{"$f":"Computations!$J$18+Computations!$I$18*Computations!D102+Computations!$H$18*Computations!D102^2","v":450000},{"$f":"Computations!$J$19+Computations!$I$19*Computations!D102+Computations!$H$19*Computations!D102^2+Computations!$G$19*Computations!D102^3","v":450000}]
[49,2.5097352834246835E-2,2.5389200091183322E-2,2.5243276462715077E-2,5.4026184587641357E-3,2.7335156100156532E-4,884.77995345677778,450000,{"$f":"G103-H103/User_entry!$E$18","v":-615.22004654322222},0,null,{"$f":"HLOOKUP(User_entry!$B$56,Computations!$N$54:$R$1054,Computations!A103+1,FALSE)","v":884.77995345677778},{"$f":"HLOOKUP(User_entry!$E$56,Computations!$S$54:$W$1054,Computations!A103+1,FALSE)","v":450000},{"$f":"Computations!$F$15+Computations!$E$15*D103","v":884.77995345677778},{"$f":"EXP(Computations!$F$16)*EXP(Computations!$E$16)^Computations!D103","v":995.36101982818411},{"$f":"Computations!$F$17+Computations!$E$17*LN(Computations!D103)","v":367.31675341326263},{"$f":"Computations!$F$18+Computations!$E$18*Computations!D103+Computations!$D$18*Computations!D103^2","v":713.19667060847655},{"$f":"Computations!$F$19+Computations!$E$19*Computations!D103+Computations!$D$19*Computations!D103^2+Computations!$C$19*Computations!D103^3","v":713.19667060847655},{"$f":"Computations!$J$15+Computations!$I$15*D103","v":450000},{"$f":"EXP(Computations!$J$16)*EXP(Computations!$I$16)^Computations!D103","v":450000.00000000035},{"$f":"Computations!$J$17+Computations!$I$17*LN(Computations!D103)","v":450000},{"$f":"Computations!$J$18+Computations!$I$18*Computations!D103+Computations!$H$18*Computations!D103^2","v":450000},{"$f":"Computations!$J$19+Computations!$I$19*Computations!D103+Computations!$H$19*Computations!D103^2+Computations!$G$19*Computations!D103^3","v":450000}]
[50,2.5389200091183322E-2,2.5681047348119809E-2,2.5535123719651567E-2,5.6863935207771372E-3,2.837750620130015E-4,888.62004894278425,450000,{"$f":"G104-H104/User_entry!$E$18","v":-611.37995105721575},0,null,{"$f":"HLOOKUP(User_entry!$B$56,Computations!$N$54:$R$1054,Computations!A104+1,FALSE)","v":888.62004894278425},{"$f":"HLOOKUP(User_entry!$E$56,Computations!$S$54:$W$1054,Computations!A104+1,FALSE)","v":450000},{"$f":"Computations!$F$15+Computations!$E$15*D104","v":888.62004894278425},{"$f":"EXP(Computations!$F$16)*EXP(Computations!$E$16)^Computations!D104","v":997.42610834472077},{"$f":"Computations!$F$17+Computations!$E$17*LN(Computations!D104)","v":381.92055024520232},{"$f":"Computations!$F$18+Computations!$E$18*Computations!D104+Computations!$D$18*Computations!D104^2","v":719.02520189690915},{"$f":"Computations!$F$19+Computations!$E$19*Computations!D104+Computations!$D$19*Computations!D104^2+Computations!$C$19*Computations!D104^3","v":719.02520189690915},{"$f":"Computations!$J$15+Computations!$I$15*D104","v":450000},{"$f":"EXP(Computations!$J$16)*EXP(Computations!$I$16)^Computations!D104","v":450000.00000000035},{"$f":"Computations!$J$17+Computations!$I$17*LN(Computations!D104)","v":450000},{"$f":"Computations!$J$18+Computations!$I$18*Computations!D104+Computations!$H$18*Computations!D104^2","v":450000},{"$f":"Computations!$J$19+Computations!$I$19*Computations!D104+Computations!$H$19*Computations!D104^2+Computations!$G$19*Computations!D104^3","v":450000}]
[51,2.5681047348119809E-2,2.5972894605056297E-2,2.5826970976588051E-2,5.9808141907673786E-3,2.9442066999024134E-4,892.46014442879061,450000,{"$f":"G105-H105/User_entry!$E$18","v":-607.53985557120939},0,null,{"$f":"HLOOKUP(User_entry!$B$56,Computations!$N$54:$R$1054,Computations!A105+1,FALSE)","v":892.46014442879061},{"$f":"HLOOKUP(User_entry!$E$56,Computations!$S$54:$W$1054,Computations!A105+1,FALSE)","v":450000},{"$f":"Computations!$F$15+Computations!$E$15*D105","v":892.46014442879061},{"$f":"EXP(Computations!$F$16)*EXP(Computations!$E$16)^Computations!D105","v":999.4954813273921},{"$f":"Computations!$F$17+Computations!$E$17*LN(Computations!D105)","v":396.35838148166658},{"$f":"Computations!$F$18+Computations!$E$18*Computations!D105+Computations!$D$18*Computations!D105^2","v":724.84742393931344},{"$f":"Computations!$F$19+Computations!$E$19*Computations!D105+Computations!$D$19*Computations!D105^2+Computations!$C$19*Computations!D105^3","v":724.84742393931344},{"$f":"Computations!$J$15+Computations!$I$15*D105","v":450000},{"$f":"EXP(Computations!$J$16)*EXP(Computations!$I$16)^Computations!D105","v":450000.00000000035},{"$f":"Computations!$J$17+Computations!$I$17*LN(Computations!D105)","v":450000},{"$f":"Computations!$J$18+Computations!$I$18*Computations!D105+Computations!$H$18*Computations!D105^2","v":450000},{"$f":"Computations!$J$19+Computations!$I$19*Computations!D105+Computations!$H$19*Computations!D105^2+Computations!$G$19*Computations!D105^3","v":450000}]
[52,2.5972894605056297E-2,2.6264741861992784E-2,2.6118818233524542E-2,6.286102050283628E-3,3.0528785951624941E-4,896.30023991479698,450000,{"$f":"G106-H106/User_entry!$E$18","v":-603.69976008520302},0,null,{"$f":"HLOOKUP(User_entry!$B$56,Computations!$N$54:$R$1054,Computations!A106+1,FALSE)","v":896.30023991479698},{"$f":"HLOOKUP(User_entry!$E$56,Computations!$S$54:$W$1054,Computations!A106+1,FALSE)","v":450000},{"$f":"Computations!$F$15+Computations!$E$15*D106","v":896.30023991479698},{"$f":"EXP(Computations!$F$16)*EXP(Computations!$E$16)^Computations!D106","v":1001.5691476652358},{"$f":"Computations!$F$17+Computations!$E$17*LN(Computations!D106)","v":410.63397702269413},{"$f":"Computations!$F$18+Computations!$E$18*Computations!D106+Computations!$D$18*Computations!D106^2","v":730.66333673568965},{"$f":"Computations!$F$19+Computations!$E$19*Computations!D106+Computations!$D$19*Computations!D106^2+Computations!$C$19*Computations!D106^3","v":730.66333673568965},{"$f":"Computations!$J$15+Computations!$I$15*D106","v":450000},{"$f":"EXP(Computations!$J$16)*EXP(Computations!$I$16)^Computations!D106","v":450000.00000000035},{"$f":"Computations!$J$17+Computations!$I$17*LN(Computations!D106)","v":450000},{"$f":"Computations!$J$18+Computations!$I$18*Computations!D106+Computations!$H$18*Computations!D106^2","v":450000},{"$f":"Computations!$J$19+Computations!$I$19*Computations!D106+Computations!$H$19*Computations!D106^2+Computations!$G$19*Computations!D106^3","v":450000}]
[53,2.6264741861992784E-2,2.6556589118929271E-2,2.6410665490461026E-2,6.6024780380676447E-3,3.1637598778401672E-4,900.14033540080345,450000,{"$f":"G107-H107/User_entry!$E$18","v":-599.85966459919655},0,null,{"$f":"HLOOKUP(User_entry!$B$56,Computations!$N$54:$R$1054,Computations!A107+1,FALSE)","v":900.14033540080345},{"$f":"HLOOKUP(User_entry!$E$56,Computations!$S$54:$W$1054,Computations!A107+1,FALSE)","v":450000},{"$f":"Computations!$F$15+Computations!$E$15*D107","v":900.14033540080345},{"$f":"EXP(Computations!$F$16)*EXP(Computations!$E$16)^Computations!D107","v":1003.6471162657322},{"$f":"Computations!$F$17+Computations!$E$17*LN(Computations!D107)","v":424.75094242595696},{"$f":"Computations!$F$18+Computations!$E$18*Computations!D107+Computations!$D$18*Computations!D107^2","v":736.47294028603744},{"$f":"Computations!$F$19+Computations!$E$19*Computations!D107+Computations!$D$19*Computations!D107^2+Computations!$C$19*Computations!D107^3","v":736.47294028603744},{"$f":"Computations!$J$15+Computations!$I$15*D107","v":450000},{"$f":"EXP(Computations!$J$16)*EXP(Computations!$I$16)^Computations!D107","v":450000.00000000035},{"$f":"Computations!$J$17+Computations!$I$17*LN(Computations!D107)","v":450000},{"$f":"Computations!$J$18+Computations!$I$18*Computations!D107+Computations!$H$18*Computations!D107^2","v":450000},{"$f":"Computations!$J$19+Computations!$I$19*Computations!D107+Computations!$H$19*Computations!D107^2+Computations!$G$19*Computations!D107^3","v":450000}]
[54,2.6556589118929271E-2,2.6848436375865758E-2,2.6702512747397517E-2,6.930162333974422E-3,3.2768429590677734E-4,903.98043088680993,450000,{"$f":"G108-H108/User_entry!$E$18","v":-596.01956911319007},0,null,{"$f":"HLOOKUP(User_entry!$B$56,Computations!$N$54:$R$1054,Computations!A108+1,FALSE)","v":903.98043088680993},{"$f":"HLOOKUP(User_entry!$E$56,Computations!$S$54:$W$1054,Computations!A108+1,FALSE)","v":450000},{"$f":"Computations!$F$15+Computations!$E$15*D108","v":903.98043088680993},{"$f":"EXP(Computations!$F$16)*EXP(Computations!$E$16)^Computations!D108","v":1005.7293960548416},{"$f":"Computations!$F$17+Computations!$E$17*LN(Computations!D108)","v":438.71276437296547},{"$f":"Computations!$F$18+Computations!$E$18*Computations!D108+Computations!$D$18*Computations!D108^2","v":742.27623459035715},{"$f":"Computations!$F$19+Computations!$E$19*Computations!D108+Computations!$D$19*Computations!D108^2+Computations!$C$19*Computations!D108^3","v":742.27623459035715},{"$f":"Computations!$J$15+Computations!$I$15*D108","v":450000},{"$f":"EXP(Computations!$J$16)*EXP(Computations!$I$16)^Computations!D108","v":450000.00000000035},{"$f":"Computations!$J$17+Computations!$I$17*LN(Computations!D108)","v":450000},{"$f":"Computations!$J$18+Computations!$I$18*Computations!D108+Computations!$H$18*Computations!D108^2","v":450000},{"$f":"Computations!$J$19+Computations!$I$19*Computations!D108+Computations!$H$19*Computations!D108^2+Computations!$G$19*Computations!D108^3","v":450000}]
[55,2.6848436375865758E-2,2.7140283632802246E-2,2.6994360004334E-2,7.2693742442735973E-3,3.392119102991753E-4,907.82052637281618,450000,{"$f":"G109-H109/User_entry!$E$18","v":-592.17947362718382},0,null,{"$f":"HLOOKUP(User_entry!$B$56,Computations!$N$54:$R$1054,Computations!A109+1,FALSE)","v":907.82052637281618},{"$f":"HLOOKUP(User_entry!$E$56,Computations!$S$54:$W$1054,Computations!A109+1,FALSE)","v":450000},{"$f":"Computations!$F$15+Computations!$E$15*D109","v":907.82052637281618},{"$f":"EXP(Computations!$F$16)*EXP(Computations!$E$16)^Computations!D109","v":1007.8159959770435},{"$f":"Computations!$F$17+Computations!$E$17*LN(Computations!D109)","v":452.52281583813328},{"$f":"Computations!$F$18+Computations!$E$18*Computations!D109+Computations!$D$18*Computations!D109^2","v":748.07321964864843},{"$f":"Computations!$F$19+Computations!$E$19*Computations!D109+Computations!$D$19*Computations!D109^2+Computations!$C$19*Computations!D109^3","v":748.07321964864843},{"$f":"Computations!$J$15+Computations!$I$15*D109","v":450000},{"$f":"EXP(Computations!$J$16)*EXP(Computations!$I$16)^Computations!D109","v":450000.00000000035},{"$f":"Computations!$J$17+Computations!$I$17*LN(Computations!D109)","v":450000},{"$f":"Computations!$J$18+Computations!$I$18*Computations!D109+Computations!$H$18*Computations!D109^2","v":450000},{"$f":"Computations!$J$19+Computations!$I$19*Computations!D109+Computations!$H$19*Computations!D109^2+Computations!$G$19*Computations!D109^3","v":450000}]
[56,2.7140283632802246E-2,2.7432130889738733E-2,2.7286207261270491E-2,7.6203320883995902E-3,3.5095784412599289E-4,911.66062185882265,450000,{"$f":"G110-H110/User_entry!$E$18","v":-588.33937814117735},0,null,{"$f":"HLOOKUP(User_entry!$B$56,Computations!$N$54:$R$1054,Computations!A110+1,FALSE)","v":911.66062185882265},{"$f":"HLOOKUP(User_entry!$E$56,Computations!$S$54:$W$1054,Computations!A110+1,FALSE)","v":450000},{"$f":"Computations!$F$15+Computations!$E$15*D110","v":911.66062185882265},{"$f":"EXP(Computations!$F$16)*EXP(Computations!$E$16)^Computations!D110","v":1009.9069249953745},{"$f":"Computations!$F$17+Computations!$E$17*LN(Computations!D110)","v":466.18436097993163},{"$f":"Computations!$F$18+Computations!$E$18*Computations!D110+Computations!$D$18*Computations!D110^2","v":753.86389546091164},{"$f":"Computations!$F$19+Computations!$E$19*Computations!D110+Computations!$D$19*Computations!D110^2+Computations!$C$19*Computations!D110^3","v":753.86389546091164},{"$f":"Computations!$J$15+Computations!$I$15*D110","v":450000},{"$f":"EXP(Computations!$J$16)*EXP(Computations!$I$16)^Computations!D110","v":450000.00000000035},{"$f":"Computations!$J$17+Computations!$I$17*LN(Computations!D110)","v":450000},{"$f":"Computations!$J$18+Computations!$I$18*Computations!D110+Computations!$H$18*Computations!D110^2","v":450000},{"$f":"Computations!$J$19+Computations!$I$19*Computations!D110+Computations!$H$19*Computations!D110^2+Computations!$G$19*Computations!D110^3","v":450000}]
[57,2.7432130889738733E-2,2.772397814667522E-2,2.7578054518206975E-2,7.9832530872147537E-3,3.6292099881516347E-4,915.50071734482913,450000,{"$f":"G111-H111/User_entry!$E$18","v":-584.49928265517087},0,null,{"$f":"HLOOKUP(User_entry!$B$56,Computations!$N$54:$R$1054,Computations!A111+1,FALSE)","v":915.50071734482913},{"$f":"HLOOKUP(User_entry!$E$56,Computations!$S$54:$W$1054,Computations!A111+1,FALSE)","v":450000},{"$f":"Computations!$F$15+Computations!$E$15*D111","v":915.50071734482913},{"$f":"EXP(Computations!$F$16)*EXP(Computations!$E$16)^Computations!D111","v":1012.0021920914668},{"$f":"Computations!$F$17+Computations!$E$17*LN(Computations!D111)","v":479.70055977182074},{"$f":"Computations!$F$18+Computations!$E$18*Computations!D111+Computations!$D$18*Computations!D111^2","v":759.64826202714642},{"$f":"Computations!$F$19+Computations!$E$19*Computations!D111+Computations!$D$19*Computations!D111^2+Computations!$C$19*Computations!D111^3","v":759.64826202714642},{"$f":"Computations!$J$15+Computations!$I$15*D111","v":450000},{"$f":"EXP(Computations!$J$16)*EXP(Computations!$I$16)^Computations!D111","v":450000.00000000035},{"$f":"Computations!$J$17+Computations!$I$17*LN(Computations!D111)","v":450000},{"$f":"Computations!$J$18+Computations!$I$18*Computations!D111+Computations!$H$18*Computations!D111^2","v":450000},{"$f":"Computations!$J$19+Computations!$I$19*Computations!D111+Computations!$H$19*Computations!D111^2+Computations!$G$19*Computations!D111^3","v":450000}]
[58,2.772397814667522E-2,2.8015825403611708E-2,2.7869901775143466E-2,8.3583532528466158E-3,3.7510016563186213E-4,919.34081283083549,450000,{"$f":"G112-H112/User_entry!$E$18","v":-580.65918716916451},0,null,{"$f":"HLOOKUP(User_entry!$B$56,Computations!$N$54:$R$1054,Computations!A112+1,FALSE)","v":919.34081283083549},{"$f":"HLOOKUP(User_entry!$E$56,Computations!$S$54:$W$1054,Computations!A112+1,FALSE)","v":450000},{"$f":"Computations!$F$15+Computations!$E$15*D112","v":919.34081283083549},{"$f":"EXP(Computations!$F$16)*EXP(Computations!$E$16)^Computations!D112","v":1014.1018062655871},{"$f":"Computations!$F$17+Computations!$E$17*LN(Computations!D112)","v":493.07447238944678},{"$f":"Computations!$F$18+Computations!$E$18*Computations!D112+Computations!$D$18*Computations!D112^2","v":765.42631934735311},{"$f":"Computations!$F$19+Computations!$E$19*Computations!D112+Computations!$D$19*Computations!D112^2+Computations!$C$19*Computations!D112^3","v":765.42631934735311},{"$f":"Computations!$J$15+Computations!$I$15*D112","v":450000},{"$f":"EXP(Computations!$J$16)*EXP(Computations!$I$16)^Computations!D112","v":450000.00000000035},{"$f":"Computations!$J$17+Computations!$I$17*LN(Computations!D112)","v":450000},{"$f":"Computations!$J$18+Computations!$I$18*Computations!D112+Computations!$H$18*Computations!D112^2","v":450000},{"$f":"Computations!$J$19+Computations!$I$19*Computations!D112+Computations!$H$19*Computations!D112^2+Computations!$G$19*Computations!D112^3","v":450000}]
[59,2.8015825403611708E-2,2.8307672660548195E-2,2.816174903207995E-2,8.7458472801571346E-3,3.8749402731051881E-4,923.18090831684185,450000,{"$f":"G113-H113/User_entry!$E$18","v":-576.81909168315815},0,null,{"$f":"HLOOKUP(User_entry!$B$56,Computations!$N$54:$R$1054,Computations!A113+1,FALSE)","v":923.18090831684185},{"$f":"HLOOKUP(User_entry!$E$56,Computations!$S$54:$W$1054,Computations!A113+1,FALSE)","v":450000},{"$f":"Computations!$F$15+Computations!$E$15*D113","v":923.18090831684185},{"$f":"EXP(Computations!$F$16)*EXP(Computations!$E$16)^Computations!D113","v":1016.205776536675},{"$f":"Computations!$F$17+Computations!$E$17*LN(Computations!D113)","v":506.30906336928638},{"$f":"Computations!$F$18+Computations!$E$18*Computations!D113+Computations!$D$18*Computations!D113^2","v":771.19806742153139},{"$f":"Computations!$F$19+Computations!$E$19*Computations!D113+Computations!$D$19*Computations!D113^2+Computations!$C$19*Computations!D113^3","v":771.19806742153139},{"$f":"Computations!$J$15+Computations!$I$15*D113","v":450000},{"$f":"EXP(Computations!$J$16)*EXP(Computations!$I$16)^Computations!D113","v":450000.00000000035},{"$f":"Computations!$J$17+Computations!$I$17*LN(Computations!D113)","v":450000},{"$f":"Computations!$J$18+Computations!$I$18*Computations!D113+Computations!$H$18*Computations!D113^2","v":450000},{"$f":"Computations!$J$19+Computations!$I$19*Computations!D113+Computations!$H$19*Computations!D113^2+Computations!$G$19*Computations!D113^3","v":450000}]
[60,2.8307672660548195E-2,2.8599519917484682E-2,2.845359628901644E-2,9.1459484398986809E-3,4.0010115974154631E-4,927.02100380284833,450000,{"$f":"G114-H114/User_entry!$E$18","v":-572.97899619715167},0,null,{"$f":"HLOOKUP(User_entry!$B$56,Computations!$N$54:$R$1054,Computations!A114+1,FALSE)","v":927.02100380284833},{"$f":"HLOOKUP(User_entry!$E$56,Computations!$S$54:$W$1054,Computations!A114+1,FALSE)","v":450000},{"$f":"Computations!$F$15+Computations!$E$15*D114","v":927.02100380284833},{"$f":"EXP(Computations!$F$16)*EXP(Computations!$E$16)^Computations!D114","v":1018.3141119423817},{"$f":"Computations!$F$17+Computations!$E$17*LN(Computations!D114)","v":519.40720555293228},{"$f":"Computations!$F$18+Computations!$E$18*Computations!D114+Computations!$D$18*Computations!D114^2","v":776.96350624968159},{"$f":"Computations!$F$19+Computations!$E$19*Computations!D114+Computations!$D$19*Computations!D114^2+Computations!$C$19*Computations!D114^3","v":776.96350624968159},{"$f":"Computations!$J$15+Computations!$I$15*D114","v":450000},{"$f":"EXP(Computations!$J$16)*EXP(Computations!$I$16)^Computations!D114","v":450000.00000000035},{"$f":"Computations!$J$17+Computations!$I$17*LN(Computations!D114)","v":450000},{"$f":"Computations!$J$18+Computations!$I$18*Computations!D114+Computations!$H$18*Computations!D114^2","v":450000},{"$f":"Computations!$J$19+Computations!$I$19*Computations!D114+Computations!$H$19*Computations!D114^2+Computations!$G$19*Computations!D114^3","v":450000}]
[61,2.8599519917484682E-2,2.889136717442117E-2,2.8745443545952924E-2,9.5588684736084631E-3,4.1292003370978214E-4,930.86109928885469,450000,{"$f":"G115-H115/User_entry!$E$18","v":-569.13890071114531},0,null,{"$f":"HLOOKUP(User_entry!$B$56,Computations!$N$54:$R$1054,Computations!A115+1,FALSE)","v":930.86109928885469},{"$f":"HLOOKUP(User_entry!$E$56,Computations!$S$54:$W$1054,Computations!A115+1,FALSE)","v":450000},{"$f":"Computations!$F$15+Computations!$E$15*D115","v":930.86109928885469},{"$f":"EXP(Computations!$F$16)*EXP(Computations!$E$16)^Computations!D115","v":1020.4268215391094},{"$f":"Computations!$F$17+Computations!$E$17*LN(Computations!D115)","v":532.3716838300943},{"$f":"Computations!$F$18+Computations!$E$18*Computations!D115+Computations!$D$18*Computations!D115^2","v":782.72263583180336},{"$f":"Computations!$F$19+Computations!$E$19*Computations!D115+Computations!$D$19*Computations!D115^2+Computations!$C$19*Computations!D115^3","v":782.72263583180336},{"$f":"Computations!$J$15+Computations!$I$15*D115","v":450000},{"$f":"EXP(Computations!$J$16)*EXP(Computations!$I$16)^Computations!D115","v":450000.00000000035},{"$f":"Computations!$J$17+Computations!$I$17*LN(Computations!D115)","v":450000},{"$f":"Computations!$J$18+Computations!$I$18*Computations!D115+Computations!$H$18*Computations!D115^2","v":450000},{"$f":"Computations!$J$19+Computations!$I$19*Computations!D115+Computations!$H$19*Computations!D115^2+Computations!$G$19*Computations!D115^3","v":450000}]
[62,2.889136717442117E-2,2.9183214431357657E-2,2.9037290802889415E-2,9.9848174902902806E-3,4.259490166818175E-4,934.70119477486116,450000,{"$f":"G116-H116/User_entry!$E$18","v":-565.29880522513884},0,null,{"$f":"HLOOKUP(User_entry!$B$56,Computations!$N$54:$R$1054,Computations!A116+1,FALSE)","v":934.70119477486116},{"$f":"HLOOKUP(User_entry!$E$56,Computations!$S$54:$W$1054,Computations!A116+1,FALSE)","v":450000},{"$f":"Computations!$F$15+Computations!$E$15*D116","v":934.70119477486116},{"$f":"EXP(Computations!$F$16)*EXP(Computations!$E$16)^Computations!D116","v":1022.5439144020488},{"$f":"Computations!$F$17+Computations!$E$17*LN(Computations!D116)","v":545.20519869255895},{"$f":"Computations!$F$18+Computations!$E$18*Computations!D116+Computations!$D$18*Computations!D116^2","v":788.47545616789705},{"$f":"Computations!$F$19+Computations!$E$19*Computations!D116+Computations!$D$19*Computations!D116^2+Computations!$C$19*Computations!D116^3","v":788.47545616789705},{"$f":"Computations!$J$15+Computations!$I$15*D116","v":450000},{"$f":"EXP(Computations!$J$16)*EXP(Computations!$I$16)^Computations!D116","v":450000.00000000035},{"$f":"Computations!$J$17+Computations!$I$17*LN(Computations!D116)","v":450000},{"$f":"Computations!$J$18+Computations!$I$18*Computations!D116+Computations!$H$18*Computations!D116^2","v":450000},{"$f":"Computations!$J$19+Computations!$I$19*Computations!D116+Computations!$H$19*Computations!D116^2+Computations!$G$19*Computations!D116^3","v":450000}]
[63,2.9183214431357657E-2,2.9475061688294144E-2,2.9329138059825899E-2,1.0424003864929081E-2,4.3918637463880028E-4,938.54129026086753,450000,{"$f":"G117-H117/User_entry!$E$18","v":-561.45870973913247},0,null,{"$f":"HLOOKUP(User_entry!$B$56,Computations!$N$54:$R$1054,Computations!A117+1,FALSE)","v":938.54129026086753},{"$f":"HLOOKUP(User_entry!$E$56,Computations!$S$54:$W$1054,Computations!A117+1,FALSE)","v":450000},{"$f":"Computations!$F$15+Computations!$E$15*D117","v":938.54129026086753},{"$f":"EXP(Computations!$F$16)*EXP(Computations!$E$16)^Computations!D117","v":1024.6653996252201},{"$f":"Computations!$F$17+Computations!$E$17*LN(Computations!D117)","v":557.91036961041755},{"$f":"Computations!$F$18+Computations!$E$18*Computations!D117+Computations!$D$18*Computations!D117^2","v":794.22196725796232},{"$f":"Computations!$F$19+Computations!$E$19*Computations!D117+Computations!$D$19*Computations!D117^2+Computations!$C$19*Computations!D117^3","v":794.22196725796232},{"$f":"Computations!$J$15+Computations!$I$15*D117","v":450000},{"$f":"EXP(Computations!$J$16)*EXP(Computations!$I$16)^Computations!D117","v":450000.00000000035},{"$f":"Computations!$J$17+Computations!$I$17*LN(Computations!D117)","v":450000},{"$f":"Computations!$J$18+Computations!$I$18*Computations!D117+Computations!$H$18*Computations!D117^2","v":450000},{"$f":"Computations!$J$19+Computations!$I$19*Computations!D117+Computations!$H$19*Computations!D117^2+Computations!$G$19*Computations!D117^3","v":450000}]
[64,2.9475061688294144E-2,2.9766908945230632E-2,2.962098531676239E-2,1.0876634138881645E-2,4.526302739525645E-4,942.381385746874,450000,{"$f":"G118-H118/User_entry!$E$18","v":-557.618614253126},0,null,{"$f":"HLOOKUP(User_entry!$B$56,Computations!$N$54:$R$1054,Computations!A118+1,FALSE)","v":942.381385746874},{"$f":"HLOOKUP(User_entry!$E$56,Computations!$S$54:$W$1054,Computations!A118+1,FALSE)","v":450000},{"$f":"Computations!$F$15+Computations!$E$15*D118","v":942.381385746874},{"$f":"EXP(Computations!$F$16)*EXP(Computations!$E$16)^Computations!D118","v":1026.7912863215104},{"$f":"Computations!$F$17+Computations!$E$17*LN(Computations!D118)","v":570.48973824115001},{"$f":"Computations!$F$18+Computations!$E$18*Computations!D118+Computations!$D$18*Computations!D118^2","v":799.96216910199962},{"$f":"Computations!$F$19+Computations!$E$19*Computations!D118+Computations!$D$19*Computations!D118^2+Computations!$C$19*Computations!D118^3","v":799.96216910199962},{"$f":"Computations!$J$15+Computations!$I$15*D118","v":450000},{"$f":"EXP(Computations!$J$16)*EXP(Computations!$I$16)^Computations!D118","v":450000.00000000035},{"$f":"Computations!$J$17+Computations!$I$17*LN(Computations!D118)","v":450000},{"$f":"Computations!$J$18+Computations!$I$18*Computations!D118+Computations!$H$18*Computations!D118^2","v":450000},{"$f":"Computations!$J$19+Computations!$I$19*Computations!D118+Computations!$H$19*Computations!D118^2+Computations!$G$19*Computations!D118^3","v":450000}]
[65,2.9766908945230632E-2,3.0058756202167119E-2,2.9912832573698873E-2,1.1342912922183273E-2,4.6627878330162721E-4,946.22148123288025,450000,{"$f":"G119-H119/User_entry!$E$18","v":-553.77851876711975},0,null,{"$f":"HLOOKUP(User_entry!$B$56,Computations!$N$54:$R$1054,Computations!A119+1,FALSE)","v":946.22148123288025},{"$f":"HLOOKUP(User_entry!$E$56,Computations!$S$54:$W$1054,Computations!A119+1,FALSE)","v":450000},{"$f":"Computations!$F$15+Computations!$E$15*D119","v":946.22148123288025},{"$f":"EXP(Computations!$F$16)*EXP(Computations!$E$16)^Computations!D119","v":1028.9215836227133},{"$f":"Computations!$F$17+Computations!$E$17*LN(Computations!D119)","v":582.94577148137887},{"$f":"Computations!$F$18+Computations!$E$18*Computations!D119+Computations!$D$18*Computations!D119^2","v":805.6960617000085},{"$f":"Computations!$F$19+Computations!$E$19*Computations!D119+Computations!$D$19*Computations!D119^2+Computations!$C$19*Computations!D119^3","v":805.6960617000085},{"$f":"Computations!$J$15+Computations!$I$15*D119","v":450000},{"$f":"EXP(Computations!$J$16)*EXP(Computations!$I$16)^Computations!D119","v":450000.00000000035},{"$f":"Computations!$J$17+Computations!$I$17*LN(Computations!D119)","v":450000},{"$f":"Computations!$J$18+Computations!$I$18*Computations!D119+Computations!$H$18*Computations!D119^2","v":450000},{"$f":"Computations!$J$19+Computations!$I$19*Computations!D119+Computations!$H$19*Computations!D119^2+Computations!$G$19*Computations!D119^3","v":450000}]
[66,3.0058756202167119E-2,{"$f":"B120+$D$11","v":3.0350603459103606E-2},{"$f":"AVERAGE(B120:C120)","v":3.0204679830635364E-2},{"$f":"IF($D$3=\"Beta\",_xlfn.BETA.DIST(C120,$D$4,$D$5,TRUE),IF($D$3=\"Gamma\",_xlfn.GAMMA.DIST(C120,$D$4,$D$5,TRUE),IF($D$3=\"Lognorm\",_xlfn.LOGNORM.DIST(C120,$D$4,$D$5,TRUE),_xlfn.NORM.DIST(C120,$D$4,$D$5,TRUE))))","v":1.1823042797807949E-2},{"$f":"E120-E119","v":4.8012987562467621E-4},{"$f":"L120","v":950.06157671888673},{"$f":"M120","v":450000},{"$f":"G120-H120/User_entry!$E$18","v":-549.93842328111327},{"$f":"MAX(I120,0)","v":0},null,{"$f":"HLOOKUP(User_entry!$B$56,Computations!$N$54:$R$1054,Computations!A120+1,FALSE)","v":950.06157671888673},{"$f":"HLOOKUP(User_entry!$E$56,Computations!$S$54:$W$1054,Computations!A120+1,FALSE)","v":450000},{"$f":"Computations!$F$15+Computations!$E$15*D120","v":950.06157671888673},{"$f":"EXP(Computations!$F$16)*EXP(Computations!$E$16)^Computations!D120","v":1031.0563006795685},{"$f":"Computations!$F$17+Computations!$E$17*LN(Computations!D120)","v":595.28086437046295},{"$f":"Computations!$F$18+Computations!$E$18*Computations!D120+Computations!$D$18*Computations!D120^2","v":811.42364505198907},{"$f":"Computations!$F$19+Computations!$E$19*Computations!D120+Computations!$D$19*Computations!D120^2+Computations!$C$19*Computations!D120^3","v":811.42364505198907},{"$f":"Computations!$J$15+Computations!$I$15*D120","v":450000},{"$f":"EXP(Computations!$J$16)*EXP(Computations!$I$16)^Computations!D120","v":450000.00000000035},{"$f":"Computations!$J$17+Computations!$I$17*LN(Computations!D120)","v":450000},{"$f":"Computations!$J$18+Computations!$I$18*Computations!D120+Computations!$H$18*Computations!D120^2","v":450000},{"$f":"Computations!$J$19+Computations!$I$19*Computations!D120+Computations!$H$19*Computations!D120^2+Computations!$G$19*Computations!D120^3","v":450000}]
[67,{"$f":"C120","v":3.0350603459103606E-2},3.0642450716040093E-2,3.0496527087571848E-2,1.2317224227916656E-2,4.9418143010870712E-4,953.9016722048932,450000,{"$f":"G121-H121/User_entry!$E$18","v":-546.0983277951068},0,null,{"$f":"HLOOKUP(User_entry!$B$56,Computations!$N$54:$R$1054,Computations!A121+1,FALSE)","v":953.9016722048932},{"$f":"HLOOKUP(User_entry!$E$56,Computations!$S$54:$W$1054,Computations!A121+1,FALSE)","v":450000},{"$f":"Computations!$F$15+Computations!$E$15*D121","v":953.9016722048932},{"$f":"EXP(Computations!$F$16)*EXP(Computations!$E$16)^Computations!D121","v":1033.195446661801},{"$f":"Computations!$F$17+Computations!$E$17*LN(Computations!D121)","v":607.49734285448721},{"$f":"Computations!$F$18+Computations!$E$18*Computations!D121+Computations!$D$18*Computations!D121^2","v":817.14491915794144},{"$f":"Computations!$F$19+Computations!$E$19*Computations!D121+Computations!$D$19*Computations!D121^2+Computations!$C$19*Computations!D121^3","v":817.14491915794144},{"$f":"Computations!$J$15+Computations!$I$15*D121","v":450000},{"$f":"EXP(Computations!$J$16)*EXP(Computations!$I$16)^Computations!D121","v":450000.00000000035},{"$f":"Computations!$J$17+Computations!$I$17*LN(Computations!D121)","v":450000},{"$f":"Computations!$J$18+Computations!$I$18*Computations!D121+Computations!$H$18*Computations!D121^2","v":450000},{"$f":"Computations!$J$19+Computations!$I$19*Computations!D121+Computations!$H$19*Computations!D121^2+Computations!$G$19*Computations!D121^3","v":450000}]
[68,3.0642450716040093E-2,3.0934297972976581E-2,3.0788374344508339E-2,1.2825655462126226E-2,5.084312342095703E-4,957.74176769089968,450000,{"$f":"G122-H122/User_entry!$E$18","v":-542.25823230910032},0,null,{"$f":"HLOOKUP(User_entry!$B$56,Computations!$N$54:$R$1054,Computations!A122+1,FALSE)","v":957.74176769089968},{"$f":"HLOOKUP(User_entry!$E$56,Computations!$S$54:$W$1054,Computations!A122+1,FALSE)","v":450000},{"$f":"Computations!$F$15+Computations!$E$15*D122","v":957.74176769089968},{"$f":"EXP(Computations!$F$16)*EXP(Computations!$E$16)^Computations!D122","v":1035.3390307581599},{"$f":"Computations!$F$17+Computations!$E$17*LN(Computations!D122)","v":619.59746641861784},{"$f":"Computations!$F$18+Computations!$E$18*Computations!D122+Computations!$D$18*Computations!D122^2","v":822.85988401786562},{"$f":"Computations!$F$19+Computations!$E$19*Computations!D122+Computations!$D$19*Computations!D122^2+Computations!$C$19*Computations!D122^3","v":822.85988401786562},{"$f":"Computations!$J$15+Computations!$I$15*D122","v":450000},{"$f":"EXP(Computations!$J$16)*EXP(Computations!$I$16)^Computations!D122","v":450000.00000000035},{"$f":"Computations!$J$17+Computations!$I$17*LN(Computations!D122)","v":450000},{"$f":"Computations!$J$18+Computations!$I$18*Computations!D122+Computations!$H$18*Computations!D122^2","v":450000},{"$f":"Computations!$J$19+Computations!$I$19*Computations!D122+Computations!$H$19*Computations!D122^2+Computations!$G$19*Computations!D122^3","v":450000}]
[69,3.0934297972976581E-2,3.1226145229913068E-2,3.1080221601444823E-2,1.3348532447827799E-2,5.2287698570157269E-4,961.58186317690593,450000,{"$f":"G123-H123/User_entry!$E$18","v":-538.41813682309407},0,null,{"$f":"HLOOKUP(User_entry!$B$56,Computations!$N$54:$R$1054,Computations!A123+1,FALSE)","v":961.58186317690593},{"$f":"HLOOKUP(User_entry!$E$56,Computations!$S$54:$W$1054,Computations!A123+1,FALSE)","v":450000},{"$f":"Computations!$F$15+Computations!$E$15*D123","v":961.58186317690593},{"$f":"EXP(Computations!$F$16)*EXP(Computations!$E$16)^Computations!D123","v":1037.4870621764587},{"$f":"Computations!$F$17+Computations!$E$17*LN(Computations!D123)","v":631.5834305952767},{"$f":"Computations!$F$18+Computations!$E$18*Computations!D123+Computations!$D$18*Computations!D123^2","v":828.5685396317615},{"$f":"Computations!$F$19+Computations!$E$19*Computations!D123+Computations!$D$19*Computations!D123^2+Computations!$C$19*Computations!D123^3","v":828.5685396317615},{"$f":"Computations!$J$15+Computations!$I$15*D123","v":450000},{"$f":"EXP(Computations!$J$16)*EXP(Computations!$I$16)^Computations!D123","v":450000.00000000035},{"$f":"Computations!$J$17+Computations!$I$17*LN(Computations!D123)","v":450000},{"$f":"Computations!$J$18+Computations!$I$18*Computations!D123+Computations!$H$18*Computations!D123^2","v":450000},{"$f":"Computations!$J$19+Computations!$I$19*Computations!D123+Computations!$H$19*Computations!D123^2+Computations!$G$19*Computations!D123^3","v":450000}]
[70,3.1226145229913068E-2,3.1517992486849555E-2,3.1372068858381313E-2,1.3886048742582516E-2,5.375162947547172E-4,965.4219586629124,450000,{"$f":"G124-H124/User_entry!$E$18","v":-534.5780413370876},0,null,{"$f":"HLOOKUP(User_entry!$B$56,Computations!$N$54:$R$1054,Computations!A124+1,FALSE)","v":965.4219586629124},{"$f":"HLOOKUP(User_entry!$E$56,Computations!$S$54:$W$1054,Computations!A124+1,FALSE)","v":450000},{"$f":"Computations!$F$15+Computations!$E$15*D124","v":965.4219586629124},{"$f":"EXP(Computations!$F$16)*EXP(Computations!$E$16)^Computations!D124","v":1039.6395501436145},{"$f":"Computations!$F$17+Computations!$E$17*LN(Computations!D124)","v":643.45736935510649},{"$f":"Computations!$F$18+Computations!$E$18*Computations!D124+Computations!$D$18*Computations!D124^2","v":834.27088599962917},{"$f":"Computations!$F$19+Computations!$E$19*Computations!D124+Computations!$D$19*Computations!D124^2+Computations!$C$19*Computations!D124^3","v":834.27088599962917},{"$f":"Computations!$J$15+Computations!$I$15*D124","v":450000},{"$f":"EXP(Computations!$J$16)*EXP(Computations!$I$16)^Computations!D124","v":450000.00000000035},{"$f":"Computations!$J$17+Computations!$I$17*LN(Computations!D124)","v":450000},{"$f":"Computations!$J$18+Computations!$I$18*Computations!D124+Computations!$H$18*Computations!D124^2","v":450000},{"$f":"Computations!$J$19+Computations!$I$19*Computations!D124+Computations!$H$19*Computations!D124^2+Computations!$G$19*Computations!D124^3","v":450000}]
[71,3.1517992486849555E-2,3.1809839743786039E-2,3.1663916115317797E-2,1.4438395428618613E-2,5.5234668603609642E-4,969.26205414891876,450000,{"$f":"G125-H125/User_entry!$E$18","v":-530.73794585108124},0,null,{"$f":"HLOOKUP(User_entry!$B$56,Computations!$N$54:$R$1054,Computations!A125+1,FALSE)","v":969.26205414891876},{"$f":"HLOOKUP(User_entry!$E$56,Computations!$S$54:$W$1054,Computations!A125+1,FALSE)","v":450000},{"$f":"Computations!$F$15+Computations!$E$15*D125","v":969.26205414891876},{"$f":"EXP(Computations!$F$16)*EXP(Computations!$E$16)^Computations!D125","v":1041.7965039056871},{"$f":"Computations!$F$17+Computations!$E$17*LN(Computations!D125)","v":655.22135738722682},{"$f":"Computations!$F$18+Computations!$E$18*Computations!D125+Computations!$D$18*Computations!D125^2","v":839.96692312146843},{"$f":"Computations!$F$19+Computations!$E$19*Computations!D125+Computations!$D$19*Computations!D125^2+Computations!$C$19*Computations!D125^3","v":839.96692312146843},{"$f":"Computations!$J$15+Computations!$I$15*D125","v":450000},{"$f":"EXP(Computations!$J$16)*EXP(Computations!$I$16)^Computations!D125","v":450000.00000000035},{"$f":"Computations!$J$17+Computations!$I$17*LN(Computations!D125)","v":450000},{"$f":"Computations!$J$18+Computations!$I$18*Computations!D125+Computations!$H$18*Computations!D125^2","v":450000},{"$f":"Computations!$J$19+Computations!$I$19*Computations!D125+Computations!$H$19*Computations!D125^2+Computations!$G$19*Computations!D125^3","v":450000}]
[72,3.1809839743786039E-2,3.2101687000722523E-2,3.1955763372254281E-2,1.5005761029452759E-2,5.6736560083414656E-4,973.10214963492513,450000,{"$f":"G126-H126/User_entry!$E$18","v":-526.89785036507487},0,null,{"$f":"HLOOKUP(User_entry!$B$56,Computations!$N$54:$R$1054,Computations!A126+1,FALSE)","v":973.10214963492513},{"$f":"HLOOKUP(User_entry!$E$56,Computations!$S$54:$W$1054,Computations!A126+1,FALSE)","v":450000},{"$f":"Computations!$F$15+Computations!$E$15*D126","v":973.10214963492513},{"$f":"EXP(Computations!$F$16)*EXP(Computations!$E$16)^Computations!D126","v":1043.9579327279203},{"$f":"Computations!$F$17+Computations!$E$17*LN(Computations!D126)","v":666.87741227488368},{"$f":"Computations!$F$18+Computations!$E$18*Computations!D126+Computations!$D$18*Computations!D126^2","v":845.65665099727948},{"$f":"Computations!$F$19+Computations!$E$19*Computations!D126+Computations!$D$19*Computations!D126^2+Computations!$C$19*Computations!D126^3","v":845.65665099727948},{"$f":"Computations!$J$15+Computations!$I$15*D126","v":450000},{"$f":"EXP(Computations!$J$16)*EXP(Computations!$I$16)^Computations!D126","v":450000.00000000035},{"$f":"Computations!$J$17+Computations!$I$17*LN(Computations!D126)","v":450000},{"$f":"Computations!$J$18+Computations!$I$18*Computations!D126+Computations!$H$18*Computations!D126^2","v":450000},{"$f":"Computations!$J$19+Computations!$I$19*Computations!D126+Computations!$H$19*Computations!D126^2+Computations!$G$19*Computations!D126^3","v":450000}]
[73,3.2101687000722523E-2,3.2393534257659007E-2,3.2247610629190765E-2,1.5588331428655062E-2,5.8257039920230243E-4,976.9422451209316,450000,{"$f":"G127-H127/User_entry!$E$18","v":-523.0577548790684},0,null,{"$f":"HLOOKUP(User_entry!$B$56,Computations!$N$54:$R$1054,Computations!A127+1,FALSE)","v":976.9422451209316},{"$f":"HLOOKUP(User_entry!$E$56,Computations!$S$54:$W$1054,Computations!A127+1,FALSE)","v":450000},{"$f":"Computations!$F$15+Computations!$E$15*D127","v":976.9422451209316},{"$f":"EXP(Computations!$F$16)*EXP(Computations!$E$16)^Computations!D127","v":1046.1238458947789},{"$f":"Computations!$F$17+Computations!$E$17*LN(Computations!D127)","v":678.42749657219611},{"$f":"Computations!$F$18+Computations!$E$18*Computations!D127+Computations!$D$18*Computations!D127^2","v":851.34006962706235},{"$f":"Computations!$F$19+Computations!$E$19*Computations!D127+Computations!$D$19*Computations!D127^2+Computations!$C$19*Computations!D127^3","v":851.34006962706235},{"$f":"Computations!$J$15+Computations!$I$15*D127","v":450000},{"$f":"EXP(Computations!$J$16)*EXP(Computations!$I$16)^Computations!D127","v":450000.00000000035},{"$f":"Computations!$J$17+Computations!$I$17*LN(Computations!D127)","v":450000},{"$f":"Computations!$J$18+Computations!$I$18*Computations!D127+Computations!$H$18*Computations!D127^2","v":450000},{"$f":"Computations!$J$19+Computations!$I$19*Computations!D127+Computations!$H$19*Computations!D127^2+Computations!$G$19*Computations!D127^3","v":450000}]
[74,3.2393534257659007E-2,3.2685381514595491E-2,3.2539457886127249E-2,1.6186289790776024E-2,5.9795836212096255E-4,980.78234060693785,450000,{"$f":"G128-H128/User_entry!$E$18","v":-519.21765939306215},0,null,{"$f":"HLOOKUP(User_entry!$B$56,Computations!$N$54:$R$1054,Computations!A128+1,FALSE)","v":980.78234060693785},{"$f":"HLOOKUP(User_entry!$E$56,Computations!$S$54:$W$1054,Computations!A128+1,FALSE)","v":450000},{"$f":"Computations!$F$15+Computations!$E$15*D128","v":980.78234060693785},{"$f":"EXP(Computations!$F$16)*EXP(Computations!$E$16)^Computations!D128","v":1048.294252709992},{"$f":"Computations!$F$17+Computations!$E$17*LN(Computations!D128)","v":689.87351978735478},{"$f":"Computations!$F$18+Computations!$E$18*Computations!D128+Computations!$D$18*Computations!D128^2","v":857.0171790108169},{"$f":"Computations!$F$19+Computations!$E$19*Computations!D128+Computations!$D$19*Computations!D128^2+Computations!$C$19*Computations!D128^3","v":857.0171790108169},{"$f":"Computations!$J$15+Computations!$I$15*D128","v":450000},{"$f":"EXP(Computations!$J$16)*EXP(Computations!$I$16)^Computations!D128","v":450000.00000000035},{"$f":"Computations!$J$17+Computations!$I$17*LN(Computations!D128)","v":450000},{"$f":"Computations!$J$18+Computations!$I$18*Computations!D128+Computations!$H$18*Computations!D128^2","v":450000},{"$f":"Computations!$J$19+Computations!$I$19*Computations!D128+Computations!$H$19*Computations!D128^2+Computations!$G$19*Computations!D128^3","v":450000}]
[75,3.2685381514595491E-2,3.2977228771531975E-2,3.2831305143063733E-2,1.6799816484450773E-2,6.1352669367474924E-4,984.62243609294433,450000,{"$f":"G129-H129/User_entry!$E$18","v":-515.37756390705567},0,null,{"$f":"HLOOKUP(User_entry!$B$56,Computations!$N$54:$R$1054,Computations!A129+1,FALSE)","v":984.62243609294433},{"$f":"HLOOKUP(User_entry!$E$56,Computations!$S$54:$W$1054,Computations!A129+1,FALSE)","v":450000},{"$f":"Computations!$F$15+Computations!$E$15*D129","v":984.62243609294433},{"$f":"EXP(Computations!$F$16)*EXP(Computations!$E$16)^Computations!D129","v":1050.4691624965903},{"$f":"Computations!$F$17+Computations!$E$17*LN(Computations!D129)","v":701.21734027726234},{"$f":"Computations!$F$18+Computations!$E$18*Computations!D129+Computations!$D$18*Computations!D129^2","v":862.68797914854326},{"$f":"Computations!$F$19+Computations!$E$19*Computations!D129+Computations!$D$19*Computations!D129^2+Computations!$C$19*Computations!D129^3","v":862.68797914854326},{"$f":"Computations!$J$15+Computations!$I$15*D129","v":450000},{"$f":"EXP(Computations!$J$16)*EXP(Computations!$I$16)^Computations!D129","v":450000.00000000035},{"$f":"Computations!$J$17+Computations!$I$17*LN(Computations!D129)","v":450000},{"$f":"Computations!$J$18+Computations!$I$18*Computations!D129+Computations!$H$18*Computations!D129^2","v":450000},{"$f":"Computations!$J$19+Computations!$I$19*Computations!D129+Computations!$H$19*Computations!D129^2+Computations!$G$19*Computations!D129^3","v":450000}]
[76,3.2977228771531975E-2,3.3269076028468458E-2,3.3123152400000216E-2,1.7429089007694149E-2,6.2927252324337588E-4,988.46253157895057,450000,{"$f":"G130-H130/User_entry!$E$18","v":-511.53746842104943},0,null,{"$f":"HLOOKUP(User_entry!$B$56,Computations!$N$54:$R$1054,Computations!A130+1,FALSE)","v":988.46253157895057},{"$f":"HLOOKUP(User_entry!$E$56,Computations!$S$54:$W$1054,Computations!A130+1,FALSE)","v":450000},{"$f":"Computations!$F$15+Computations!$E$15*D130","v":988.46253157895057},{"$f":"EXP(Computations!$F$16)*EXP(Computations!$E$16)^Computations!D130","v":1052.6485845969476},{"$f":"Computations!$F$17+Computations!$E$17*LN(Computations!D130)","v":712.46076705834821},{"$f":"Computations!$F$18+Computations!$E$18*Computations!D130+Computations!$D$18*Computations!D130^2","v":868.35247004024143},{"$f":"Computations!$F$19+Computations!$E$19*Computations!D130+Computations!$D$19*Computations!D130^2+Computations!$C$19*Computations!D130^3","v":868.35247004024143},{"$f":"Computations!$J$15+Computations!$I$15*D130","v":450000},{"$f":"EXP(Computations!$J$16)*EXP(Computations!$I$16)^Computations!D130","v":450000.00000000035},{"$f":"Computations!$J$17+Computations!$I$17*LN(Computations!D130)","v":450000},{"$f":"Computations!$J$18+Computations!$I$18*Computations!D130+Computations!$H$18*Computations!D130^2","v":450000},{"$f":"Computations!$J$19+Computations!$I$19*Computations!D130+Computations!$H$19*Computations!D130^2+Computations!$G$19*Computations!D130^3","v":450000}]
[77,3.3269076028468458E-2,3.3560923285404942E-2,3.34149996569367E-2,1.8074281915398144E-2,6.4519290770399459E-4,992.30262706495705,450000,{"$f":"G131-H131/User_entry!$E$18","v":-507.69737293504295},0,null,{"$f":"HLOOKUP(User_entry!$B$56,Computations!$N$54:$R$1054,Computations!A131+1,FALSE)","v":992.30262706495705},{"$f":"HLOOKUP(User_entry!$E$56,Computations!$S$54:$W$1054,Computations!A131+1,FALSE)","v":450000},{"$f":"Computations!$F$15+Computations!$E$15*D131","v":992.30262706495705},{"$f":"EXP(Computations!$F$16)*EXP(Computations!$E$16)^Computations!D131","v":1054.83252837282},{"$f":"Computations!$F$17+Computations!$E$17*LN(Computations!D131)","v":723.6055615379446},{"$f":"Computations!$F$18+Computations!$E$18*Computations!D131+Computations!$D$18*Computations!D131^2","v":874.01065168591117},{"$f":"Computations!$F$19+Computations!$E$19*Computations!D131+Computations!$D$19*Computations!D131^2+Computations!$C$19*Computations!D131^3","v":874.01065168591117},{"$f":"Computations!$J$15+Computations!$I$15*D131","v":450000},{"$f":"EXP(Computations!$J$16)*EXP(Computations!$I$16)^Computations!D131","v":450000.00000000035},{"$f":"Computations!$J$17+Computations!$I$17*LN(Computations!D131)","v":450000},{"$f":"Computations!$J$18+Computations!$I$18*Computations!D131+Computations!$H$18*Computations!D131^2","v":450000},{"$f":"Computations!$J$19+Computations!$I$19*Computations!D131+Computations!$H$19*Computations!D131^2+Computations!$G$19*Computations!D131^3","v":450000}]
[78,3.3560923285404942E-2,3.3852770542341426E-2,3.3706846913873184E-2,1.8735566749040897E-2,6.6128483364275362E-4,996.1427225509633,450000,{"$f":"G132-H132/User_entry!$E$18","v":-503.8572774490367},0,null,{"$f":"HLOOKUP(User_entry!$B$56,Computations!$N$54:$R$1054,Computations!A132+1,FALSE)","v":996.1427225509633},{"$f":"HLOOKUP(User_entry!$E$56,Computations!$S$54:$W$1054,Computations!A132+1,FALSE)","v":450000},{"$f":"Computations!$F$15+Computations!$E$15*D132","v":996.1427225509633},{"$f":"EXP(Computations!$F$16)*EXP(Computations!$E$16)^Computations!D132","v":1057.0210032053869},{"$f":"Computations!$F$17+Computations!$E$17*LN(Computations!D132)","v":734.65343917038626},{"$f":"Computations!$F$18+Computations!$E$18*Computations!D132+Computations!$D$18*Computations!D132^2","v":879.66252408555283},{"$f":"Computations!$F$19+Computations!$E$19*Computations!D132+Computations!$D$19*Computations!D132^2+Computations!$C$19*Computations!D132^3","v":879.66252408555283},{"$f":"Computations!$J$15+Computations!$I$15*D132","v":450000},{"$f":"EXP(Computations!$J$16)*EXP(Computations!$I$16)^Computations!D132","v":450000.00000000035},{"$f":"Computations!$J$17+Computations!$I$17*LN(Computations!D132)","v":450000},{"$f":"Computations!$J$18+Computations!$I$18*Computations!D132+Computations!$H$18*Computations!D132^2","v":450000},{"$f":"Computations!$J$19+Computations!$I$19*Computations!D132+Computations!$H$19*Computations!D132^2+Computations!$G$19*Computations!D132^3","v":450000}]
[79,3.3852770542341426E-2,3.414461779927791E-2,3.3998694170809668E-2,1.9413111968615337E-2,6.7754521957444011E-4,999.98281803696977,450000,{"$f":"G133-H133/User_entry!$E$18","v":-500.01718196303023},0,null,{"$f":"HLOOKUP(User_entry!$B$56,Computations!$N$54:$R$1054,Computations!A133+1,FALSE)","v":999.98281803696977},{"$f":"HLOOKUP(User_entry!$E$56,Computations!$S$54:$W$1054,Computations!A133+1,FALSE)","v":450000},{"$f":"Computations!$F$15+Computations!$E$15*D133","v":999.98281803696977},{"$f":"EXP(Computations!$F$16)*EXP(Computations!$E$16)^Computations!D133","v":1059.2140184952907},{"$f":"Computations!$F$17+Computations!$E$17*LN(Computations!D133)","v":745.60607104171504},{"$f":"Computations!$F$18+Computations!$E$18*Computations!D133+Computations!$D$18*Computations!D133^2","v":885.30808723916618},{"$f":"Computations!$F$19+Computations!$E$19*Computations!D133+Computations!$D$19*Computations!D133^2+Computations!$C$19*Computations!D133^3","v":885.30808723916618},{"$f":"Computations!$J$15+Computations!$I$15*D133","v":450000},{"$f":"EXP(Computations!$J$16)*EXP(Computations!$I$16)^Computations!D133","v":450000.00000000035},{"$f":"Computations!$J$17+Computations!$I$17*LN(Computations!D133)","v":450000},{"$f":"Computations!$J$18+Computations!$I$18*Computations!D133+Computations!$H$18*Computations!D133^2","v":450000},{"$f":"Computations!$J$19+Computations!$I$19*Computations!D133+Computations!$H$19*Computations!D133^2+Computations!$G$19*Computations!D133^3","v":450000}]
[80,3.414461779927791E-2,3.4436465056214394E-2,3.4290541427746152E-2,2.0107082886782396E-2,6.9397091816705836E-4,1003.822913522976,450000,{"$f":"G134-H134/User_entry!$E$18","v":-496.17708647702398},0,null,{"$f":"HLOOKUP(User_entry!$B$56,Computations!$N$54:$R$1054,Computations!A134+1,FALSE)","v":1003.822913522976},{"$f":"HLOOKUP(User_entry!$E$56,Computations!$S$54:$W$1054,Computations!A134+1,FALSE)","v":450000},{"$f":"Computations!$F$15+Computations!$E$15*D134","v":1003.822913522976},{"$f":"EXP(Computations!$F$16)*EXP(Computations!$E$16)^Computations!D134","v":1061.4115836626779},{"$f":"Computations!$F$17+Computations!$E$17*LN(Computations!D134)","v":756.46508538665603},{"$f":"Computations!$F$18+Computations!$E$18*Computations!D134+Computations!$D$18*Computations!D134^2","v":890.94734114675123},{"$f":"Computations!$F$19+Computations!$E$19*Computations!D134+Computations!$D$19*Computations!D134^2+Computations!$C$19*Computations!D134^3","v":890.94734114675123},{"$f":"Computations!$J$15+Computations!$I$15*D134","v":450000},{"$f":"EXP(Computations!$J$16)*EXP(Computations!$I$16)^Computations!D134","v":450000.00000000035},{"$f":"Computations!$J$17+Computations!$I$17*LN(Computations!D134)","v":450000},{"$f":"Computations!$J$18+Computations!$I$18*Computations!D134+Computations!$H$18*Computations!D134^2","v":450000},{"$f":"Computations!$J$19+Computations!$I$19*Computations!D134+Computations!$H$19*Computations!D134^2+Computations!$G$19*Computations!D134^3","v":450000}]
[81,3.4436465056214394E-2,3.4728312313150878E-2,3.4582388684682636E-2,2.0817641605253231E-2,7.1055871847083493E-4,1007.6630090089825,450000,{"$f":"G135-H135/User_entry!$E$18","v":-492.3369909910175},0,null,{"$f":"HLOOKUP(User_entry!$B$56,Computations!$N$54:$R$1054,Computations!A135+1,FALSE)","v":1007.6630090089825},{"$f":"HLOOKUP(User_entry!$E$56,Computations!$S$54:$W$1054,Computations!A135+1,FALSE)","v":450000},{"$f":"Computations!$F$15+Computations!$E$15*D135","v":1007.6630090089825},{"$f":"EXP(Computations!$F$16)*EXP(Computations!$E$16)^Computations!D135","v":1063.6137081472386},{"$f":"Computations!$F$17+Computations!$E$17*LN(Computations!D135)","v":767.23206904131985},{"$f":"Computations!$F$18+Computations!$E$18*Computations!D135+Computations!$D$18*Computations!D135^2","v":896.58028580830808},{"$f":"Computations!$F$19+Computations!$E$19*Computations!D135+Computations!$D$19*Computations!D135^2+Computations!$C$19*Computations!D135^3","v":896.58028580830808},{"$f":"Computations!$J$15+Computations!$I$15*D135","v":450000},{"$f":"EXP(Computations!$J$16)*EXP(Computations!$I$16)^Computations!D135","v":450000.00000000035},{"$f":"Computations!$J$17+Computations!$I$17*LN(Computations!D135)","v":450000},{"$f":"Computations!$J$18+Computations!$I$18*Computations!D135+Computations!$H$18*Computations!D135^2","v":450000},{"$f":"Computations!$J$19+Computations!$I$19*Computations!D135+Computations!$H$19*Computations!D135^2+Computations!$G$19*Computations!D135^3","v":450000}]
[82,3.4728312313150878E-2,3.5020159570087361E-2,3.4874235941619119E-2,2.1544946953402175E-2,7.2730534814894471E-4,1011.5031044949887,450000,{"$f":"G136-H136/User_entry!$E$18","v":-488.49689550501125},0,null,{"$f":"HLOOKUP(User_entry!$B$56,Computations!$N$54:$R$1054,Computations!A136+1,FALSE)","v":1011.5031044949887},{"$f":"HLOOKUP(User_entry!$E$56,Computations!$S$54:$W$1054,Computations!A136+1,FALSE)","v":450000},{"$f":"Computations!$F$15+Computations!$E$15*D136","v":1011.5031044949887},{"$f":"EXP(Computations!$F$16)*EXP(Computations!$E$16)^Computations!D136","v":1065.8204014082476},{"$f":"Computations!$F$17+Computations!$E$17*LN(Computations!D136)","v":777.90856883484776},{"$f":"Computations!$F$18+Computations!$E$18*Computations!D136+Computations!$D$18*Computations!D136^2","v":902.20692122383673},{"$f":"Computations!$F$19+Computations!$E$19*Computations!D136+Computations!$D$19*Computations!D136^2+Computations!$C$19*Computations!D136^3","v":902.20692122383673},{"$f":"Computations!$J$15+Computations!$I$15*D136","v":450000},{"$f":"EXP(Computations!$J$16)*EXP(Computations!$I$16)^Computations!D136","v":450000.00000000035},{"$f":"Computations!$J$17+Computations!$I$17*LN(Computations!D136)","v":450000},{"$f":"Computations!$J$18+Computations!$I$18*Computations!D136+Computations!$H$18*Computations!D136^2","v":450000},{"$f":"Computations!$J$19+Computations!$I$19*Computations!D136+Computations!$H$19*Computations!D136^2+Computations!$G$19*Computations!D136^3","v":450000}]
[83,3.5020159570087361E-2,3.5312006827023845E-2,3.5166083198555603E-2,2.2289154429111016E-2,7.4420747570884058E-4,1015.3431999809952,450000,{"$f":"G137-H137/User_entry!$E$18","v":-484.65680001900478},0,null,{"$f":"HLOOKUP(User_entry!$B$56,Computations!$N$54:$R$1054,Computations!A137+1,FALSE)","v":1015.3431999809952},{"$f":"HLOOKUP(User_entry!$E$56,Computations!$S$54:$W$1054,Computations!A137+1,FALSE)","v":450000},{"$f":"Computations!$F$15+Computations!$E$15*D137","v":1015.3431999809952},{"$f":"EXP(Computations!$F$16)*EXP(Computations!$E$16)^Computations!D137","v":1068.0316729246051},{"$f":"Computations!$F$17+Computations!$E$17*LN(Computations!D137)","v":788.49609292307832},{"$f":"Computations!$F$18+Computations!$E$18*Computations!D137+Computations!$D$18*Computations!D137^2","v":907.82724739333696},{"$f":"Computations!$F$19+Computations!$E$19*Computations!D137+Computations!$D$19*Computations!D137^2+Computations!$C$19*Computations!D137^3","v":907.82724739333696},{"$f":"Computations!$J$15+Computations!$I$15*D137","v":450000},{"$f":"EXP(Computations!$J$16)*EXP(Computations!$I$16)^Computations!D137","v":450000.00000000035},{"$f":"Computations!$J$17+Computations!$I$17*LN(Computations!D137)","v":450000},{"$f":"Computations!$J$18+Computations!$I$18*Computations!D137+Computations!$H$18*Computations!D137^2","v":450000},{"$f":"Computations!$J$19+Computations!$I$19*Computations!D137+Computations!$H$19*Computations!D137^2+Computations!$G$19*Computations!D137^3","v":450000}]
[84,3.5312006827023845E-2,3.5603854083960329E-2,3.5457930455492087E-2,2.3050416141843316E-2,7.6126171273229945E-4,1019.1832954670015,450000,{"$f":"G138-H138/User_entry!$E$18","v":-480.81670453299853},0,null,{"$f":"HLOOKUP(User_entry!$B$56,Computations!$N$54:$R$1054,Computations!A138+1,FALSE)","v":1019.1832954670015},{"$f":"HLOOKUP(User_entry!$E$56,Computations!$S$54:$W$1054,Computations!A138+1,FALSE)","v":450000},{"$f":"Computations!$F$15+Computations!$E$15*D138","v":1019.1832954670015},{"$f":"EXP(Computations!$F$16)*EXP(Computations!$E$16)^Computations!D138","v":1070.2475321948775},{"$f":"Computations!$F$17+Computations!$E$17*LN(Computations!D138)","v":798.99611206709505},{"$f":"Computations!$F$18+Computations!$E$18*Computations!D138+Computations!$D$18*Computations!D138^2","v":913.44126431680911},{"$f":"Computations!$F$19+Computations!$E$19*Computations!D138+Computations!$D$19*Computations!D138^2+Computations!$C$19*Computations!D138^3","v":913.44126431680911},{"$f":"Computations!$J$15+Computations!$I$15*D138","v":450000},{"$f":"EXP(Computations!$J$16)*EXP(Computations!$I$16)^Computations!D138","v":450000.00000000035},{"$f":"Computations!$J$17+Computations!$I$17*LN(Computations!D138)","v":450000},{"$f":"Computations!$J$18+Computations!$I$18*Computations!D138+Computations!$H$18*Computations!D138^2","v":450000},{"$f":"Computations!$J$19+Computations!$I$19*Computations!D138+Computations!$H$19*Computations!D138^2+Computations!$G$19*Computations!D138^3","v":450000}]
[85,3.5603854083960329E-2,3.5895701340896813E-2,3.5749777712428571E-2,2.3828880757945772E-2,7.7846461610245679E-4,1023.0233909530079,450000,{"$f":"G139-H139/User_entry!$E$18","v":-476.97660904699205},0,null,{"$f":"HLOOKUP(User_entry!$B$56,Computations!$N$54:$R$1054,Computations!A139+1,FALSE)","v":1023.0233909530079},{"$f":"HLOOKUP(User_entry!$E$56,Computations!$S$54:$W$1054,Computations!A139+1,FALSE)","v":450000},{"$f":"Computations!$F$15+Computations!$E$15*D139","v":1023.0233909530079},{"$f":"EXP(Computations!$F$16)*EXP(Computations!$E$16)^Computations!D139","v":1072.4679887373379},{"$f":"Computations!$F$17+Computations!$E$17*LN(Computations!D139)","v":809.41006085936624},{"$f":"Computations!$F$18+Computations!$E$18*Computations!D139+Computations!$D$18*Computations!D139^2","v":919.04897199425295},{"$f":"Computations!$F$19+Computations!$E$19*Computations!D139+Computations!$D$19*Computations!D139^2+Computations!$C$19*Computations!D139^3","v":919.04897199425295},{"$f":"Computations!$J$15+Computations!$I$15*D139","v":450000},{"$f":"EXP(Computations!$J$16)*EXP(Computations!$I$16)^Computations!D139","v":450000.00000000035},{"$f":"Computations!$J$17+Computations!$I$17*LN(Computations!D139)","v":450000},{"$f":"Computations!$J$18+Computations!$I$18*Computations!D139+Computations!$H$18*Computations!D139^2","v":450000},{"$f":"Computations!$J$19+Computations!$I$19*Computations!D139+Computations!$H$19*Computations!D139^2+Computations!$G$19*Computations!D139^3","v":450000}]
[86,3.5895701340896813E-2,3.6187548597833297E-2,3.6041624969365055E-2,2.4624693448172297E-2,7.9581269022652515E-4,1026.8634864390142,450000,{"$f":"G140-H140/User_entry!$E$18","v":-473.1365135609858},0,null,{"$f":"HLOOKUP(User_entry!$B$56,Computations!$N$54:$R$1054,Computations!A140+1,FALSE)","v":1026.8634864390142},{"$f":"HLOOKUP(User_entry!$E$56,Computations!$S$54:$W$1054,Computations!A140+1,FALSE)","v":450000},{"$f":"Computations!$F$15+Computations!$E$15*D140","v":1026.8634864390142},{"$f":"EXP(Computations!$F$16)*EXP(Computations!$E$16)^Computations!D140","v":1074.6930520900066},{"$f":"Computations!$F$17+Computations!$E$17*LN(Computations!D140)","v":819.73933890004992},{"$f":"Computations!$F$18+Computations!$E$18*Computations!D140+Computations!$D$18*Computations!D140^2","v":924.65037042566848},{"$f":"Computations!$F$19+Computations!$E$19*Computations!D140+Computations!$D$19*Computations!D140^2+Computations!$C$19*Computations!D140^3","v":924.65037042566848},{"$f":"Computations!$J$15+Computations!$I$15*D140","v":450000},{"$f":"EXP(Computations!$J$16)*EXP(Computations!$I$16)^Computations!D140","v":450000.00000000035},{"$f":"Computations!$J$17+Computations!$I$17*LN(Computations!D140)","v":450000},{"$f":"Computations!$J$18+Computations!$I$18*Computations!D140+Computations!$H$18*Computations!D140^2","v":450000},{"$f":"Computations!$J$19+Computations!$I$19*Computations!D140+Computations!$H$19*Computations!D140^2+Computations!$G$19*Computations!D140^3","v":450000}]
[87,3.6187548597833297E-2,3.6479395854769781E-2,3.6333472226301539E-2,2.5437995837425287E-2,8.1330238925298934E-4,1030.7035819250207,450000,{"$f":"G141-H141/User_entry!$E$18","v":-469.29641807497933},0,null,{"$f":"HLOOKUP(User_entry!$B$56,Computations!$N$54:$R$1054,Computations!A141+1,FALSE)","v":1030.7035819250207},{"$f":"HLOOKUP(User_entry!$E$56,Computations!$S$54:$W$1054,Computations!A141+1,FALSE)","v":450000},{"$f":"Computations!$F$15+Computations!$E$15*D141","v":1030.7035819250207},{"$f":"EXP(Computations!$F$16)*EXP(Computations!$E$16)^Computations!D141","v":1076.9227318106932},{"$f":"Computations!$F$17+Computations!$E$17*LN(Computations!D141)","v":829.98531192585051},{"$f":"Computations!$F$18+Computations!$E$18*Computations!D141+Computations!$D$18*Computations!D141^2","v":930.24545961105582},{"$f":"Computations!$F$19+Computations!$E$19*Computations!D141+Computations!$D$19*Computations!D141^2+Computations!$C$19*Computations!D141^3","v":930.24545961105582},{"$f":"Computations!$J$15+Computations!$I$15*D141","v":450000},{"$f":"EXP(Computations!$J$16)*EXP(Computations!$I$16)^Computations!D141","v":450000.00000000035},{"$f":"Computations!$J$17+Computations!$I$17*LN(Computations!D141)","v":450000},{"$f":"Computations!$J$18+Computations!$I$18*Computations!D141+Computations!$H$18*Computations!D141^2","v":450000},{"$f":"Computations!$J$19+Computations!$I$19*Computations!D141+Computations!$H$19*Computations!D141^2+Computations!$G$19*Computations!D141^3","v":450000}]
[88,3.6479395854769781E-2,3.6771243111706264E-2,3.6625319483238022E-2,2.626892595670615E-2,8.3093011928086352E-4,1034.5436774110269,450000,{"$f":"G142-H142/User_entry!$E$18","v":-465.45632258897308},0,null,{"$f":"HLOOKUP(User_entry!$B$56,Computations!$N$54:$R$1054,Computations!A142+1,FALSE)","v":1034.5436774110269},{"$f":"HLOOKUP(User_entry!$E$56,Computations!$S$54:$W$1054,Computations!A142+1,FALSE)","v":450000},{"$f":"Computations!$F$15+Computations!$E$15*D142","v":1034.5436774110269},{"$f":"EXP(Computations!$F$16)*EXP(Computations!$E$16)^Computations!D142","v":1079.1570374770367},{"$f":"Computations!$F$17+Computations!$E$17*LN(Computations!D142)","v":840.14931289372817},{"$f":"Computations!$F$18+Computations!$E$18*Computations!D142+Computations!$D$18*Computations!D142^2","v":935.83423955041496},{"$f":"Computations!$F$19+Computations!$E$19*Computations!D142+Computations!$D$19*Computations!D142^2+Computations!$C$19*Computations!D142^3","v":935.83423955041496},{"$f":"Computations!$J$15+Computations!$I$15*D142","v":450000},{"$f":"EXP(Computations!$J$16)*EXP(Computations!$I$16)^Computations!D142","v":450000.00000000035},{"$f":"Computations!$J$17+Computations!$I$17*LN(Computations!D142)","v":450000},{"$f":"Computations!$J$18+Computations!$I$18*Computations!D142+Computations!$H$18*Computations!D142^2","v":450000},{"$f":"Computations!$J$19+Computations!$I$19*Computations!D142+Computations!$H$19*Computations!D142^2+Computations!$G$19*Computations!D142^3","v":450000}]
[89,3.6771243111706264E-2,3.7063090368642748E-2,3.6917166740174506E-2,2.7117618197267063E-2,8.4869224056091305E-4,1038.3837728970334,450000,{"$f":"G143-H143/User_entry!$E$18","v":-461.6162271029666},0,null,{"$f":"HLOOKUP(User_entry!$B$56,Computations!$N$54:$R$1054,Computations!A143+1,FALSE)","v":1038.3837728970334},{"$f":"HLOOKUP(User_entry!$E$56,Computations!$S$54:$W$1054,Computations!A143+1,FALSE)","v":450000},{"$f":"Computations!$F$15+Computations!$E$15*D143","v":1038.3837728970334},{"$f":"EXP(Computations!$F$16)*EXP(Computations!$E$16)^Computations!D143","v":1081.3959786865471},{"$f":"Computations!$F$17+Computations!$E$17*LN(Computations!D143)","v":850.23264302158987},{"$f":"Computations!$F$18+Computations!$E$18*Computations!D143+Computations!$D$18*Computations!D143^2","v":941.41671024374591},{"$f":"Computations!$F$19+Computations!$E$19*Computations!D143+Computations!$D$19*Computations!D143^2+Computations!$C$19*Computations!D143^3","v":941.41671024374591},{"$f":"Computations!$J$15+Computations!$I$15*D143","v":450000},{"$f":"EXP(Computations!$J$16)*EXP(Computations!$I$16)^Computations!D143","v":450000.00000000035},{"$f":"Computations!$J$17+Computations!$I$17*LN(Computations!D143)","v":450000},{"$f":"Computations!$J$18+Computations!$I$18*Computations!D143+Computations!$H$18*Computations!D143^2","v":450000},{"$f":"Computations!$J$19+Computations!$I$19*Computations!D143+Computations!$H$19*Computations!D143^2+Computations!$G$19*Computations!D143^3","v":450000}]
[90,3.7063090368642748E-2,3.7354937625579232E-2,3.720901399711099E-2,2.7984203266953531E-2,8.6658506968646798E-4,1042.2238683830396,450000,{"$f":"G144-H144/User_entry!$E$18","v":-457.77613161696036},0,null,{"$f":"HLOOKUP(User_entry!$B$56,Computations!$N$54:$R$1054,Computations!A144+1,FALSE)","v":1042.2238683830396},{"$f":"HLOOKUP(User_entry!$E$56,Computations!$S$54:$W$1054,Computations!A144+1,FALSE)","v":450000},{"$f":"Computations!$F$15+Computations!$E$15*D144","v":1042.2238683830396},{"$f":"EXP(Computations!$F$16)*EXP(Computations!$E$16)^Computations!D144","v":1083.6395650566465},{"$f":"Computations!$F$17+Computations!$E$17*LN(Computations!D144)","v":860.23657278801966},{"$f":"Computations!$F$18+Computations!$E$18*Computations!D144+Computations!$D$18*Computations!D144^2","v":946.99287169104844},{"$f":"Computations!$F$19+Computations!$E$19*Computations!D144+Computations!$D$19*Computations!D144^2+Computations!$C$19*Computations!D144^3","v":946.99287169104844},{"$f":"Computations!$J$15+Computations!$I$15*D144","v":450000},{"$f":"EXP(Computations!$J$16)*EXP(Computations!$I$16)^Computations!D144","v":450000.00000000035},{"$f":"Computations!$J$17+Computations!$I$17*LN(Computations!D144)","v":450000},{"$f":"Computations!$J$18+Computations!$I$18*Computations!D144+Computations!$H$18*Computations!D144^2","v":450000},{"$f":"Computations!$J$19+Computations!$I$19*Computations!D144+Computations!$H$19*Computations!D144^2+Computations!$G$19*Computations!D144^3","v":450000}]
[91,3.7354937625579232E-2,3.7646784882515716E-2,3.7500861254047474E-2,2.8868808148726728E-2,8.8460488177319677E-4,1046.0639638690461,450000,{"$f":"G145-H145/User_entry!$E$18","v":-453.93603613095388},0,null,{"$f":"HLOOKUP(User_entry!$B$56,Computations!$N$54:$R$1054,Computations!A145+1,FALSE)","v":1046.0639638690461},{"$f":"HLOOKUP(User_entry!$E$56,Computations!$S$54:$W$1054,Computations!A145+1,FALSE)","v":450000},{"$f":"Computations!$F$15+Computations!$E$15*D145","v":1046.0639638690461},{"$f":"EXP(Computations!$F$16)*EXP(Computations!$E$16)^Computations!D145","v":1085.8878062247097},{"$f":"Computations!$F$17+Computations!$E$17*LN(Computations!D145)","v":870.16234289293789},{"$f":"Computations!$F$18+Computations!$E$18*Computations!D145+Computations!$D$18*Computations!D145^2","v":952.56272389232288},{"$f":"Computations!$F$19+Computations!$E$19*Computations!D145+Computations!$D$19*Computations!D145^2+Computations!$C$19*Computations!D145^3","v":952.56272389232288},{"$f":"Computations!$J$15+Computations!$I$15*D145","v":450000},{"$f":"EXP(Computations!$J$16)*EXP(Computations!$I$16)^Computations!D145","v":450000.00000000035},{"$f":"Computations!$J$17+Computations!$I$17*LN(Computations!D145)","v":450000},{"$f":"Computations!$J$18+Computations!$I$18*Computations!D145+Computations!$H$18*Computations!D145^2","v":450000},{"$f":"Computations!$J$19+Computations!$I$19*Computations!D145+Computations!$H$19*Computations!D145^2+Computations!$G$19*Computations!D145^3","v":450000}]
[92,3.7646784882515716E-2,3.79386321394522E-2,3.7792708510983958E-2,2.9771556061353132E-2,9.0274791262640389E-4,1049.9040593550524,450000,{"$f":"G146-H146/User_entry!$E$18","v":-450.09594064494763},0,null,{"$f":"HLOOKUP(User_entry!$B$56,Computations!$N$54:$R$1054,Computations!A146+1,FALSE)","v":1049.9040593550524},{"$f":"HLOOKUP(User_entry!$E$56,Computations!$S$54:$W$1054,Computations!A146+1,FALSE)","v":450000},{"$f":"Computations!$F$15+Computations!$E$15*D146","v":1049.9040593550524},{"$f":"EXP(Computations!$F$16)*EXP(Computations!$E$16)^Computations!D146","v":1088.1407118481075},{"$f":"Computations!$F$17+Computations!$E$17*LN(Computations!D146)","v":880.01116518103845},{"$f":"Computations!$F$18+Computations!$E$18*Computations!D146+Computations!$D$18*Computations!D146^2","v":958.12626684756901},{"$f":"Computations!$F$19+Computations!$E$19*Computations!D146+Computations!$D$19*Computations!D146^2+Computations!$C$19*Computations!D146^3","v":958.12626684756901},{"$f":"Computations!$J$15+Computations!$I$15*D146","v":450000},{"$f":"EXP(Computations!$J$16)*EXP(Computations!$I$16)^Computations!D146","v":450000.00000000035},{"$f":"Computations!$J$17+Computations!$I$17*LN(Computations!D146)","v":450000},{"$f":"Computations!$J$18+Computations!$I$18*Computations!D146+Computations!$H$18*Computations!D146^2","v":450000},{"$f":"Computations!$J$19+Computations!$I$19*Computations!D146+Computations!$H$19*Computations!D146^2+Computations!$G$19*Computations!D146^3","v":450000}]
[93,3.79386321394522E-2,3.8230479396388684E-2,3.8084555767920442E-2,3.0692566422247443E-2,9.2101036089431085E-4,1053.7441548410588,450000,{"$f":"G147-H147/User_entry!$E$18","v":-446.25584515894116},0,null,{"$f":"HLOOKUP(User_entry!$B$56,Computations!$N$54:$R$1054,Computations!A147+1,FALSE)","v":1053.7441548410588},{"$f":"HLOOKUP(User_entry!$E$56,Computations!$S$54:$W$1054,Computations!A147+1,FALSE)","v":450000},{"$f":"Computations!$F$15+Computations!$E$15*D147","v":1053.7441548410588},{"$f":"EXP(Computations!$F$16)*EXP(Computations!$E$16)^Computations!D147","v":1090.3982916042462},{"$f":"Computations!$F$17+Computations!$E$17*LN(Computations!D147)","v":889.78422352969483},{"$f":"Computations!$F$18+Computations!$E$18*Computations!D147+Computations!$D$18*Computations!D147^2","v":963.68350055678684},{"$f":"Computations!$F$19+Computations!$E$19*Computations!D147+Computations!$D$19*Computations!D147^2+Computations!$C$19*Computations!D147^3","v":963.68350055678684},{"$f":"Computations!$J$15+Computations!$I$15*D147","v":450000},{"$f":"EXP(Computations!$J$16)*EXP(Computations!$I$16)^Computations!D147","v":450000.00000000035},{"$f":"Computations!$J$17+Computations!$I$17*LN(Computations!D147)","v":450000},{"$f":"Computations!$J$18+Computations!$I$18*Computations!D147+Computations!$H$18*Computations!D147^2","v":450000},{"$f":"Computations!$J$19+Computations!$I$19*Computations!D147+Computations!$H$19*Computations!D147^2+Computations!$G$19*Computations!D147^3","v":450000}]
[94,3.8230479396388684E-2,3.8522326653325167E-2,3.8376403024856925E-2,3.1631954812454698E-2,9.3938839020725473E-4,1057.5842503270651,450000,{"$f":"G148-H148/User_entry!$E$18","v":-442.41574967293491},0,null,{"$f":"HLOOKUP(User_entry!$B$56,Computations!$N$54:$R$1054,Computations!A148+1,FALSE)","v":1057.5842503270651},{"$f":"HLOOKUP(User_entry!$E$56,Computations!$S$54:$W$1054,Computations!A148+1,FALSE)","v":450000},{"$f":"Computations!$F$15+Computations!$E$15*D148","v":1057.5842503270651},{"$f":"EXP(Computations!$F$16)*EXP(Computations!$E$16)^Computations!D148","v":1092.66055519061},{"$f":"Computations!$F$17+Computations!$E$17*LN(Computations!D148)","v":899.48267470298106},{"$f":"Computations!$F$18+Computations!$E$18*Computations!D148+Computations!$D$18*Computations!D148^2","v":969.23442501997647},{"$f":"Computations!$F$19+Computations!$E$19*Computations!D148+Computations!$D$19*Computations!D148^2+Computations!$C$19*Computations!D148^3","v":969.23442501997647},{"$f":"Computations!$J$15+Computations!$I$15*D148","v":450000},{"$f":"EXP(Computations!$J$16)*EXP(Computations!$I$16)^Computations!D148","v":450000.00000000035},{"$f":"Computations!$J$17+Computations!$I$17*LN(Computations!D148)","v":450000},{"$f":"Computations!$J$18+Computations!$I$18*Computations!D148+Computations!$H$18*Computations!D148^2","v":450000},{"$f":"Computations!$J$19+Computations!$I$19*Computations!D148+Computations!$H$19*Computations!D148^2+Computations!$G$19*Computations!D148^3","v":450000}]
[95,3.8522326653325167E-2,3.8814173910261651E-2,3.8668250281793409E-2,3.2589832943754726E-2,9.5787813130002869E-4,1061.4243458130716,450000,{"$f":"G149-H149/User_entry!$E$18","v":-438.57565418692843},0,null,{"$f":"HLOOKUP(User_entry!$B$56,Computations!$N$54:$R$1054,Computations!A149+1,FALSE)","v":1061.4243458130716},{"$f":"HLOOKUP(User_entry!$E$56,Computations!$S$54:$W$1054,Computations!A149+1,FALSE)","v":450000},{"$f":"Computations!$F$15+Computations!$E$15*D149","v":1061.4243458130716},{"$f":"EXP(Computations!$F$16)*EXP(Computations!$E$16)^Computations!D149","v":1094.9275123248026},{"$f":"Computations!$F$17+Computations!$E$17*LN(Computations!D149)","v":909.10764917333654},{"$f":"Computations!$F$18+Computations!$E$18*Computations!D149+Computations!$D$18*Computations!D149^2","v":974.77904023713768},{"$f":"Computations!$F$19+Computations!$E$19*Computations!D149+Computations!$D$19*Computations!D149^2+Computations!$C$19*Computations!D149^3","v":974.77904023713768},{"$f":"Computations!$J$15+Computations!$I$15*D149","v":450000},{"$f":"EXP(Computations!$J$16)*EXP(Computations!$I$16)^Computations!D149","v":450000.00000000035},{"$f":"Computations!$J$17+Computations!$I$17*LN(Computations!D149)","v":450000},{"$f":"Computations!$J$18+Computations!$I$18*Computations!D149+Computations!$H$18*Computations!D149^2","v":450000},{"$f":"Computations!$J$19+Computations!$I$19*Computations!D149+Computations!$H$19*Computations!D149^2+Computations!$G$19*Computations!D149^3","v":450000}]
[96,3.8814173910261651E-2,3.9106021167198135E-2,3.8960097538729893E-2,3.3566308627873284E-2,9.764756841185579E-4,1065.264441299078,450000,{"$f":"G150-H150/User_entry!$E$18","v":-434.73555870092196},0,null,{"$f":"HLOOKUP(User_entry!$B$56,Computations!$N$54:$R$1054,Computations!A150+1,FALSE)","v":1065.264441299078},{"$f":"HLOOKUP(User_entry!$E$56,Computations!$S$54:$W$1054,Computations!A150+1,FALSE)","v":450000},{"$f":"Computations!$F$15+Computations!$E$15*D150","v":1065.264441299078},{"$f":"EXP(Computations!$F$16)*EXP(Computations!$E$16)^Computations!D150","v":1097.1991727445893},{"$f":"Computations!$F$17+Computations!$E$17*LN(Computations!D150)","v":918.66025191234621},{"$f":"Computations!$F$18+Computations!$E$18*Computations!D150+Computations!$D$18*Computations!D150^2","v":980.31734620827103},{"$f":"Computations!$F$19+Computations!$E$19*Computations!D150+Computations!$D$19*Computations!D150^2+Computations!$C$19*Computations!D150^3","v":980.31734620827103},{"$f":"Computations!$J$15+Computations!$I$15*D150","v":450000},{"$f":"EXP(Computations!$J$16)*EXP(Computations!$I$16)^Computations!D150","v":450000.00000000035},{"$f":"Computations!$J$17+Computations!$I$17*LN(Computations!D150)","v":450000},{"$f":"Computations!$J$18+Computations!$I$18*Computations!D150+Computations!$H$18*Computations!D150^2","v":450000},{"$f":"Computations!$J$19+Computations!$I$19*Computations!D150+Computations!$H$19*Computations!D150^2+Computations!$G$19*Computations!D150^3","v":450000}]
[97,3.9106021167198135E-2,3.9397868424134619E-2,3.9251944795666377E-2,3.45614857477805E-2,9.9517711990721597E-4,1069.1045367850843,450000,{"$f":"G151-H151/User_entry!$E$18","v":-430.89546321491571},0,null,{"$f":"HLOOKUP(User_entry!$B$56,Computations!$N$54:$R$1054,Computations!A151+1,FALSE)","v":1069.1045367850843},{"$f":"HLOOKUP(User_entry!$E$56,Computations!$S$54:$W$1054,Computations!A151+1,FALSE)","v":450000},{"$f":"Computations!$F$15+Computations!$E$15*D151","v":1069.1045367850843},{"$f":"EXP(Computations!$F$16)*EXP(Computations!$E$16)^Computations!D151","v":1099.4755462079377},{"$f":"Computations!$F$17+Computations!$E$17*LN(Computations!D151)","v":928.14156315200307},{"$f":"Computations!$F$18+Computations!$E$18*Computations!D151+Computations!$D$18*Computations!D151^2","v":985.84934293337574},{"$f":"Computations!$F$19+Computations!$E$19*Computations!D151+Computations!$D$19*Computations!D151^2+Computations!$C$19*Computations!D151^3","v":985.84934293337574},{"$f":"Computations!$J$15+Computations!$I$15*D151","v":450000},{"$f":"EXP(Computations!$J$16)*EXP(Computations!$I$16)^Computations!D151","v":450000.00000000035},{"$f":"Computations!$J$17+Computations!$I$17*LN(Computations!D151)","v":450000},{"$f":"Computations!$J$18+Computations!$I$18*Computations!D151+Computations!$H$18*Computations!D151^2","v":450000},{"$f":"Computations!$J$19+Computations!$I$19*Computations!D151+Computations!$H$19*Computations!D151^2+Computations!$G$19*Computations!D151^3","v":450000}]
[98,3.9397868424134619E-2,3.9689715681071103E-2,3.9543792052602861E-2,3.5575464231059249E-2,1.0139784832787491E-3,1072.9446322710905,450000,{"$f":"G152-H152/User_entry!$E$18","v":-427.05536772890946},0,null,{"$f":"HLOOKUP(User_entry!$B$56,Computations!$N$54:$R$1054,Computations!A152+1,FALSE)","v":1072.9446322710905},{"$f":"HLOOKUP(User_entry!$E$56,Computations!$S$54:$W$1054,Computations!A152+1,FALSE)","v":450000},{"$f":"Computations!$F$15+Computations!$E$15*D152","v":1072.9446322710905},{"$f":"EXP(Computations!$F$16)*EXP(Computations!$E$16)^Computations!D152","v":1101.7566424930612},{"$f":"Computations!$F$17+Computations!$E$17*LN(Computations!D152)","v":937.5526391177782},{"$f":"Computations!$F$18+Computations!$E$18*Computations!D152+Computations!$D$18*Computations!D152^2","v":991.37503041245259},{"$f":"Computations!$F$19+Computations!$E$19*Computations!D152+Computations!$D$19*Computations!D152^2+Computations!$C$19*Computations!D152^3","v":991.37503041245259},{"$f":"Computations!$J$15+Computations!$I$15*D152","v":450000},{"$f":"EXP(Computations!$J$16)*EXP(Computations!$I$16)^Computations!D152","v":450000.00000000035},{"$f":"Computations!$J$17+Computations!$I$17*LN(Computations!D152)","v":450000},{"$f":"Computations!$J$18+Computations!$I$18*Computations!D152+Computations!$H$18*Computations!D152^2","v":450000},{"$f":"Computations!$J$19+Computations!$I$19*Computations!D152+Computations!$H$19*Computations!D152^2+Computations!$G$19*Computations!D152^3","v":450000}]
[99,3.9689715681071103E-2,3.9981562938007587E-2,3.9835639309539345E-2,3.6608340025322414E-2,1.0328757942631647E-3,1076.784727757097,450000,{"$f":"G153-H153/User_entry!$E$18","v":-423.21527224290298},0,null,{"$f":"HLOOKUP(User_entry!$B$56,Computations!$N$54:$R$1054,Computations!A153+1,FALSE)","v":1076.784727757097},{"$f":"HLOOKUP(User_entry!$E$56,Computations!$S$54:$W$1054,Computations!A153+1,FALSE)","v":450000},{"$f":"Computations!$F$15+Computations!$E$15*D153","v":1076.784727757097},{"$f":"EXP(Computations!$F$16)*EXP(Computations!$E$16)^Computations!D153","v":1104.0424713984601},{"$f":"Computations!$F$17+Computations!$E$17*LN(Computations!D153)","v":946.89451273474424},{"$f":"Computations!$F$18+Computations!$E$18*Computations!D153+Computations!$D$18*Computations!D153^2","v":996.89440864550079},{"$f":"Computations!$F$19+Computations!$E$19*Computations!D153+Computations!$D$19*Computations!D153^2+Computations!$C$19*Computations!D153^3","v":996.89440864550079},{"$f":"Computations!$J$15+Computations!$I$15*D153","v":450000},{"$f":"EXP(Computations!$J$16)*EXP(Computations!$I$16)^Computations!D153","v":450000.00000000035},{"$f":"Computations!$J$17+Computations!$I$17*LN(Computations!D153)","v":450000},{"$f":"Computations!$J$18+Computations!$I$18*Computations!D153+Computations!$H$18*Computations!D153^2","v":450000},{"$f":"Computations!$J$19+Computations!$I$19*Computations!D153+Computations!$H$19*Computations!D153^2+Computations!$G$19*Computations!D153^3","v":450000}]
[100,3.9981562938007587E-2,4.027341019494407E-2,4.0127486566475828E-2,3.7660205075659599E-2,1.0518650503371849E-3,1080.6248232431035,450000,{"$f":"G154-H154/User_entry!$E$18","v":-419.37517675689651},0,null,{"$f":"HLOOKUP(User_entry!$B$56,Computations!$N$54:$R$1054,Computations!A154+1,FALSE)","v":1080.6248232431035},{"$f":"HLOOKUP(User_entry!$E$56,Computations!$S$54:$W$1054,Computations!A154+1,FALSE)","v":450000},{"$f":"Computations!$F$15+Computations!$E$15*D154","v":1080.6248232431035},{"$f":"EXP(Computations!$F$16)*EXP(Computations!$E$16)^Computations!D154","v":1106.3330427429632},{"$f":"Computations!$F$17+Computations!$E$17*LN(Computations!D154)","v":956.16819430791111},{"$f":"Computations!$F$18+Computations!$E$18*Computations!D154+Computations!$D$18*Computations!D154^2","v":1002.4074776325209},{"$f":"Computations!$F$19+Computations!$E$19*Computations!D154+Computations!$D$19*Computations!D154^2+Computations!$C$19*Computations!D154^3","v":1002.4074776325209},{"$f":"Computations!$J$15+Computations!$I$15*D154","v":450000},{"$f":"EXP(Computations!$J$16)*EXP(Computations!$I$16)^Computations!D154","v":450000.00000000035},{"$f":"Computations!$J$17+Computations!$I$17*LN(Computations!D154)","v":450000},{"$f":"Computations!$J$18+Computations!$I$18*Computations!D154+Computations!$H$18*Computations!D154^2","v":450000},{"$f":"Computations!$J$19+Computations!$I$19*Computations!D154+Computations!$H$19*Computations!D154^2+Computations!$G$19*Computations!D154^3","v":450000}]
[101,4.027341019494407E-2,4.0565257451880554E-2,4.0419333823412312E-2,3.8731147304090829E-2,1.0709422284312306E-3,1084.4649187291097,450000,{"$f":"G155-H155/User_entry!$E$18","v":-415.53508127089026},0,null,{"$f":"HLOOKUP(User_entry!$B$56,Computations!$N$54:$R$1054,Computations!A155+1,FALSE)","v":1084.4649187291097},{"$f":"HLOOKUP(User_entry!$E$56,Computations!$S$54:$W$1054,Computations!A155+1,FALSE)","v":450000},{"$f":"Computations!$F$15+Computations!$E$15*D155","v":1084.4649187291097},{"$f":"EXP(Computations!$F$16)*EXP(Computations!$E$16)^Computations!D155","v":1108.6283663657707},{"$f":"Computations!$F$17+Computations!$E$17*LN(Computations!D155)","v":965.37467217792437},{"$f":"Computations!$F$18+Computations!$E$18*Computations!D155+Computations!$D$18*Computations!D155^2","v":1007.9142373735127},{"$f":"Computations!$F$19+Computations!$E$19*Computations!D155+Computations!$D$19*Computations!D155^2+Computations!$C$19*Computations!D155^3","v":1007.9142373735127},{"$f":"Computations!$J$15+Computations!$I$15*D155","v":450000},{"$f":"EXP(Computations!$J$16)*EXP(Computations!$I$16)^Computations!D155","v":450000.00000000035},{"$f":"Computations!$J$17+Computations!$I$17*LN(Computations!D155)","v":450000},{"$f":"Computations!$J$18+Computations!$I$18*Computations!D155+Computations!$H$18*Computations!D155^2","v":450000},{"$f":"Computations!$J$19+Computations!$I$19*Computations!D155+Computations!$H$19*Computations!D155^2+Computations!$G$19*Computations!D155^3","v":450000}]
[102,4.0565257451880554E-2,4.0857104708817038E-2,4.0711181080348796E-2,3.982125059100583E-2,1.0901032869150007E-3,1088.305014215116,450000,{"$f":"G156-H156/User_entry!$E$18","v":-411.69498578488401},0,null,{"$f":"HLOOKUP(User_entry!$B$56,Computations!$N$54:$R$1054,Computations!A156+1,FALSE)","v":1088.305014215116},{"$f":"HLOOKUP(User_entry!$E$56,Computations!$S$54:$W$1054,Computations!A156+1,FALSE)","v":450000},{"$f":"Computations!$F$15+Computations!$E$15*D156","v":1088.305014215116},{"$f":"EXP(Computations!$F$16)*EXP(Computations!$E$16)^Computations!D156","v":1110.9284521264972},{"$f":"Computations!$F$17+Computations!$E$17*LN(Computations!D156)","v":974.51491335317132},{"$f":"Computations!$F$18+Computations!$E$18*Computations!D156+Computations!$D$18*Computations!D156^2","v":1013.4146878684764},{"$f":"Computations!$F$19+Computations!$E$19*Computations!D156+Computations!$D$19*Computations!D156^2+Computations!$C$19*Computations!D156^3","v":1013.4146878684764},{"$f":"Computations!$J$15+Computations!$I$15*D156","v":450000},{"$f":"EXP(Computations!$J$16)*EXP(Computations!$I$16)^Computations!D156","v":450000.00000000035},{"$f":"Computations!$J$17+Computations!$I$17*LN(Computations!D156)","v":450000},{"$f":"Computations!$J$18+Computations!$I$18*Computations!D156+Computations!$H$18*Computations!D156^2","v":450000},{"$f":"Computations!$J$19+Computations!$I$19*Computations!D156+Computations!$H$19*Computations!D156^2+Computations!$G$19*Computations!D156^3","v":450000}]
[103,4.0857104708817038E-2,4.1148951965753522E-2,4.100302833728528E-2,4.0930594758565204E-2,1.1093441675593743E-3,1092.1451097011225,450000,{"$f":"G157-H157/User_entry!$E$18","v":-407.85489029887754},0,null,{"$f":"HLOOKUP(User_entry!$B$56,Computations!$N$54:$R$1054,Computations!A157+1,FALSE)","v":1092.1451097011225},{"$f":"HLOOKUP(User_entry!$E$56,Computations!$S$54:$W$1054,Computations!A157+1,FALSE)","v":450000},{"$f":"Computations!$F$15+Computations!$E$15*D157","v":1092.1451097011225},{"$f":"EXP(Computations!$F$16)*EXP(Computations!$E$16)^Computations!D157","v":1113.2333099052116},{"$f":"Computations!$F$17+Computations!$E$17*LN(Computations!D157)","v":983.58986411930709},{"$f":"Computations!$F$18+Computations!$E$18*Computations!D157+Computations!$D$18*Computations!D157^2","v":1018.9088291174118},{"$f":"Computations!$F$19+Computations!$E$19*Computations!D157+Computations!$D$19*Computations!D157^2+Computations!$C$19*Computations!D157^3","v":1018.9088291174118},{"$f":"Computations!$J$15+Computations!$I$15*D157","v":450000},{"$f":"EXP(Computations!$J$16)*EXP(Computations!$I$16)^Computations!D157","v":450000.00000000035},{"$f":"Computations!$J$17+Computations!$I$17*LN(Computations!D157)","v":450000},{"$f":"Computations!$J$18+Computations!$I$18*Computations!D157+Computations!$H$18*Computations!D157^2","v":450000},{"$f":"Computations!$J$19+Computations!$I$19*Computations!D157+Computations!$H$19*Computations!D157^2+Computations!$G$19*Computations!D157^3","v":450000}]
[104,4.1148951965753522E-2,4.1440799222690006E-2,4.1294875594221764E-2,4.2059255556040807E-2,1.128660797475603E-3,1095.9852051871289,450000,{"$f":"G158-H158/User_entry!$E$18","v":-404.01479481287106},0,null,{"$f":"HLOOKUP(User_entry!$B$56,Computations!$N$54:$R$1054,Computations!A158+1,FALSE)","v":1095.9852051871289},{"$f":"HLOOKUP(User_entry!$E$56,Computations!$S$54:$W$1054,Computations!A158+1,FALSE)","v":450000},{"$f":"Computations!$F$15+Computations!$E$15*D158","v":1095.9852051871289},{"$f":"EXP(Computations!$F$16)*EXP(Computations!$E$16)^Computations!D158","v":1115.5429496024831},{"$f":"Computations!$F$17+Computations!$E$17*LN(Computations!D158)","v":992.6004506271679},{"$f":"Computations!$F$18+Computations!$E$18*Computations!D158+Computations!$D$18*Computations!D158^2","v":1024.3966611203189},{"$f":"Computations!$F$19+Computations!$E$19*Computations!D158+Computations!$D$19*Computations!D158^2+Computations!$C$19*Computations!D158^3","v":1024.3966611203189},{"$f":"Computations!$J$15+Computations!$I$15*D158","v":450000},{"$f":"EXP(Computations!$J$16)*EXP(Computations!$I$16)^Computations!D158","v":450000.00000000035},{"$f":"Computations!$J$17+Computations!$I$17*LN(Computations!D158)","v":450000},{"$f":"Computations!$J$18+Computations!$I$18*Computations!D158+Computations!$H$18*Computations!D158^2","v":450000},{"$f":"Computations!$J$19+Computations!$I$19*Computations!D158+Computations!$H$19*Computations!D158^2+Computations!$G$19*Computations!D158^3","v":450000}]
[105,4.1440799222690006E-2,4.173264647962649E-2,4.1586722851158248E-2,4.3207304647069733E-2,1.1480490910289257E-3,1099.8253006731352,450000,{"$f":"G159-H159/User_entry!$E$18","v":-400.17469932686481},0,null,{"$f":"HLOOKUP(User_entry!$B$56,Computations!$N$54:$R$1054,Computations!A159+1,FALSE)","v":1099.8253006731352},{"$f":"HLOOKUP(User_entry!$E$56,Computations!$S$54:$W$1054,Computations!A159+1,FALSE)","v":450000},{"$f":"Computations!$F$15+Computations!$E$15*D159","v":1099.8253006731352},{"$f":"EXP(Computations!$F$16)*EXP(Computations!$E$16)^Computations!D159","v":1117.8573811394194},{"$f":"Computations!$F$17+Computations!$E$17*LN(Computations!D159)","v":1001.5475794599843},{"$f":"Computations!$F$18+Computations!$E$18*Computations!D159+Computations!$D$18*Computations!D159^2","v":1029.8781838771979},{"$f":"Computations!$F$19+Computations!$E$19*Computations!D159+Computations!$D$19*Computations!D159^2+Computations!$C$19*Computations!D159^3","v":1029.8781838771979},{"$f":"Computations!$J$15+Computations!$I$15*D159","v":450000},{"$f":"EXP(Computations!$J$16)*EXP(Computations!$I$16)^Computations!D159","v":450000.00000000035},{"$f":"Computations!$J$17+Computations!$I$17*LN(Computations!D159)","v":450000},{"$f":"Computations!$J$18+Computations!$I$18*Computations!D159+Computations!$H$18*Computations!D159^2","v":450000},{"$f":"Computations!$J$19+Computations!$I$19*Computations!D159+Computations!$H$19*Computations!D159^2+Computations!$G$19*Computations!D159^3","v":450000}]
[106,4.173264647962649E-2,4.2024493736562973E-2,4.1878570108094731E-2,4.4374809598798533E-2,1.1675049517287997E-3,1103.6653961591414,450000,{"$f":"G160-H160/User_entry!$E$18","v":-396.33460384085856},0,null,{"$f":"HLOOKUP(User_entry!$B$56,Computations!$N$54:$R$1054,Computations!A160+1,FALSE)","v":1103.6653961591414},{"$f":"HLOOKUP(User_entry!$E$56,Computations!$S$54:$W$1054,Computations!A160+1,FALSE)","v":450000},{"$f":"Computations!$F$15+Computations!$E$15*D160","v":1103.6653961591414},{"$f":"EXP(Computations!$F$16)*EXP(Computations!$E$16)^Computations!D160","v":1120.1766144577136},{"$f":"Computations!$F$17+Computations!$E$17*LN(Computations!D160)","v":1010.432138180754},{"$f":"Computations!$F$18+Computations!$E$18*Computations!D160+Computations!$D$18*Computations!D160^2","v":1035.3533973880485},{"$f":"Computations!$F$19+Computations!$E$19*Computations!D160+Computations!$D$19*Computations!D160^2+Computations!$C$19*Computations!D160^3","v":1035.3533973880485},{"$f":"Computations!$J$15+Computations!$I$15*D160","v":450000},{"$f":"EXP(Computations!$J$16)*EXP(Computations!$I$16)^Computations!D160","v":450000.00000000035},{"$f":"Computations!$J$17+Computations!$I$17*LN(Computations!D160)","v":450000},{"$f":"Computations!$J$18+Computations!$I$18*Computations!D160+Computations!$H$18*Computations!D160^2","v":450000},{"$f":"Computations!$J$19+Computations!$I$19*Computations!D160+Computations!$H$19*Computations!D160^2+Computations!$G$19*Computations!D160^3","v":450000}]
[107,4.2024493736562973E-2,4.2316340993499457E-2,4.2170417365031215E-2,4.5561833872890534E-2,1.1870242740920009E-3,1107.5054916451479,450000,{"$f":"G161-H161/User_entry!$E$18","v":-392.49450835485209},0,null,{"$f":"HLOOKUP(User_entry!$B$56,Computations!$N$54:$R$1054,Computations!A161+1,FALSE)","v":1107.5054916451479},{"$f":"HLOOKUP(User_entry!$E$56,Computations!$S$54:$W$1054,Computations!A161+1,FALSE)","v":450000},{"$f":"Computations!$F$15+Computations!$E$15*D161","v":1107.5054916451479},{"$f":"EXP(Computations!$F$16)*EXP(Computations!$E$16)^Computations!D161","v":1122.5006595196839},{"$f":"Computations!$F$17+Computations!$E$17*LN(Computations!D161)","v":1019.254995860616},{"$f":"Computations!$F$18+Computations!$E$18*Computations!D161+Computations!$D$18*Computations!D161^2","v":1040.8223016528709},{"$f":"Computations!$F$19+Computations!$E$19*Computations!D161+Computations!$D$19*Computations!D161^2+Computations!$C$19*Computations!D161^3","v":1040.8223016528709},{"$f":"Computations!$J$15+Computations!$I$15*D161","v":450000},{"$f":"EXP(Computations!$J$16)*EXP(Computations!$I$16)^Computations!D161","v":450000.00000000035},{"$f":"Computations!$J$17+Computations!$I$17*LN(Computations!D161)","v":450000},{"$f":"Computations!$J$18+Computations!$I$18*Computations!D161+Computations!$H$18*Computations!D161^2","v":450000},{"$f":"Computations!$J$19+Computations!$I$19*Computations!D161+Computations!$H$19*Computations!D161^2+Computations!$G$19*Computations!D161^3","v":450000}]
[108,4.2316340993499457E-2,4.2608188250435941E-2,4.2462264621967699E-2,4.6768436818371492E-2,1.2066029454809585E-3,1111.3455871311544,450000,{"$f":"G162-H162/User_entry!$E$18","v":-388.65441286884561},0,null,{"$f":"HLOOKUP(User_entry!$B$56,Computations!$N$54:$R$1054,Computations!A162+1,FALSE)","v":1111.3455871311544},{"$f":"HLOOKUP(User_entry!$E$56,Computations!$S$54:$W$1054,Computations!A162+1,FALSE)","v":450000},{"$f":"Computations!$F$15+Computations!$E$15*D162","v":1111.3455871311544},{"$f":"EXP(Computations!$F$16)*EXP(Computations!$E$16)^Computations!D162","v":1124.8295263083182},{"$f":"Computations!$F$17+Computations!$E$17*LN(Computations!D162)","v":1028.0170035889951},{"$f":"Computations!$F$18+Computations!$E$18*Computations!D162+Computations!$D$18*Computations!D162^2","v":1046.2848966716651},{"$f":"Computations!$F$19+Computations!$E$19*Computations!D162+Computations!$D$19*Computations!D162^2+Computations!$C$19*Computations!D162^3","v":1046.2848966716651},{"$f":"Computations!$J$15+Computations!$I$15*D162","v":450000},{"$f":"EXP(Computations!$J$16)*EXP(Computations!$I$16)^Computations!D162","v":450000.00000000035},{"$f":"Computations!$J$17+Computations!$I$17*LN(Computations!D162)","v":450000},{"$f":"Computations!$J$18+Computations!$I$18*Computations!D162+Computations!$H$18*Computations!D162^2","v":450000},{"$f":"Computations!$J$19+Computations!$I$19*Computations!D162+Computations!$H$19*Computations!D162^2+Computations!$G$19*Computations!D162^3","v":450000}]
[109,4.2608188250435941E-2,4.2900035507372425E-2,4.2754111878904183E-2,4.7994673666286417E-2,1.2262368479149244E-3,1115.1856826171606,450000,{"$f":"G163-H163/User_entry!$E$18","v":-384.81431738283936},0,null,{"$f":"HLOOKUP(User_entry!$B$56,Computations!$N$54:$R$1054,Computations!A163+1,FALSE)","v":1115.1856826171606},{"$f":"HLOOKUP(User_entry!$E$56,Computations!$S$54:$W$1054,Computations!A163+1,FALSE)","v":450000},{"$f":"Computations!$F$15+Computations!$E$15*D163","v":1115.1856826171606},{"$f":"EXP(Computations!$F$16)*EXP(Computations!$E$16)^Computations!D163","v":1127.1632248273156},{"$f":"Computations!$F$17+Computations!$E$17*LN(Computations!D163)","v":1036.7189949662807},{"$f":"Computations!$F$18+Computations!$E$18*Computations!D163+Computations!$D$18*Computations!D163^2","v":1051.7411824444309},{"$f":"Computations!$F$19+Computations!$E$19*Computations!D163+Computations!$D$19*Computations!D163^2+Computations!$C$19*Computations!D163^3","v":1051.7411824444309},{"$f":"Computations!$J$15+Computations!$I$15*D163","v":450000},{"$f":"EXP(Computations!$J$16)*EXP(Computations!$I$16)^Computations!D163","v":450000.00000000035},{"$f":"Computations!$J$17+Computations!$I$17*LN(Computations!D163)","v":450000},{"$f":"Computations!$J$18+Computations!$I$18*Computations!D163+Computations!$H$18*Computations!D163^2","v":450000},{"$f":"Computations!$J$19+Computations!$I$19*Computations!D163+Computations!$H$19*Computations!D163^2+Computations!$G$19*Computations!D163^3","v":450000}]
[110,4.2900035507372425E-2,4.3191882764308909E-2,4.3045959135840667E-2,4.9240595526139956E-2,1.2459218598535396E-3,1119.0257781031669,450000,{"$f":"G164-H164/User_entry!$E$18","v":-380.97422189683311},0,null,{"$f":"HLOOKUP(User_entry!$B$56,Computations!$N$54:$R$1054,Computations!A164+1,FALSE)","v":1119.0257781031669},{"$f":"HLOOKUP(User_entry!$E$56,Computations!$S$54:$W$1054,Computations!A164+1,FALSE)","v":450000},{"$f":"Computations!$F$15+Computations!$E$15*D164","v":1119.0257781031669},{"$f":"EXP(Computations!$F$16)*EXP(Computations!$E$16)^Computations!D164","v":1129.5017651011301},{"$f":"Computations!$F$17+Computations!$E$17*LN(Computations!D164)","v":1045.361786579746},{"$f":"Computations!$F$18+Computations!$E$18*Computations!D164+Computations!$D$18*Computations!D164^2","v":1057.1911589711685},{"$f":"Computations!$F$19+Computations!$E$19*Computations!D164+Computations!$D$19*Computations!D164^2+Computations!$C$19*Computations!D164^3","v":1057.1911589711685},{"$f":"Computations!$J$15+Computations!$I$15*D164","v":450000},{"$f":"EXP(Computations!$J$16)*EXP(Computations!$I$16)^Computations!D164","v":450000.00000000035},{"$f":"Computations!$J$17+Computations!$I$17*LN(Computations!D164)","v":450000},{"$f":"Computations!$J$18+Computations!$I$18*Computations!D164+Computations!$H$18*Computations!D164^2","v":450000},{"$f":"Computations!$J$19+Computations!$I$19*Computations!D164+Computations!$H$19*Computations!D164^2+Computations!$G$19*Computations!D164^3","v":450000}]
[111,4.3191882764308909E-2,4.3483730021245393E-2,4.3337806392777151E-2,5.0506249384093982E-2,1.2656538579540258E-3,1122.8658735891734,450000,{"$f":"G165-H165/User_entry!$E$18","v":-377.13412641082664},0,null,{"$f":"HLOOKUP(User_entry!$B$56,Computations!$N$54:$R$1054,Computations!A165+1,FALSE)","v":1122.8658735891734},{"$f":"HLOOKUP(User_entry!$E$56,Computations!$S$54:$W$1054,Computations!A165+1,FALSE)","v":450000},{"$f":"Computations!$F$15+Computations!$E$15*D165","v":1122.8658735891734},{"$f":"EXP(Computations!$F$16)*EXP(Computations!$E$16)^Computations!D165","v":1131.845157175014},{"$f":"Computations!$F$17+Computations!$E$17*LN(Computations!D165)","v":1053.946178463385},{"$f":"Computations!$F$18+Computations!$E$18*Computations!D165+Computations!$D$18*Computations!D165^2","v":1062.6348262518779},{"$f":"Computations!$F$19+Computations!$E$19*Computations!D165+Computations!$D$19*Computations!D165^2+Computations!$C$19*Computations!D165^3","v":1062.6348262518779},{"$f":"Computations!$J$15+Computations!$I$15*D165","v":450000},{"$f":"EXP(Computations!$J$16)*EXP(Computations!$I$16)^Computations!D165","v":450000.00000000035},{"$f":"Computations!$J$17+Computations!$I$17*LN(Computations!D165)","v":450000},{"$f":"Computations!$J$18+Computations!$I$18*Computations!D165+Computations!$H$18*Computations!D165^2","v":450000},{"$f":"Computations!$J$19+Computations!$I$19*Computations!D165+Computations!$H$19*Computations!D165^2+Computations!$G$19*Computations!D165^3","v":450000}]
[112,4.3483730021245393E-2,4.3775577278181876E-2,4.3629653649713634E-2,5.1791678102893653E-2,1.2854287187996707E-3,1126.7059690751798,450000,{"$f":"G166-H166/User_entry!$E$18","v":-373.29403092482016},0,null,{"$f":"HLOOKUP(User_entry!$B$56,Computations!$N$54:$R$1054,Computations!A166+1,FALSE)","v":1126.7059690751798},{"$f":"HLOOKUP(User_entry!$E$56,Computations!$S$54:$W$1054,Computations!A166+1,FALSE)","v":450000},{"$f":"Computations!$F$15+Computations!$E$15*D166","v":1126.7059690751798},{"$f":"EXP(Computations!$F$16)*EXP(Computations!$E$16)^Computations!D166","v":1134.1934111150601},{"$f":"Computations!$F$17+Computations!$E$17*LN(Computations!D166)","v":1062.4729545423197},{"$f":"Computations!$F$18+Computations!$E$18*Computations!D166+Computations!$D$18*Computations!D166^2","v":1068.0721842865591},{"$f":"Computations!$F$19+Computations!$E$19*Computations!D166+Computations!$D$19*Computations!D166^2+Computations!$C$19*Computations!D166^3","v":1068.0721842865591},{"$f":"Computations!$J$15+Computations!$I$15*D166","v":450000},{"$f":"EXP(Computations!$J$16)*EXP(Computations!$I$16)^Computations!D166","v":450000.00000000035},{"$f":"Computations!$J$17+Computations!$I$17*LN(Computations!D166)","v":450000},{"$f":"Computations!$J$18+Computations!$I$18*Computations!D166+Computations!$H$18*Computations!D166^2","v":450000},{"$f":"Computations!$J$19+Computations!$I$19*Computations!D166+Computations!$H$19*Computations!D166^2+Computations!$G$19*Computations!D166^3","v":450000}]
[113,4.3775577278181876E-2,4.406742453511836E-2,4.3921500906650118E-2,5.3096920423493857E-2,1.3052423206002042E-3,1130.5460645611861,450000,{"$f":"G167-H167/User_entry!$E$18","v":-369.45393543881391},0,null,{"$f":"HLOOKUP(User_entry!$B$56,Computations!$N$54:$R$1054,Computations!A167+1,FALSE)","v":1130.5460645611861},{"$f":"HLOOKUP(User_entry!$E$56,Computations!$S$54:$W$1054,Computations!A167+1,FALSE)","v":450000},{"$f":"Computations!$F$15+Computations!$E$15*D167","v":1130.5460645611861},{"$f":"EXP(Computations!$F$16)*EXP(Computations!$E$16)^Computations!D167","v":1136.5465370082457},{"$f":"Computations!$F$17+Computations!$E$17*LN(Computations!D167)","v":1070.9428830623956},{"$f":"Computations!$F$18+Computations!$E$18*Computations!D167+Computations!$D$18*Computations!D167^2","v":1073.5032330752119},{"$f":"Computations!$F$19+Computations!$E$19*Computations!D167+Computations!$D$19*Computations!D167^2+Computations!$C$19*Computations!D167^3","v":1073.5032330752119},{"$f":"Computations!$J$15+Computations!$I$15*D167","v":450000},{"$f":"EXP(Computations!$J$16)*EXP(Computations!$I$16)^Computations!D167","v":450000.00000000035},{"$f":"Computations!$J$17+Computations!$I$17*LN(Computations!D167)","v":450000},{"$f":"Computations!$J$18+Computations!$I$18*Computations!D167+Computations!$H$18*Computations!D167^2","v":450000},{"$f":"Computations!$J$19+Computations!$I$19*Computations!D167+Computations!$H$19*Computations!D167^2+Computations!$G$19*Computations!D167^3","v":450000}]
[114,4.406742453511836E-2,4.4359271792054844E-2,4.4213348163586602E-2,5.4422010968356506E-2,1.325090544862649E-3,1134.3861600471923,450000,{"$f":"G168-H168/User_entry!$E$18","v":-365.61383995280767},0,null,{"$f":"HLOOKUP(User_entry!$B$56,Computations!$N$54:$R$1054,Computations!A168+1,FALSE)","v":1134.3861600471923},{"$f":"HLOOKUP(User_entry!$E$56,Computations!$S$54:$W$1054,Computations!A168+1,FALSE)","v":450000},{"$f":"Computations!$F$15+Computations!$E$15*D168","v":1134.3861600471923},{"$f":"EXP(Computations!$F$16)*EXP(Computations!$E$16)^Computations!D168","v":1138.9045449624757},{"$f":"Computations!$F$17+Computations!$E$17*LN(Computations!D168)","v":1079.3567170055458},{"$f":"Computations!$F$18+Computations!$E$18*Computations!D168+Computations!$D$18*Computations!D168^2","v":1078.9279726178368},{"$f":"Computations!$F$19+Computations!$E$19*Computations!D168+Computations!$D$19*Computations!D168^2+Computations!$C$19*Computations!D168^3","v":1078.9279726178368},{"$f":"Computations!$J$15+Computations!$I$15*D168","v":450000},{"$f":"EXP(Computations!$J$16)*EXP(Computations!$I$16)^Computations!D168","v":450000.00000000035},{"$f":"Computations!$J$17+Computations!$I$17*LN(Computations!D168)","v":450000},{"$f":"Computations!$J$18+Computations!$I$18*Computations!D168+Computations!$H$18*Computations!D168^2","v":450000},{"$f":"Computations!$J$19+Computations!$I$19*Computations!D168+Computations!$H$19*Computations!D168^2+Computations!$G$19*Computations!D168^3","v":450000}]
[115,4.4359271792054844E-2,4.4651119048991328E-2,4.4505195420523086E-2,5.5766980246391901E-2,1.3449692780353947E-3,1138.2262555331988,450000,{"$f":"G169-H169/User_entry!$E$18","v":-361.77374446680119},0,null,{"$f":"HLOOKUP(User_entry!$B$56,Computations!$N$54:$R$1054,Computations!A169+1,FALSE)","v":1138.2262555331988},{"$f":"HLOOKUP(User_entry!$E$56,Computations!$S$54:$W$1054,Computations!A169+1,FALSE)","v":450000},{"$f":"Computations!$F$15+Computations!$E$15*D169","v":1138.2262555331988},{"$f":"EXP(Computations!$F$16)*EXP(Computations!$E$16)^Computations!D169","v":1141.2674451066259},{"$f":"Computations!$F$17+Computations!$E$17*LN(Computations!D169)","v":1087.7151944914945},{"$f":"Computations!$F$18+Computations!$E$18*Computations!D169+Computations!$D$18*Computations!D169^2","v":1084.3464029144332},{"$f":"Computations!$F$19+Computations!$E$19*Computations!D169+Computations!$D$19*Computations!D169^2+Computations!$C$19*Computations!D169^3","v":1084.3464029144332},{"$f":"Computations!$J$15+Computations!$I$15*D169","v":450000},{"$f":"EXP(Computations!$J$16)*EXP(Computations!$I$16)^Computations!D169","v":450000.00000000035},{"$f":"Computations!$J$17+Computations!$I$17*LN(Computations!D169)","v":450000},{"$f":"Computations!$J$18+Computations!$I$18*Computations!D169+Computations!$H$18*Computations!D169^2","v":450000},{"$f":"Computations!$J$19+Computations!$I$19*Computations!D169+Computations!$H$19*Computations!D169^2+Computations!$G$19*Computations!D169^3","v":450000}]
[116,4.4651119048991328E-2,4.4942966305927812E-2,4.479704267745957E-2,5.7131854659511622E-2,1.364874413119721E-3,1142.0663510192053,450000,{"$f":"G170-H170/User_entry!$E$18","v":-357.93364898079471},0,null,{"$f":"HLOOKUP(User_entry!$B$56,Computations!$N$54:$R$1054,Computations!A170+1,FALSE)","v":1142.0663510192053},{"$f":"HLOOKUP(User_entry!$E$56,Computations!$S$54:$W$1054,Computations!A170+1,FALSE)","v":450000},{"$f":"Computations!$F$15+Computations!$E$15*D170","v":1142.0663510192053},{"$f":"EXP(Computations!$F$16)*EXP(Computations!$E$16)^Computations!D170","v":1143.6352475905867},{"$f":"Computations!$F$17+Computations!$E$17*LN(Computations!D170)","v":1096.0190391663323},{"$f":"Computations!$F$18+Computations!$E$18*Computations!D170+Computations!$D$18*Computations!D170^2","v":1089.7585239650011},{"$f":"Computations!$F$19+Computations!$E$19*Computations!D170+Computations!$D$19*Computations!D170^2+Computations!$C$19*Computations!D170^3","v":1089.7585239650011},{"$f":"Computations!$J$15+Computations!$I$15*D170","v":450000},{"$f":"EXP(Computations!$J$16)*EXP(Computations!$I$16)^Computations!D170","v":450000.00000000035},{"$f":"Computations!$J$17+Computations!$I$17*LN(Computations!D170)","v":450000},{"$f":"Computations!$J$18+Computations!$I$18*Computations!D170+Computations!$H$18*Computations!D170^2","v":450000},{"$f":"Computations!$J$19+Computations!$I$19*Computations!D170+Computations!$H$19*Computations!D170^2+Computations!$G$19*Computations!D170^3","v":450000}]
[117,4.4942966305927812E-2,4.5234813562864296E-2,4.5088889934396054E-2,5.8516656510766298E-2,1.3848018512546759E-3,1145.9064465052115,450000,{"$f":"G171-H171/User_entry!$E$18","v":-354.09355349478847},0,null,{"$f":"HLOOKUP(User_entry!$B$56,Computations!$N$54:$R$1054,Computations!A171+1,FALSE)","v":1145.9064465052115},{"$f":"HLOOKUP(User_entry!$E$56,Computations!$S$54:$W$1054,Computations!A171+1,FALSE)","v":450000},{"$f":"Computations!$F$15+Computations!$E$15*D171","v":1145.9064465052115},{"$f":"EXP(Computations!$F$16)*EXP(Computations!$E$16)^Computations!D171","v":1146.0079625853064},{"$f":"Computations!$F$17+Computations!$E$17*LN(Computations!D171)","v":1104.2689605784749},{"$f":"Computations!$F$18+Computations!$E$18*Computations!D171+Computations!$D$18*Computations!D171^2","v":1095.1643357695411},{"$f":"Computations!$F$19+Computations!$E$19*Computations!D171+Computations!$D$19*Computations!D171^2+Computations!$C$19*Computations!D171^3","v":1095.1643357695411},{"$f":"Computations!$J$15+Computations!$I$15*D171","v":450000},{"$f":"EXP(Computations!$J$16)*EXP(Computations!$I$16)^Computations!D171","v":450000.00000000035},{"$f":"Computations!$J$17+Computations!$I$17*LN(Computations!D171)","v":450000},{"$f":"Computations!$J$18+Computations!$I$18*Computations!D171+Computations!$H$18*Computations!D171^2","v":450000},{"$f":"Computations!$J$19+Computations!$I$19*Computations!D171+Computations!$H$19*Computations!D171^2+Computations!$G$19*Computations!D171^3","v":450000}]
[118,4.5234813562864296E-2,4.5526660819800779E-2,4.5380737191332537E-2,5.9921404014036346E-2,1.4047475032700485E-3,1149.7465419912178,450000,{"$f":"G172-H172/User_entry!$E$18","v":-350.25345800878222},0,null,{"$f":"HLOOKUP(User_entry!$B$56,Computations!$N$54:$R$1054,Computations!A172+1,FALSE)","v":1149.7465419912178},{"$f":"HLOOKUP(User_entry!$E$56,Computations!$S$54:$W$1054,Computations!A172+1,FALSE)","v":450000},{"$f":"Computations!$F$15+Computations!$E$15*D172","v":1149.7465419912178},{"$f":"EXP(Computations!$F$16)*EXP(Computations!$E$16)^Computations!D172","v":1148.3856002828356},{"$f":"Computations!$F$17+Computations!$E$17*LN(Computations!D172)","v":1112.4656545424909},{"$f":"Computations!$F$18+Computations!$E$18*Computations!D172+Computations!$D$18*Computations!D172^2","v":1100.5638383280527},{"$f":"Computations!$F$19+Computations!$E$19*Computations!D172+Computations!$D$19*Computations!D172^2+Computations!$C$19*Computations!D172^3","v":1100.5638383280527},{"$f":"Computations!$J$15+Computations!$I$15*D172","v":450000},{"$f":"EXP(Computations!$J$16)*EXP(Computations!$I$16)^Computations!D172","v":450000.00000000035},{"$f":"Computations!$J$17+Computations!$I$17*LN(Computations!D172)","v":450000},{"$f":"Computations!$J$18+Computations!$I$18*Computations!D172+Computations!$H$18*Computations!D172^2","v":450000},{"$f":"Computations!$J$19+Computations!$I$19*Computations!D172+Computations!$H$19*Computations!D172^2+Computations!$G$19*Computations!D172^3","v":450000}]
[119,4.5526660819800779E-2,4.5818508076737263E-2,4.5672584448269021E-2,6.1346111305247329E-2,1.4247072912109832E-3,1153.5866374772243,450000,{"$f":"G173-H173/User_entry!$E$18","v":-346.41336252277574},0,null,{"$f":"HLOOKUP(User_entry!$B$56,Computations!$N$54:$R$1054,Computations!A173+1,FALSE)","v":1153.5866374772243},{"$f":"HLOOKUP(User_entry!$E$56,Computations!$S$54:$W$1054,Computations!A173+1,FALSE)","v":450000},{"$f":"Computations!$F$15+Computations!$E$15*D173","v":1153.5866374772243},{"$f":"EXP(Computations!$F$16)*EXP(Computations!$E$16)^Computations!D173","v":1150.7681708963701},{"$f":"Computations!$F$17+Computations!$E$17*LN(Computations!D173)","v":1120.6098034912707},{"$f":"Computations!$F$18+Computations!$E$18*Computations!D173+Computations!$D$18*Computations!D173^2","v":1105.9570316405363},{"$f":"Computations!$F$19+Computations!$E$19*Computations!D173+Computations!$D$19*Computations!D173^2+Computations!$C$19*Computations!D173^3","v":1105.9570316405363},{"$f":"Computations!$J$15+Computations!$I$15*D173","v":450000},{"$f":"EXP(Computations!$J$16)*EXP(Computations!$I$16)^Computations!D173","v":450000.00000000035},{"$f":"Computations!$J$17+Computations!$I$17*LN(Computations!D173)","v":450000},{"$f":"Computations!$J$18+Computations!$I$18*Computations!D173+Computations!$H$18*Computations!D173^2","v":450000},{"$f":"Computations!$J$19+Computations!$I$19*Computations!D173+Computations!$H$19*Computations!D173^2+Computations!$G$19*Computations!D173^3","v":450000}]
[120,4.5818508076737263E-2,4.6110355333673747E-2,4.5964431705205505E-2,6.2790788455077615E-2,1.4446771498302854E-3,1157.4267329632307,450000,{"$f":"G174-H174/User_entry!$E$18","v":-342.57326703676927},0,null,{"$f":"HLOOKUP(User_entry!$B$56,Computations!$N$54:$R$1054,Computations!A174+1,FALSE)","v":1157.4267329632307},{"$f":"HLOOKUP(User_entry!$E$56,Computations!$S$54:$W$1054,Computations!A174+1,FALSE)","v":450000},{"$f":"Computations!$F$15+Computations!$E$15*D174","v":1157.4267329632307},{"$f":"EXP(Computations!$F$16)*EXP(Computations!$E$16)^Computations!D174","v":1153.1556846602948},{"$f":"Computations!$F$17+Computations!$E$17*LN(Computations!D174)","v":1128.7020768169764},{"$f":"Computations!$F$18+Computations!$E$18*Computations!D174+Computations!$D$18*Computations!D174^2","v":1111.3439157069913},{"$f":"Computations!$F$19+Computations!$E$19*Computations!D174+Computations!$D$19*Computations!D174^2+Computations!$C$19*Computations!D174^3","v":1111.3439157069913},{"$f":"Computations!$J$15+Computations!$I$15*D174","v":450000},{"$f":"EXP(Computations!$J$16)*EXP(Computations!$I$16)^Computations!D174","v":450000.00000000035},{"$f":"Computations!$J$17+Computations!$I$17*LN(Computations!D174)","v":450000},{"$f":"Computations!$J$18+Computations!$I$18*Computations!D174+Computations!$H$18*Computations!D174^2","v":450000},{"$f":"Computations!$J$19+Computations!$I$19*Computations!D174+Computations!$H$19*Computations!D174^2+Computations!$G$19*Computations!D174^3","v":450000}]
[121,4.6110355333673747E-2,4.6402202590610231E-2,4.6256278962141989E-2,6.425544148313006E-2,1.4646530280524456E-3,1161.266828449237,450000,{"$f":"G175-H175/User_entry!$E$18","v":-338.73317155076302},0,null,{"$f":"HLOOKUP(User_entry!$B$56,Computations!$N$54:$R$1054,Computations!A175+1,FALSE)","v":1161.266828449237},{"$f":"HLOOKUP(User_entry!$E$56,Computations!$S$54:$W$1054,Computations!A175+1,FALSE)","v":450000},{"$f":"Computations!$F$15+Computations!$E$15*D175","v":1161.266828449237},{"$f":"EXP(Computations!$F$16)*EXP(Computations!$E$16)^Computations!D175","v":1155.5481518302288},{"$f":"Computations!$F$17+Computations!$E$17*LN(Computations!D175)","v":1136.7431312012054},{"$f":"Computations!$F$18+Computations!$E$18*Computations!D175+Computations!$D$18*Computations!D175^2","v":1116.7244905274183},{"$f":"Computations!$F$19+Computations!$E$19*Computations!D175+Computations!$D$19*Computations!D175^2+Computations!$C$19*Computations!D175^3","v":1116.7244905274183},{"$f":"Computations!$J$15+Computations!$I$15*D175","v":450000},{"$f":"EXP(Computations!$J$16)*EXP(Computations!$I$16)^Computations!D175","v":450000.00000000035},{"$f":"Computations!$J$17+Computations!$I$17*LN(Computations!D175)","v":450000},{"$f":"Computations!$J$18+Computations!$I$18*Computations!D175+Computations!$H$18*Computations!D175^2","v":450000},{"$f":"Computations!$J$19+Computations!$I$19*Computations!D175+Computations!$H$19*Computations!D175^2+Computations!$G$19*Computations!D175^3","v":450000}]
[122,4.6402202590610231E-2,4.6694049847546715E-2,4.6548126219078473E-2,6.574007237353581E-2,1.4846308904057498E-3,1165.1069239352432,450000,{"$f":"G176-H176/User_entry!$E$18","v":-334.89307606475677},0,null,{"$f":"HLOOKUP(User_entry!$B$56,Computations!$N$54:$R$1054,Computations!A176+1,FALSE)","v":1165.1069239352432},{"$f":"HLOOKUP(User_entry!$E$56,Computations!$S$54:$W$1054,Computations!A176+1,FALSE)","v":450000},{"$f":"Computations!$F$15+Computations!$E$15*D176","v":1165.1069239352432},{"$f":"EXP(Computations!$F$16)*EXP(Computations!$E$16)^Computations!D176","v":1157.9455826830683},{"$f":"Computations!$F$17+Computations!$E$17*LN(Computations!D176)","v":1144.7336109347675},{"$f":"Computations!$F$18+Computations!$E$18*Computations!D176+Computations!$D$18*Computations!D176^2","v":1122.0987561018169},{"$f":"Computations!$F$19+Computations!$E$19*Computations!D176+Computations!$D$19*Computations!D176^2+Computations!$C$19*Computations!D176^3","v":1122.0987561018169},{"$f":"Computations!$J$15+Computations!$I$15*D176","v":450000},{"$f":"EXP(Computations!$J$16)*EXP(Computations!$I$16)^Computations!D176","v":450000.00000000035},{"$f":"Computations!$J$17+Computations!$I$17*LN(Computations!D176)","v":450000},{"$f":"Computations!$J$18+Computations!$I$18*Computations!D176+Computations!$H$18*Computations!D176^2","v":450000},{"$f":"Computations!$J$19+Computations!$I$19*Computations!D176+Computations!$H$19*Computations!D176^2+Computations!$G$19*Computations!D176^3","v":450000}]
[123,4.6694049847546715E-2,4.6985897104483199E-2,4.6839973476014957E-2,6.7244679091959261E-2,1.5046067184234513E-3,1168.9470194212497,450000,{"$f":"G177-H177/User_entry!$E$18","v":-331.05298057875029},0,null,{"$f":"HLOOKUP(User_entry!$B$56,Computations!$N$54:$R$1054,Computations!A177+1,FALSE)","v":1168.9470194212497},{"$f":"HLOOKUP(User_entry!$E$56,Computations!$S$54:$W$1054,Computations!A177+1,FALSE)","v":450000},{"$f":"Computations!$F$15+Computations!$E$15*D177","v":1168.9470194212497},{"$f":"EXP(Computations!$F$16)*EXP(Computations!$E$16)^Computations!D177","v":1160.347987517031},{"$f":"Computations!$F$17+Computations!$E$17*LN(Computations!D177)","v":1152.6741482274706},{"$f":"Computations!$F$18+Computations!$E$18*Computations!D177+Computations!$D$18*Computations!D177^2","v":1127.4667124301875},{"$f":"Computations!$F$19+Computations!$E$19*Computations!D177+Computations!$D$19*Computations!D177^2+Computations!$C$19*Computations!D177^3","v":1127.4667124301875},{"$f":"Computations!$J$15+Computations!$I$15*D177","v":450000},{"$f":"EXP(Computations!$J$16)*EXP(Computations!$I$16)^Computations!D177","v":450000.00000000035},{"$f":"Computations!$J$17+Computations!$I$17*LN(Computations!D177)","v":450000},{"$f":"Computations!$J$18+Computations!$I$18*Computations!D177+Computations!$H$18*Computations!D177^2","v":450000},{"$f":"Computations!$J$19+Computations!$I$19*Computations!D177+Computations!$H$19*Computations!D177^2+Computations!$G$19*Computations!D177^3","v":450000}]
[124,4.6985897104483199E-2,4.7277744361419682E-2,4.713182073295144E-2,6.876925560397551E-2,1.5245765120162486E-3,1172.7871149072562,450000,{"$f":"G178-H178/User_entry!$E$18","v":-327.21288509274382},0,null,{"$f":"HLOOKUP(User_entry!$B$56,Computations!$N$54:$R$1054,Computations!A178+1,FALSE)","v":1172.7871149072562},{"$f":"HLOOKUP(User_entry!$E$56,Computations!$S$54:$W$1054,Computations!A178+1,FALSE)","v":450000},{"$f":"Computations!$F$15+Computations!$E$15*D178","v":1172.7871149072562},{"$f":"EXP(Computations!$F$16)*EXP(Computations!$E$16)^Computations!D178","v":1162.7553766517003},{"$f":"Computations!$F$17+Computations!$E$17*LN(Computations!D178)","v":1160.5653635082826},{"$f":"Computations!$F$18+Computations!$E$18*Computations!D178+Computations!$D$18*Computations!D178^2","v":1132.8283595125295},{"$f":"Computations!$F$19+Computations!$E$19*Computations!D178+Computations!$D$19*Computations!D178^2+Computations!$C$19*Computations!D178^3","v":1132.8283595125295},{"$f":"Computations!$J$15+Computations!$I$15*D178","v":450000},{"$f":"EXP(Computations!$J$16)*EXP(Computations!$I$16)^Computations!D178","v":450000.00000000035},{"$f":"Computations!$J$17+Computations!$I$17*LN(Computations!D178)","v":450000},{"$f":"Computations!$J$18+Computations!$I$18*Computations!D178+Computations!$H$18*Computations!D178^2","v":450000},{"$f":"Computations!$J$19+Computations!$I$19*Computations!D178+Computations!$H$19*Computations!D178^2+Computations!$G$19*Computations!D178^3","v":450000}]
[125,4.7277744361419682E-2,4.7569591618356166E-2,4.7423667989887924E-2,7.0313791894786107E-2,1.544536290810597E-3,1176.6272103932624,450000,{"$f":"G179-H179/User_entry!$E$18","v":-323.37278960673757},0,null,{"$f":"HLOOKUP(User_entry!$B$56,Computations!$N$54:$R$1054,Computations!A179+1,FALSE)","v":1176.6272103932624},{"$f":"HLOOKUP(User_entry!$E$56,Computations!$S$54:$W$1054,Computations!A179+1,FALSE)","v":450000},{"$f":"Computations!$F$15+Computations!$E$15*D179","v":1176.6272103932624},{"$f":"EXP(Computations!$F$16)*EXP(Computations!$E$16)^Computations!D179","v":1165.1677604280706},{"$f":"Computations!$F$17+Computations!$E$17*LN(Computations!D179)","v":1168.4078657162327},{"$f":"Computations!$F$18+Computations!$E$18*Computations!D179+Computations!$D$18*Computations!D179^2","v":1138.1836973488437},{"$f":"Computations!$F$19+Computations!$E$19*Computations!D179+Computations!$D$19*Computations!D179^2+Computations!$C$19*Computations!D179^3","v":1138.1836973488437},{"$f":"Computations!$J$15+Computations!$I$15*D179","v":450000},{"$f":"EXP(Computations!$J$16)*EXP(Computations!$I$16)^Computations!D179","v":450000.00000000035},{"$f":"Computations!$J$17+Computations!$I$17*LN(Computations!D179)","v":450000},{"$f":"Computations!$J$18+Computations!$I$18*Computations!D179+Computations!$H$18*Computations!D179^2","v":450000},{"$f":"Computations!$J$19+Computations!$I$19*Computations!D179+Computations!$H$19*Computations!D179^2+Computations!$G$19*Computations!D179^3","v":450000}]
[126,4.7569591618356166E-2,4.786143887529265E-2,4.7715515246824408E-2,7.1878273990245545E-2,1.5644820954594379E-3,1180.4673058792687,450000,{"$f":"G180-H180/User_entry!$E$18","v":-319.53269412073132},0,null,{"$f":"HLOOKUP(User_entry!$B$56,Computations!$N$54:$R$1054,Computations!A180+1,FALSE)","v":1180.4673058792687},{"$f":"HLOOKUP(User_entry!$E$56,Computations!$S$54:$W$1054,Computations!A180+1,FALSE)","v":450000},{"$f":"Computations!$F$15+Computations!$E$15*D180","v":1180.4673058792687},{"$f":"EXP(Computations!$F$16)*EXP(Computations!$E$16)^Computations!D180","v":1167.5851492085899},{"$f":"Computations!$F$17+Computations!$E$17*LN(Computations!D180)","v":1176.2022525823841},{"$f":"Computations!$F$18+Computations!$E$18*Computations!D180+Computations!$D$18*Computations!D180^2","v":1143.532725939129},{"$f":"Computations!$F$19+Computations!$E$19*Computations!D180+Computations!$D$19*Computations!D180^2+Computations!$C$19*Computations!D180^3","v":1143.532725939129},{"$f":"Computations!$J$15+Computations!$I$15*D180","v":450000},{"$f":"EXP(Computations!$J$16)*EXP(Computations!$I$16)^Computations!D180","v":450000.00000000035},{"$f":"Computations!$J$17+Computations!$I$17*LN(Computations!D180)","v":450000},{"$f":"Computations!$J$18+Computations!$I$18*Computations!D180+Computations!$H$18*Computations!D180^2","v":450000},{"$f":"Computations!$J$19+Computations!$I$19*Computations!D180+Computations!$H$19*Computations!D180^2+Computations!$G$19*Computations!D180^3","v":450000}]
[127,4.786143887529265E-2,4.8153286132229134E-2,4.8007362503760892E-2,7.3462683979164708E-2,1.5844099889191637E-3,1184.3074013652752,450000,{"$f":"G181-H181/User_entry!$E$18","v":-315.69259863472485},0,null,{"$f":"HLOOKUP(User_entry!$B$56,Computations!$N$54:$R$1054,Computations!A181+1,FALSE)","v":1184.3074013652752},{"$f":"HLOOKUP(User_entry!$E$56,Computations!$S$54:$W$1054,Computations!A181+1,FALSE)","v":450000},{"$f":"Computations!$F$15+Computations!$E$15*D181","v":1184.3074013652752},{"$f":"EXP(Computations!$F$16)*EXP(Computations!$E$16)^Computations!D181","v":1170.0075533772056},{"$f":"Computations!$F$17+Computations!$E$17*LN(Computations!D181)","v":1183.9491109032147},{"$f":"Computations!$F$18+Computations!$E$18*Computations!D181+Computations!$D$18*Computations!D181^2","v":1148.8754452833866},{"$f":"Computations!$F$19+Computations!$E$19*Computations!D181+Computations!$D$19*Computations!D181^2+Computations!$C$19*Computations!D181^3","v":1148.8754452833866},{"$f":"Computations!$J$15+Computations!$I$15*D181","v":450000},{"$f":"EXP(Computations!$J$16)*EXP(Computations!$I$16)^Computations!D181","v":450000.00000000035},{"$f":"Computations!$J$17+Computations!$I$17*LN(Computations!D181)","v":450000},{"$f":"Computations!$J$18+Computations!$I$18*Computations!D181+Computations!$H$18*Computations!D181^2","v":450000},{"$f":"Computations!$J$19+Computations!$I$19*Computations!D181+Computations!$H$19*Computations!D181^2+Computations!$G$19*Computations!D181^3","v":450000}]
[128,4.8153286132229134E-2,4.8445133389165618E-2,4.8299209760697376E-2,7.506700003686323E-2,1.604316057698521E-3,1188.1474968512816,450000,{"$f":"G182-H182/User_entry!$E$18","v":-311.85250314871837},0,null,{"$f":"HLOOKUP(User_entry!$B$56,Computations!$N$54:$R$1054,Computations!A182+1,FALSE)","v":1188.1474968512816},{"$f":"HLOOKUP(User_entry!$E$56,Computations!$S$54:$W$1054,Computations!A182+1,FALSE)","v":450000},{"$f":"Computations!$F$15+Computations!$E$15*D182","v":1188.1474968512816},{"$f":"EXP(Computations!$F$16)*EXP(Computations!$E$16)^Computations!D182","v":1172.4349833394092},{"$f":"Computations!$F$17+Computations!$E$17*LN(Computations!D182)","v":1191.6490168057071},{"$f":"Computations!$F$18+Computations!$E$18*Computations!D182+Computations!$D$18*Computations!D182^2","v":1154.2118553816158},{"$f":"Computations!$F$19+Computations!$E$19*Computations!D182+Computations!$D$19*Computations!D182^2+Computations!$C$19*Computations!D182^3","v":1154.2118553816158},{"$f":"Computations!$J$15+Computations!$I$15*D182","v":450000},{"$f":"EXP(Computations!$J$16)*EXP(Computations!$I$16)^Computations!D182","v":450000.00000000035},{"$f":"Computations!$J$17+Computations!$I$17*LN(Computations!D182)","v":450000},{"$f":"Computations!$J$18+Computations!$I$18*Computations!D182+Computations!$H$18*Computations!D182^2","v":450000},{"$f":"Computations!$J$19+Computations!$I$19*Computations!D182+Computations!$H$19*Computations!D182^2+Computations!$G$19*Computations!D182^3","v":450000}]
[129,4.8445133389165618E-2,4.8736980646102102E-2,4.859105701763386E-2,7.6691196449936314E-2,1.624196413073084E-3,1191.9875923372879,450000,{"$f":"G183-H183/User_entry!$E$18","v":-308.01240766271212},0,null,{"$f":"HLOOKUP(User_entry!$B$56,Computations!$N$54:$R$1054,Computations!A183+1,FALSE)","v":1191.9875923372879},{"$f":"HLOOKUP(User_entry!$E$56,Computations!$S$54:$W$1054,Computations!A183+1,FALSE)","v":450000},{"$f":"Computations!$F$15+Computations!$E$15*D183","v":1191.9875923372879},{"$f":"EXP(Computations!$F$16)*EXP(Computations!$E$16)^Computations!D183","v":1174.8674495222804},{"$f":"Computations!$F$17+Computations!$E$17*LN(Computations!D183)","v":1199.3025360044603},{"$f":"Computations!$F$18+Computations!$E$18*Computations!D183+Computations!$D$18*Computations!D183^2","v":1159.5419562338168},{"$f":"Computations!$F$19+Computations!$E$19*Computations!D183+Computations!$D$19*Computations!D183^2+Computations!$C$19*Computations!D183^3","v":1159.5419562338168},{"$f":"Computations!$J$15+Computations!$I$15*D183","v":450000},{"$f":"EXP(Computations!$J$16)*EXP(Computations!$I$16)^Computations!D183","v":450000.00000000035},{"$f":"Computations!$J$17+Computations!$I$17*LN(Computations!D183)","v":450000},{"$f":"Computations!$J$18+Computations!$I$18*Computations!D183+Computations!$H$18*Computations!D183^2","v":450000},{"$f":"Computations!$J$19+Computations!$I$19*Computations!D183+Computations!$H$19*Computations!D183^2+Computations!$G$19*Computations!D183^3","v":450000}]
[130,4.8736980646102102E-2,{"$f":"B184+$D$11","v":4.9028827903038585E-2},{"$f":"AVERAGE(B184:C184)","v":4.8882904274570343E-2},{"$f":"IF($D$3=\"Beta\",_xlfn.BETA.DIST(C184,$D$4,$D$5,TRUE),IF($D$3=\"Gamma\",_xlfn.GAMMA.DIST(C184,$D$4,$D$5,TRUE),IF($D$3=\"Lognorm\",_xlfn.LOGNORM.DIST(C184,$D$4,$D$5,TRUE),_xlfn.NORM.DIST(C184,$D$4,$D$5,TRUE))))","v":7.8335243642208174E-2},{"$f":"E184-E183","v":1.6440471922718608E-3},{"$f":"L184","v":1195.8276878232944},{"$f":"M184","v":450000},{"$f":"G184-H184/User_entry!$E$18","v":-304.17231217670565},{"$f":"MAX(I184,0)","v":0},null,{"$f":"HLOOKUP(User_entry!$B$56,Computations!$N$54:$R$1054,Computations!A184+1,FALSE)","v":1195.8276878232944},{"$f":"HLOOKUP(User_entry!$E$56,Computations!$S$54:$W$1054,Computations!A184+1,FALSE)","v":450000},{"$f":"Computations!$F$15+Computations!$E$15*D184","v":1195.8276878232944},{"$f":"EXP(Computations!$F$16)*EXP(Computations!$E$16)^Computations!D184","v":1177.3049623745317},{"$f":"Computations!$F$17+Computations!$E$17*LN(Computations!D184)","v":1206.9102240510961},{"$f":"Computations!$F$18+Computations!$E$18*Computations!D184+Computations!$D$18*Computations!D184^2","v":1164.8657478399894},{"$f":"Computations!$F$19+Computations!$E$19*Computations!D184+Computations!$D$19*Computations!D184^2+Computations!$C$19*Computations!D184^3","v":1164.8657478399894},{"$f":"Computations!$J$15+Computations!$I$15*D184","v":450000},{"$f":"EXP(Computations!$J$16)*EXP(Computations!$I$16)^Computations!D184","v":450000.00000000035},{"$f":"Computations!$J$17+Computations!$I$17*LN(Computations!D184)","v":450000},{"$f":"Computations!$J$18+Computations!$I$18*Computations!D184+Computations!$H$18*Computations!D184^2","v":450000},{"$f":"Computations!$J$19+Computations!$I$19*Computations!D184+Computations!$H$19*Computations!D184^2+Computations!$G$19*Computations!D184^3","v":450000}]
[131,{"$f":"C184","v":4.9028827903038585E-2},4.9320675159975069E-2,4.9174751531506827E-2,7.9999108201840252E-2,1.6638645596320778E-3,1199.6677833093008,450000,{"$f":"G185-H185/User_entry!$E$18","v":-300.33221669069917},0,null,{"$f":"HLOOKUP(User_entry!$B$56,Computations!$N$54:$R$1054,Computations!A185+1,FALSE)","v":1199.6677833093008},{"$f":"HLOOKUP(User_entry!$E$56,Computations!$S$54:$W$1054,Computations!A185+1,FALSE)","v":450000},{"$f":"Computations!$F$15+Computations!$E$15*D185","v":1199.6677833093008},{"$f":"EXP(Computations!$F$16)*EXP(Computations!$E$16)^Computations!D185","v":1179.7475323665542},{"$f":"Computations!$F$17+Computations!$E$17*LN(Computations!D185)","v":1214.4726265762497},{"$f":"Computations!$F$18+Computations!$E$18*Computations!D185+Computations!$D$18*Computations!D185^2","v":1170.1832302001339},{"$f":"Computations!$F$19+Computations!$E$19*Computations!D185+Computations!$D$19*Computations!D185^2+Computations!$C$19*Computations!D185^3","v":1170.1832302001339},{"$f":"Computations!$J$15+Computations!$I$15*D185","v":450000},{"$f":"EXP(Computations!$J$16)*EXP(Computations!$I$16)^Computations!D185","v":450000.00000000035},{"$f":"Computations!$J$17+Computations!$I$17*LN(Computations!D185)","v":450000},{"$f":"Computations!$J$18+Computations!$I$18*Computations!D185+Computations!$H$18*Computations!D185^2","v":450000},{"$f":"Computations!$J$19+Computations!$I$19*Computations!D185+Computations!$H$19*Computations!D185^2+Computations!$G$19*Computations!D185^3","v":450000}]
[132,4.9320675159975069E-2,4.9612522416911553E-2,4.9466598788443311E-2,8.1682752909561868E-2,1.6836447077216155E-3,1203.5078787953071,450000,{"$f":"G186-H186/User_entry!$E$18","v":-296.49212120469292},0,null,{"$f":"HLOOKUP(User_entry!$B$56,Computations!$N$54:$R$1054,Computations!A186+1,FALSE)","v":1203.5078787953071},{"$f":"HLOOKUP(User_entry!$E$56,Computations!$S$54:$W$1054,Computations!A186+1,FALSE)","v":450000},{"$f":"Computations!$F$15+Computations!$E$15*D186","v":1203.5078787953071},{"$f":"EXP(Computations!$F$16)*EXP(Computations!$E$16)^Computations!D186","v":1182.1951699904621},{"$f":"Computations!$F$17+Computations!$E$17*LN(Computations!D186)","v":1221.9902795243916},{"$f":"Computations!$F$18+Computations!$E$18*Computations!D186+Computations!$D$18*Computations!D186^2","v":1175.4944033142499},{"$f":"Computations!$F$19+Computations!$E$19*Computations!D186+Computations!$D$19*Computations!D186^2+Computations!$C$19*Computations!D186^3","v":1175.4944033142499},{"$f":"Computations!$J$15+Computations!$I$15*D186","v":450000},{"$f":"EXP(Computations!$J$16)*EXP(Computations!$I$16)^Computations!D186","v":450000.00000000035},{"$f":"Computations!$J$17+Computations!$I$17*LN(Computations!D186)","v":450000},{"$f":"Computations!$J$18+Computations!$I$18*Computations!D186+Computations!$H$18*Computations!D186^2","v":450000},{"$f":"Computations!$J$19+Computations!$I$19*Computations!D186+Computations!$H$19*Computations!D186^2+Computations!$G$19*Computations!D186^3","v":450000}]
[133,4.9612522416911553E-2,4.9904369673848037E-2,4.9758446045379795E-2,8.3386136767994973E-2,1.7033838584331051E-3,1207.3479742813133,450000,{"$f":"G187-H187/User_entry!$E$18","v":-292.65202571868667},0,null,{"$f":"HLOOKUP(User_entry!$B$56,Computations!$N$54:$R$1054,Computations!A187+1,FALSE)","v":1207.3479742813133},{"$f":"HLOOKUP(User_entry!$E$56,Computations!$S$54:$W$1054,Computations!A187+1,FALSE)","v":450000},{"$f":"Computations!$F$15+Computations!$E$15*D187","v":1207.3479742813133},{"$f":"EXP(Computations!$F$16)*EXP(Computations!$E$16)^Computations!D187","v":1184.6478857601371},{"$f":"Computations!$F$17+Computations!$E$17*LN(Computations!D187)","v":1229.4637093817537},{"$f":"Computations!$F$18+Computations!$E$18*Computations!D187+Computations!$D$18*Computations!D187^2","v":1180.7992671823381},{"$f":"Computations!$F$19+Computations!$E$19*Computations!D187+Computations!$D$19*Computations!D187^2+Computations!$C$19*Computations!D187^3","v":1180.7992671823381},{"$f":"Computations!$J$15+Computations!$I$15*D187","v":450000},{"$f":"EXP(Computations!$J$16)*EXP(Computations!$I$16)^Computations!D187","v":450000.00000000035},{"$f":"Computations!$J$17+Computations!$I$17*LN(Computations!D187)","v":450000},{"$f":"Computations!$J$18+Computations!$I$18*Computations!D187+Computations!$H$18*Computations!D187^2","v":450000},{"$f":"Computations!$J$19+Computations!$I$19*Computations!D187+Computations!$H$19*Computations!D187^2+Computations!$G$19*Computations!D187^3","v":450000}]
[134,4.9904369673848037E-2,5.0196216930784521E-2,5.0050293302316279E-2,8.5109215032040872E-2,1.7230782640458991E-3,1211.1880697673198,450000,{"$f":"G188-H188/User_entry!$E$18","v":-288.8119302326802},0,null,{"$f":"HLOOKUP(User_entry!$B$56,Computations!$N$54:$R$1054,Computations!A188+1,FALSE)","v":1211.1880697673198},{"$f":"HLOOKUP(User_entry!$E$56,Computations!$S$54:$W$1054,Computations!A188+1,FALSE)","v":450000},{"$f":"Computations!$F$15+Computations!$E$15*D188","v":1211.1880697673198},{"$f":"EXP(Computations!$F$16)*EXP(Computations!$E$16)^Computations!D188","v":1187.105690211275},{"$f":"Computations!$F$17+Computations!$E$17*LN(Computations!D188)","v":1236.893433397579},{"$f":"Computations!$F$18+Computations!$E$18*Computations!D188+Computations!$D$18*Computations!D188^2","v":1186.0978218043977},{"$f":"Computations!$F$19+Computations!$E$19*Computations!D188+Computations!$D$19*Computations!D188^2+Computations!$C$19*Computations!D188^3","v":1186.0978218043977},{"$f":"Computations!$J$15+Computations!$I$15*D188","v":450000},{"$f":"EXP(Computations!$J$16)*EXP(Computations!$I$16)^Computations!D188","v":450000.00000000035},{"$f":"Computations!$J$17+Computations!$I$17*LN(Computations!D188)","v":450000},{"$f":"Computations!$J$18+Computations!$I$18*Computations!D188+Computations!$H$18*Computations!D188^2","v":450000},{"$f":"Computations!$J$19+Computations!$I$19*Computations!D188+Computations!$H$19*Computations!D188^2+Computations!$G$19*Computations!D188^3","v":450000}]
[135,5.0196216930784521E-2,5.0488064187721005E-2,5.0342140559252763E-2,8.6851939240298479E-2,1.7427242082576067E-3,1215.0281652533263,450000,{"$f":"G189-H189/User_entry!$E$18","v":-284.97183474667372},0,null,{"$f":"HLOOKUP(User_entry!$B$56,Computations!$N$54:$R$1054,Computations!A189+1,FALSE)","v":1215.0281652533263},{"$f":"HLOOKUP(User_entry!$E$56,Computations!$S$54:$W$1054,Computations!A189+1,FALSE)","v":450000},{"$f":"Computations!$F$15+Computations!$E$15*D189","v":1215.0281652533263},{"$f":"EXP(Computations!$F$16)*EXP(Computations!$E$16)^Computations!D189","v":1189.5685939014293},{"$f":"Computations!$F$17+Computations!$E$17*LN(Computations!D189)","v":1244.2799597989488},{"$f":"Computations!$F$18+Computations!$E$18*Computations!D189+Computations!$D$18*Computations!D189^2","v":1191.3900671804292},{"$f":"Computations!$F$19+Computations!$E$19*Computations!D189+Computations!$D$19*Computations!D189^2+Computations!$C$19*Computations!D189^3","v":1191.3900671804292},{"$f":"Computations!$J$15+Computations!$I$15*D189","v":450000},{"$f":"EXP(Computations!$J$16)*EXP(Computations!$I$16)^Computations!D189","v":450000.00000000035},{"$f":"Computations!$J$17+Computations!$I$17*LN(Computations!D189)","v":450000},{"$f":"Computations!$J$18+Computations!$I$18*Computations!D189+Computations!$H$18*Computations!D189^2","v":450000},{"$f":"Computations!$J$19+Computations!$I$19*Computations!D189+Computations!$H$19*Computations!D189^2+Computations!$G$19*Computations!D189^3","v":450000}]
[136,5.0488064187721005E-2,5.0779911444657488E-2,5.0633987816189246E-2,8.8614257247484091E-2,1.762318007185612E-3,1218.8682607393325,450000,{"$f":"G190-H190/User_entry!$E$18","v":-281.13173926066747},0,null,{"$f":"HLOOKUP(User_entry!$B$56,Computations!$N$54:$R$1054,Computations!A190+1,FALSE)","v":1218.8682607393325},{"$f":"HLOOKUP(User_entry!$E$56,Computations!$S$54:$W$1054,Computations!A190+1,FALSE)","v":450000},{"$f":"Computations!$F$15+Computations!$E$15*D190","v":1218.8682607393325},{"$f":"EXP(Computations!$F$16)*EXP(Computations!$E$16)^Computations!D190","v":1192.0366074100582},{"$f":"Computations!$F$17+Computations!$E$17*LN(Computations!D190)","v":1251.6237879993946},{"$f":"Computations!$F$18+Computations!$E$18*Computations!D190+Computations!$D$18*Computations!D190^2","v":1196.6760033104322},{"$f":"Computations!$F$19+Computations!$E$19*Computations!D190+Computations!$D$19*Computations!D190^2+Computations!$C$19*Computations!D190^3","v":1196.6760033104322},{"$f":"Computations!$J$15+Computations!$I$15*D190","v":450000},{"$f":"EXP(Computations!$J$16)*EXP(Computations!$I$16)^Computations!D190","v":450000.00000000035},{"$f":"Computations!$J$17+Computations!$I$17*LN(Computations!D190)","v":450000},{"$f":"Computations!$J$18+Computations!$I$18*Computations!D190+Computations!$H$18*Computations!D190^2","v":450000},{"$f":"Computations!$J$19+Computations!$I$19*Computations!D190+Computations!$H$19*Computations!D190^2+Computations!$G$19*Computations!D190^3","v":450000}]
[137,5.0779911444657488E-2,5.1071758701593972E-2,5.092583507312573E-2,9.0396113257822375E-2,1.7818560103382841E-3,1222.7083562253388,450000,{"$f":"G191-H191/User_entry!$E$18","v":-277.29164377466122},0,null,{"$f":"HLOOKUP(User_entry!$B$56,Computations!$N$54:$R$1054,Computations!A191+1,FALSE)","v":1222.7083562253388},{"$f":"HLOOKUP(User_entry!$E$56,Computations!$S$54:$W$1054,Computations!A191+1,FALSE)","v":450000},{"$f":"Computations!$F$15+Computations!$E$15*D191","v":1222.7083562253388},{"$f":"EXP(Computations!$F$16)*EXP(Computations!$E$16)^Computations!D191","v":1194.5097413385688},{"$f":"Computations!$F$17+Computations!$E$17*LN(Computations!D191)","v":1258.9254088015173},{"$f":"Computations!$F$18+Computations!$E$18*Computations!D191+Computations!$D$18*Computations!D191^2","v":1201.9556301944074},{"$f":"Computations!$F$19+Computations!$E$19*Computations!D191+Computations!$D$19*Computations!D191^2+Computations!$C$19*Computations!D191^3","v":1201.9556301944074},{"$f":"Computations!$J$15+Computations!$I$15*D191","v":450000},{"$f":"EXP(Computations!$J$16)*EXP(Computations!$I$16)^Computations!D191","v":450000.00000000035},{"$f":"Computations!$J$17+Computations!$I$17*LN(Computations!D191)","v":450000},{"$f":"Computations!$J$18+Computations!$I$18*Computations!D191+Computations!$H$18*Computations!D191^2","v":450000},{"$f":"Computations!$J$19+Computations!$I$19*Computations!D191+Computations!$H$19*Computations!D191^2+Computations!$G$19*Computations!D191^3","v":450000}]
[138,5.1071758701593972E-2,5.1363605958530456E-2,5.1217682330062214E-2,9.2197447859378084E-2,1.8013346015557097E-3,1226.5484517113453,450000,{"$f":"G192-H192/User_entry!$E$18","v":-273.45154828865475},0,null,{"$f":"HLOOKUP(User_entry!$B$56,Computations!$N$54:$R$1054,Computations!A192+1,FALSE)","v":1226.5484517113453},{"$f":"HLOOKUP(User_entry!$E$56,Computations!$S$54:$W$1054,Computations!A192+1,FALSE)","v":450000},{"$f":"Computations!$F$15+Computations!$E$15*D192","v":1226.5484517113453},{"$f":"EXP(Computations!$F$16)*EXP(Computations!$E$16)^Computations!D192","v":1196.9880063103631},{"$f":"Computations!$F$17+Computations!$E$17*LN(Computations!D192)","v":1266.1853045938183},{"$f":"Computations!$F$18+Computations!$E$18*Computations!D192+Computations!$D$18*Computations!D192^2","v":1207.2289478323539},{"$f":"Computations!$F$19+Computations!$E$19*Computations!D192+Computations!$D$19*Computations!D192^2+Computations!$C$19*Computations!D192^3","v":1207.2289478323539},{"$f":"Computations!$J$15+Computations!$I$15*D192","v":450000},{"$f":"EXP(Computations!$J$16)*EXP(Computations!$I$16)^Computations!D192","v":450000.00000000035},{"$f":"Computations!$J$17+Computations!$I$17*LN(Computations!D192)","v":450000},{"$f":"Computations!$J$18+Computations!$I$18*Computations!D192+Computations!$H$18*Computations!D192^2","v":450000},{"$f":"Computations!$J$19+Computations!$I$19*Computations!D192+Computations!$H$19*Computations!D192^2+Computations!$G$19*Computations!D192^3","v":450000}]
[139,5.1363605958530456E-2,5.165545321546694E-2,5.1509529586998698E-2,9.4018198059298494E-2,1.8207501999204095E-3,1230.3885471973517,450000,{"$f":"G193-H193/User_entry!$E$18","v":-269.61145280264827},0,null,{"$f":"HLOOKUP(User_entry!$B$56,Computations!$N$54:$R$1054,Computations!A193+1,FALSE)","v":1230.3885471973517},{"$f":"HLOOKUP(User_entry!$E$56,Computations!$S$54:$W$1054,Computations!A193+1,FALSE)","v":450000},{"$f":"Computations!$F$15+Computations!$E$15*D193","v":1230.3885471973517},{"$f":"EXP(Computations!$F$16)*EXP(Computations!$E$16)^Computations!D193","v":1199.4714129708834},{"$f":"Computations!$F$17+Computations!$E$17*LN(Computations!D193)","v":1273.4039495419361},{"$f":"Computations!$F$18+Computations!$E$18*Computations!D193+Computations!$D$18*Computations!D193^2","v":1212.4959562242725},{"$f":"Computations!$F$19+Computations!$E$19*Computations!D193+Computations!$D$19*Computations!D193^2+Computations!$C$19*Computations!D193^3","v":1212.4959562242725},{"$f":"Computations!$J$15+Computations!$I$15*D193","v":450000},{"$f":"EXP(Computations!$J$16)*EXP(Computations!$I$16)^Computations!D193","v":450000.00000000035},{"$f":"Computations!$J$17+Computations!$I$17*LN(Computations!D193)","v":450000},{"$f":"Computations!$J$18+Computations!$I$18*Computations!D193+Computations!$H$18*Computations!D193^2","v":450000},{"$f":"Computations!$J$19+Computations!$I$19*Computations!D193+Computations!$H$19*Computations!D193^2+Computations!$G$19*Computations!D193^3","v":450000}]
[140,5.165545321546694E-2,5.1947300472403424E-2,5.1801376843935182E-2,9.5858297319937974E-2,1.84009926063948E-3,1234.228642683358,450000,{"$f":"G194-H194/User_entry!$E$18","v":-265.77135731664202},0,null,{"$f":"HLOOKUP(User_entry!$B$56,Computations!$N$54:$R$1054,Computations!A194+1,FALSE)","v":1234.228642683358},{"$f":"HLOOKUP(User_entry!$E$56,Computations!$S$54:$W$1054,Computations!A194+1,FALSE)","v":450000},{"$f":"Computations!$F$15+Computations!$E$15*D194","v":1234.228642683358},{"$f":"EXP(Computations!$F$16)*EXP(Computations!$E$16)^Computations!D194","v":1201.9599719876587},{"$f":"Computations!$F$17+Computations!$E$17*LN(Computations!D194)","v":1280.5818097744832},{"$f":"Computations!$F$18+Computations!$E$18*Computations!D194+Computations!$D$18*Computations!D194^2","v":1217.7566553701627},{"$f":"Computations!$F$19+Computations!$E$19*Computations!D194+Computations!$D$19*Computations!D194^2+Computations!$C$19*Computations!D194^3","v":1217.7566553701627},{"$f":"Computations!$J$15+Computations!$I$15*D194","v":450000},{"$f":"EXP(Computations!$J$16)*EXP(Computations!$I$16)^Computations!D194","v":450000.00000000035},{"$f":"Computations!$J$17+Computations!$I$17*LN(Computations!D194)","v":450000},{"$f":"Computations!$J$18+Computations!$I$18*Computations!D194+Computations!$H$18*Computations!D194^2","v":450000},{"$f":"Computations!$J$19+Computations!$I$19*Computations!D194+Computations!$H$19*Computations!D194^2+Computations!$G$19*Computations!D194^3","v":450000}]
[141,5.1947300472403424E-2,5.2239147729339908E-2,5.2093224100871666E-2,9.7717675595833317E-2,1.8593782758953431E-3,1238.0687381693642,450000,{"$f":"G195-H195/User_entry!$E$18","v":-261.93126183063578},0,null,{"$f":"HLOOKUP(User_entry!$B$56,Computations!$N$54:$R$1054,Computations!A195+1,FALSE)","v":1238.0687381693642},{"$f":"HLOOKUP(User_entry!$E$56,Computations!$S$54:$W$1054,Computations!A195+1,FALSE)","v":450000},{"$f":"Computations!$F$15+Computations!$E$15*D195","v":1238.0687381693642},{"$f":"EXP(Computations!$F$16)*EXP(Computations!$E$16)^Computations!D195","v":1204.4536940503501},{"$f":"Computations!$F$17+Computations!$E$17*LN(Computations!D195)","v":1287.7193435636577},{"$f":"Computations!$F$18+Computations!$E$18*Computations!D195+Computations!$D$18*Computations!D195^2","v":1223.0110452700244},{"$f":"Computations!$F$19+Computations!$E$19*Computations!D195+Computations!$D$19*Computations!D195^2+Computations!$C$19*Computations!D195^3","v":1223.0110452700244},{"$f":"Computations!$J$15+Computations!$I$15*D195","v":450000},{"$f":"EXP(Computations!$J$16)*EXP(Computations!$I$16)^Computations!D195","v":450000.00000000035},{"$f":"Computations!$J$17+Computations!$I$17*LN(Computations!D195)","v":450000},{"$f":"Computations!$J$18+Computations!$I$18*Computations!D195+Computations!$H$18*Computations!D195^2","v":450000},{"$f":"Computations!$J$19+Computations!$I$19*Computations!D195+Computations!$H$19*Computations!D195^2+Computations!$G$19*Computations!D195^3","v":450000}]
[142,5.2239147729339908E-2,5.2530994986276391E-2,5.2385071357808149E-2,9.9596259371501017E-2,1.8785837756676999E-3,1241.9088336553707,450000,{"$f":"G196-H196/User_entry!$E$18","v":-258.0911663446293},0,null,{"$f":"HLOOKUP(User_entry!$B$56,Computations!$N$54:$R$1054,Computations!A196+1,FALSE)","v":1241.9088336553707},{"$f":"HLOOKUP(User_entry!$E$56,Computations!$S$54:$W$1054,Computations!A196+1,FALSE)","v":450000},{"$f":"Computations!$F$15+Computations!$E$15*D196","v":1241.9088336553707},{"$f":"EXP(Computations!$F$16)*EXP(Computations!$E$16)^Computations!D196","v":1206.9525898707961},{"$f":"Computations!$F$17+Computations!$E$17*LN(Computations!D196)","v":1294.8170015008172},{"$f":"Computations!$F$18+Computations!$E$18*Computations!D196+Computations!$D$18*Computations!D196^2","v":1228.2591259238582},{"$f":"Computations!$F$19+Computations!$E$19*Computations!D196+Computations!$D$19*Computations!D196^2+Computations!$C$19*Computations!D196^3","v":1228.2591259238582},{"$f":"Computations!$J$15+Computations!$I$15*D196","v":450000},{"$f":"EXP(Computations!$J$16)*EXP(Computations!$I$16)^Computations!D196","v":450000.00000000035},{"$f":"Computations!$J$17+Computations!$I$17*LN(Computations!D196)","v":450000},{"$f":"Computations!$J$18+Computations!$I$18*Computations!D196+Computations!$H$18*Computations!D196^2","v":450000},{"$f":"Computations!$J$19+Computations!$I$19*Computations!D196+Computations!$H$19*Computations!D196^2+Computations!$G$19*Computations!D196^3","v":450000}]
[143,5.2530994986276391E-2,5.2822842243212875E-2,5.2676918614744633E-2,0.1014939717000289,1.8977123285278813E-3,1245.7489291413772,450000,{"$f":"G197-H197/User_entry!$E$18","v":-254.25107085862282},0,null,{"$f":"HLOOKUP(User_entry!$B$56,Computations!$N$54:$R$1054,Computations!A197+1,FALSE)","v":1245.7489291413772},{"$f":"HLOOKUP(User_entry!$E$56,Computations!$S$54:$W$1054,Computations!A197+1,FALSE)","v":450000},{"$f":"Computations!$F$15+Computations!$E$15*D197","v":1245.7489291413772},{"$f":"EXP(Computations!$F$16)*EXP(Computations!$E$16)^Computations!D197","v":1209.4566701830599},{"$f":"Computations!$F$17+Computations!$E$17*LN(Computations!D197)","v":1301.875226667169},{"$f":"Computations!$F$18+Computations!$E$18*Computations!D197+Computations!$D$18*Computations!D197^2","v":1233.5008973316635},{"$f":"Computations!$F$19+Computations!$E$19*Computations!D197+Computations!$D$19*Computations!D197^2+Computations!$C$19*Computations!D197^3","v":1233.5008973316635},{"$f":"Computations!$J$15+Computations!$I$15*D197","v":450000},{"$f":"EXP(Computations!$J$16)*EXP(Computations!$I$16)^Computations!D197","v":450000.00000000035},{"$f":"Computations!$J$17+Computations!$I$17*LN(Computations!D197)","v":450000},{"$f":"Computations!$J$18+Computations!$I$18*Computations!D197+Computations!$H$18*Computations!D197^2","v":450000},{"$f":"Computations!$J$19+Computations!$I$19*Computations!D197+Computations!$H$19*Computations!D197^2+Computations!$G$19*Computations!D197^3","v":450000}]
[144,5.2822842243212875E-2,5.3114689500149359E-2,5.2968765871681117E-2,0.10341073224243044,1.9167605424015438E-3,1249.5890246273834,450000,{"$f":"G198-H198/User_entry!$E$18","v":-250.41097537261658},0,null,{"$f":"HLOOKUP(User_entry!$B$56,Computations!$N$54:$R$1054,Computations!A198+1,FALSE)","v":1249.5890246273834},{"$f":"HLOOKUP(User_entry!$E$56,Computations!$S$54:$W$1054,Computations!A198+1,FALSE)","v":450000},{"$f":"Computations!$F$15+Computations!$E$15*D198","v":1249.5890246273834},{"$f":"EXP(Computations!$F$16)*EXP(Computations!$E$16)^Computations!D198","v":1211.9659457434741},{"$f":"Computations!$F$17+Computations!$E$17*LN(Computations!D198)","v":1308.8944547997471},{"$f":"Computations!$F$18+Computations!$E$18*Computations!D198+Computations!$D$18*Computations!D198^2","v":1238.7363594934409},{"$f":"Computations!$F$19+Computations!$E$19*Computations!D198+Computations!$D$19*Computations!D198^2+Computations!$C$19*Computations!D198^3","v":1238.7363594934409},{"$f":"Computations!$J$15+Computations!$I$15*D198","v":450000},{"$f":"EXP(Computations!$J$16)*EXP(Computations!$I$16)^Computations!D198","v":450000.00000000035},{"$f":"Computations!$J$17+Computations!$I$17*LN(Computations!D198)","v":450000},{"$f":"Computations!$J$18+Computations!$I$18*Computations!D198+Computations!$H$18*Computations!D198^2","v":450000},{"$f":"Computations!$J$19+Computations!$I$19*Computations!D198+Computations!$H$19*Computations!D198^2+Computations!$G$19*Computations!D198^3","v":450000}]
[145,5.3114689500149359E-2,5.3406536757085843E-2,5.3260613128617601E-2,0.10534645730773586,1.9357250653054131E-3,1253.4291201133897,450000,{"$f":"G199-H199/User_entry!$E$18","v":-246.57087988661033},0,null,{"$f":"HLOOKUP(User_entry!$B$56,Computations!$N$54:$R$1054,Computations!A199+1,FALSE)","v":1253.4291201133897},{"$f":"HLOOKUP(User_entry!$E$56,Computations!$S$54:$W$1054,Computations!A199+1,FALSE)","v":450000},{"$f":"Computations!$F$15+Computations!$E$15*D199","v":1253.4291201133897},{"$f":"EXP(Computations!$F$16)*EXP(Computations!$E$16)^Computations!D199","v":1214.4804273306879},{"$f":"Computations!$F$17+Computations!$E$17*LN(Computations!D199)","v":1315.8751144528305},{"$f":"Computations!$F$18+Computations!$E$18*Computations!D199+Computations!$D$18*Computations!D199^2","v":1243.9655124091896},{"$f":"Computations!$F$19+Computations!$E$19*Computations!D199+Computations!$D$19*Computations!D199^2+Computations!$C$19*Computations!D199^3","v":1243.9655124091896},{"$f":"Computations!$J$15+Computations!$I$15*D199","v":450000},{"$f":"EXP(Computations!$J$16)*EXP(Computations!$I$16)^Computations!D199","v":450000.00000000035},{"$f":"Computations!$J$17+Computations!$I$17*LN(Computations!D199)","v":450000},{"$f":"Computations!$J$18+Computations!$I$18*Computations!D199+Computations!$H$18*Computations!D199^2","v":450000},{"$f":"Computations!$J$19+Computations!$I$19*Computations!D199+Computations!$H$19*Computations!D199^2+Computations!$G$19*Computations!D199^3","v":450000}]
[146,5.3406536757085843E-2,5.3698384014022327E-2,5.3552460385554085E-2,0.10730105989378842,1.9546025860525673E-3,1257.2692155993961,450000,{"$f":"G200-H200/User_entry!$E$18","v":-242.73078440060385},0,null,{"$f":"HLOOKUP(User_entry!$B$56,Computations!$N$54:$R$1054,Computations!A200+1,FALSE)","v":1257.2692155993961},{"$f":"HLOOKUP(User_entry!$E$56,Computations!$S$54:$W$1054,Computations!A200+1,FALSE)","v":450000},{"$f":"Computations!$F$15+Computations!$E$15*D200","v":1257.2692155993961},{"$f":"EXP(Computations!$F$16)*EXP(Computations!$E$16)^Computations!D200","v":1217.0001257457134},{"$f":"Computations!$F$17+Computations!$E$17*LN(Computations!D200)","v":1322.8176271549478},{"$f":"Computations!$F$18+Computations!$E$18*Computations!D200+Computations!$D$18*Computations!D200^2","v":1249.1883560789106},{"$f":"Computations!$F$19+Computations!$E$19*Computations!D200+Computations!$D$19*Computations!D200^2+Computations!$C$19*Computations!D200^3","v":1249.1883560789106},{"$f":"Computations!$J$15+Computations!$I$15*D200","v":450000},{"$f":"EXP(Computations!$J$16)*EXP(Computations!$I$16)^Computations!D200","v":450000.00000000035},{"$f":"Computations!$J$17+Computations!$I$17*LN(Computations!D200)","v":450000},{"$f":"Computations!$J$18+Computations!$I$18*Computations!D200+Computations!$H$18*Computations!D200^2","v":450000},{"$f":"Computations!$J$19+Computations!$I$19*Computations!D200+Computations!$H$19*Computations!D200^2+Computations!$G$19*Computations!D200^3","v":450000}]
[147,5.3698384014022327E-2,5.3990231270958811E-2,5.3844307642490569E-2,0.10927444972872165,1.9733898349332257E-3,1261.1093110854026,450000,{"$f":"G201-H201/User_entry!$E$18","v":-238.89068891459738},0,null,{"$f":"HLOOKUP(User_entry!$B$56,Computations!$N$54:$R$1054,Computations!A201+1,FALSE)","v":1261.1093110854026},{"$f":"HLOOKUP(User_entry!$E$56,Computations!$S$54:$W$1054,Computations!A201+1,FALSE)","v":450000},{"$f":"Computations!$F$15+Computations!$E$15*D201","v":1261.1093110854026},{"$f":"EXP(Computations!$F$16)*EXP(Computations!$E$16)^Computations!D201","v":1219.5250518119713},{"$f":"Computations!$F$17+Computations!$E$17*LN(Computations!D201)","v":1329.7224075616186},{"$f":"Computations!$F$18+Computations!$E$18*Computations!D201+Computations!$D$18*Computations!D201^2","v":1254.4048905026029},{"$f":"Computations!$F$19+Computations!$E$19*Computations!D201+Computations!$D$19*Computations!D201^2+Computations!$C$19*Computations!D201^3","v":1254.4048905026029},{"$f":"Computations!$J$15+Computations!$I$15*D201","v":450000},{"$f":"EXP(Computations!$J$16)*EXP(Computations!$I$16)^Computations!D201","v":450000.00000000035},{"$f":"Computations!$J$17+Computations!$I$17*LN(Computations!D201)","v":450000},{"$f":"Computations!$J$18+Computations!$I$18*Computations!D201+Computations!$H$18*Computations!D201^2","v":450000},{"$f":"Computations!$J$19+Computations!$I$19*Computations!D201+Computations!$H$19*Computations!D201^2+Computations!$G$19*Computations!D201^3","v":450000}]
[148,5.3990231270958811E-2,5.4282078527895294E-2,5.4136154899427053E-2,0.11126653331308524,1.9920835843635909E-3,1264.9494065714089,450000,{"$f":"G202-H202/User_entry!$E$18","v":-235.05059342859113},0,null,{"$f":"HLOOKUP(User_entry!$B$56,Computations!$N$54:$R$1054,Computations!A202+1,FALSE)","v":1264.9494065714089},{"$f":"HLOOKUP(User_entry!$E$56,Computations!$S$54:$W$1054,Computations!A202+1,FALSE)","v":450000},{"$f":"Computations!$F$15+Computations!$E$15*D202","v":1264.9494065714089},{"$f":"EXP(Computations!$F$16)*EXP(Computations!$E$16)^Computations!D202","v":1222.0552163753377},{"$f":"Computations!$F$17+Computations!$E$17*LN(Computations!D202)","v":1336.5898636039651},{"$f":"Computations!$F$18+Computations!$E$18*Computations!D202+Computations!$D$18*Computations!D202^2","v":1259.6151156802673},{"$f":"Computations!$F$19+Computations!$E$19*Computations!D202+Computations!$D$19*Computations!D202^2+Computations!$C$19*Computations!D202^3","v":1259.6151156802673},{"$f":"Computations!$J$15+Computations!$I$15*D202","v":450000},{"$f":"EXP(Computations!$J$16)*EXP(Computations!$I$16)^Computations!D202","v":450000.00000000035},{"$f":"Computations!$J$17+Computations!$I$17*LN(Computations!D202)","v":450000},{"$f":"Computations!$J$18+Computations!$I$18*Computations!D202+Computations!$H$18*Computations!D202^2","v":450000},{"$f":"Computations!$J$19+Computations!$I$19*Computations!D202+Computations!$H$19*Computations!D202^2+Computations!$G$19*Computations!D202^3","v":450000}]
[149,5.4282078527895294E-2,5.4573925784831778E-2,5.4428002156363536E-2,0.11327721396259566,2.0106806495104185E-3,1268.7895020574151,450000,{"$f":"G203-H203/User_entry!$E$18","v":-231.21049794258488},0,null,{"$f":"HLOOKUP(User_entry!$B$56,Computations!$N$54:$R$1054,Computations!A203+1,FALSE)","v":1268.7895020574151},{"$f":"HLOOKUP(User_entry!$E$56,Computations!$S$54:$W$1054,Computations!A203+1,FALSE)","v":450000},{"$f":"Computations!$F$15+Computations!$E$15*D203","v":1268.7895020574151},{"$f":"EXP(Computations!$F$16)*EXP(Computations!$E$16)^Computations!D203","v":1224.5906303041916},{"$f":"Computations!$F$17+Computations!$E$17*LN(Computations!D203)","v":1343.4203966333275},{"$f":"Computations!$F$18+Computations!$E$18*Computations!D203+Computations!$D$18*Computations!D203^2","v":1264.819031611903},{"$f":"Computations!$F$19+Computations!$E$19*Computations!D203+Computations!$D$19*Computations!D203^2+Computations!$C$19*Computations!D203^3","v":1264.819031611903},{"$f":"Computations!$J$15+Computations!$I$15*D203","v":450000},{"$f":"EXP(Computations!$J$16)*EXP(Computations!$I$16)^Computations!D203","v":450000.00000000035},{"$f":"Computations!$J$17+Computations!$I$17*LN(Computations!D203)","v":450000},{"$f":"Computations!$J$18+Computations!$I$18*Computations!D203+Computations!$H$18*Computations!D203^2","v":450000},{"$f":"Computations!$J$19+Computations!$I$19*Computations!D203+Computations!$H$19*Computations!D203^2+Computations!$G$19*Computations!D203^3","v":450000}]
[150,5.4573925784831778E-2,5.4865773041768262E-2,5.471984941330002E-2,0.11530639185148149,2.0291778888858331E-3,1272.6295975434216,450000,{"$f":"G204-H204/User_entry!$E$18","v":-227.3704024565784},0,null,{"$f":"HLOOKUP(User_entry!$B$56,Computations!$N$54:$R$1054,Computations!A204+1,FALSE)","v":1272.6295975434216},{"$f":"HLOOKUP(User_entry!$E$56,Computations!$S$54:$W$1054,Computations!A204+1,FALSE)","v":450000},{"$f":"Computations!$F$15+Computations!$E$15*D204","v":1272.6295975434216},{"$f":"EXP(Computations!$F$16)*EXP(Computations!$E$16)^Computations!D204","v":1227.1313044894598},{"$f":"Computations!$F$17+Computations!$E$17*LN(Computations!D204)","v":1350.2144015620147},{"$f":"Computations!$F$18+Computations!$E$18*Computations!D204+Computations!$D$18*Computations!D204^2","v":1270.016638297511},{"$f":"Computations!$F$19+Computations!$E$19*Computations!D204+Computations!$D$19*Computations!D204^2+Computations!$C$19*Computations!D204^3","v":1270.016638297511},{"$f":"Computations!$J$15+Computations!$I$15*D204","v":450000},{"$f":"EXP(Computations!$J$16)*EXP(Computations!$I$16)^Computations!D204","v":450000.00000000035},{"$f":"Computations!$J$17+Computations!$I$17*LN(Computations!D204)","v":450000},{"$f":"Computations!$J$18+Computations!$I$18*Computations!D204+Computations!$H$18*Computations!D204^2","v":450000},{"$f":"Computations!$J$19+Computations!$I$19*Computations!D204+Computations!$H$19*Computations!D204^2+Computations!$G$19*Computations!D204^3","v":450000}]
[151,5.4865773041768262E-2,5.5157620298704746E-2,5.5011696670236504E-2,0.11735396405639813,2.0475722049166367E-3,1276.4696930294281,450000,{"$f":"G205-H205/User_entry!$E$18","v":-223.53030697057193},0,null,{"$f":"HLOOKUP(User_entry!$B$56,Computations!$N$54:$R$1054,Computations!A205+1,FALSE)","v":1276.4696930294281},{"$f":"HLOOKUP(User_entry!$E$56,Computations!$S$54:$W$1054,Computations!A205+1,FALSE)","v":450000},{"$f":"Computations!$F$15+Computations!$E$15*D205","v":1276.4696930294281},{"$f":"EXP(Computations!$F$16)*EXP(Computations!$E$16)^Computations!D205","v":1229.6772498446651},{"$f":"Computations!$F$17+Computations!$E$17*LN(Computations!D205)","v":1356.9722670003102},{"$f":"Computations!$F$18+Computations!$E$18*Computations!D205+Computations!$D$18*Computations!D205^2","v":1275.2079357370903},{"$f":"Computations!$F$19+Computations!$E$19*Computations!D205+Computations!$D$19*Computations!D205^2+Computations!$C$19*Computations!D205^3","v":1275.2079357370903},{"$f":"Computations!$J$15+Computations!$I$15*D205","v":450000},{"$f":"EXP(Computations!$J$16)*EXP(Computations!$I$16)^Computations!D205","v":450000.00000000035},{"$f":"Computations!$J$17+Computations!$I$17*LN(Computations!D205)","v":450000},{"$f":"Computations!$J$18+Computations!$I$18*Computations!D205+Computations!$H$18*Computations!D205^2","v":450000},{"$f":"Computations!$J$19+Computations!$I$19*Computations!D205+Computations!$H$19*Computations!D205^2+Computations!$G$19*Computations!D205^3","v":450000}]
[152,5.5157620298704746E-2,5.544946755564123E-2,5.5303543927172988E-2,0.11941982460088363,2.065860544485501E-3,1280.3097885154343,450000,{"$f":"G206-H206/User_entry!$E$18","v":-219.69021148456568},0,null,{"$f":"HLOOKUP(User_entry!$B$56,Computations!$N$54:$R$1054,Computations!A206+1,FALSE)","v":1280.3097885154343},{"$f":"HLOOKUP(User_entry!$E$56,Computations!$S$54:$W$1054,Computations!A206+1,FALSE)","v":450000},{"$f":"Computations!$F$15+Computations!$E$15*D206","v":1280.3097885154343},{"$f":"EXP(Computations!$F$16)*EXP(Computations!$E$16)^Computations!D206","v":1232.2284773059725},{"$f":"Computations!$F$17+Computations!$E$17*LN(Computations!D206)","v":1363.6943753898527},{"$f":"Computations!$F$18+Computations!$E$18*Computations!D206+Computations!$D$18*Computations!D206^2","v":1280.3929239306417},{"$f":"Computations!$F$19+Computations!$E$19*Computations!D206+Computations!$D$19*Computations!D206^2+Computations!$C$19*Computations!D206^3","v":1280.3929239306417},{"$f":"Computations!$J$15+Computations!$I$15*D206","v":450000},{"$f":"EXP(Computations!$J$16)*EXP(Computations!$I$16)^Computations!D206","v":450000.00000000035},{"$f":"Computations!$J$17+Computations!$I$17*LN(Computations!D206)","v":450000},{"$f":"Computations!$J$18+Computations!$I$18*Computations!D206+Computations!$H$18*Computations!D206^2","v":450000},{"$f":"Computations!$J$19+Computations!$I$19*Computations!D206+Computations!$H$19*Computations!D206^2+Computations!$G$19*Computations!D206^3","v":450000}]
[153,5.544946755564123E-2,5.5741314812577714E-2,5.5595391184109472E-2,0.12150386450033068,2.0840398994470544E-3,1284.1498840014406,450000,{"$f":"G207-H207/User_entry!$E$18","v":-215.85011599855943},0,null,{"$f":"HLOOKUP(User_entry!$B$56,Computations!$N$54:$R$1054,Computations!A207+1,FALSE)","v":1284.1498840014406},{"$f":"HLOOKUP(User_entry!$E$56,Computations!$S$54:$W$1054,Computations!A207+1,FALSE)","v":450000},{"$f":"Computations!$F$15+Computations!$E$15*D207","v":1284.1498840014406},{"$f":"EXP(Computations!$F$16)*EXP(Computations!$E$16)^Computations!D207","v":1234.7849978322367},{"$f":"Computations!$F$17+Computations!$E$17*LN(Computations!D207)","v":1370.3811031335076},{"$f":"Computations!$F$18+Computations!$E$18*Computations!D207+Computations!$D$18*Computations!D207^2","v":1285.5716028781644},{"$f":"Computations!$F$19+Computations!$E$19*Computations!D207+Computations!$D$19*Computations!D207^2+Computations!$C$19*Computations!D207^3","v":1285.5716028781644},{"$f":"Computations!$J$15+Computations!$I$15*D207","v":450000},{"$f":"EXP(Computations!$J$16)*EXP(Computations!$I$16)^Computations!D207","v":450000.00000000035},{"$f":"Computations!$J$17+Computations!$I$17*LN(Computations!D207)","v":450000},{"$f":"Computations!$J$18+Computations!$I$18*Computations!D207+Computations!$H$18*Computations!D207^2","v":450000},{"$f":"Computations!$J$19+Computations!$I$19*Computations!D207+Computations!$H$19*Computations!D207^2+Computations!$G$19*Computations!D207^3","v":450000}]
[154,5.5741314812577714E-2,5.6033162069514197E-2,5.5887238441045956E-2,0.1236059718074472,2.1021073071165186E-3,1287.989979487447,450000,{"$f":"G208-H208/User_entry!$E$18","v":-212.01002051255296},0,null,{"$f":"HLOOKUP(User_entry!$B$56,Computations!$N$54:$R$1054,Computations!A208+1,FALSE)","v":1287.989979487447},{"$f":"HLOOKUP(User_entry!$E$56,Computations!$S$54:$W$1054,Computations!A208+1,FALSE)","v":450000},{"$f":"Computations!$F$15+Computations!$E$15*D208","v":1287.989979487447},{"$f":"EXP(Computations!$F$16)*EXP(Computations!$E$16)^Computations!D208","v":1237.3468224050489},{"$f":"Computations!$F$17+Computations!$E$17*LN(Computations!D208)","v":1377.0328207218404},{"$f":"Computations!$F$18+Computations!$E$18*Computations!D208+Computations!$D$18*Computations!D208^2","v":1290.7439725796594},{"$f":"Computations!$F$19+Computations!$E$19*Computations!D208+Computations!$D$19*Computations!D208^2+Computations!$C$19*Computations!D208^3","v":1290.7439725796594},{"$f":"Computations!$J$15+Computations!$I$15*D208","v":450000},{"$f":"EXP(Computations!$J$16)*EXP(Computations!$I$16)^Computations!D208","v":450000.00000000035},{"$f":"Computations!$J$17+Computations!$I$17*LN(Computations!D208)","v":450000},{"$f":"Computations!$J$18+Computations!$I$18*Computations!D208+Computations!$H$18*Computations!D208^2","v":450000},{"$f":"Computations!$J$19+Computations!$I$19*Computations!D208+Computations!$H$19*Computations!D208^2+Computations!$G$19*Computations!D208^3","v":450000}]
[155,5.6033162069514197E-2,5.6325009326450681E-2,5.6179085697982439E-2,0.12572603165817983,2.1200598507326307E-3,1291.8300749734535,450000,{"$f":"G209-H209/User_entry!$E$18","v":-208.16992502654648},0,null,{"$f":"HLOOKUP(User_entry!$B$56,Computations!$N$54:$R$1054,Computations!A209+1,FALSE)","v":1291.8300749734535},{"$f":"HLOOKUP(User_entry!$E$56,Computations!$S$54:$W$1054,Computations!A209+1,FALSE)","v":450000},{"$f":"Computations!$F$15+Computations!$E$15*D209","v":1291.8300749734535},{"$f":"EXP(Computations!$F$16)*EXP(Computations!$E$16)^Computations!D209","v":1239.9139620287835},{"$f":"Computations!$F$17+Computations!$E$17*LN(Computations!D209)","v":1383.649892856291},{"$f":"Computations!$F$18+Computations!$E$18*Computations!D209+Computations!$D$18*Computations!D209^2","v":1295.9100330351257},{"$f":"Computations!$F$19+Computations!$E$19*Computations!D209+Computations!$D$19*Computations!D209^2+Computations!$C$19*Computations!D209^3","v":1295.9100330351257},{"$f":"Computations!$J$15+Computations!$I$15*D209","v":450000},{"$f":"EXP(Computations!$J$16)*EXP(Computations!$I$16)^Computations!D209","v":450000.00000000035},{"$f":"Computations!$J$17+Computations!$I$17*LN(Computations!D209)","v":450000},{"$f":"Computations!$J$18+Computations!$I$18*Computations!D209+Computations!$H$18*Computations!D209^2","v":450000},{"$f":"Computations!$J$19+Computations!$I$19*Computations!D209+Computations!$H$19*Computations!D209^2+Computations!$G$19*Computations!D209^3","v":450000}]
[156,5.6325009326450681E-2,5.6616856583387165E-2,5.6470932954918923E-2,0.12786392631807642,2.1378946598965831E-3,1295.6701704594598,450000,{"$f":"G210-H210/User_entry!$E$18","v":-204.32982954054023},0,null,{"$f":"HLOOKUP(User_entry!$B$56,Computations!$N$54:$R$1054,Computations!A210+1,FALSE)","v":1295.6701704594598},{"$f":"HLOOKUP(User_entry!$E$56,Computations!$S$54:$W$1054,Computations!A210+1,FALSE)","v":450000},{"$f":"Computations!$F$15+Computations!$E$15*D210","v":1295.6701704594598},{"$f":"EXP(Computations!$F$16)*EXP(Computations!$E$16)^Computations!D210","v":1242.4864277306465},{"$f":"Computations!$F$17+Computations!$E$17*LN(Computations!D210)","v":1390.2326785691616},{"$f":"Computations!$F$18+Computations!$E$18*Computations!D210+Computations!$D$18*Computations!D210^2","v":1301.0697842445643},{"$f":"Computations!$F$19+Computations!$E$19*Computations!D210+Computations!$D$19*Computations!D210^2+Computations!$C$19*Computations!D210^3","v":1301.0697842445643},{"$f":"Computations!$J$15+Computations!$I$15*D210","v":450000},{"$f":"EXP(Computations!$J$16)*EXP(Computations!$I$16)^Computations!D210","v":450000.00000000035},{"$f":"Computations!$J$17+Computations!$I$17*LN(Computations!D210)","v":450000},{"$f":"Computations!$J$18+Computations!$I$18*Computations!D210+Computations!$H$18*Computations!D210^2","v":450000},{"$f":"Computations!$J$19+Computations!$I$19*Computations!D210+Computations!$H$19*Computations!D210^2+Computations!$G$19*Computations!D210^3","v":450000}]
[157,5.6616856583387165E-2,5.6908703840323649E-2,5.6762780211855407E-2,0.13001953522905974,2.1556089109833199E-3,1299.510265945466,450000,{"$f":"G211-H211/User_entry!$E$18","v":-200.48973405453398},0,null,{"$f":"HLOOKUP(User_entry!$B$56,Computations!$N$54:$R$1054,Computations!A211+1,FALSE)","v":1299.510265945466},{"$f":"HLOOKUP(User_entry!$E$56,Computations!$S$54:$W$1054,Computations!A211+1,FALSE)","v":450000},{"$f":"Computations!$F$15+Computations!$E$15*D211","v":1299.510265945466},{"$f":"EXP(Computations!$F$16)*EXP(Computations!$E$16)^Computations!D211","v":1245.0642305607212},{"$f":"Computations!$F$17+Computations!$E$17*LN(Computations!D211)","v":1396.7815313405122},{"$f":"Computations!$F$18+Computations!$E$18*Computations!D211+Computations!$D$18*Computations!D211^2","v":1306.223226207974},{"$f":"Computations!$F$19+Computations!$E$19*Computations!D211+Computations!$D$19*Computations!D211^2+Computations!$C$19*Computations!D211^3","v":1306.223226207974},{"$f":"Computations!$J$15+Computations!$I$15*D211","v":450000},{"$f":"EXP(Computations!$J$16)*EXP(Computations!$I$16)^Computations!D211","v":450000.00000000035},{"$f":"Computations!$J$17+Computations!$I$17*LN(Computations!D211)","v":450000},{"$f":"Computations!$J$18+Computations!$I$18*Computations!D211+Computations!$H$18*Computations!D211^2","v":450000},{"$f":"Computations!$J$19+Computations!$I$19*Computations!D211+Computations!$H$19*Computations!D211^2+Computations!$G$19*Computations!D211^3","v":450000}]
[158,5.6908703840323649E-2,5.7200551097260133E-2,5.7054627468791891E-2,0.13219273505658935,2.1731998275296149E-3,1303.3503614314725,450000,{"$f":"G212-H212/User_entry!$E$18","v":-196.64963856852751},0,null,{"$f":"HLOOKUP(User_entry!$B$56,Computations!$N$54:$R$1054,Computations!A212+1,FALSE)","v":1303.3503614314725},{"$f":"HLOOKUP(User_entry!$E$56,Computations!$S$54:$W$1054,Computations!A212+1,FALSE)","v":450000},{"$f":"Computations!$F$15+Computations!$E$15*D212","v":1303.3503614314725},{"$f":"EXP(Computations!$F$16)*EXP(Computations!$E$16)^Computations!D212","v":1247.6473815920178},{"$f":"Computations!$F$17+Computations!$E$17*LN(Computations!D212)","v":1403.2967992120534},{"$f":"Computations!$F$18+Computations!$E$18*Computations!D212+Computations!$D$18*Computations!D212^2","v":1311.370358925356},{"$f":"Computations!$F$19+Computations!$E$19*Computations!D212+Computations!$D$19*Computations!D212^2+Computations!$C$19*Computations!D212^3","v":1311.370358925356},{"$f":"Computations!$J$15+Computations!$I$15*D212","v":450000},{"$f":"EXP(Computations!$J$16)*EXP(Computations!$I$16)^Computations!D212","v":450000.00000000035},{"$f":"Computations!$J$17+Computations!$I$17*LN(Computations!D212)","v":450000},{"$f":"Computations!$J$18+Computations!$I$18*Computations!D212+Computations!$H$18*Computations!D212^2","v":450000},{"$f":"Computations!$J$19+Computations!$I$19*Computations!D212+Computations!$H$19*Computations!D212^2+Computations!$G$19*Computations!D212^3","v":450000}]
[159,5.7200551097260133E-2,5.7492398354196617E-2,5.7346474725728375E-2,0.13438339973718663,2.1906646805972818E-3,1307.190456917479,450000,{"$f":"G213-H213/User_entry!$E$18","v":-192.80954308252103},0,null,{"$f":"HLOOKUP(User_entry!$B$56,Computations!$N$54:$R$1054,Computations!A213+1,FALSE)","v":1307.190456917479},{"$f":"HLOOKUP(User_entry!$E$56,Computations!$S$54:$W$1054,Computations!A213+1,FALSE)","v":450000},{"$f":"Computations!$F$15+Computations!$E$15*D213","v":1307.190456917479},{"$f":"EXP(Computations!$F$16)*EXP(Computations!$E$16)^Computations!D213","v":1250.235891920519},{"$f":"Computations!$F$17+Computations!$E$17*LN(Computations!D213)","v":1409.7788248981419},{"$f":"Computations!$F$18+Computations!$E$18*Computations!D213+Computations!$D$18*Computations!D213^2","v":1316.5111823967093},{"$f":"Computations!$F$19+Computations!$E$19*Computations!D213+Computations!$D$19*Computations!D213^2+Computations!$C$19*Computations!D213^3","v":1316.5111823967093},{"$f":"Computations!$J$15+Computations!$I$15*D213","v":450000},{"$f":"EXP(Computations!$J$16)*EXP(Computations!$I$16)^Computations!D213","v":450000.00000000035},{"$f":"Computations!$J$17+Computations!$I$17*LN(Computations!D213)","v":450000},{"$f":"Computations!$J$18+Computations!$I$18*Computations!D213+Computations!$H$18*Computations!D213^2","v":450000},{"$f":"Computations!$J$19+Computations!$I$19*Computations!D213+Computations!$H$19*Computations!D213^2+Computations!$G$19*Computations!D213^3","v":450000}]
[160,5.7492398354196617E-2,5.77842456111331E-2,5.7638321982664859E-2,0.13659140052629826,2.2080007891116249E-3,1311.0305524034852,450000,{"$f":"G214-H214/User_entry!$E$18","v":-188.96944759651478},0,null,{"$f":"HLOOKUP(User_entry!$B$56,Computations!$N$54:$R$1054,Computations!A214+1,FALSE)","v":1311.0305524034852},{"$f":"HLOOKUP(User_entry!$E$56,Computations!$S$54:$W$1054,Computations!A214+1,FALSE)","v":450000},{"$f":"Computations!$F$15+Computations!$E$15*D214","v":1311.0305524034852},{"$f":"EXP(Computations!$F$16)*EXP(Computations!$E$16)^Computations!D214","v":1252.8297726652288},{"$f":"Computations!$F$17+Computations!$E$17*LN(Computations!D214)","v":1416.2279458939506},{"$f":"Computations!$F$18+Computations!$E$18*Computations!D214+Computations!$D$18*Computations!D214^2","v":1321.6456966220346},{"$f":"Computations!$F$19+Computations!$E$19*Computations!D214+Computations!$D$19*Computations!D214^2+Computations!$C$19*Computations!D214^3","v":1321.6456966220346},{"$f":"Computations!$J$15+Computations!$I$15*D214","v":450000},{"$f":"EXP(Computations!$J$16)*EXP(Computations!$I$16)^Computations!D214","v":450000.00000000035},{"$f":"Computations!$J$17+Computations!$I$17*LN(Computations!D214)","v":450000},{"$f":"Computations!$J$18+Computations!$I$18*Computations!D214+Computations!$H$18*Computations!D214^2","v":450000},{"$f":"Computations!$J$19+Computations!$I$19*Computations!D214+Computations!$H$19*Computations!D214^2+Computations!$G$19*Computations!D214^3","v":450000}]
[161,5.77842456111331E-2,5.8076092868069584E-2,5.7930169239601342E-2,0.13881660604647461,2.2252055201763543E-3,1314.8706478894915,450000,{"$f":"G215-H215/User_entry!$E$18","v":-185.12935211050853},0,null,{"$f":"HLOOKUP(User_entry!$B$56,Computations!$N$54:$R$1054,Computations!A215+1,FALSE)","v":1314.8706478894915},{"$f":"HLOOKUP(User_entry!$E$56,Computations!$S$54:$W$1054,Computations!A215+1,FALSE)","v":450000},{"$f":"Computations!$F$15+Computations!$E$15*D215","v":1314.8706478894915},{"$f":"EXP(Computations!$F$16)*EXP(Computations!$E$16)^Computations!D215","v":1255.4290349682201},{"$f":"Computations!$F$17+Computations!$E$17*LN(Computations!D215)","v":1422.6444945809103},{"$f":"Computations!$F$18+Computations!$E$18*Computations!D215+Computations!$D$18*Computations!D215^2","v":1326.7739016013315},{"$f":"Computations!$F$19+Computations!$E$19*Computations!D215+Computations!$D$19*Computations!D215^2+Computations!$C$19*Computations!D215^3","v":1326.7739016013315},{"$f":"Computations!$J$15+Computations!$I$15*D215","v":450000},{"$f":"EXP(Computations!$J$16)*EXP(Computations!$I$16)^Computations!D215","v":450000.00000000035},{"$f":"Computations!$J$17+Computations!$I$17*LN(Computations!D215)","v":450000},{"$f":"Computations!$J$18+Computations!$I$18*Computations!D215+Computations!$H$18*Computations!D215^2","v":450000},{"$f":"Computations!$J$19+Computations!$I$19*Computations!D215+Computations!$H$19*Computations!D215^2+Computations!$G$19*Computations!D215^3","v":450000}]
[162,5.8076092868069584E-2,5.8367940125006068E-2,5.8222016496537826E-2,0.14105888233583994,2.2422762893653247E-3,1318.7107433754979,450000,{"$f":"G216-H216/User_entry!$E$18","v":-181.28925662450206},0,null,{"$f":"HLOOKUP(User_entry!$B$56,Computations!$N$54:$R$1054,Computations!A216+1,FALSE)","v":1318.7107433754979},{"$f":"HLOOKUP(User_entry!$E$56,Computations!$S$54:$W$1054,Computations!A216+1,FALSE)","v":450000},{"$f":"Computations!$F$15+Computations!$E$15*D216","v":1318.7107433754979},{"$f":"EXP(Computations!$F$16)*EXP(Computations!$E$16)^Computations!D216","v":1258.0336899946819},{"$f":"Computations!$F$17+Computations!$E$17*LN(Computations!D216)","v":1429.0287983295057},{"$f":"Computations!$F$18+Computations!$E$18*Computations!D216+Computations!$D$18*Computations!D216^2","v":1331.8957973346005},{"$f":"Computations!$F$19+Computations!$E$19*Computations!D216+Computations!$D$19*Computations!D216^2+Computations!$C$19*Computations!D216^3","v":1331.8957973346005},{"$f":"Computations!$J$15+Computations!$I$15*D216","v":450000},{"$f":"EXP(Computations!$J$16)*EXP(Computations!$I$16)^Computations!D216","v":450000.00000000035},{"$f":"Computations!$J$17+Computations!$I$17*LN(Computations!D216)","v":450000},{"$f":"Computations!$J$18+Computations!$I$18*Computations!D216+Computations!$H$18*Computations!D216^2","v":450000},{"$f":"Computations!$J$19+Computations!$I$19*Computations!D216+Computations!$H$19*Computations!D216^2+Computations!$G$19*Computations!D216^3","v":450000}]
[163,5.8367940125006068E-2,5.8659787381942552E-2,5.851386375347431E-2,0.14331809289683073,2.2592105609907931E-3,1322.5508388615044,450000,{"$f":"G217-H217/User_entry!$E$18","v":-177.44916113849558},0,null,{"$f":"HLOOKUP(User_entry!$B$56,Computations!$N$54:$R$1054,Computations!A217+1,FALSE)","v":1322.5508388615044},{"$f":"HLOOKUP(User_entry!$E$56,Computations!$S$54:$W$1054,Computations!A217+1,FALSE)","v":450000},{"$f":"Computations!$F$15+Computations!$E$15*D217","v":1322.5508388615044},{"$f":"EXP(Computations!$F$16)*EXP(Computations!$E$16)^Computations!D217","v":1260.6437489329683},{"$f":"Computations!$F$17+Computations!$E$17*LN(Computations!D217)","v":1435.3811795994948},{"$f":"Computations!$F$18+Computations!$E$18*Computations!D217+Computations!$D$18*Computations!D217^2","v":1337.0113838218408},{"$f":"Computations!$F$19+Computations!$E$19*Computations!D217+Computations!$D$19*Computations!D217^2+Computations!$C$19*Computations!D217^3","v":1337.0113838218408},{"$f":"Computations!$J$15+Computations!$I$15*D217","v":450000},{"$f":"EXP(Computations!$J$16)*EXP(Computations!$I$16)^Computations!D217","v":450000.00000000035},{"$f":"Computations!$J$17+Computations!$I$17*LN(Computations!D217)","v":450000},{"$f":"Computations!$J$18+Computations!$I$18*Computations!D217+Computations!$H$18*Computations!D217^2","v":450000},{"$f":"Computations!$J$19+Computations!$I$19*Computations!D217+Computations!$H$19*Computations!D217^2+Computations!$G$19*Computations!D217^3","v":450000}]
[164,5.8659787381942552E-2,5.8951634638879036E-2,5.8805711010410794E-2,0.14559409874517915,2.2760058483484169E-3,1326.3909343475107,450000,{"$f":"G218-H218/User_entry!$E$18","v":-173.60906565248933},0,null,{"$f":"HLOOKUP(User_entry!$B$56,Computations!$N$54:$R$1054,Computations!A218+1,FALSE)","v":1326.3909343475107},{"$f":"HLOOKUP(User_entry!$E$56,Computations!$S$54:$W$1054,Computations!A218+1,FALSE)","v":450000},{"$f":"Computations!$F$15+Computations!$E$15*D218","v":1326.3909343475107},{"$f":"EXP(Computations!$F$16)*EXP(Computations!$E$16)^Computations!D218","v":1263.2592229946454},{"$f":"Computations!$F$17+Computations!$E$17*LN(Computations!D218)","v":1441.7019560376398},{"$f":"Computations!$F$18+Computations!$E$18*Computations!D218+Computations!$D$18*Computations!D218^2","v":1342.1206610630531},{"$f":"Computations!$F$19+Computations!$E$19*Computations!D218+Computations!$D$19*Computations!D218^2+Computations!$C$19*Computations!D218^3","v":1342.1206610630531},{"$f":"Computations!$J$15+Computations!$I$15*D218","v":450000},{"$f":"EXP(Computations!$J$16)*EXP(Computations!$I$16)^Computations!D218","v":450000.00000000035},{"$f":"Computations!$J$17+Computations!$I$17*LN(Computations!D218)","v":450000},{"$f":"Computations!$J$18+Computations!$I$18*Computations!D218+Computations!$H$18*Computations!D218^2","v":450000},{"$f":"Computations!$J$19+Computations!$I$19*Computations!D218+Computations!$H$19*Computations!D218^2+Computations!$G$19*Computations!D218^3","v":450000}]
[165,5.8951634638879036E-2,5.924348189581552E-2,5.9097558267347278E-2,0.14788675845911953,2.2926597139403815E-3,1330.2310298335169,450000,{"$f":"G219-H219/User_entry!$E$18","v":-169.76897016648309},0,null,{"$f":"HLOOKUP(User_entry!$B$56,Computations!$N$54:$R$1054,Computations!A219+1,FALSE)","v":1330.2310298335169},{"$f":"HLOOKUP(User_entry!$E$56,Computations!$S$54:$W$1054,Computations!A219+1,FALSE)","v":450000},{"$f":"Computations!$F$15+Computations!$E$15*D219","v":1330.2310298335169},{"$f":"EXP(Computations!$F$16)*EXP(Computations!$E$16)^Computations!D219","v":1265.880123414541},{"$f":"Computations!$F$17+Computations!$E$17*LN(Computations!D219)","v":1447.9914405730165},{"$f":"Computations!$F$18+Computations!$E$18*Computations!D219+Computations!$D$18*Computations!D219^2","v":1347.2236290582368},{"$f":"Computations!$F$19+Computations!$E$19*Computations!D219+Computations!$D$19*Computations!D219^2+Computations!$C$19*Computations!D219^3","v":1347.2236290582368},{"$f":"Computations!$J$15+Computations!$I$15*D219","v":450000},{"$f":"EXP(Computations!$J$16)*EXP(Computations!$I$16)^Computations!D219","v":450000.00000000035},{"$f":"Computations!$J$17+Computations!$I$17*LN(Computations!D219)","v":450000},{"$f":"Computations!$J$18+Computations!$I$18*Computations!D219+Computations!$H$18*Computations!D219^2","v":450000},{"$f":"Computations!$J$19+Computations!$I$19*Computations!D219+Computations!$H$19*Computations!D219^2+Computations!$G$19*Computations!D219^3","v":450000}]
[166,5.924348189581552E-2,5.9535329152752003E-2,5.9389405524283762E-2,0.15019592822879563,2.3091697696761004E-3,1334.0711253195234,450000,{"$f":"G220-H220/User_entry!$E$18","v":-165.92887468047661},0,null,{"$f":"HLOOKUP(User_entry!$B$56,Computations!$N$54:$R$1054,Computations!A220+1,FALSE)","v":1334.0711253195234},{"$f":"HLOOKUP(User_entry!$E$56,Computations!$S$54:$W$1054,Computations!A220+1,FALSE)","v":450000},{"$f":"Computations!$F$15+Computations!$E$15*D220","v":1334.0711253195234},{"$f":"EXP(Computations!$F$16)*EXP(Computations!$E$16)^Computations!D220","v":1268.5064614507912},{"$f":"Computations!$F$17+Computations!$E$17*LN(Computations!D220)","v":1454.2499415099774},{"$f":"Computations!$F$18+Computations!$E$18*Computations!D220+Computations!$D$18*Computations!D220^2","v":1352.320287807393},{"$f":"Computations!$F$19+Computations!$E$19*Computations!D220+Computations!$D$19*Computations!D220^2+Computations!$C$19*Computations!D220^3","v":1352.320287807393},{"$f":"Computations!$J$15+Computations!$I$15*D220","v":450000},{"$f":"EXP(Computations!$J$16)*EXP(Computations!$I$16)^Computations!D220","v":450000.00000000035},{"$f":"Computations!$J$17+Computations!$I$17*LN(Computations!D220)","v":450000},{"$f":"Computations!$J$18+Computations!$I$18*Computations!D220+Computations!$H$18*Computations!D220^2","v":450000},{"$f":"Computations!$J$19+Computations!$I$19*Computations!D220+Computations!$H$19*Computations!D220^2+Computations!$G$19*Computations!D220^3","v":450000}]
[167,5.9535329152752003E-2,5.9827176409688487E-2,5.9681252781220245E-2,0.15252146190584803,2.3255336770524049E-3,1337.9112208055299,450000,{"$f":"G221-H221/User_entry!$E$18","v":-162.08877919447013},0,null,{"$f":"HLOOKUP(User_entry!$B$56,Computations!$N$54:$R$1054,Computations!A221+1,FALSE)","v":1337.9112208055299},{"$f":"HLOOKUP(User_entry!$E$56,Computations!$S$54:$W$1054,Computations!A221+1,FALSE)","v":450000},{"$f":"Computations!$F$15+Computations!$E$15*D221","v":1337.9112208055299},{"$f":"EXP(Computations!$F$16)*EXP(Computations!$E$16)^Computations!D221","v":1271.1382483848895},{"$f":"Computations!$F$17+Computations!$E$17*LN(Computations!D221)","v":1460.4777626188356},{"$f":"Computations!$F$18+Computations!$E$18*Computations!D221+Computations!$D$18*Computations!D221^2","v":1357.4106373105203},{"$f":"Computations!$F$19+Computations!$E$19*Computations!D221+Computations!$D$19*Computations!D221^2+Computations!$C$19*Computations!D221^3","v":1357.4106373105203},{"$f":"Computations!$J$15+Computations!$I$15*D221","v":450000},{"$f":"EXP(Computations!$J$16)*EXP(Computations!$I$16)^Computations!D221","v":450000.00000000035},{"$f":"Computations!$J$17+Computations!$I$17*LN(Computations!D221)","v":450000},{"$f":"Computations!$J$18+Computations!$I$18*Computations!D221+Computations!$H$18*Computations!D221^2","v":450000},{"$f":"Computations!$J$19+Computations!$I$19*Computations!D221+Computations!$H$19*Computations!D221^2+Computations!$G$19*Computations!D221^3","v":450000}]
[168,5.9827176409688487E-2,6.0119023666624971E-2,5.9973100038156729E-2,0.15486321105315642,2.3417491473083918E-3,1341.7513162915361,450000,{"$f":"G222-H222/User_entry!$E$18","v":-158.24868370846389},0,null,{"$f":"HLOOKUP(User_entry!$B$56,Computations!$N$54:$R$1054,Computations!A222+1,FALSE)","v":1341.7513162915361},{"$f":"HLOOKUP(User_entry!$E$56,Computations!$S$54:$W$1054,Computations!A222+1,FALSE)","v":450000},{"$f":"Computations!$F$15+Computations!$E$15*D222","v":1341.7513162915361},{"$f":"EXP(Computations!$F$16)*EXP(Computations!$E$16)^Computations!D222","v":1273.7754955217358},{"$f":"Computations!$F$17+Computations!$E$17*LN(Computations!D222)","v":1466.6752032243385},{"$f":"Computations!$F$18+Computations!$E$18*Computations!D222+Computations!$D$18*Computations!D222^2","v":1362.4946775676196},{"$f":"Computations!$F$19+Computations!$E$19*Computations!D222+Computations!$D$19*Computations!D222^2+Computations!$C$19*Computations!D222^3","v":1362.4946775676196},{"$f":"Computations!$J$15+Computations!$I$15*D222","v":450000},{"$f":"EXP(Computations!$J$16)*EXP(Computations!$I$16)^Computations!D222","v":450000.00000000035},{"$f":"Computations!$J$17+Computations!$I$17*LN(Computations!D222)","v":450000},{"$f":"Computations!$J$18+Computations!$I$18*Computations!D222+Computations!$H$18*Computations!D222^2","v":450000},{"$f":"Computations!$J$19+Computations!$I$19*Computations!D222+Computations!$H$19*Computations!D222^2+Computations!$G$19*Computations!D222^3","v":450000}]
[169,6.0119023666624971E-2,6.0410870923561455E-2,6.0264947295093213E-2,0.15722102499472299,2.3578139415665611E-3,1345.5914117775424,450000,{"$f":"G223-H223/User_entry!$E$18","v":-154.40858822245764},0,null,{"$f":"HLOOKUP(User_entry!$B$56,Computations!$N$54:$R$1054,Computations!A223+1,FALSE)","v":1345.5914117775424},{"$f":"HLOOKUP(User_entry!$E$56,Computations!$S$54:$W$1054,Computations!A223+1,FALSE)","v":450000},{"$f":"Computations!$F$15+Computations!$E$15*D223","v":1345.5914117775424},{"$f":"EXP(Computations!$F$16)*EXP(Computations!$E$16)^Computations!D223","v":1276.4182141896838},{"$f":"Computations!$F$17+Computations!$E$17*LN(Computations!D223)","v":1472.8425582919895},{"$f":"Computations!$F$18+Computations!$E$18*Computations!D223+Computations!$D$18*Computations!D223^2","v":1367.5724085786906},{"$f":"Computations!$F$19+Computations!$E$19*Computations!D223+Computations!$D$19*Computations!D223^2+Computations!$C$19*Computations!D223^3","v":1367.5724085786906},{"$f":"Computations!$J$15+Computations!$I$15*D223","v":450000},{"$f":"EXP(Computations!$J$16)*EXP(Computations!$I$16)^Computations!D223","v":450000.00000000035},{"$f":"Computations!$J$17+Computations!$I$17*LN(Computations!D223)","v":450000},{"$f":"Computations!$J$18+Computations!$I$18*Computations!D223+Computations!$H$18*Computations!D223^2","v":450000},{"$f":"Computations!$J$19+Computations!$I$19*Computations!D223+Computations!$H$19*Computations!D223^2+Computations!$G$19*Computations!D223^3","v":450000}]
[170,6.0410870923561455E-2,6.0702718180497939E-2,6.0556794552029697E-2,0.15959475086566691,2.3737258709439213E-3,1349.4315072635488,450000,{"$f":"G224-H224/User_entry!$E$18","v":-150.56849273645116},0,null,{"$f":"HLOOKUP(User_entry!$B$56,Computations!$N$54:$R$1054,Computations!A224+1,FALSE)","v":1349.4315072635488},{"$f":"HLOOKUP(User_entry!$E$56,Computations!$S$54:$W$1054,Computations!A224+1,FALSE)","v":450000},{"$f":"Computations!$F$15+Computations!$E$15*D224","v":1349.4315072635488},{"$f":"EXP(Computations!$F$16)*EXP(Computations!$E$16)^Computations!D224","v":1279.0664157405909},{"$f":"Computations!$F$17+Computations!$E$17*LN(Computations!D224)","v":1478.9801185122901},{"$f":"Computations!$F$18+Computations!$E$18*Computations!D224+Computations!$D$18*Computations!D224^2","v":1372.6438303437335},{"$f":"Computations!$F$19+Computations!$E$19*Computations!D224+Computations!$D$19*Computations!D224^2+Computations!$C$19*Computations!D224^3","v":1372.6438303437335},{"$f":"Computations!$J$15+Computations!$I$15*D224","v":450000},{"$f":"EXP(Computations!$J$16)*EXP(Computations!$I$16)^Computations!D224","v":450000.00000000035},{"$f":"Computations!$J$17+Computations!$I$17*LN(Computations!D224)","v":450000},{"$f":"Computations!$J$18+Computations!$I$18*Computations!D224+Computations!$H$18*Computations!D224^2","v":450000},{"$f":"Computations!$J$19+Computations!$I$19*Computations!D224+Computations!$H$19*Computations!D224^2+Computations!$G$19*Computations!D224^3","v":450000}]
[171,6.0702718180497939E-2,6.0994565437434423E-2,6.0848641808966181E-2,0.16198423366231865,2.3894827966517429E-3,1353.2716027495553,450000,{"$f":"G225-H225/User_entry!$E$18","v":-146.72839725044469},0,null,{"$f":"HLOOKUP(User_entry!$B$56,Computations!$N$54:$R$1054,Computations!A225+1,FALSE)","v":1353.2716027495553},{"$f":"HLOOKUP(User_entry!$E$56,Computations!$S$54:$W$1054,Computations!A225+1,FALSE)","v":450000},{"$f":"Computations!$F$15+Computations!$E$15*D225","v":1353.2716027495553},{"$f":"EXP(Computations!$F$16)*EXP(Computations!$E$16)^Computations!D225","v":1281.7201115498658},{"$f":"Computations!$F$17+Computations!$E$17*LN(Computations!D225)","v":1485.0881703829536},{"$f":"Computations!$F$18+Computations!$E$18*Computations!D225+Computations!$D$18*Computations!D225^2","v":1377.7089428627478},{"$f":"Computations!$F$19+Computations!$E$19*Computations!D225+Computations!$D$19*Computations!D225^2+Computations!$C$19*Computations!D225^3","v":1377.7089428627478},{"$f":"Computations!$J$15+Computations!$I$15*D225","v":450000},{"$f":"EXP(Computations!$J$16)*EXP(Computations!$I$16)^Computations!D225","v":450000.00000000035},{"$f":"Computations!$J$17+Computations!$I$17*LN(Computations!D225)","v":450000},{"$f":"Computations!$J$18+Computations!$I$18*Computations!D225+Computations!$H$18*Computations!D225^2","v":450000},{"$f":"Computations!$J$19+Computations!$I$19*Computations!D225+Computations!$H$19*Computations!D225^2+Computations!$G$19*Computations!D225^3","v":450000}]
[172,6.0994565437434423E-2,6.1286412694370906E-2,6.1140489065902665E-2,0.16438931629238757,2.4050826300689165E-3,1357.1116982355616,450000,{"$f":"G226-H226/User_entry!$E$18","v":-142.88830176443844},0,null,{"$f":"HLOOKUP(User_entry!$B$56,Computations!$N$54:$R$1054,Computations!A226+1,FALSE)","v":1357.1116982355616},{"$f":"HLOOKUP(User_entry!$E$56,Computations!$S$54:$W$1054,Computations!A226+1,FALSE)","v":450000},{"$f":"Computations!$F$15+Computations!$E$15*D226","v":1357.1116982355616},{"$f":"EXP(Computations!$F$16)*EXP(Computations!$E$16)^Computations!D226","v":1284.3793130165182},{"$f":"Computations!$F$17+Computations!$E$17*LN(Computations!D226)","v":1491.1669962891515},{"$f":"Computations!$F$18+Computations!$E$18*Computations!D226+Computations!$D$18*Computations!D226^2","v":1382.7677461357343},{"$f":"Computations!$F$19+Computations!$E$19*Computations!D226+Computations!$D$19*Computations!D226^2+Computations!$C$19*Computations!D226^3","v":1382.7677461357343},{"$f":"Computations!$J$15+Computations!$I$15*D226","v":450000},{"$f":"EXP(Computations!$J$16)*EXP(Computations!$I$16)^Computations!D226","v":450000.00000000035},{"$f":"Computations!$J$17+Computations!$I$17*LN(Computations!D226)","v":450000},{"$f":"Computations!$J$18+Computations!$I$18*Computations!D226+Computations!$H$18*Computations!D226^2","v":450000},{"$f":"Computations!$J$19+Computations!$I$19*Computations!D226+Computations!$H$19*Computations!D226^2+Computations!$G$19*Computations!D226^3","v":450000}]
[173,6.1286412694370906E-2,6.157825995130739E-2,6.1432336322839148E-2,0.16680983962518717,2.4205233327996012E-3,1360.9517937215678,450000,{"$f":"G227-H227/User_entry!$E$18","v":-139.04820627843219},0,null,{"$f":"HLOOKUP(User_entry!$B$56,Computations!$N$54:$R$1054,Computations!A227+1,FALSE)","v":1360.9517937215678},{"$f":"HLOOKUP(User_entry!$E$56,Computations!$S$54:$W$1054,Computations!A227+1,FALSE)","v":450000},{"$f":"Computations!$F$15+Computations!$E$15*D227","v":1360.9517937215678},{"$f":"EXP(Computations!$F$16)*EXP(Computations!$E$16)^Computations!D227","v":1287.0440315632075},{"$f":"Computations!$F$17+Computations!$E$17*LN(Computations!D227)","v":1497.2168745818526},{"$f":"Computations!$F$18+Computations!$E$18*Computations!D227+Computations!$D$18*Computations!D227^2","v":1387.820240162692},{"$f":"Computations!$F$19+Computations!$E$19*Computations!D227+Computations!$D$19*Computations!D227^2+Computations!$C$19*Computations!D227^3","v":1387.820240162692},{"$f":"Computations!$J$15+Computations!$I$15*D227","v":450000},{"$f":"EXP(Computations!$J$16)*EXP(Computations!$I$16)^Computations!D227","v":450000.00000000035},{"$f":"Computations!$J$17+Computations!$I$17*LN(Computations!D227)","v":450000},{"$f":"Computations!$J$18+Computations!$I$18*Computations!D227+Computations!$H$18*Computations!D227^2","v":450000},{"$f":"Computations!$J$19+Computations!$I$19*Computations!D227+Computations!$H$19*Computations!D227^2+Computations!$G$19*Computations!D227^3","v":450000}]
[174,6.157825995130739E-2,6.1870107208243874E-2,6.1724183579775632E-2,0.16924564254189703,2.4358029167098616E-3,1364.7918892075743,450000,{"$f":"G228-H228/User_entry!$E$18","v":-135.20811079242571},0,null,{"$f":"HLOOKUP(User_entry!$B$56,Computations!$N$54:$R$1054,Computations!A228+1,FALSE)","v":1364.7918892075743},{"$f":"HLOOKUP(User_entry!$E$56,Computations!$S$54:$W$1054,Computations!A228+1,FALSE)","v":450000},{"$f":"Computations!$F$15+Computations!$E$15*D228","v":1364.7918892075743},{"$f":"EXP(Computations!$F$16)*EXP(Computations!$E$16)^Computations!D228","v":1289.7142786362917},{"$f":"Computations!$F$17+Computations!$E$17*LN(Computations!D228)","v":1503.2380796542998},{"$f":"Computations!$F$18+Computations!$E$18*Computations!D228+Computations!$D$18*Computations!D228^2","v":1392.8664249436215},{"$f":"Computations!$F$19+Computations!$E$19*Computations!D228+Computations!$D$19*Computations!D228^2+Computations!$C$19*Computations!D228^3","v":1392.8664249436215},{"$f":"Computations!$J$15+Computations!$I$15*D228","v":450000},{"$f":"EXP(Computations!$J$16)*EXP(Computations!$I$16)^Computations!D228","v":450000.00000000035},{"$f":"Computations!$J$17+Computations!$I$17*LN(Computations!D228)","v":450000},{"$f":"Computations!$J$18+Computations!$I$18*Computations!D228+Computations!$H$18*Computations!D228^2","v":450000},{"$f":"Computations!$J$19+Computations!$I$19*Computations!D228+Computations!$H$19*Computations!D228^2+Computations!$G$19*Computations!D228^3","v":450000}]
[175,6.1870107208243874E-2,6.2161954465180358E-2,6.2016030836712116E-2,0.1716965619858426,2.4509194439455706E-3,1368.6319846935808,450000,{"$f":"G229-H229/User_entry!$E$18","v":-131.36801530641924},0,null,{"$f":"HLOOKUP(User_entry!$B$56,Computations!$N$54:$R$1054,Computations!A229+1,FALSE)","v":1368.6319846935808},{"$f":"HLOOKUP(User_entry!$E$56,Computations!$S$54:$W$1054,Computations!A229+1,FALSE)","v":450000},{"$f":"Computations!$F$15+Computations!$E$15*D229","v":1368.6319846935808},{"$f":"EXP(Computations!$F$16)*EXP(Computations!$E$16)^Computations!D229","v":1292.3900657058766},{"$f":"Computations!$F$17+Computations!$E$17*LN(Computations!D229)","v":1509.2308820166918},{"$f":"Computations!$F$18+Computations!$E$18*Computations!D229+Computations!$D$18*Computations!D229^2","v":1397.9063004785235},{"$f":"Computations!$F$19+Computations!$E$19*Computations!D229+Computations!$D$19*Computations!D229^2+Computations!$C$19*Computations!D229^3","v":1397.9063004785235},{"$f":"Computations!$J$15+Computations!$I$15*D229","v":450000},{"$f":"EXP(Computations!$J$16)*EXP(Computations!$I$16)^Computations!D229","v":450000.00000000035},{"$f":"Computations!$J$17+Computations!$I$17*LN(Computations!D229)","v":450000},{"$f":"Computations!$J$18+Computations!$I$18*Computations!D229+Computations!$H$18*Computations!D229^2","v":450000},{"$f":"Computations!$J$19+Computations!$I$19*Computations!D229+Computations!$H$19*Computations!D229^2+Computations!$G$19*Computations!D229^3","v":450000}]
[176,6.2161954465180358E-2,6.2453801722116842E-2,6.23078780936486E-2,0.17416243301277559,2.465871026932992E-3,1372.472080179587,450000,{"$f":"G230-H230/User_entry!$E$18","v":-127.52791982041299},0,null,{"$f":"HLOOKUP(User_entry!$B$56,Computations!$N$54:$R$1054,Computations!A230+1,FALSE)","v":1372.472080179587},{"$f":"HLOOKUP(User_entry!$E$56,Computations!$S$54:$W$1054,Computations!A230+1,FALSE)","v":450000},{"$f":"Computations!$F$15+Computations!$E$15*D230","v":1372.472080179587},{"$f":"EXP(Computations!$F$16)*EXP(Computations!$E$16)^Computations!D230","v":1295.0714042658658},{"$f":"Computations!$F$17+Computations!$E$17*LN(Computations!D230)","v":1515.1955483691008},{"$f":"Computations!$F$18+Computations!$E$18*Computations!D230+Computations!$D$18*Computations!D230^2","v":1402.9398667673963},{"$f":"Computations!$F$19+Computations!$E$19*Computations!D230+Computations!$D$19*Computations!D230^2+Computations!$C$19*Computations!D230^3","v":1402.9398667673963},{"$f":"Computations!$J$15+Computations!$I$15*D230","v":450000},{"$f":"EXP(Computations!$J$16)*EXP(Computations!$I$16)^Computations!D230","v":450000.00000000035},{"$f":"Computations!$J$17+Computations!$I$17*LN(Computations!D230)","v":450000},{"$f":"Computations!$J$18+Computations!$I$18*Computations!D230+Computations!$H$18*Computations!D230^2","v":450000},{"$f":"Computations!$J$19+Computations!$I$19*Computations!D230+Computations!$H$19*Computations!D230^2+Computations!$G$19*Computations!D230^3","v":450000}]
[177,6.2453801722116842E-2,6.2745648979053326E-2,6.2599725350585084E-2,0.17664308884113622,2.4806558283606284E-3,1376.3121756655935,450000,{"$f":"G231-H231/User_entry!$E$18","v":-123.68782433440651},0,null,{"$f":"HLOOKUP(User_entry!$B$56,Computations!$N$54:$R$1054,Computations!A231+1,FALSE)","v":1376.3121756655935},{"$f":"HLOOKUP(User_entry!$E$56,Computations!$S$54:$W$1054,Computations!A231+1,FALSE)","v":450000},{"$f":"Computations!$F$15+Computations!$E$15*D231","v":1376.3121756655935},{"$f":"EXP(Computations!$F$16)*EXP(Computations!$E$16)^Computations!D231","v":1297.7583058340085},{"$f":"Computations!$F$17+Computations!$E$17*LN(Computations!D231)","v":1521.1323416726977},{"$f":"Computations!$F$18+Computations!$E$18*Computations!D231+Computations!$D$18*Computations!D231^2","v":1407.9671238102417},{"$f":"Computations!$F$19+Computations!$E$19*Computations!D231+Computations!$D$19*Computations!D231^2+Computations!$C$19*Computations!D231^3","v":1407.9671238102417},{"$f":"Computations!$J$15+Computations!$I$15*D231","v":450000},{"$f":"EXP(Computations!$J$16)*EXP(Computations!$I$16)^Computations!D231","v":450000.00000000035},{"$f":"Computations!$J$17+Computations!$I$17*LN(Computations!D231)","v":450000},{"$f":"Computations!$J$18+Computations!$I$18*Computations!D231+Computations!$H$18*Computations!D231^2","v":450000},{"$f":"Computations!$J$19+Computations!$I$19*Computations!D231+Computations!$H$19*Computations!D231^2+Computations!$G$19*Computations!D231^3","v":450000}]
[178,6.2745648979053326E-2,6.3037496235989809E-2,6.2891572607521568E-2,0.17913836090227878,2.4952720611425561E-3,1380.1522711516,450000,{"$f":"G232-H232/User_entry!$E$18","v":-119.84772884840004},0,null,{"$f":"HLOOKUP(User_entry!$B$56,Computations!$N$54:$R$1054,Computations!A232+1,FALSE)","v":1380.1522711516},{"$f":"HLOOKUP(User_entry!$E$56,Computations!$S$54:$W$1054,Computations!A232+1,FALSE)","v":450000},{"$f":"Computations!$F$15+Computations!$E$15*D232","v":1380.1522711516},{"$f":"EXP(Computations!$F$16)*EXP(Computations!$E$16)^Computations!D232","v":1300.4507819519506},{"$f":"Computations!$F$17+Computations!$E$17*LN(Computations!D232)","v":1527.0415212193102},{"$f":"Computations!$F$18+Computations!$E$18*Computations!D232+Computations!$D$18*Computations!D232^2","v":1412.9880716070581},{"$f":"Computations!$F$19+Computations!$E$19*Computations!D232+Computations!$D$19*Computations!D232^2+Computations!$C$19*Computations!D232^3","v":1412.9880716070581},{"$f":"Computations!$J$15+Computations!$I$15*D232","v":450000},{"$f":"EXP(Computations!$J$16)*EXP(Computations!$I$16)^Computations!D232","v":450000.00000000035},{"$f":"Computations!$J$17+Computations!$I$17*LN(Computations!D232)","v":450000},{"$f":"Computations!$J$18+Computations!$I$18*Computations!D232+Computations!$H$18*Computations!D232^2","v":450000},{"$f":"Computations!$J$19+Computations!$I$19*Computations!D232+Computations!$H$19*Computations!D232^2+Computations!$G$19*Computations!D232^3","v":450000}]
[179,6.3037496235989809E-2,6.3329343492926293E-2,6.3183419864458051E-2,0.18164807889064466,2.5097179883658838E-3,1383.9923666376062,450000,{"$f":"G233-H233/User_entry!$E$18","v":-116.00763336239379},0,null,{"$f":"HLOOKUP(User_entry!$B$56,Computations!$N$54:$R$1054,Computations!A233+1,FALSE)","v":1383.9923666376062},{"$f":"HLOOKUP(User_entry!$E$56,Computations!$S$54:$W$1054,Computations!A233+1,FALSE)","v":450000},{"$f":"Computations!$F$15+Computations!$E$15*D233","v":1383.9923666376062},{"$f":"EXP(Computations!$F$16)*EXP(Computations!$E$16)^Computations!D233","v":1303.1488441852837},{"$f":"Computations!$F$17+Computations!$E$17*LN(Computations!D233)","v":1532.9233426993806},{"$f":"Computations!$F$18+Computations!$E$18*Computations!D233+Computations!$D$18*Computations!D233^2","v":1418.0027101578471},{"$f":"Computations!$F$19+Computations!$E$19*Computations!D233+Computations!$D$19*Computations!D233^2+Computations!$C$19*Computations!D233^3","v":1418.0027101578471},{"$f":"Computations!$J$15+Computations!$I$15*D233","v":450000},{"$f":"EXP(Computations!$J$16)*EXP(Computations!$I$16)^Computations!D233","v":450000.00000000035},{"$f":"Computations!$J$17+Computations!$I$17*LN(Computations!D233)","v":450000},{"$f":"Computations!$J$18+Computations!$I$18*Computations!D233+Computations!$H$18*Computations!D233^2","v":450000},{"$f":"Computations!$J$19+Computations!$I$19*Computations!D233+Computations!$H$19*Computations!D233^2+Computations!$G$19*Computations!D233^3","v":450000}]
[180,6.3329343492926293E-2,6.3621190749862777E-2,6.3475267121394535E-2,0.18417207081386502,2.5239919232203645E-3,1387.8324621236125,450000,{"$f":"G234-H234/User_entry!$E$18","v":-112.16753787638754},0,null,{"$f":"HLOOKUP(User_entry!$B$56,Computations!$N$54:$R$1054,Computations!A234+1,FALSE)","v":1387.8324621236125},{"$f":"HLOOKUP(User_entry!$E$56,Computations!$S$54:$W$1054,Computations!A234+1,FALSE)","v":450000},{"$f":"Computations!$F$15+Computations!$E$15*D234","v":1387.8324621236125},{"$f":"EXP(Computations!$F$16)*EXP(Computations!$E$16)^Computations!D234","v":1305.8525041235939},{"$f":"Computations!$F$17+Computations!$E$17*LN(Computations!D234)","v":1538.7780582683499},{"$f":"Computations!$F$18+Computations!$E$18*Computations!D234+Computations!$D$18*Computations!D234^2","v":1423.0110394626072},{"$f":"Computations!$F$19+Computations!$E$19*Computations!D234+Computations!$D$19*Computations!D234^2+Computations!$C$19*Computations!D234^3","v":1423.0110394626072},{"$f":"Computations!$J$15+Computations!$I$15*D234","v":450000},{"$f":"EXP(Computations!$J$16)*EXP(Computations!$I$16)^Computations!D234","v":450000.00000000035},{"$f":"Computations!$J$17+Computations!$I$17*LN(Computations!D234)","v":450000},{"$f":"Computations!$J$18+Computations!$I$18*Computations!D234+Computations!$H$18*Computations!D234^2","v":450000},{"$f":"Computations!$J$19+Computations!$I$19*Computations!D234+Computations!$H$19*Computations!D234^2+Computations!$G$19*Computations!D234^3","v":450000}]
[181,6.3621190749862777E-2,6.3913038006799261E-2,6.3767114378331019E-2,0.18671016304277741,2.5380922289123808E-3,1391.6725576096189,450000,{"$f":"G235-H235/User_entry!$E$18","v":-108.32744239038107},0,null,{"$f":"HLOOKUP(User_entry!$B$56,Computations!$N$54:$R$1054,Computations!A235+1,FALSE)","v":1391.6725576096189},{"$f":"HLOOKUP(User_entry!$E$56,Computations!$S$54:$W$1054,Computations!A235+1,FALSE)","v":450000},{"$f":"Computations!$F$15+Computations!$E$15*D235","v":1391.6725576096189},{"$f":"EXP(Computations!$F$16)*EXP(Computations!$E$16)^Computations!D235","v":1308.5617733805132},{"$f":"Computations!$F$17+Computations!$E$17*LN(Computations!D235)","v":1544.6059166115224},{"$f":"Computations!$F$18+Computations!$E$18*Computations!D235+Computations!$D$18*Computations!D235^2","v":1428.0130595213393},{"$f":"Computations!$F$19+Computations!$E$19*Computations!D235+Computations!$D$19*Computations!D235^2+Computations!$C$19*Computations!D235^3","v":1428.0130595213393},{"$f":"Computations!$J$15+Computations!$I$15*D235","v":450000},{"$f":"EXP(Computations!$J$16)*EXP(Computations!$I$16)^Computations!D235","v":450000.00000000035},{"$f":"Computations!$J$17+Computations!$I$17*LN(Computations!D235)","v":450000},{"$f":"Computations!$J$18+Computations!$I$18*Computations!D235+Computations!$H$18*Computations!D235^2","v":450000},{"$f":"Computations!$J$19+Computations!$I$19*Computations!D235+Computations!$H$19*Computations!D235^2+Computations!$G$19*Computations!D235^3","v":450000}]
[182,6.3913038006799261E-2,6.4204885263735745E-2,6.4058961635267503E-2,0.18926218036133774,2.5520173185603345E-3,1395.5126530956254,450000,{"$f":"G236-H236/User_entry!$E$18","v":-104.48734690437459},0,null,{"$f":"HLOOKUP(User_entry!$B$56,Computations!$N$54:$R$1054,Computations!A236+1,FALSE)","v":1395.5126530956254},{"$f":"HLOOKUP(User_entry!$E$56,Computations!$S$54:$W$1054,Computations!A236+1,FALSE)","v":450000},{"$f":"Computations!$F$15+Computations!$E$15*D236","v":1395.5126530956254},{"$f":"EXP(Computations!$F$16)*EXP(Computations!$E$16)^Computations!D236","v":1311.2766635937683},{"$f":"Computations!$F$17+Computations!$E$17*LN(Computations!D236)","v":1550.4071630074504},{"$f":"Computations!$F$18+Computations!$E$18*Computations!D236+Computations!$D$18*Computations!D236^2","v":1433.0087703340428},{"$f":"Computations!$F$19+Computations!$E$19*Computations!D236+Computations!$D$19*Computations!D236^2+Computations!$C$19*Computations!D236^3","v":1433.0087703340428},{"$f":"Computations!$J$15+Computations!$I$15*D236","v":450000},{"$f":"EXP(Computations!$J$16)*EXP(Computations!$I$16)^Computations!D236","v":450000.00000000035},{"$f":"Computations!$J$17+Computations!$I$17*LN(Computations!D236)","v":450000},{"$f":"Computations!$J$18+Computations!$I$18*Computations!D236+Computations!$H$18*Computations!D236^2","v":450000},{"$f":"Computations!$J$19+Computations!$I$19*Computations!D236+Computations!$H$19*Computations!D236^2+Computations!$G$19*Computations!D236^3","v":450000}]
[183,6.4204885263735745E-2,6.4496732520672229E-2,6.4350808892203987E-2,0.19182794601641492,2.5657656550771846E-3,1399.3527485816317,450000,{"$f":"G237-H237/User_entry!$E$18","v":-100.64725141836834},0,null,{"$f":"HLOOKUP(User_entry!$B$56,Computations!$N$54:$R$1054,Computations!A237+1,FALSE)","v":1399.3527485816317},{"$f":"HLOOKUP(User_entry!$E$56,Computations!$S$54:$W$1054,Computations!A237+1,FALSE)","v":450000},{"$f":"Computations!$F$15+Computations!$E$15*D237","v":1399.3527485816317},{"$f":"EXP(Computations!$F$16)*EXP(Computations!$E$16)^Computations!D237","v":1313.9971864252304},{"$f":"Computations!$F$17+Computations!$E$17*LN(Computations!D237)","v":1556.1820393898774},{"$f":"Computations!$F$18+Computations!$E$18*Computations!D237+Computations!$D$18*Computations!D237^2","v":1437.9981719007187},{"$f":"Computations!$F$19+Computations!$E$19*Computations!D237+Computations!$D$19*Computations!D237^2+Computations!$C$19*Computations!D237^3","v":1437.9981719007187},{"$f":"Computations!$J$15+Computations!$I$15*D237","v":450000},{"$f":"EXP(Computations!$J$16)*EXP(Computations!$I$16)^Computations!D237","v":450000.00000000035},{"$f":"Computations!$J$17+Computations!$I$17*LN(Computations!D237)","v":450000},{"$f":"Computations!$J$18+Computations!$I$18*Computations!D237+Computations!$H$18*Computations!D237^2","v":450000},{"$f":"Computations!$J$19+Computations!$I$19*Computations!D237+Computations!$H$19*Computations!D237^2+Computations!$G$19*Computations!D237^3","v":450000}]
[184,6.4496732520672229E-2,6.4788579777608712E-2,6.4642656149140471E-2,0.19440728176745103,2.5793357510361103E-3,1403.1928440676379,450000,{"$f":"G238-H238/User_entry!$E$18","v":-96.807155932362093},0,null,{"$f":"HLOOKUP(User_entry!$B$56,Computations!$N$54:$R$1054,Computations!A238+1,FALSE)","v":1403.1928440676379},{"$f":"HLOOKUP(User_entry!$E$56,Computations!$S$54:$W$1054,Computations!A238+1,FALSE)","v":450000},{"$f":"Computations!$F$15+Computations!$E$15*D238","v":1403.1928440676379},{"$f":"EXP(Computations!$F$16)*EXP(Computations!$E$16)^Computations!D238","v":1316.7233535609662},{"$f":"Computations!$F$17+Computations!$E$17*LN(Computations!D238)","v":1561.9307844082787},{"$f":"Computations!$F$18+Computations!$E$18*Computations!D238+Computations!$D$18*Computations!D238^2","v":1442.9812642213658},{"$f":"Computations!$F$19+Computations!$E$19*Computations!D238+Computations!$D$19*Computations!D238^2+Computations!$C$19*Computations!D238^3","v":1442.9812642213658},{"$f":"Computations!$J$15+Computations!$I$15*D238","v":450000},{"$f":"EXP(Computations!$J$16)*EXP(Computations!$I$16)^Computations!D238","v":450000.00000000035},{"$f":"Computations!$J$17+Computations!$I$17*LN(Computations!D238)","v":450000},{"$f":"Computations!$J$18+Computations!$I$18*Computations!D238+Computations!$H$18*Computations!D238^2","v":450000},{"$f":"Computations!$J$19+Computations!$I$19*Computations!D238+Computations!$H$19*Computations!D238^2+Computations!$G$19*Computations!D238^3","v":450000}]
[185,6.4788579777608712E-2,6.5080427034545196E-2,6.4934503406076954E-2,0.19700000793597136,2.5927261685203262E-3,1407.0329395536444,450000,{"$f":"G239-H239/User_entry!$E$18","v":-92.967060446355617},0,null,{"$f":"HLOOKUP(User_entry!$B$56,Computations!$N$54:$R$1054,Computations!A239+1,FALSE)","v":1407.0329395536444},{"$f":"HLOOKUP(User_entry!$E$56,Computations!$S$54:$W$1054,Computations!A239+1,FALSE)","v":450000},{"$f":"Computations!$F$15+Computations!$E$15*D239","v":1407.0329395536444},{"$f":"EXP(Computations!$F$16)*EXP(Computations!$E$16)^Computations!D239","v":1319.4551767112882},{"$f":"Computations!$F$17+Computations!$E$17*LN(Computations!D239)","v":1567.6536334870393},{"$f":"Computations!$F$18+Computations!$E$18*Computations!D239+Computations!$D$18*Computations!D239^2","v":1447.9580472959849},{"$f":"Computations!$F$19+Computations!$E$19*Computations!D239+Computations!$D$19*Computations!D239^2+Computations!$C$19*Computations!D239^3","v":1447.9580472959849},{"$f":"Computations!$J$15+Computations!$I$15*D239","v":450000},{"$f":"EXP(Computations!$J$16)*EXP(Computations!$I$16)^Computations!D239","v":450000.00000000035},{"$f":"Computations!$J$17+Computations!$I$17*LN(Computations!D239)","v":450000},{"$f":"Computations!$J$18+Computations!$I$18*Computations!D239+Computations!$H$18*Computations!D239^2","v":450000},{"$f":"Computations!$J$19+Computations!$I$19*Computations!D239+Computations!$H$19*Computations!D239^2+Computations!$G$19*Computations!D239^3","v":450000}]
[186,6.5080427034545196E-2,6.537227429148168E-2,6.5226350663013438E-2,0.19960594345493055,2.6059355189591848E-3,1410.8730350396509,450000,{"$f":"G240-H240/User_entry!$E$18","v":-89.126964960349142},0,null,{"$f":"HLOOKUP(User_entry!$B$56,Computations!$N$54:$R$1054,Computations!A240+1,FALSE)","v":1410.8730350396509},{"$f":"HLOOKUP(User_entry!$E$56,Computations!$S$54:$W$1054,Computations!A240+1,FALSE)","v":450000},{"$f":"Computations!$F$15+Computations!$E$15*D240","v":1410.8730350396509},{"$f":"EXP(Computations!$F$16)*EXP(Computations!$E$16)^Computations!D240","v":1322.192667610803},{"$f":"Computations!$F$17+Computations!$E$17*LN(Computations!D240)","v":1573.3508188833048},{"$f":"Computations!$F$18+Computations!$E$18*Computations!D240+Computations!$D$18*Computations!D240^2","v":1452.9285211245756},{"$f":"Computations!$F$19+Computations!$E$19*Computations!D240+Computations!$D$19*Computations!D240^2+Computations!$C$19*Computations!D240^3","v":1452.9285211245756},{"$f":"Computations!$J$15+Computations!$I$15*D240","v":450000},{"$f":"EXP(Computations!$J$16)*EXP(Computations!$I$16)^Computations!D240","v":450000.00000000035},{"$f":"Computations!$J$17+Computations!$I$17*LN(Computations!D240)","v":450000},{"$f":"Computations!$J$18+Computations!$I$18*Computations!D240+Computations!$H$18*Computations!D240^2","v":450000},{"$f":"Computations!$J$19+Computations!$I$19*Computations!D240+Computations!$H$19*Computations!D240^2+Computations!$G$19*Computations!D240^3","v":450000}]
[187,6.537227429148168E-2,6.5664121548418164E-2,6.5518197919949922E-2,0.20222490591788059,2.6189624629500419E-3,1414.7131305256571,450000,{"$f":"G241-H241/User_entry!$E$18","v":-85.286869474342893},0,null,{"$f":"HLOOKUP(User_entry!$B$56,Computations!$N$54:$R$1054,Computations!A241+1,FALSE)","v":1414.7131305256571},{"$f":"HLOOKUP(User_entry!$E$56,Computations!$S$54:$W$1054,Computations!A241+1,FALSE)","v":450000},{"$f":"Computations!$F$15+Computations!$E$15*D241","v":1414.7131305256571},{"$f":"EXP(Computations!$F$16)*EXP(Computations!$E$16)^Computations!D241","v":1324.935838018464},{"$f":"Computations!$F$17+Computations!$E$17*LN(Computations!D241)","v":1579.0225697435412},{"$f":"Computations!$F$18+Computations!$E$18*Computations!D241+Computations!$D$18*Computations!D241^2","v":1457.8926857071383},{"$f":"Computations!$F$19+Computations!$E$19*Computations!D241+Computations!$D$19*Computations!D241^2+Computations!$C$19*Computations!D241^3","v":1457.8926857071383},{"$f":"Computations!$J$15+Computations!$I$15*D241","v":450000},{"$f":"EXP(Computations!$J$16)*EXP(Computations!$I$16)^Computations!D241","v":450000.00000000035},{"$f":"Computations!$J$17+Computations!$I$17*LN(Computations!D241)","v":450000},{"$f":"Computations!$J$18+Computations!$I$18*Computations!D241+Computations!$H$18*Computations!D241^2","v":450000},{"$f":"Computations!$J$19+Computations!$I$19*Computations!D241+Computations!$H$19*Computations!D241^2+Computations!$G$19*Computations!D241^3","v":450000}]
[188,6.5664121548418164E-2,6.5955968805354648E-2,6.5810045176886406E-2,0.20485671162794541,2.6318057100648273E-3,1418.5532260116634,450000,{"$f":"G242-H242/User_entry!$E$18","v":-81.446773988336645},0,null,{"$f":"HLOOKUP(User_entry!$B$56,Computations!$N$54:$R$1054,Computations!A242+1,FALSE)","v":1418.5532260116634},{"$f":"HLOOKUP(User_entry!$E$56,Computations!$S$54:$W$1054,Computations!A242+1,FALSE)","v":450000},{"$f":"Computations!$F$15+Computations!$E$15*D242","v":1418.5532260116634},{"$f":"EXP(Computations!$F$16)*EXP(Computations!$E$16)^Computations!D242","v":1327.6846997176215},{"$f":"Computations!$F$17+Computations!$E$17*LN(Computations!D242)","v":1584.6691121588392},{"$f":"Computations!$F$18+Computations!$E$18*Computations!D242+Computations!$D$18*Computations!D242^2","v":1462.8505410436724},{"$f":"Computations!$F$19+Computations!$E$19*Computations!D242+Computations!$D$19*Computations!D242^2+Computations!$C$19*Computations!D242^3","v":1462.8505410436724},{"$f":"Computations!$J$15+Computations!$I$15*D242","v":450000},{"$f":"EXP(Computations!$J$16)*EXP(Computations!$I$16)^Computations!D242","v":450000.00000000035},{"$f":"Computations!$J$17+Computations!$I$17*LN(Computations!D242)","v":450000},{"$f":"Computations!$J$18+Computations!$I$18*Computations!D242+Computations!$H$18*Computations!D242^2","v":450000},{"$f":"Computations!$J$19+Computations!$I$19*Computations!D242+Computations!$H$19*Computations!D242^2+Computations!$G$19*Computations!D242^3","v":450000}]
[189,6.5955968805354648E-2,6.6247816062291132E-2,6.610189243382289E-2,0.20750117564658963,2.6444640186442103E-3,1422.3933214976698,450000,{"$f":"G243-H243/User_entry!$E$18","v":-77.606678502330169},0,null,{"$f":"HLOOKUP(User_entry!$B$56,Computations!$N$54:$R$1054,Computations!A243+1,FALSE)","v":1422.3933214976698},{"$f":"HLOOKUP(User_entry!$E$56,Computations!$S$54:$W$1054,Computations!A243+1,FALSE)","v":450000},{"$f":"Computations!$F$15+Computations!$E$15*D243","v":1422.3933214976698},{"$f":"EXP(Computations!$F$16)*EXP(Computations!$E$16)^Computations!D243","v":1330.4392645160717},{"$f":"Computations!$F$17+Computations!$E$17*LN(Computations!D243)","v":1590.2906692189899},{"$f":"Computations!$F$18+Computations!$E$18*Computations!D243+Computations!$D$18*Computations!D243^2","v":1467.8020871341787},{"$f":"Computations!$F$19+Computations!$E$19*Computations!D243+Computations!$D$19*Computations!D243^2+Computations!$C$19*Computations!D243^3","v":1467.8020871341787},{"$f":"Computations!$J$15+Computations!$I$15*D243","v":450000},{"$f":"EXP(Computations!$J$16)*EXP(Computations!$I$16)^Computations!D243","v":450000.00000000035},{"$f":"Computations!$J$17+Computations!$I$17*LN(Computations!D243)","v":450000},{"$f":"Computations!$J$18+Computations!$I$18*Computations!D243+Computations!$H$18*Computations!D243^2","v":450000},{"$f":"Computations!$J$19+Computations!$I$19*Computations!D243+Computations!$H$19*Computations!D243^2+Computations!$G$19*Computations!D243^3","v":450000}]
[190,6.6247816062291132E-2,6.6539663319227615E-2,6.6393739690759374E-2,0.21015811184216693,2.656936195577303E-3,1426.2334169836763,450000,{"$f":"G244-H244/User_entry!$E$18","v":-73.766583016323693},0,null,{"$f":"HLOOKUP(User_entry!$B$56,Computations!$N$54:$R$1054,Computations!A244+1,FALSE)","v":1426.2334169836763},{"$f":"HLOOKUP(User_entry!$E$56,Computations!$S$54:$W$1054,Computations!A244+1,FALSE)","v":450000},{"$f":"Computations!$F$15+Computations!$E$15*D244","v":1426.2334169836763},{"$f":"EXP(Computations!$F$16)*EXP(Computations!$E$16)^Computations!D244","v":1333.1995442461098},{"$f":"Computations!$F$17+Computations!$E$17*LN(Computations!D244)","v":1595.8874610653756},{"$f":"Computations!$F$18+Computations!$E$18*Computations!D244+Computations!$D$18*Computations!D244^2","v":1472.7473239786564},{"$f":"Computations!$F$19+Computations!$E$19*Computations!D244+Computations!$D$19*Computations!D244^2+Computations!$C$19*Computations!D244^3","v":1472.7473239786564},{"$f":"Computations!$J$15+Computations!$I$15*D244","v":450000},{"$f":"EXP(Computations!$J$16)*EXP(Computations!$I$16)^Computations!D244","v":450000.00000000035},{"$f":"Computations!$J$17+Computations!$I$17*LN(Computations!D244)","v":450000},{"$f":"Computations!$J$18+Computations!$I$18*Computations!D244+Computations!$H$18*Computations!D244^2","v":450000},{"$f":"Computations!$J$19+Computations!$I$19*Computations!D244+Computations!$H$19*Computations!D244^2+Computations!$G$19*Computations!D244^3","v":450000}]
[191,6.6539663319227615E-2,6.6831510576164099E-2,6.6685586947695857E-2,0.21282733293823633,2.6692210960694018E-3,1430.0735124696826,450000,{"$f":"G245-H245/User_entry!$E$18","v":-69.926487530317445},0,null,{"$f":"HLOOKUP(User_entry!$B$56,Computations!$N$54:$R$1054,Computations!A245+1,FALSE)","v":1430.0735124696826},{"$f":"HLOOKUP(User_entry!$E$56,Computations!$S$54:$W$1054,Computations!A245+1,FALSE)","v":450000},{"$f":"Computations!$F$15+Computations!$E$15*D245","v":1430.0735124696826},{"$f":"EXP(Computations!$F$16)*EXP(Computations!$E$16)^Computations!D245","v":1335.9655507645787},{"$f":"Computations!$F$17+Computations!$E$17*LN(Computations!D245)","v":1601.4597049426975},{"$f":"Computations!$F$18+Computations!$E$18*Computations!D245+Computations!$D$18*Computations!D245^2","v":1477.6862515771061},{"$f":"Computations!$F$19+Computations!$E$19*Computations!D245+Computations!$D$19*Computations!D245^2+Computations!$C$19*Computations!D245^3","v":1477.6862515771061},{"$f":"Computations!$J$15+Computations!$I$15*D245","v":450000},{"$f":"EXP(Computations!$J$16)*EXP(Computations!$I$16)^Computations!D245","v":450000.00000000035},{"$f":"Computations!$J$17+Computations!$I$17*LN(Computations!D245)","v":450000},{"$f":"Computations!$J$18+Computations!$I$18*Computations!D245+Computations!$H$18*Computations!D245^2","v":450000},{"$f":"Computations!$J$19+Computations!$I$19*Computations!D245+Computations!$H$19*Computations!D245^2+Computations!$G$19*Computations!D245^3","v":450000}]
[192,6.6831510576164099E-2,6.7123357833100583E-2,6.6977434204632341E-2,0.21550865056163337,2.6813176233970448E-3,1433.9136079556888,450000,{"$f":"G246-H246/User_entry!$E$18","v":-66.086392044311197},0,null,{"$f":"HLOOKUP(User_entry!$B$56,Computations!$N$54:$R$1054,Computations!A246+1,FALSE)","v":1433.9136079556888},{"$f":"HLOOKUP(User_entry!$E$56,Computations!$S$54:$W$1054,Computations!A246+1,FALSE)","v":450000},{"$f":"Computations!$F$15+Computations!$E$15*D246","v":1433.9136079556888},{"$f":"EXP(Computations!$F$16)*EXP(Computations!$E$16)^Computations!D246","v":1338.7372959529214},{"$f":"Computations!$F$17+Computations!$E$17*LN(Computations!D246)","v":1607.0076152495726},{"$f":"Computations!$F$18+Computations!$E$18*Computations!D246+Computations!$D$18*Computations!D246^2","v":1482.6188699295271},{"$f":"Computations!$F$19+Computations!$E$19*Computations!D246+Computations!$D$19*Computations!D246^2+Computations!$C$19*Computations!D246^3","v":1482.6188699295271},{"$f":"Computations!$J$15+Computations!$I$15*D246","v":450000},{"$f":"EXP(Computations!$J$16)*EXP(Computations!$I$16)^Computations!D246","v":450000.00000000035},{"$f":"Computations!$J$17+Computations!$I$17*LN(Computations!D246)","v":450000},{"$f":"Computations!$J$18+Computations!$I$18*Computations!D246+Computations!$H$18*Computations!D246^2","v":450000},{"$f":"Computations!$J$19+Computations!$I$19*Computations!D246+Computations!$H$19*Computations!D246^2+Computations!$G$19*Computations!D246^3","v":450000}]
[193,6.7123357833100583E-2,6.7415205090037067E-2,6.7269281461568825E-2,0.21820187529028245,2.6932247286490796E-3,1437.7537034416953,450000,{"$f":"G247-H247/User_entry!$E$18","v":-62.246296558304721},0,null,{"$f":"HLOOKUP(User_entry!$B$56,Computations!$N$54:$R$1054,Computations!A247+1,FALSE)","v":1437.7537034416953},{"$f":"HLOOKUP(User_entry!$E$56,Computations!$S$54:$W$1054,Computations!A247+1,FALSE)","v":450000},{"$f":"Computations!$F$15+Computations!$E$15*D247","v":1437.7537034416953},{"$f":"EXP(Computations!$F$16)*EXP(Computations!$E$16)^Computations!D247","v":1341.514791717231},{"$f":"Computations!$F$17+Computations!$E$17*LN(Computations!D247)","v":1612.5314035880338},{"$f":"Computations!$F$18+Computations!$E$18*Computations!D247+Computations!$D$18*Computations!D247^2","v":1487.5451790359205},{"$f":"Computations!$F$19+Computations!$E$19*Computations!D247+Computations!$D$19*Computations!D247^2+Computations!$C$19*Computations!D247^3","v":1487.5451790359205},{"$f":"Computations!$J$15+Computations!$I$15*D247","v":450000},{"$f":"EXP(Computations!$J$16)*EXP(Computations!$I$16)^Computations!D247","v":450000.00000000035},{"$f":"Computations!$J$17+Computations!$I$17*LN(Computations!D247)","v":450000},{"$f":"Computations!$J$18+Computations!$I$18*Computations!D247+Computations!$H$18*Computations!D247^2","v":450000},{"$f":"Computations!$J$19+Computations!$I$19*Computations!D247+Computations!$H$19*Computations!D247^2+Computations!$G$19*Computations!D247^3","v":450000}]
[194,6.7415205090037067E-2,{"$f":"B248+$D$11","v":6.7707052346973551E-2},{"$f":"AVERAGE(B248:C248)","v":6.7561128718505309E-2},{"$f":"IF($D$3=\"Beta\",_xlfn.BETA.DIST(C248,$D$4,$D$5,TRUE),IF($D$3=\"Gamma\",_xlfn.GAMMA.DIST(C248,$D$4,$D$5,TRUE),IF($D$3=\"Lognorm\",_xlfn.LOGNORM.DIST(C248,$D$4,$D$5,TRUE),_xlfn.NORM.DIST(C248,$D$4,$D$5,TRUE))))","v":0.22090681670074072},{"$f":"E248-E247","v":2.704941410458267E-3},{"$f":"L248","v":1441.5937989277018},{"$f":"M248","v":450000},{"$f":"G248-H248/User_entry!$E$18","v":-58.406201072298245},{"$f":"MAX(I248,0)","v":0},null,{"$f":"HLOOKUP(User_entry!$B$56,Computations!$N$54:$R$1054,Computations!A248+1,FALSE)","v":1441.5937989277018},{"$f":"HLOOKUP(User_entry!$E$56,Computations!$S$54:$W$1054,Computations!A248+1,FALSE)","v":450000},{"$f":"Computations!$F$15+Computations!$E$15*D248","v":1441.5937989277018},{"$f":"EXP(Computations!$F$16)*EXP(Computations!$E$16)^Computations!D248","v":1344.2980499883029},{"$f":"Computations!$F$17+Computations!$E$17*LN(Computations!D248)","v":1618.0312788119581},{"$f":"Computations!$F$18+Computations!$E$18*Computations!D248+Computations!$D$18*Computations!D248^2","v":1492.4651788962849},{"$f":"Computations!$F$19+Computations!$E$19*Computations!D248+Computations!$D$19*Computations!D248^2+Computations!$C$19*Computations!D248^3","v":1492.4651788962849},{"$f":"Computations!$J$15+Computations!$I$15*D248","v":450000},{"$f":"EXP(Computations!$J$16)*EXP(Computations!$I$16)^Computations!D248","v":450000.00000000035},{"$f":"Computations!$J$17+Computations!$I$17*LN(Computations!D248)","v":450000},{"$f":"Computations!$J$18+Computations!$I$18*Computations!D248+Computations!$H$18*Computations!D248^2","v":450000},{"$f":"Computations!$J$19+Computations!$I$19*Computations!D248+Computations!$H$19*Computations!D248^2+Computations!$G$19*Computations!D248^3","v":450000}]
[195,{"$f":"C248","v":6.7707052346973551E-2},6.7998899603910035E-2,6.7852975975441793E-2,0.22362328341545934,2.7164667147186183E-3,1445.433894413708,450000,{"$f":"G249-H249/User_entry!$E$18","v":-54.566105586291997},0,null,{"$f":"HLOOKUP(User_entry!$B$56,Computations!$N$54:$R$1054,Computations!A249+1,FALSE)","v":1445.433894413708},{"$f":"HLOOKUP(User_entry!$E$56,Computations!$S$54:$W$1054,Computations!A249+1,FALSE)","v":450000},{"$f":"Computations!$F$15+Computations!$E$15*D249","v":1445.433894413708},{"$f":"EXP(Computations!$F$16)*EXP(Computations!$E$16)^Computations!D249","v":1347.0870827216852},{"$f":"Computations!$F$17+Computations!$E$17*LN(Computations!D249)","v":1623.5074470744471},{"$f":"Computations!$F$18+Computations!$E$18*Computations!D249+Computations!$D$18*Computations!D249^2","v":1497.3788695106218},{"$f":"Computations!$F$19+Computations!$E$19*Computations!D249+Computations!$D$19*Computations!D249^2+Computations!$C$19*Computations!D249^3","v":1497.3788695106218},{"$f":"Computations!$J$15+Computations!$I$15*D249","v":450000},{"$f":"EXP(Computations!$J$16)*EXP(Computations!$I$16)^Computations!D249","v":450000.00000000035},{"$f":"Computations!$J$17+Computations!$I$17*LN(Computations!D249)","v":450000},{"$f":"Computations!$J$18+Computations!$I$18*Computations!D249+Computations!$H$18*Computations!D249^2","v":450000},{"$f":"Computations!$J$19+Computations!$I$19*Computations!D249+Computations!$H$19*Computations!D249^2+Computations!$G$19*Computations!D249^3","v":450000}]
[196,6.7998899603910035E-2,6.8290746860846518E-2,6.8144823232378277E-2,0.2263510831497548,2.7277997342954607E-3,1449.2739898997143,450000,{"$f":"G250-H250/User_entry!$E$18","v":-50.726010100285748},0,null,{"$f":"HLOOKUP(User_entry!$B$56,Computations!$N$54:$R$1054,Computations!A250+1,FALSE)","v":1449.2739898997143},{"$f":"HLOOKUP(User_entry!$E$56,Computations!$S$54:$W$1054,Computations!A250+1,FALSE)","v":450000},{"$f":"Computations!$F$15+Computations!$E$15*D250","v":1449.2739898997143},{"$f":"EXP(Computations!$F$16)*EXP(Computations!$E$16)^Computations!D250","v":1349.8819018977304},{"$f":"Computations!$F$17+Computations!$E$17*LN(Computations!D250)","v":1628.9601118741962},{"$f":"Computations!$F$18+Computations!$E$18*Computations!D250+Computations!$D$18*Computations!D250^2","v":1502.2862508789299},{"$f":"Computations!$F$19+Computations!$E$19*Computations!D250+Computations!$D$19*Computations!D250^2+Computations!$C$19*Computations!D250^3","v":1502.2862508789299},{"$f":"Computations!$J$15+Computations!$I$15*D250","v":450000},{"$f":"EXP(Computations!$J$16)*EXP(Computations!$I$16)^Computations!D250","v":450000.00000000035},{"$f":"Computations!$J$17+Computations!$I$17*LN(Computations!D250)","v":450000},{"$f":"Computations!$J$18+Computations!$I$18*Computations!D250+Computations!$H$18*Computations!D250^2","v":450000},{"$f":"Computations!$J$19+Computations!$I$19*Computations!D250+Computations!$H$19*Computations!D250^2+Computations!$G$19*Computations!D250^3","v":450000}]
[197,6.8290746860846518E-2,6.8582594117783002E-2,6.843667048931476E-2,0.22909002275847359,2.7389396087187934E-3,1453.1140853857207,450000,{"$f":"G251-H251/User_entry!$E$18","v":-46.885914614279272},0,null,{"$f":"HLOOKUP(User_entry!$B$56,Computations!$N$54:$R$1054,Computations!A251+1,FALSE)","v":1453.1140853857207},{"$f":"HLOOKUP(User_entry!$E$56,Computations!$S$54:$W$1054,Computations!A251+1,FALSE)","v":450000},{"$f":"Computations!$F$15+Computations!$E$15*D251","v":1453.1140853857207},{"$f":"EXP(Computations!$F$16)*EXP(Computations!$E$16)^Computations!D251","v":1352.6825195216461},{"$f":"Computations!$F$17+Computations!$E$17*LN(Computations!D251)","v":1634.389474100868},{"$f":"Computations!$F$18+Computations!$E$18*Computations!D251+Computations!$D$18*Computations!D251^2","v":1507.1873230012102},{"$f":"Computations!$F$19+Computations!$E$19*Computations!D251+Computations!$D$19*Computations!D251^2+Computations!$C$19*Computations!D251^3","v":1507.1873230012102},{"$f":"Computations!$J$15+Computations!$I$15*D251","v":450000},{"$f":"EXP(Computations!$J$16)*EXP(Computations!$I$16)^Computations!D251","v":450000.00000000035},{"$f":"Computations!$J$17+Computations!$I$17*LN(Computations!D251)","v":450000},{"$f":"Computations!$J$18+Computations!$I$18*Computations!D251+Computations!$H$18*Computations!D251^2","v":450000},{"$f":"Computations!$J$19+Computations!$I$19*Computations!D251+Computations!$H$19*Computations!D251^2+Computations!$G$19*Computations!D251^3","v":450000}]
[198,6.8582594117783002E-2,6.8874441374719486E-2,6.8728517746251244E-2,0.23183990828234419,2.7498855238705933E-3,1456.9541808717272,450000,{"$f":"G252-H252/User_entry!$E$18","v":-43.045819128272797},0,null,{"$f":"HLOOKUP(User_entry!$B$56,Computations!$N$54:$R$1054,Computations!A252+1,FALSE)","v":1456.9541808717272},{"$f":"HLOOKUP(User_entry!$E$56,Computations!$S$54:$W$1054,Computations!A252+1,FALSE)","v":450000},{"$f":"Computations!$F$15+Computations!$E$15*D252","v":1456.9541808717272},{"$f":"EXP(Computations!$F$16)*EXP(Computations!$E$16)^Computations!D252","v":1355.4889476235485},{"$f":"Computations!$F$17+Computations!$E$17*LN(Computations!D252)","v":1639.7957320795072},{"$f":"Computations!$F$18+Computations!$E$18*Computations!D252+Computations!$D$18*Computations!D252^2","v":1512.0820858774619},{"$f":"Computations!$F$19+Computations!$E$19*Computations!D252+Computations!$D$19*Computations!D252^2+Computations!$C$19*Computations!D252^3","v":1512.0820858774619},{"$f":"Computations!$J$15+Computations!$I$15*D252","v":450000},{"$f":"EXP(Computations!$J$16)*EXP(Computations!$I$16)^Computations!D252","v":450000.00000000035},{"$f":"Computations!$J$17+Computations!$I$17*LN(Computations!D252)","v":450000},{"$f":"Computations!$J$18+Computations!$I$18*Computations!D252+Computations!$H$18*Computations!D252^2","v":450000},{"$f":"Computations!$J$19+Computations!$I$19*Computations!D252+Computations!$H$19*Computations!D252^2+Computations!$G$19*Computations!D252^3","v":450000}]
[199,6.8874441374719486E-2,6.916628863165597E-2,6.9020365003187728E-2,0.2346005449940062,2.7606367116620179E-3,1460.7942763577335,450000,{"$f":"G253-H253/User_entry!$E$18","v":-39.205723642266548},0,null,{"$f":"HLOOKUP(User_entry!$B$56,Computations!$N$54:$R$1054,Computations!A253+1,FALSE)","v":1460.7942763577335},{"$f":"HLOOKUP(User_entry!$E$56,Computations!$S$54:$W$1054,Computations!A253+1,FALSE)","v":450000},{"$f":"Computations!$F$15+Computations!$E$15*D253","v":1460.7942763577335},{"$f":"EXP(Computations!$F$16)*EXP(Computations!$E$16)^Computations!D253","v":1358.3011982585122},{"$f":"Computations!$F$17+Computations!$E$17*LN(Computations!D253)","v":1645.1790816140024},{"$f":"Computations!$F$18+Computations!$E$18*Computations!D253+Computations!$D$18*Computations!D253^2","v":1516.9705395076855},{"$f":"Computations!$F$19+Computations!$E$19*Computations!D253+Computations!$D$19*Computations!D253^2+Computations!$C$19*Computations!D253^3","v":1516.9705395076855},{"$f":"Computations!$J$15+Computations!$I$15*D253","v":450000},{"$f":"EXP(Computations!$J$16)*EXP(Computations!$I$16)^Computations!D253","v":450000.00000000035},{"$f":"Computations!$J$17+Computations!$I$17*LN(Computations!D253)","v":450000},{"$f":"Computations!$J$18+Computations!$I$18*Computations!D253+Computations!$H$18*Computations!D253^2","v":450000},{"$f":"Computations!$J$19+Computations!$I$19*Computations!D253+Computations!$H$19*Computations!D253^2+Computations!$G$19*Computations!D253^3","v":450000}]
[200,6.916628863165597E-2,6.9458135888592454E-2,6.9312212260124212E-2,0.23737173744370174,2.7711924496955365E-3,1464.6343718437397,450000,{"$f":"G254-H254/User_entry!$E$18","v":-35.3656281562603},0,null,{"$f":"HLOOKUP(User_entry!$B$56,Computations!$N$54:$R$1054,Computations!A254+1,FALSE)","v":1464.6343718437397},{"$f":"HLOOKUP(User_entry!$E$56,Computations!$S$54:$W$1054,Computations!A254+1,FALSE)","v":450000},{"$f":"Computations!$F$15+Computations!$E$15*D254","v":1464.6343718437397},{"$f":"EXP(Computations!$F$16)*EXP(Computations!$E$16)^Computations!D254","v":1361.1192835066222},{"$f":"Computations!$F$17+Computations!$E$17*LN(Computations!D254)","v":1650.5397160296475},{"$f":"Computations!$F$18+Computations!$E$18*Computations!D254+Computations!$D$18*Computations!D254^2","v":1521.8526838918806},{"$f":"Computations!$F$19+Computations!$E$19*Computations!D254+Computations!$D$19*Computations!D254^2+Computations!$C$19*Computations!D254^3","v":1521.8526838918806},{"$f":"Computations!$J$15+Computations!$I$15*D254","v":450000},{"$f":"EXP(Computations!$J$16)*EXP(Computations!$I$16)^Computations!D254","v":450000.00000000035},{"$f":"Computations!$J$17+Computations!$I$17*LN(Computations!D254)","v":450000},{"$f":"Computations!$J$18+Computations!$I$18*Computations!D254+Computations!$H$18*Computations!D254^2","v":450000},{"$f":"Computations!$J$19+Computations!$I$19*Computations!D254+Computations!$H$19*Computations!D254^2+Computations!$G$19*Computations!D254^3","v":450000}]
[201,6.9458135888592454E-2,6.9749983145528938E-2,6.9604059517060696E-2,0.24015328950462658,2.7815520609248412E-3,1468.4744673297462,450000,{"$f":"G255-H255/User_entry!$E$18","v":-31.525532670253824},0,null,{"$f":"HLOOKUP(User_entry!$B$56,Computations!$N$54:$R$1054,Computations!A255+1,FALSE)","v":1468.4744673297462},{"$f":"HLOOKUP(User_entry!$E$56,Computations!$S$54:$W$1054,Computations!A255+1,FALSE)","v":450000},{"$f":"Computations!$F$15+Computations!$E$15*D255","v":1468.4744673297462},{"$f":"EXP(Computations!$F$16)*EXP(Computations!$E$16)^Computations!D255","v":1363.9432154730273},{"$f":"Computations!$F$17+Computations!$E$17*LN(Computations!D255)","v":1655.8778262147925},{"$f":"Computations!$F$18+Computations!$E$18*Computations!D255+Computations!$D$18*Computations!D255^2","v":1526.7285190300479},{"$f":"Computations!$F$19+Computations!$E$19*Computations!D255+Computations!$D$19*Computations!D255^2+Computations!$C$19*Computations!D255^3","v":1526.7285190300479},{"$f":"Computations!$J$15+Computations!$I$15*D255","v":450000},{"$f":"EXP(Computations!$J$16)*EXP(Computations!$I$16)^Computations!D255","v":450000.00000000035},{"$f":"Computations!$J$17+Computations!$I$17*LN(Computations!D255)","v":450000},{"$f":"Computations!$J$18+Computations!$I$18*Computations!D255+Computations!$H$18*Computations!D255^2","v":450000},{"$f":"Computations!$J$19+Computations!$I$19*Computations!D255+Computations!$H$19*Computations!D255^2+Computations!$G$19*Computations!D255^3","v":450000}]
[202,6.9749983145528938E-2,7.0041830402465421E-2,6.989590677399718E-2,0.24294500441792438,2.7917149132977992E-3,1472.3145628157527,450000,{"$f":"G256-H256/User_entry!$E$18","v":-27.685437184247348},0,null,{"$f":"HLOOKUP(User_entry!$B$56,Computations!$N$54:$R$1054,Computations!A256+1,FALSE)","v":1472.3145628157527},{"$f":"HLOOKUP(User_entry!$E$56,Computations!$S$54:$W$1054,Computations!A256+1,FALSE)","v":450000},{"$f":"Computations!$F$15+Computations!$E$15*D256","v":1472.3145628157527},{"$f":"EXP(Computations!$F$16)*EXP(Computations!$E$16)^Computations!D256","v":1366.7730062879898},{"$f":"Computations!$F$17+Computations!$E$17*LN(Computations!D256)","v":1661.1936006616347},{"$f":"Computations!$F$18+Computations!$E$18*Computations!D256+Computations!$D$18*Computations!D256^2","v":1531.5980449221865},{"$f":"Computations!$F$19+Computations!$E$19*Computations!D256+Computations!$D$19*Computations!D256^2+Computations!$C$19*Computations!D256^3","v":1531.5980449221865},{"$f":"Computations!$J$15+Computations!$I$15*D256","v":450000},{"$f":"EXP(Computations!$J$16)*EXP(Computations!$I$16)^Computations!D256","v":450000.00000000035},{"$f":"Computations!$J$17+Computations!$I$17*LN(Computations!D256)","v":450000},{"$f":"Computations!$J$18+Computations!$I$18*Computations!D256+Computations!$H$18*Computations!D256^2","v":450000},{"$f":"Computations!$J$19+Computations!$I$19*Computations!D256+Computations!$H$19*Computations!D256^2+Computations!$G$19*Computations!D256^3","v":450000}]
[203,7.0041830402465421E-2,7.0333677659401905E-2,7.0187754030933663E-2,0.24574668483732201,2.8016804193976286E-3,1476.1546583017589,450000,{"$f":"G257-H257/User_entry!$E$18","v":-23.8453416982411},0,null,{"$f":"HLOOKUP(User_entry!$B$56,Computations!$N$54:$R$1054,Computations!A257+1,FALSE)","v":1476.1546583017589},{"$f":"HLOOKUP(User_entry!$E$56,Computations!$S$54:$W$1054,Computations!A257+1,FALSE)","v":450000},{"$f":"Computations!$F$15+Computations!$E$15*D257","v":1476.1546583017589},{"$f":"EXP(Computations!$F$16)*EXP(Computations!$E$16)^Computations!D257","v":1369.6086681069396},{"$f":"Computations!$F$17+Computations!$E$17*LN(Computations!D257)","v":1666.4872255061532},{"$f":"Computations!$F$18+Computations!$E$18*Computations!D257+Computations!$D$18*Computations!D257^2","v":1536.4612615682975},{"$f":"Computations!$F$19+Computations!$E$19*Computations!D257+Computations!$D$19*Computations!D257^2+Computations!$C$19*Computations!D257^3","v":1536.4612615682975},{"$f":"Computations!$J$15+Computations!$I$15*D257","v":450000},{"$f":"EXP(Computations!$J$16)*EXP(Computations!$I$16)^Computations!D257","v":450000.00000000035},{"$f":"Computations!$J$17+Computations!$I$17*LN(Computations!D257)","v":450000},{"$f":"Computations!$J$18+Computations!$I$18*Computations!D257+Computations!$H$18*Computations!D257^2","v":450000},{"$f":"Computations!$J$19+Computations!$I$19*Computations!D257+Computations!$H$19*Computations!D257^2+Computations!$G$19*Computations!D257^3","v":450000}]
[204,7.0333677659401905E-2,7.0625524916338389E-2,7.0479601287870147E-2,0.24855813287339096,2.8114480360689476E-3,1479.9947537877651,450000,{"$f":"G258-H258/User_entry!$E$18","v":-20.005246212234852},0,null,{"$f":"HLOOKUP(User_entry!$B$56,Computations!$N$54:$R$1054,Computations!A258+1,FALSE)","v":1479.9947537877651},{"$f":"HLOOKUP(User_entry!$E$56,Computations!$S$54:$W$1054,Computations!A258+1,FALSE)","v":450000},{"$f":"Computations!$F$15+Computations!$E$15*D258","v":1479.9947537877651},{"$f":"EXP(Computations!$F$16)*EXP(Computations!$E$16)^Computations!D258","v":1372.4502131105253},{"$f":"Computations!$F$17+Computations!$E$17*LN(Computations!D258)","v":1671.7588845672203},{"$f":"Computations!$F$18+Computations!$E$18*Computations!D258+Computations!$D$18*Computations!D258^2","v":1541.3181689683795},{"$f":"Computations!$F$19+Computations!$E$19*Computations!D258+Computations!$D$19*Computations!D258^2+Computations!$C$19*Computations!D258^3","v":1541.3181689683795},{"$f":"Computations!$J$15+Computations!$I$15*D258","v":450000},{"$f":"EXP(Computations!$J$16)*EXP(Computations!$I$16)^Computations!D258","v":450000.00000000035},{"$f":"Computations!$J$17+Computations!$I$17*LN(Computations!D258)","v":450000},{"$f":"Computations!$J$18+Computations!$I$18*Computations!D258+Computations!$H$18*Computations!D258^2","v":450000},{"$f":"Computations!$J$19+Computations!$I$19*Computations!D258+Computations!$H$19*Computations!D258^2+Computations!$G$19*Computations!D258^3","v":450000}]
[205,7.0625524916338389E-2,7.0917372173274873E-2,7.0771448544806631E-2,0.25137915013743106,2.8210172640401043E-3,1483.8348492737716,450000,{"$f":"G259-H259/User_entry!$E$18","v":-16.165150726228376},0,null,{"$f":"HLOOKUP(User_entry!$B$56,Computations!$N$54:$R$1054,Computations!A259+1,FALSE)","v":1483.8348492737716},{"$f":"HLOOKUP(User_entry!$E$56,Computations!$S$54:$W$1054,Computations!A259+1,FALSE)","v":450000},{"$f":"Computations!$F$15+Computations!$E$15*D259","v":1483.8348492737716},{"$f":"EXP(Computations!$F$16)*EXP(Computations!$E$16)^Computations!D259","v":1375.2976535046671},{"$f":"Computations!$F$17+Computations!$E$17*LN(Computations!D259)","v":1677.0087593848989},{"$f":"Computations!$F$18+Computations!$E$18*Computations!D259+Computations!$D$18*Computations!D259^2","v":1546.1687671224333},{"$f":"Computations!$F$19+Computations!$E$19*Computations!D259+Computations!$D$19*Computations!D259^2+Computations!$C$19*Computations!D259^3","v":1546.1687671224333},{"$f":"Computations!$J$15+Computations!$I$15*D259","v":450000},{"$f":"EXP(Computations!$J$16)*EXP(Computations!$I$16)^Computations!D259","v":450000.00000000035},{"$f":"Computations!$J$17+Computations!$I$17*LN(Computations!D259)","v":450000},{"$f":"Computations!$J$18+Computations!$I$18*Computations!D259+Computations!$H$18*Computations!D259^2","v":450000},{"$f":"Computations!$J$19+Computations!$I$19*Computations!D259+Computations!$H$19*Computations!D259^2+Computations!$G$19*Computations!D259^3","v":450000}]
[206,7.0917372173274873E-2,7.1209219430211357E-2,7.1063295801743115E-2,0.25420953778496669,2.830387647535626E-3,1487.6749447597781,450000,{"$f":"G260-H260/User_entry!$E$18","v":-12.3250552402219},0,null,{"$f":"HLOOKUP(User_entry!$B$56,Computations!$N$54:$R$1054,Computations!A260+1,FALSE)","v":1487.6749447597781},{"$f":"HLOOKUP(User_entry!$E$56,Computations!$S$54:$W$1054,Computations!A260+1,FALSE)","v":450000},{"$f":"Computations!$F$15+Computations!$E$15*D260","v":1487.6749447597781},{"$f":"EXP(Computations!$F$16)*EXP(Computations!$E$16)^Computations!D260","v":1378.1510015206086},{"$f":"Computations!$F$17+Computations!$E$17*LN(Computations!D260)","v":1682.2370292579562},{"$f":"Computations!$F$18+Computations!$E$18*Computations!D260+Computations!$D$18*Computations!D260^2","v":1551.0130560304594},{"$f":"Computations!$F$19+Computations!$E$19*Computations!D260+Computations!$D$19*Computations!D260^2+Computations!$C$19*Computations!D260^3","v":1551.0130560304594},{"$f":"Computations!$J$15+Computations!$I$15*D260","v":450000},{"$f":"EXP(Computations!$J$16)*EXP(Computations!$I$16)^Computations!D260","v":450000.00000000035},{"$f":"Computations!$J$17+Computations!$I$17*LN(Computations!D260)","v":450000},{"$f":"Computations!$J$18+Computations!$I$18*Computations!D260+Computations!$H$18*Computations!D260^2","v":450000},{"$f":"Computations!$J$19+Computations!$I$19*Computations!D260+Computations!$H$19*Computations!D260^2+Computations!$G$19*Computations!D260^3","v":450000}]
[207,7.1209219430211357E-2,7.1501066687147841E-2,7.1355143058679599E-2,0.25704909655884639,2.8395587738797023E-3,1491.5150402457843,450000,{"$f":"G261-H261/User_entry!$E$18","v":-8.4849597542156516},0,null,{"$f":"HLOOKUP(User_entry!$B$56,Computations!$N$54:$R$1054,Computations!A261+1,FALSE)","v":1491.5150402457843},{"$f":"HLOOKUP(User_entry!$E$56,Computations!$S$54:$W$1054,Computations!A261+1,FALSE)","v":450000},{"$f":"Computations!$F$15+Computations!$E$15*D261","v":1491.5150402457843},{"$f":"EXP(Computations!$F$16)*EXP(Computations!$E$16)^Computations!D261","v":1381.0102694149705},{"$f":"Computations!$F$17+Computations!$E$17*LN(Computations!D261)","v":1687.4438712806077},{"$f":"Computations!$F$18+Computations!$E$18*Computations!D261+Computations!$D$18*Computations!D261^2","v":1555.8510356924567},{"$f":"Computations!$F$19+Computations!$E$19*Computations!D261+Computations!$D$19*Computations!D261^2+Computations!$C$19*Computations!D261^3","v":1555.8510356924567},{"$f":"Computations!$J$15+Computations!$I$15*D261","v":450000},{"$f":"EXP(Computations!$J$16)*EXP(Computations!$I$16)^Computations!D261","v":450000.00000000035},{"$f":"Computations!$J$17+Computations!$I$17*LN(Computations!D261)","v":450000},{"$f":"Computations!$J$18+Computations!$I$18*Computations!D261+Computations!$H$18*Computations!D261^2","v":450000},{"$f":"Computations!$J$19+Computations!$I$19*Computations!D261+Computations!$H$19*Computations!D261^2+Computations!$G$19*Computations!D261^3","v":450000}]
[208,7.1501066687147841E-2,7.1792913944084324E-2,7.1646990315616083E-2,0.25989762683194084,2.8485302730944517E-3,1495.3551357317906,450000,{"$f":"G262-H262/User_entry!$E$18","v":-4.6448642682094032},0,null,{"$f":"HLOOKUP(User_entry!$B$56,Computations!$N$54:$R$1054,Computations!A262+1,FALSE)","v":1495.3551357317906},{"$f":"HLOOKUP(User_entry!$E$56,Computations!$S$54:$W$1054,Computations!A262+1,FALSE)","v":450000},{"$f":"Computations!$F$15+Computations!$E$15*D262","v":1495.3551357317906},{"$f":"EXP(Computations!$F$16)*EXP(Computations!$E$16)^Computations!D262","v":1383.8754694698009},{"$f":"Computations!$F$17+Computations!$E$17*LN(Computations!D262)","v":1692.6294603785095},{"$f":"Computations!$F$18+Computations!$E$18*Computations!D262+Computations!$D$18*Computations!D262^2","v":1560.6827061084264},{"$f":"Computations!$F$19+Computations!$E$19*Computations!D262+Computations!$D$19*Computations!D262^2+Computations!$C$19*Computations!D262^3","v":1560.6827061084264},{"$f":"Computations!$J$15+Computations!$I$15*D262","v":450000},{"$f":"EXP(Computations!$J$16)*EXP(Computations!$I$16)^Computations!D262","v":450000.00000000035},{"$f":"Computations!$J$17+Computations!$I$17*LN(Computations!D262)","v":450000},{"$f":"Computations!$J$18+Computations!$I$18*Computations!D262+Computations!$H$18*Computations!D262^2","v":450000},{"$f":"Computations!$J$19+Computations!$I$19*Computations!D262+Computations!$H$19*Computations!D262^2+Computations!$G$19*Computations!D262^3","v":450000}]
[209,7.1792913944084324E-2,7.2084761201020808E-2,7.1938837572552566E-2,0.26275492864943162,2.8573018174907761E-3,1499.1952312177971,450000,{"$f":"G263-H263/User_entry!$E$18","v":-0.80476878220292747},0,null,{"$f":"HLOOKUP(User_entry!$B$56,Computations!$N$54:$R$1054,Computations!A263+1,FALSE)","v":1499.1952312177971},{"$f":"HLOOKUP(User_entry!$E$56,Computations!$S$54:$W$1054,Computations!A263+1,FALSE)","v":450000},{"$f":"Computations!$F$15+Computations!$E$15*D263","v":1499.1952312177971},{"$f":"EXP(Computations!$F$16)*EXP(Computations!$E$16)^Computations!D263","v":1386.7466139926319},{"$f":"Computations!$F$17+Computations!$E$17*LN(Computations!D263)","v":1697.7939693440217},{"$f":"Computations!$F$18+Computations!$E$18*Computations!D263+Computations!$D$18*Computations!D263^2","v":1565.5080672783672},{"$f":"Computations!$F$19+Computations!$E$19*Computations!D263+Computations!$D$19*Computations!D263^2+Computations!$C$19*Computations!D263^3","v":1565.5080672783672},{"$f":"Computations!$J$15+Computations!$I$15*D263","v":450000},{"$f":"EXP(Computations!$J$16)*EXP(Computations!$I$16)^Computations!D263","v":450000.00000000035},{"$f":"Computations!$J$17+Computations!$I$17*LN(Computations!D263)","v":450000},{"$f":"Computations!$J$18+Computations!$I$18*Computations!D263+Computations!$H$18*Computations!D263^2","v":450000},{"$f":"Computations!$J$19+Computations!$I$19*Computations!D263+Computations!$H$19*Computations!D263^2+Computations!$G$19*Computations!D263^3","v":450000}]
[210,7.2084761201020808E-2,7.2376608457957292E-2,7.223068482948905E-2,0.26562080177068059,2.8658731212489741E-3,1503.0353267038035,450000,{"$f":"G264-H264/User_entry!$E$18","v":3.0353267038035483},3.0353267038035483,null,{"$f":"HLOOKUP(User_entry!$B$56,Computations!$N$54:$R$1054,Computations!A264+1,FALSE)","v":1503.0353267038035},{"$f":"HLOOKUP(User_entry!$E$56,Computations!$S$54:$W$1054,Computations!A264+1,FALSE)","v":450000},{"$f":"Computations!$F$15+Computations!$E$15*D264","v":1503.0353267038035},{"$f":"EXP(Computations!$F$16)*EXP(Computations!$E$16)^Computations!D264","v":1389.6237153165282},{"$f":"Computations!$F$17+Computations!$E$17*LN(Computations!D264)","v":1702.9375688707569},{"$f":"Computations!$F$18+Computations!$E$18*Computations!D264+Computations!$D$18*Computations!D264^2","v":1570.3271192022803},{"$f":"Computations!$F$19+Computations!$E$19*Computations!D264+Computations!$D$19*Computations!D264^2+Computations!$C$19*Computations!D264^3","v":1570.3271192022803},{"$f":"Computations!$J$15+Computations!$I$15*D264","v":450000},{"$f":"EXP(Computations!$J$16)*EXP(Computations!$I$16)^Computations!D264","v":450000.00000000035},{"$f":"Computations!$J$17+Computations!$I$17*LN(Computations!D264)","v":450000},{"$f":"Computations!$J$18+Computations!$I$18*Computations!D264+Computations!$H$18*Computations!D264^2","v":450000},{"$f":"Computations!$J$19+Computations!$I$19*Computations!D264+Computations!$H$19*Computations!D264^2+Computations!$G$19*Computations!D264^3","v":450000}]
[211,7.2376608457957292E-2,7.2668455714893776E-2,7.2522532086425534E-2,0.26849504571067834,2.8742439399977449E-3,1506.8754221898098,450000,{"$f":"G265-H265/User_entry!$E$18","v":6.8754221898097967},6.8754221898097967,null,{"$f":"HLOOKUP(User_entry!$B$56,Computations!$N$54:$R$1054,Computations!A265+1,FALSE)","v":1506.8754221898098},{"$f":"HLOOKUP(User_entry!$E$56,Computations!$S$54:$W$1054,Computations!A265+1,FALSE)","v":450000},{"$f":"Computations!$F$15+Computations!$E$15*D265","v":1506.8754221898098},{"$f":"EXP(Computations!$F$16)*EXP(Computations!$E$16)^Computations!D265","v":1392.5067858001428},{"$f":"Computations!$F$17+Computations!$E$17*LN(Computations!D265)","v":1708.0604275874298},{"$f":"Computations!$F$18+Computations!$E$18*Computations!D265+Computations!$D$18*Computations!D265^2","v":1575.1398618801645},{"$f":"Computations!$F$19+Computations!$E$19*Computations!D265+Computations!$D$19*Computations!D265^2+Computations!$C$19*Computations!D265^3","v":1575.1398618801645},{"$f":"Computations!$J$15+Computations!$I$15*D265","v":450000},{"$f":"EXP(Computations!$J$16)*EXP(Computations!$I$16)^Computations!D265","v":450000.00000000035},{"$f":"Computations!$J$17+Computations!$I$17*LN(Computations!D265)","v":450000},{"$f":"Computations!$J$18+Computations!$I$18*Computations!D265+Computations!$H$18*Computations!D265^2","v":450000},{"$f":"Computations!$J$19+Computations!$I$19*Computations!D265+Computations!$H$19*Computations!D265^2+Computations!$G$19*Computations!D265^3","v":450000}]
[212,7.2668455714893776E-2,7.296030297183026E-2,7.2814379343362018E-2,0.27137745978106192,2.8824140703835877E-3,1510.715517675816,450000,{"$f":"G266-H266/User_entry!$E$18","v":10.715517675816045},10.715517675816045,null,{"$f":"HLOOKUP(User_entry!$B$56,Computations!$N$54:$R$1054,Computations!A266+1,FALSE)","v":1510.715517675816},{"$f":"HLOOKUP(User_entry!$E$56,Computations!$S$54:$W$1054,Computations!A266+1,FALSE)","v":450000},{"$f":"Computations!$F$15+Computations!$E$15*D266","v":1510.715517675816},{"$f":"EXP(Computations!$F$16)*EXP(Computations!$E$16)^Computations!D266","v":1395.3958378277696},{"$f":"Computations!$F$17+Computations!$E$17*LN(Computations!D266)","v":1713.1627120910316},{"$f":"Computations!$F$18+Computations!$E$18*Computations!D266+Computations!$D$18*Computations!D266^2","v":1579.9462953120212},{"$f":"Computations!$F$19+Computations!$E$19*Computations!D266+Computations!$D$19*Computations!D266^2+Computations!$C$19*Computations!D266^3","v":1579.9462953120212},{"$f":"Computations!$J$15+Computations!$I$15*D266","v":450000},{"$f":"EXP(Computations!$J$16)*EXP(Computations!$I$16)^Computations!D266","v":450000.00000000035},{"$f":"Computations!$J$17+Computations!$I$17*LN(Computations!D266)","v":450000},{"$f":"Computations!$J$18+Computations!$I$18*Computations!D266+Computations!$H$18*Computations!D266^2","v":450000},{"$f":"Computations!$J$19+Computations!$I$19*Computations!D266+Computations!$H$19*Computations!D266^2+Computations!$G$19*Computations!D266^3","v":450000}]
[213,7.296030297183026E-2,7.3252150228766744E-2,7.3106226600298502E-2,0.27426784313069613,2.8903833496342068E-3,1514.5556131618225,450000,{"$f":"G267-H267/User_entry!$E$18","v":14.555613161822521},14.555613161822521,null,{"$f":"HLOOKUP(User_entry!$B$56,Computations!$N$54:$R$1054,Computations!A267+1,FALSE)","v":1514.5556131618225},{"$f":"HLOOKUP(User_entry!$E$56,Computations!$S$54:$W$1054,Computations!A267+1,FALSE)","v":450000},{"$f":"Computations!$F$15+Computations!$E$15*D267","v":1514.5556131618225},{"$f":"EXP(Computations!$F$16)*EXP(Computations!$E$16)^Computations!D267","v":1398.2908838093963},{"$f":"Computations!$F$17+Computations!$E$17*LN(Computations!D267)","v":1718.2445869793373},{"$f":"Computations!$F$18+Computations!$E$18*Computations!D267+Computations!$D$18*Computations!D267^2","v":1584.746419497849},{"$f":"Computations!$F$19+Computations!$E$19*Computations!D267+Computations!$D$19*Computations!D267^2+Computations!$C$19*Computations!D267^3","v":1584.746419497849},{"$f":"Computations!$J$15+Computations!$I$15*D267","v":450000},{"$f":"EXP(Computations!$J$16)*EXP(Computations!$I$16)^Computations!D267","v":450000.00000000035},{"$f":"Computations!$J$17+Computations!$I$17*LN(Computations!D267)","v":450000},{"$f":"Computations!$J$18+Computations!$I$18*Computations!D267+Computations!$H$18*Computations!D267^2","v":450000},{"$f":"Computations!$J$19+Computations!$I$19*Computations!D267+Computations!$H$19*Computations!D267^2+Computations!$G$19*Computations!D267^3","v":450000}]
[214,7.3252150228766744E-2,7.3543997485703227E-2,7.3398073857234986E-2,0.27716599478581355,2.8981516551174202E-3,1518.395708647829,450000,{"$f":"G268-H268/User_entry!$E$18","v":18.395708647828997},18.395708647828997,null,{"$f":"HLOOKUP(User_entry!$B$56,Computations!$N$54:$R$1054,Computations!A268+1,FALSE)","v":1518.395708647829},{"$f":"HLOOKUP(User_entry!$E$56,Computations!$S$54:$W$1054,Computations!A268+1,FALSE)","v":450000},{"$f":"Computations!$F$15+Computations!$E$15*D268","v":1518.395708647829},{"$f":"EXP(Computations!$F$16)*EXP(Computations!$E$16)^Computations!D268","v":1401.191936180757},{"$f":"Computations!$F$17+Computations!$E$17*LN(Computations!D268)","v":1723.3062148827676},{"$f":"Computations!$F$18+Computations!$E$18*Computations!D268+Computations!$D$18*Computations!D268^2","v":1589.5402344376491},{"$f":"Computations!$F$19+Computations!$E$19*Computations!D268+Computations!$D$19*Computations!D268^2+Computations!$C$19*Computations!D268^3","v":1589.5402344376491},{"$f":"Computations!$J$15+Computations!$I$15*D268","v":450000},{"$f":"EXP(Computations!$J$16)*EXP(Computations!$I$16)^Computations!D268","v":450000.00000000035},{"$f":"Computations!$J$17+Computations!$I$17*LN(Computations!D268)","v":450000},{"$f":"Computations!$J$18+Computations!$I$18*Computations!D268+Computations!$H$18*Computations!D268^2","v":450000},{"$f":"Computations!$J$19+Computations!$I$19*Computations!D268+Computations!$H$19*Computations!D268^2+Computations!$G$19*Computations!D268^3","v":450000}]
[215,7.3543997485703227E-2,7.3835844742639711E-2,7.3689921114171469E-2,0.28007171368970868,2.905718903895127E-3,1522.2358041338352,450000,{"$f":"G269-H269/User_entry!$E$18","v":22.235804133835245},22.235804133835245,null,{"$f":"HLOOKUP(User_entry!$B$56,Computations!$N$54:$R$1054,Computations!A269+1,FALSE)","v":1522.2358041338352},{"$f":"HLOOKUP(User_entry!$E$56,Computations!$S$54:$W$1054,Computations!A269+1,FALSE)","v":450000},{"$f":"Computations!$F$15+Computations!$E$15*D269","v":1522.2358041338352},{"$f":"EXP(Computations!$F$16)*EXP(Computations!$E$16)^Computations!D269","v":1404.0990074033875},{"$f":"Computations!$F$17+Computations!$E$17*LN(Computations!D269)","v":1728.3477564956138},{"$f":"Computations!$F$18+Computations!$E$18*Computations!D269+Computations!$D$18*Computations!D269^2","v":1594.3277401314206},{"$f":"Computations!$F$19+Computations!$E$19*Computations!D269+Computations!$D$19*Computations!D269^2+Computations!$C$19*Computations!D269^3","v":1594.3277401314206},{"$f":"Computations!$J$15+Computations!$I$15*D269","v":450000},{"$f":"EXP(Computations!$J$16)*EXP(Computations!$I$16)^Computations!D269","v":450000.00000000035},{"$f":"Computations!$J$17+Computations!$I$17*LN(Computations!D269)","v":450000},{"$f":"Computations!$J$18+Computations!$I$18*Computations!D269+Computations!$H$18*Computations!D269^2","v":450000},{"$f":"Computations!$J$19+Computations!$I$19*Computations!D269+Computations!$H$19*Computations!D269^2+Computations!$G$19*Computations!D269^3","v":450000}]
[216,7.3835844742639711E-2,7.4127691999576195E-2,7.3981768371107953E-2,0.28298479874197741,2.9130850522687268E-3,1526.0758996198415,450000,{"$f":"G270-H270/User_entry!$E$18","v":26.075899619841493},26.075899619841493,null,{"$f":"HLOOKUP(User_entry!$B$56,Computations!$N$54:$R$1054,Computations!A270+1,FALSE)","v":1526.0758996198415},{"$f":"HLOOKUP(User_entry!$E$56,Computations!$S$54:$W$1054,Computations!A270+1,FALSE)","v":450000},{"$f":"Computations!$F$15+Computations!$E$15*D270","v":1526.0758996198415},{"$f":"EXP(Computations!$F$16)*EXP(Computations!$E$16)^Computations!D270","v":1407.0121099646772},{"$f":"Computations!$F$17+Computations!$E$17*LN(Computations!D270)","v":1733.3693706066565},{"$f":"Computations!$F$18+Computations!$E$18*Computations!D270+Computations!$D$18*Computations!D270^2","v":1599.108936579164},{"$f":"Computations!$F$19+Computations!$E$19*Computations!D270+Computations!$D$19*Computations!D270^2+Computations!$C$19*Computations!D270^3","v":1599.108936579164},{"$f":"Computations!$J$15+Computations!$I$15*D270","v":450000},{"$f":"EXP(Computations!$J$16)*EXP(Computations!$I$16)^Computations!D270","v":450000.00000000035},{"$f":"Computations!$J$17+Computations!$I$17*LN(Computations!D270)","v":450000},{"$f":"Computations!$J$18+Computations!$I$18*Computations!D270+Computations!$H$18*Computations!D270^2","v":450000},{"$f":"Computations!$J$19+Computations!$I$19*Computations!D270+Computations!$H$19*Computations!D270^2+Computations!$G$19*Computations!D270^3","v":450000}]
[217,7.4127691999576195E-2,7.4419539256512679E-2,7.4273615628044437E-2,0.28590504883730083,2.9202500953234289E-3,1529.915995105848,450000,{"$f":"G271-H271/User_entry!$E$18","v":29.915995105847969},29.915995105847969,null,{"$f":"HLOOKUP(User_entry!$B$56,Computations!$N$54:$R$1054,Computations!A271+1,FALSE)","v":1529.915995105848},{"$f":"HLOOKUP(User_entry!$E$56,Computations!$S$54:$W$1054,Computations!A271+1,FALSE)","v":450000},{"$f":"Computations!$F$15+Computations!$E$15*D271","v":1529.915995105848},{"$f":"EXP(Computations!$F$16)*EXP(Computations!$E$16)^Computations!D271","v":1409.9312563779229},{"$f":"Computations!$F$17+Computations!$E$17*LN(Computations!D271)","v":1738.3712141291667},{"$f":"Computations!$F$18+Computations!$E$18*Computations!D271+Computations!$D$18*Computations!D271^2","v":1603.8838237808789},{"$f":"Computations!$F$19+Computations!$E$19*Computations!D271+Computations!$D$19*Computations!D271^2+Computations!$C$19*Computations!D271^3","v":1603.8838237808789},{"$f":"Computations!$J$15+Computations!$I$15*D271","v":450000},{"$f":"EXP(Computations!$J$16)*EXP(Computations!$I$16)^Computations!D271","v":450000.00000000035},{"$f":"Computations!$J$17+Computations!$I$17*LN(Computations!D271)","v":450000},{"$f":"Computations!$J$18+Computations!$I$18*Computations!D271+Computations!$H$18*Computations!D271^2","v":450000},{"$f":"Computations!$J$19+Computations!$I$19*Computations!D271+Computations!$H$19*Computations!D271^2+Computations!$G$19*Computations!D271^3","v":450000}]
[218,7.4419539256512679E-2,7.4711386513449163E-2,7.4565462884980921E-2,0.28883226290376679,2.9272140664659552E-3,1533.7560905918544,450000,{"$f":"G272-H272/User_entry!$E$18","v":33.756090591854445},33.756090591854445,null,{"$f":"HLOOKUP(User_entry!$B$56,Computations!$N$54:$R$1054,Computations!A272+1,FALSE)","v":1533.7560905918544},{"$f":"HLOOKUP(User_entry!$E$56,Computations!$S$54:$W$1054,Computations!A272+1,FALSE)","v":450000},{"$f":"Computations!$F$15+Computations!$E$15*D272","v":1533.7560905918544},{"$f":"EXP(Computations!$F$16)*EXP(Computations!$E$16)^Computations!D272","v":1412.8564591823836},{"$f":"Computations!$F$17+Computations!$E$17*LN(Computations!D272)","v":1743.353442130332},{"$f":"Computations!$F$18+Computations!$E$18*Computations!D272+Computations!$D$18*Computations!D272^2","v":1608.6524017365659},{"$f":"Computations!$F$19+Computations!$E$19*Computations!D272+Computations!$D$19*Computations!D272^2+Computations!$C$19*Computations!D272^3","v":1608.6524017365659},{"$f":"Computations!$J$15+Computations!$I$15*D272","v":450000},{"$f":"EXP(Computations!$J$16)*EXP(Computations!$I$16)^Computations!D272","v":450000.00000000035},{"$f":"Computations!$J$17+Computations!$I$17*LN(Computations!D272)","v":450000},{"$f":"Computations!$J$18+Computations!$I$18*Computations!D272+Computations!$H$18*Computations!D272^2","v":450000},{"$f":"Computations!$J$19+Computations!$I$19*Computations!D272+Computations!$H$19*Computations!D272^2+Computations!$G$19*Computations!D272^3","v":450000}]
[219,7.4711386513449163E-2,7.5003233770385647E-2,7.4857310141917405E-2,0.29176623994072376,2.9339770369569695E-3,1537.5961860778607,450000,{"$f":"G273-H273/User_entry!$E$18","v":37.596186077860693},37.596186077860693,null,{"$f":"HLOOKUP(User_entry!$B$56,Computations!$N$54:$R$1054,Computations!A273+1,FALSE)","v":1537.5961860778607},{"$f":"HLOOKUP(User_entry!$E$56,Computations!$S$54:$W$1054,Computations!A273+1,FALSE)","v":450000},{"$f":"Computations!$F$15+Computations!$E$15*D273","v":1537.5961860778607},{"$f":"EXP(Computations!$F$16)*EXP(Computations!$E$16)^Computations!D273","v":1415.7877309433334},{"$f":"Computations!$F$17+Computations!$E$17*LN(Computations!D273)","v":1748.3162078600999},{"$f":"Computations!$F$18+Computations!$E$18*Computations!D273+Computations!$D$18*Computations!D273^2","v":1613.4146704462244},{"$f":"Computations!$F$19+Computations!$E$19*Computations!D273+Computations!$D$19*Computations!D273^2+Computations!$C$19*Computations!D273^3","v":1613.4146704462244},{"$f":"Computations!$J$15+Computations!$I$15*D273","v":450000},{"$f":"EXP(Computations!$J$16)*EXP(Computations!$I$16)^Computations!D273","v":450000.00000000035},{"$f":"Computations!$J$17+Computations!$I$17*LN(Computations!D273)","v":450000},{"$f":"Computations!$J$18+Computations!$I$18*Computations!D273+Computations!$H$18*Computations!D273^2","v":450000},{"$f":"Computations!$J$19+Computations!$I$19*Computations!D273+Computations!$H$19*Computations!D273^2+Computations!$G$19*Computations!D273^3","v":450000}]
[220,7.5003233770385647E-2,7.529508102732213E-2,7.5149157398853889E-2,0.29470677905616582,2.9405391154420646E-3,1541.4362815638669,450000,{"$f":"G274-H274/User_entry!$E$18","v":41.436281563866942},41.436281563866942,null,{"$f":"HLOOKUP(User_entry!$B$56,Computations!$N$54:$R$1054,Computations!A274+1,FALSE)","v":1541.4362815638669},{"$f":"HLOOKUP(User_entry!$E$56,Computations!$S$54:$W$1054,Computations!A274+1,FALSE)","v":450000},{"$f":"Computations!$F$15+Computations!$E$15*D274","v":1541.4362815638669},{"$f":"EXP(Computations!$F$16)*EXP(Computations!$E$16)^Computations!D274","v":1418.7250842521148},{"$f":"Computations!$F$17+Computations!$E$17*LN(Computations!D274)","v":1753.2596627794615},{"$f":"Computations!$F$18+Computations!$E$18*Computations!D274+Computations!$D$18*Computations!D274^2","v":1618.1706299098551},{"$f":"Computations!$F$19+Computations!$E$19*Computations!D274+Computations!$D$19*Computations!D274^2+Computations!$C$19*Computations!D274^3","v":1618.1706299098551},{"$f":"Computations!$J$15+Computations!$I$15*D274","v":450000},{"$f":"EXP(Computations!$J$16)*EXP(Computations!$I$16)^Computations!D274","v":450000.00000000035},{"$f":"Computations!$J$17+Computations!$I$17*LN(Computations!D274)","v":450000},{"$f":"Computations!$J$18+Computations!$I$18*Computations!D274+Computations!$H$18*Computations!D274^2","v":450000},{"$f":"Computations!$J$19+Computations!$I$19*Computations!D274+Computations!$H$19*Computations!D274^2+Computations!$G$19*Computations!D274^3","v":450000}]
[221,7.529508102732213E-2,7.5586928284258614E-2,7.5441004655790372E-2,0.29765367950364041,2.9469004474745875E-3,1545.2763770498734,450000,{"$f":"G275-H275/User_entry!$E$18","v":45.276377049873417},45.276377049873417,null,{"$f":"HLOOKUP(User_entry!$B$56,Computations!$N$54:$R$1054,Computations!A275+1,FALSE)","v":1545.2763770498734},{"$f":"HLOOKUP(User_entry!$E$56,Computations!$S$54:$W$1054,Computations!A275+1,FALSE)","v":450000},{"$f":"Computations!$F$15+Computations!$E$15*D275","v":1545.2763770498734},{"$f":"EXP(Computations!$F$16)*EXP(Computations!$E$16)^Computations!D275","v":1421.6685317261954},{"$f":"Computations!$F$17+Computations!$E$17*LN(Computations!D275)","v":1758.1839565881924},{"$f":"Computations!$F$18+Computations!$E$18*Computations!D275+Computations!$D$18*Computations!D275^2","v":1622.9202801274569},{"$f":"Computations!$F$19+Computations!$E$19*Computations!D275+Computations!$D$19*Computations!D275^2+Computations!$C$19*Computations!D275^3","v":1622.9202801274569},{"$f":"Computations!$J$15+Computations!$I$15*D275","v":450000},{"$f":"EXP(Computations!$J$16)*EXP(Computations!$I$16)^Computations!D275","v":450000.00000000035},{"$f":"Computations!$J$17+Computations!$I$17*LN(Computations!D275)","v":450000},{"$f":"Computations!$J$18+Computations!$I$18*Computations!D275+Computations!$H$18*Computations!D275^2","v":450000},{"$f":"Computations!$J$19+Computations!$I$19*Computations!D275+Computations!$H$19*Computations!D275^2+Computations!$G$19*Computations!D275^3","v":450000}]
[222,7.5586928284258614E-2,7.5878775541195098E-2,7.5732851912726856E-2,0.30060674071868099,2.9530612150405755E-3,1549.1164725358799,450000,{"$f":"G276-H276/User_entry!$E$18","v":49.116472535879893},49.116472535879893,null,{"$f":"HLOOKUP(User_entry!$B$56,Computations!$N$54:$R$1054,Computations!A276+1,FALSE)","v":1549.1164725358799},{"$f":"HLOOKUP(User_entry!$E$56,Computations!$S$54:$W$1054,Computations!A276+1,FALSE)","v":450000},{"$f":"Computations!$F$15+Computations!$E$15*D276","v":1549.1164725358799},{"$f":"EXP(Computations!$F$16)*EXP(Computations!$E$16)^Computations!D276","v":1424.6180860092197},{"$f":"Computations!$F$17+Computations!$E$17*LN(Computations!D276)","v":1763.0892372520475},{"$f":"Computations!$F$18+Computations!$E$18*Computations!D276+Computations!$D$18*Computations!D276^2","v":1627.6636210990309},{"$f":"Computations!$F$19+Computations!$E$19*Computations!D276+Computations!$D$19*Computations!D276^2+Computations!$C$19*Computations!D276^3","v":1627.6636210990309},{"$f":"Computations!$J$15+Computations!$I$15*D276","v":450000},{"$f":"EXP(Computations!$J$16)*EXP(Computations!$I$16)^Computations!D276","v":450000.00000000035},{"$f":"Computations!$J$17+Computations!$I$17*LN(Computations!D276)","v":450000},{"$f":"Computations!$J$18+Computations!$I$18*Computations!D276+Computations!$H$18*Computations!D276^2","v":450000},{"$f":"Computations!$J$19+Computations!$I$19*Computations!D276+Computations!$H$19*Computations!D276^2+Computations!$G$19*Computations!D276^3","v":450000}]
[223,7.5878775541195098E-2,7.6170622798131582E-2,7.602469916966334E-2,0.30356576235475435,2.9590216360733668E-3,1552.9565680218861,450000,{"$f":"G277-H277/User_entry!$E$18","v":52.956568021886142},52.956568021886142,null,{"$f":"HLOOKUP(User_entry!$B$56,Computations!$N$54:$R$1054,Computations!A277+1,FALSE)","v":1552.9565680218861},{"$f":"HLOOKUP(User_entry!$E$56,Computations!$S$54:$W$1054,Computations!A277+1,FALSE)","v":450000},{"$f":"Computations!$F$15+Computations!$E$15*D277","v":1552.9565680218861},{"$f":"EXP(Computations!$F$16)*EXP(Computations!$E$16)^Computations!D277","v":1427.5737597710634},{"$f":"Computations!$F$17+Computations!$E$17*LN(Computations!D277)","v":1767.9756510294433},{"$f":"Computations!$F$18+Computations!$E$18*Computations!D277+Computations!$D$18*Computations!D277^2","v":1632.4006528245764},{"$f":"Computations!$F$19+Computations!$E$19*Computations!D277+Computations!$D$19*Computations!D277^2+Computations!$C$19*Computations!D277^3","v":1632.4006528245764},{"$f":"Computations!$J$15+Computations!$I$15*D277","v":450000},{"$f":"EXP(Computations!$J$16)*EXP(Computations!$I$16)^Computations!D277","v":450000.00000000035},{"$f":"Computations!$J$17+Computations!$I$17*LN(Computations!D277)","v":450000},{"$f":"Computations!$J$18+Computations!$I$18*Computations!D277+Computations!$H$18*Computations!D277^2","v":450000},{"$f":"Computations!$J$19+Computations!$I$19*Computations!D277+Computations!$H$19*Computations!D277^2+Computations!$G$19*Computations!D277^3","v":450000}]
[224,7.6170622798131582E-2,7.6462470055068066E-2,7.6316546426599824E-2,0.3065305443187249,2.9647819639705419E-3,1556.7966635078926,450000,{"$f":"G278-H278/User_entry!$E$18","v":56.796663507892617},56.796663507892617,null,{"$f":"HLOOKUP(User_entry!$B$56,Computations!$N$54:$R$1054,Computations!A278+1,FALSE)","v":1556.7966635078926},{"$f":"HLOOKUP(User_entry!$E$56,Computations!$S$54:$W$1054,Computations!A278+1,FALSE)","v":450000},{"$f":"Computations!$F$15+Computations!$E$15*D278","v":1556.7966635078926},{"$f":"EXP(Computations!$F$16)*EXP(Computations!$E$16)^Computations!D278","v":1430.5355657078894},{"$f":"Computations!$F$17+Computations!$E$17*LN(Computations!D278)","v":1772.8433424976238},{"$f":"Computations!$F$18+Computations!$E$18*Computations!D278+Computations!$D$18*Computations!D278^2","v":1637.131375304094},{"$f":"Computations!$F$19+Computations!$E$19*Computations!D278+Computations!$D$19*Computations!D278^2+Computations!$C$19*Computations!D278^3","v":1637.131375304094},{"$f":"Computations!$J$15+Computations!$I$15*D278","v":450000},{"$f":"EXP(Computations!$J$16)*EXP(Computations!$I$16)^Computations!D278","v":450000.00000000035},{"$f":"Computations!$J$17+Computations!$I$17*LN(Computations!D278)","v":450000},{"$f":"Computations!$J$18+Computations!$I$18*Computations!D278+Computations!$H$18*Computations!D278^2","v":450000},{"$f":"Computations!$J$19+Computations!$I$19*Computations!D278+Computations!$H$19*Computations!D278^2+Computations!$G$19*Computations!D278^3","v":450000}]
[225,7.6462470055068066E-2,7.675431731200455E-2,7.6608393683536308E-2,0.30950088680582988,2.9703424871049822E-3,1560.6367589938991,450000,{"$f":"G279-H279/User_entry!$E$18","v":60.636758993899093},60.636758993899093,null,{"$f":"HLOOKUP(User_entry!$B$56,Computations!$N$54:$R$1054,Computations!A279+1,FALSE)","v":1560.6367589938991},{"$f":"HLOOKUP(User_entry!$E$56,Computations!$S$54:$W$1054,Computations!A279+1,FALSE)","v":450000},{"$f":"Computations!$F$15+Computations!$E$15*D279","v":1560.6367589938991},{"$f":"EXP(Computations!$F$16)*EXP(Computations!$E$16)^Computations!D279","v":1433.5035165422014},{"$f":"Computations!$F$17+Computations!$E$17*LN(Computations!D279)","v":1777.6924545783272},{"$f":"Computations!$F$18+Computations!$E$18*Computations!D279+Computations!$D$18*Computations!D279^2","v":1641.8557885375828},{"$f":"Computations!$F$19+Computations!$E$19*Computations!D279+Computations!$D$19*Computations!D279^2+Computations!$C$19*Computations!D279^3","v":1641.8557885375828},{"$f":"Computations!$J$15+Computations!$I$15*D279","v":450000},{"$f":"EXP(Computations!$J$16)*EXP(Computations!$I$16)^Computations!D279","v":450000.00000000035},{"$f":"Computations!$J$17+Computations!$I$17*LN(Computations!D279)","v":450000},{"$f":"Computations!$J$18+Computations!$I$18*Computations!D279+Computations!$H$18*Computations!D279^2","v":450000},{"$f":"Computations!$J$19+Computations!$I$19*Computations!D279+Computations!$H$19*Computations!D279^2+Computations!$G$19*Computations!D279^3","v":450000}]
[226,7.675431731200455E-2,7.7046164568941033E-2,7.6900240940472792E-2,0.31247659033416464,2.975703528334761E-3,1564.4768544799053,450000,{"$f":"G280-H280/User_entry!$E$18","v":64.476854479905342},64.476854479905342,null,{"$f":"HLOOKUP(User_entry!$B$56,Computations!$N$54:$R$1054,Computations!A280+1,FALSE)","v":1564.4768544799053},{"$f":"HLOOKUP(User_entry!$E$56,Computations!$S$54:$W$1054,Computations!A280+1,FALSE)","v":450000},{"$f":"Computations!$F$15+Computations!$E$15*D280","v":1564.4768544799053},{"$f":"EXP(Computations!$F$16)*EXP(Computations!$E$16)^Computations!D280","v":1436.4776250228983},{"$f":"Computations!$F$17+Computations!$E$17*LN(Computations!D280)","v":1782.5231285629661},{"$f":"Computations!$F$18+Computations!$E$18*Computations!D280+Computations!$D$18*Computations!D280^2","v":1646.5738925250439},{"$f":"Computations!$F$19+Computations!$E$19*Computations!D280+Computations!$D$19*Computations!D280^2+Computations!$C$19*Computations!D280^3","v":1646.5738925250439},{"$f":"Computations!$J$15+Computations!$I$15*D280","v":450000},{"$f":"EXP(Computations!$J$16)*EXP(Computations!$I$16)^Computations!D280","v":450000.00000000035},{"$f":"Computations!$J$17+Computations!$I$17*LN(Computations!D280)","v":450000},{"$f":"Computations!$J$18+Computations!$I$18*Computations!D280+Computations!$H$18*Computations!D280^2","v":450000},{"$f":"Computations!$J$19+Computations!$I$19*Computations!D280+Computations!$H$19*Computations!D280^2+Computations!$G$19*Computations!D280^3","v":450000}]
[227,7.7046164568941033E-2,7.7338011825877517E-2,7.7192088197409275E-2,0.31545745577867251,2.9808654445078742E-3,1568.3169499659116,450000,{"$f":"G281-H281/User_entry!$E$18","v":68.31694996591159},68.31694996591159,null,{"$f":"HLOOKUP(User_entry!$B$56,Computations!$N$54:$R$1054,Computations!A281+1,FALSE)","v":1568.3169499659116},{"$f":"HLOOKUP(User_entry!$E$56,Computations!$S$54:$W$1054,Computations!A281+1,FALSE)","v":450000},{"$f":"Computations!$F$15+Computations!$E$15*D281","v":1568.3169499659116},{"$f":"EXP(Computations!$F$16)*EXP(Computations!$E$16)^Computations!D281","v":1439.4579039253299},{"$f":"Computations!$F$17+Computations!$E$17*LN(Computations!D281)","v":1787.3355041373288},{"$f":"Computations!$F$18+Computations!$E$18*Computations!D281+Computations!$D$18*Computations!D281^2","v":1651.2856872664763},{"$f":"Computations!$F$19+Computations!$E$19*Computations!D281+Computations!$D$19*Computations!D281^2+Computations!$C$19*Computations!D281^3","v":1651.2856872664763},{"$f":"Computations!$J$15+Computations!$I$15*D281","v":450000},{"$f":"EXP(Computations!$J$16)*EXP(Computations!$I$16)^Computations!D281","v":450000.00000000035},{"$f":"Computations!$J$17+Computations!$I$17*LN(Computations!D281)","v":450000},{"$f":"Computations!$J$18+Computations!$I$18*Computations!D281+Computations!$H$18*Computations!D281^2","v":450000},{"$f":"Computations!$J$19+Computations!$I$19*Computations!D281+Computations!$H$19*Computations!D281^2+Computations!$G$19*Computations!D281^3","v":450000}]
[228,7.7338011825877517E-2,7.7629859082814001E-2,7.7483935454345759E-2,0.31844328440464054,2.9858286259680233E-3,1572.1570454519181,450000,{"$f":"G282-H282/User_entry!$E$18","v":72.157045451918066},72.157045451918066,null,{"$f":"HLOOKUP(User_entry!$B$56,Computations!$N$54:$R$1054,Computations!A282+1,FALSE)","v":1572.1570454519181},{"$f":"HLOOKUP(User_entry!$E$56,Computations!$S$54:$W$1054,Computations!A282+1,FALSE)","v":450000},{"$f":"Computations!$F$15+Computations!$E$15*D282","v":1572.1570454519181},{"$f":"EXP(Computations!$F$16)*EXP(Computations!$E$16)^Computations!D282","v":1442.4443660513509},{"$f":"Computations!$F$17+Computations!$E$17*LN(Computations!D282)","v":1792.1297194058175},{"$f":"Computations!$F$18+Computations!$E$18*Computations!D282+Computations!$D$18*Computations!D282^2","v":1655.991172761881},{"$f":"Computations!$F$19+Computations!$E$19*Computations!D282+Computations!$D$19*Computations!D282^2+Computations!$C$19*Computations!D282^3","v":1655.991172761881},{"$f":"Computations!$J$15+Computations!$I$15*D282","v":450000},{"$f":"EXP(Computations!$J$16)*EXP(Computations!$I$16)^Computations!D282","v":450000.00000000035},{"$f":"Computations!$J$17+Computations!$I$17*LN(Computations!D282)","v":450000},{"$f":"Computations!$J$18+Computations!$I$18*Computations!D282+Computations!$H$18*Computations!D282^2","v":450000},{"$f":"Computations!$J$19+Computations!$I$19*Computations!D282+Computations!$H$19*Computations!D282^2+Computations!$G$19*Computations!D282^3","v":450000}]
[229,7.7629859082814001E-2,7.7921706339750485E-2,7.7775782711282243E-2,0.32143387790069672,2.990593496056182E-3,1575.9971409379245,450000,{"$f":"G283-H283/User_entry!$E$18","v":75.997140937924542},75.997140937924542,null,{"$f":"HLOOKUP(User_entry!$B$56,Computations!$N$54:$R$1054,Computations!A283+1,FALSE)","v":1575.9971409379245},{"$f":"HLOOKUP(User_entry!$E$56,Computations!$S$54:$W$1054,Computations!A283+1,FALSE)","v":450000},{"$f":"Computations!$F$15+Computations!$E$15*D283","v":1575.9971409379245},{"$f":"EXP(Computations!$F$16)*EXP(Computations!$E$16)^Computations!D283","v":1445.4370242293753},{"$f":"Computations!$F$17+Computations!$E$17*LN(Computations!D283)","v":1796.9059109152272},{"$f":"Computations!$F$18+Computations!$E$18*Computations!D283+Computations!$D$18*Computations!D283^2","v":1660.6903490112568},{"$f":"Computations!$F$19+Computations!$E$19*Computations!D283+Computations!$D$19*Computations!D283^2+Computations!$C$19*Computations!D283^3","v":1660.6903490112568},{"$f":"Computations!$J$15+Computations!$I$15*D283","v":450000},{"$f":"EXP(Computations!$J$16)*EXP(Computations!$I$16)^Computations!D283","v":450000.00000000035},{"$f":"Computations!$J$17+Computations!$I$17*LN(Computations!D283)","v":450000},{"$f":"Computations!$J$18+Computations!$I$18*Computations!D283+Computations!$H$18*Computations!D283^2","v":450000},{"$f":"Computations!$J$19+Computations!$I$19*Computations!D283+Computations!$H$19*Computations!D283^2+Computations!$G$19*Computations!D283^3","v":450000}]
[230,7.7921706339750485E-2,7.8213553596686969E-2,7.8067629968218727E-2,0.32442903841130644,2.9951605106097179E-3,1579.8372364239308,450000,{"$f":"G284-H284/User_entry!$E$18","v":79.83723642393079},79.83723642393079,null,{"$f":"HLOOKUP(User_entry!$B$56,Computations!$N$54:$R$1054,Computations!A284+1,FALSE)","v":1579.8372364239308},{"$f":"HLOOKUP(User_entry!$E$56,Computations!$S$54:$W$1054,Computations!A284+1,FALSE)","v":450000},{"$f":"Computations!$F$15+Computations!$E$15*D284","v":1579.8372364239308},{"$f":"EXP(Computations!$F$16)*EXP(Computations!$E$16)^Computations!D284","v":1448.435891314434},{"$f":"Computations!$F$17+Computations!$E$17*LN(Computations!D284)","v":1801.6642136780833},{"$f":"Computations!$F$18+Computations!$E$18*Computations!D284+Computations!$D$18*Computations!D284^2","v":1665.3832160146048},{"$f":"Computations!$F$19+Computations!$E$19*Computations!D284+Computations!$D$19*Computations!D284^2+Computations!$C$19*Computations!D284^3","v":1665.3832160146048},{"$f":"Computations!$J$15+Computations!$I$15*D284","v":450000},{"$f":"EXP(Computations!$J$16)*EXP(Computations!$I$16)^Computations!D284","v":450000.00000000035},{"$f":"Computations!$J$17+Computations!$I$17*LN(Computations!D284)","v":450000},{"$f":"Computations!$J$18+Computations!$I$18*Computations!D284+Computations!$H$18*Computations!D284^2","v":450000},{"$f":"Computations!$J$19+Computations!$I$19*Computations!D284+Computations!$H$19*Computations!D284^2+Computations!$G$19*Computations!D284^3","v":450000}]
[231,7.8213553596686969E-2,7.8505400853623453E-2,7.8359477225155211E-2,0.32742856856876934,2.9995301574629041E-3,1583.677331909937,450000,{"$f":"G285-H285/User_entry!$E$18","v":83.677331909937038},83.677331909937038,null,{"$f":"HLOOKUP(User_entry!$B$56,Computations!$N$54:$R$1054,Computations!A285+1,FALSE)","v":1583.677331909937},{"$f":"HLOOKUP(User_entry!$E$56,Computations!$S$54:$W$1054,Computations!A285+1,FALSE)","v":450000},{"$f":"Computations!$F$15+Computations!$E$15*D285","v":1583.677331909937},{"$f":"EXP(Computations!$F$16)*EXP(Computations!$E$16)^Computations!D285","v":1451.4409801882271},{"$f":"Computations!$F$17+Computations!$E$17*LN(Computations!D285)","v":1806.4047611955407},{"$f":"Computations!$F$18+Computations!$E$18*Computations!D285+Computations!$D$18*Computations!D285^2","v":1670.0697737719242},{"$f":"Computations!$F$19+Computations!$E$19*Computations!D285+Computations!$D$19*Computations!D285^2+Computations!$C$19*Computations!D285^3","v":1670.0697737719242},{"$f":"Computations!$J$15+Computations!$I$15*D285","v":450000},{"$f":"EXP(Computations!$J$16)*EXP(Computations!$I$16)^Computations!D285","v":450000.00000000035},{"$f":"Computations!$J$17+Computations!$I$17*LN(Computations!D285)","v":450000},{"$f":"Computations!$J$18+Computations!$I$18*Computations!D285+Computations!$H$18*Computations!D285^2","v":450000},{"$f":"Computations!$J$19+Computations!$I$19*Computations!D285+Computations!$H$19*Computations!D285^2+Computations!$G$19*Computations!D285^3","v":450000}]
[232,7.8505400853623453E-2,7.8797248110559936E-2,7.8651324482091695E-2,0.33043227152470872,3.0037029559393802E-3,1587.5174273959435,450000,{"$f":"G286-H286/User_entry!$E$18","v":87.517427395943514},87.517427395943514,null,{"$f":"HLOOKUP(User_entry!$B$56,Computations!$N$54:$R$1054,Computations!A286+1,FALSE)","v":1587.5174273959435},{"$f":"HLOOKUP(User_entry!$E$56,Computations!$S$54:$W$1054,Computations!A286+1,FALSE)","v":450000},{"$f":"Computations!$F$15+Computations!$E$15*D286","v":1587.5174273959435},{"$f":"EXP(Computations!$F$16)*EXP(Computations!$E$16)^Computations!D286","v":1454.4523037591809},{"$f":"Computations!$F$17+Computations!$E$17*LN(Computations!D286)","v":1811.1276854798575},{"$f":"Computations!$F$18+Computations!$E$18*Computations!D286+Computations!$D$18*Computations!D286^2","v":1674.7500222832159},{"$f":"Computations!$F$19+Computations!$E$19*Computations!D286+Computations!$D$19*Computations!D286^2+Computations!$C$19*Computations!D286^3","v":1674.7500222832159},{"$f":"Computations!$J$15+Computations!$I$15*D286","v":450000},{"$f":"EXP(Computations!$J$16)*EXP(Computations!$I$16)^Computations!D286","v":450000.00000000035},{"$f":"Computations!$J$17+Computations!$I$17*LN(Computations!D286)","v":450000},{"$f":"Computations!$J$18+Computations!$I$18*Computations!D286+Computations!$H$18*Computations!D286^2","v":450000},{"$f":"Computations!$J$19+Computations!$I$19*Computations!D286+Computations!$H$19*Computations!D286^2+Computations!$G$19*Computations!D286^3","v":450000}]
[233,7.8797248110559936E-2,7.908909536749642E-2,7.8943171739028178E-2,0.33343995098106366,3.0076794563549392E-3,1591.3575228819498,450000,{"$f":"G287-H287/User_entry!$E$18","v":91.357522881949762},91.357522881949762,null,{"$f":"HLOOKUP(User_entry!$B$56,Computations!$N$54:$R$1054,Computations!A287+1,FALSE)","v":1591.3575228819498},{"$f":"HLOOKUP(User_entry!$E$56,Computations!$S$54:$W$1054,Computations!A287+1,FALSE)","v":450000},{"$f":"Computations!$F$15+Computations!$E$15*D287","v":1591.3575228819498},{"$f":"EXP(Computations!$F$16)*EXP(Computations!$E$16)^Computations!D287","v":1457.4698749625038},{"$f":"Computations!$F$17+Computations!$E$17*LN(Computations!D287)","v":1815.833117076455},{"$f":"Computations!$F$18+Computations!$E$18*Computations!D287+Computations!$D$18*Computations!D287^2","v":1679.4239615484789},{"$f":"Computations!$F$19+Computations!$E$19*Computations!D287+Computations!$D$19*Computations!D287^2+Computations!$C$19*Computations!D287^3","v":1679.4239615484789},{"$f":"Computations!$J$15+Computations!$I$15*D287","v":450000},{"$f":"EXP(Computations!$J$16)*EXP(Computations!$I$16)^Computations!D287","v":450000.00000000035},{"$f":"Computations!$J$17+Computations!$I$17*LN(Computations!D287)","v":450000},{"$f":"Computations!$J$18+Computations!$I$18*Computations!D287+Computations!$H$18*Computations!D287^2","v":450000},{"$f":"Computations!$J$19+Computations!$I$19*Computations!D287+Computations!$H$19*Computations!D287^2+Computations!$G$19*Computations!D287^3","v":450000}]
[234,7.908909536749642E-2,7.9380942624432904E-2,7.9235018995964662E-2,0.33645141122056693,3.0114602395032719E-3,1595.1976183679562,450000,{"$f":"G288-H288/User_entry!$E$18","v":95.197618367956238},95.197618367956238,null,{"$f":"HLOOKUP(User_entry!$B$56,Computations!$N$54:$R$1054,Computations!A288+1,FALSE)","v":1595.1976183679562},{"$f":"HLOOKUP(User_entry!$E$56,Computations!$S$54:$W$1054,Computations!A288+1,FALSE)","v":450000},{"$f":"Computations!$F$15+Computations!$E$15*D288","v":1595.1976183679562},{"$f":"EXP(Computations!$F$16)*EXP(Computations!$E$16)^Computations!D288","v":1460.4937067602398},{"$f":"Computations!$F$17+Computations!$E$17*LN(Computations!D288)","v":1820.5211850855667},{"$f":"Computations!$F$18+Computations!$E$18*Computations!D288+Computations!$D$18*Computations!D288^2","v":1684.091591567714},{"$f":"Computations!$F$19+Computations!$E$19*Computations!D288+Computations!$D$19*Computations!D288^2+Computations!$C$19*Computations!D288^3","v":1684.091591567714},{"$f":"Computations!$J$15+Computations!$I$15*D288","v":450000},{"$f":"EXP(Computations!$J$16)*EXP(Computations!$I$16)^Computations!D288","v":450000.00000000035},{"$f":"Computations!$J$17+Computations!$I$17*LN(Computations!D288)","v":450000},{"$f":"Computations!$J$18+Computations!$I$18*Computations!D288+Computations!$H$18*Computations!D288^2","v":450000},{"$f":"Computations!$J$19+Computations!$I$19*Computations!D288+Computations!$H$19*Computations!D288^2+Computations!$G$19*Computations!D288^3","v":450000}]
[235,7.9380942624432904E-2,7.9672789881369388E-2,7.9526866252901146E-2,0.33946645713672391,3.0150459161569776E-3,1599.0377138539625,450000,{"$f":"G289-H289/User_entry!$E$18","v":99.037713853962487},99.037713853962487,null,{"$f":"HLOOKUP(User_entry!$B$56,Computations!$N$54:$R$1054,Computations!A289+1,FALSE)","v":1599.0377138539625},{"$f":"HLOOKUP(User_entry!$E$56,Computations!$S$54:$W$1054,Computations!A289+1,FALSE)","v":450000},{"$f":"Computations!$F$15+Computations!$E$15*D289","v":1599.0377138539625},{"$f":"EXP(Computations!$F$16)*EXP(Computations!$E$16)^Computations!D289","v":1463.5238121413258},{"$f":"Computations!$F$17+Computations!$E$17*LN(Computations!D289)","v":1825.192017183494},{"$f":"Computations!$F$18+Computations!$E$18*Computations!D289+Computations!$D$18*Computations!D289^2","v":1688.7529123409204},{"$f":"Computations!$F$19+Computations!$E$19*Computations!D289+Computations!$D$19*Computations!D289^2+Computations!$C$19*Computations!D289^3","v":1688.7529123409204},{"$f":"Computations!$J$15+Computations!$I$15*D289","v":450000},{"$f":"EXP(Computations!$J$16)*EXP(Computations!$I$16)^Computations!D289","v":450000.00000000035},{"$f":"Computations!$J$17+Computations!$I$17*LN(Computations!D289)","v":450000},{"$f":"Computations!$J$18+Computations!$I$18*Computations!D289+Computations!$H$18*Computations!D289^2","v":450000},{"$f":"Computations!$J$19+Computations!$I$19*Computations!D289+Computations!$H$19*Computations!D289^2+Computations!$G$19*Computations!D289^3","v":450000}]
[236,7.9672789881369388E-2,7.9964637138305872E-2,7.981871350983763E-2,0.34248489426327955,3.0184371265556398E-3,1602.877809339969,450000,{"$f":"G290-H290/User_entry!$E$18","v":102.87780933996896},102.87780933996896,null,{"$f":"HLOOKUP(User_entry!$B$56,Computations!$N$54:$R$1054,Computations!A290+1,FALSE)","v":1602.877809339969},{"$f":"HLOOKUP(User_entry!$E$56,Computations!$S$54:$W$1054,Computations!A290+1,FALSE)","v":450000},{"$f":"Computations!$F$15+Computations!$E$15*D290","v":1602.877809339969},{"$f":"EXP(Computations!$F$16)*EXP(Computations!$E$16)^Computations!D290","v":1466.5602041216473},{"$f":"Computations!$F$17+Computations!$E$17*LN(Computations!D290)","v":1829.8457396434692},{"$f":"Computations!$F$18+Computations!$E$18*Computations!D290+Computations!$D$18*Computations!D290^2","v":1693.407923868099},{"$f":"Computations!$F$19+Computations!$E$19*Computations!D290+Computations!$D$19*Computations!D290^2+Computations!$C$19*Computations!D290^3","v":1693.407923868099},{"$f":"Computations!$J$15+Computations!$I$15*D290","v":450000},{"$f":"EXP(Computations!$J$16)*EXP(Computations!$I$16)^Computations!D290","v":450000.00000000035},{"$f":"Computations!$J$17+Computations!$I$17*LN(Computations!D290)","v":450000},{"$f":"Computations!$J$18+Computations!$I$18*Computations!D290+Computations!$H$18*Computations!D290^2","v":450000},{"$f":"Computations!$J$19+Computations!$I$19*Computations!D290+Computations!$H$19*Computations!D290^2+Computations!$G$19*Computations!D290^3","v":450000}]
[237,7.9964637138305872E-2,8.0256484395242356E-2,8.0110560766774114E-2,0.34550652880318011,3.021634539900564E-3,1606.7179048259752,450000,{"$f":"G291-H291/User_entry!$E$18","v":106.71790482597521},106.71790482597521,null,{"$f":"HLOOKUP(User_entry!$B$56,Computations!$N$54:$R$1054,Computations!A291+1,FALSE)","v":1606.7179048259752},{"$f":"HLOOKUP(User_entry!$E$56,Computations!$S$54:$W$1054,Computations!A291+1,FALSE)","v":450000},{"$f":"Computations!$F$15+Computations!$E$15*D291","v":1606.7179048259752},{"$f":"EXP(Computations!$F$16)*EXP(Computations!$E$16)^Computations!D291","v":1469.6028957440944},{"$f":"Computations!$F$17+Computations!$E$17*LN(Computations!D291)","v":1834.4824773561372},{"$f":"Computations!$F$18+Computations!$E$18*Computations!D291+Computations!$D$18*Computations!D291^2","v":1698.056626149249},{"$f":"Computations!$F$19+Computations!$E$19*Computations!D291+Computations!$D$19*Computations!D291^2+Computations!$C$19*Computations!D291^3","v":1698.056626149249},{"$f":"Computations!$J$15+Computations!$I$15*D291","v":450000},{"$f":"EXP(Computations!$J$16)*EXP(Computations!$I$16)^Computations!D291","v":450000.00000000035},{"$f":"Computations!$J$17+Computations!$I$17*LN(Computations!D291)","v":450000},{"$f":"Computations!$J$18+Computations!$I$18*Computations!D291+Computations!$H$18*Computations!D291^2","v":450000},{"$f":"Computations!$J$19+Computations!$I$19*Computations!D291+Computations!$H$19*Computations!D291^2+Computations!$G$19*Computations!D291^3","v":450000}]
[238,8.0256484395242356E-2,8.054833165217884E-2,8.0402408023710598E-2,0.34853116765702352,3.0246388538434088E-3,1610.5580003119817,450000,{"$f":"G292-H292/User_entry!$E$18","v":110.55800031198169},110.55800031198169,null,{"$f":"HLOOKUP(User_entry!$B$56,Computations!$N$54:$R$1054,Computations!A292+1,FALSE)","v":1610.5580003119817},{"$f":"HLOOKUP(User_entry!$E$56,Computations!$S$54:$W$1054,Computations!A292+1,FALSE)","v":450000},{"$f":"Computations!$F$15+Computations!$E$15*D292","v":1610.5580003119817},{"$f":"EXP(Computations!$F$16)*EXP(Computations!$E$16)^Computations!D292","v":1472.6519000786161},{"$f":"Computations!$F$17+Computations!$E$17*LN(Computations!D292)","v":1839.1023538496706},{"$f":"Computations!$F$18+Computations!$E$18*Computations!D292+Computations!$D$18*Computations!D292^2","v":1702.6990191843706},{"$f":"Computations!$F$19+Computations!$E$19*Computations!D292+Computations!$D$19*Computations!D292^2+Computations!$C$19*Computations!D292^3","v":1702.6990191843706},{"$f":"Computations!$J$15+Computations!$I$15*D292","v":450000},{"$f":"EXP(Computations!$J$16)*EXP(Computations!$I$16)^Computations!D292","v":450000.00000000035},{"$f":"Computations!$J$17+Computations!$I$17*LN(Computations!D292)","v":450000},{"$f":"Computations!$J$18+Computations!$I$18*Computations!D292+Computations!$H$18*Computations!D292^2","v":450000},{"$f":"Computations!$J$19+Computations!$I$19*Computations!D292+Computations!$H$19*Computations!D292^2+Computations!$G$19*Computations!D292^3","v":450000}]
[239,8.054833165217884E-2,8.0840178909115323E-2,8.0694255280647081E-2,0.35155861845100761,3.0274507939840878E-3,1614.3980957979879,450000,{"$f":"G293-H293/User_entry!$E$18","v":114.39809579798793},114.39809579798793,null,{"$f":"HLOOKUP(User_entry!$B$56,Computations!$N$54:$R$1054,Computations!A293+1,FALSE)","v":1614.3980957979879},{"$f":"HLOOKUP(User_entry!$E$56,Computations!$S$54:$W$1054,Computations!A293+1,FALSE)","v":450000},{"$f":"Computations!$F$15+Computations!$E$15*D293","v":1614.3980957979879},{"$f":"EXP(Computations!$F$16)*EXP(Computations!$E$16)^Computations!D293","v":1475.7072302222791},{"$f":"Computations!$F$17+Computations!$E$17*LN(Computations!D293)","v":1843.7054913095103},{"$f":"Computations!$F$18+Computations!$E$18*Computations!D293+Computations!$D$18*Computations!D293^2","v":1707.3351029734645},{"$f":"Computations!$F$19+Computations!$E$19*Computations!D293+Computations!$D$19*Computations!D293^2+Computations!$C$19*Computations!D293^3","v":1707.3351029734645},{"$f":"Computations!$J$15+Computations!$I$15*D293","v":450000},{"$f":"EXP(Computations!$J$16)*EXP(Computations!$I$16)^Computations!D293","v":450000.00000000035},{"$f":"Computations!$J$17+Computations!$I$17*LN(Computations!D293)","v":450000},{"$f":"Computations!$J$18+Computations!$I$18*Computations!D293+Computations!$H$18*Computations!D293^2","v":450000},{"$f":"Computations!$J$19+Computations!$I$19*Computations!D293+Computations!$H$19*Computations!D293^2+Computations!$G$19*Computations!D293^3","v":450000}]
[240,8.0840178909115323E-2,8.1132026166051807E-2,8.0986102537583565E-2,0.35458868956436052,3.0300711133529057E-3,1618.2381912839944,450000,{"$f":"G294-H294/User_entry!$E$18","v":118.23819128399441},118.23819128399441,null,{"$f":"HLOOKUP(User_entry!$B$56,Computations!$N$54:$R$1054,Computations!A294+1,FALSE)","v":1618.2381912839944},{"$f":"HLOOKUP(User_entry!$E$56,Computations!$S$54:$W$1054,Computations!A294+1,FALSE)","v":450000},{"$f":"Computations!$F$15+Computations!$E$15*D294","v":1618.2381912839944},{"$f":"EXP(Computations!$F$16)*EXP(Computations!$E$16)^Computations!D294","v":1478.7688992993226},{"$f":"Computations!$F$17+Computations!$E$17*LN(Computations!D294)","v":1848.2920105977601},{"$f":"Computations!$F$18+Computations!$E$18*Computations!D294+Computations!$D$18*Computations!D294^2","v":1711.9648775165297},{"$f":"Computations!$F$19+Computations!$E$19*Computations!D294+Computations!$D$19*Computations!D294^2+Computations!$C$19*Computations!D294^3","v":1711.9648775165297},{"$f":"Computations!$J$15+Computations!$I$15*D294","v":450000},{"$f":"EXP(Computations!$J$16)*EXP(Computations!$I$16)^Computations!D294","v":450000.00000000035},{"$f":"Computations!$J$17+Computations!$I$17*LN(Computations!D294)","v":450000},{"$f":"Computations!$J$18+Computations!$I$18*Computations!D294+Computations!$H$18*Computations!D294^2","v":450000},{"$f":"Computations!$J$19+Computations!$I$19*Computations!D294+Computations!$H$19*Computations!D294^2+Computations!$G$19*Computations!D294^3","v":450000}]
[241,8.1132026166051807E-2,8.1423873422988291E-2,8.1277949794520049E-2,0.35762119015627425,3.0325005919137338E-3,1622.0782867700007,450000,{"$f":"G295-H295/User_entry!$E$18","v":122.07828677000066},122.07828677000066,null,{"$f":"HLOOKUP(User_entry!$B$56,Computations!$N$54:$R$1054,Computations!A295+1,FALSE)","v":1622.0782867700007},{"$f":"HLOOKUP(User_entry!$E$56,Computations!$S$54:$W$1054,Computations!A295+1,FALSE)","v":450000},{"$f":"Computations!$F$15+Computations!$E$15*D295","v":1622.0782867700007},{"$f":"EXP(Computations!$F$16)*EXP(Computations!$E$16)^Computations!D295","v":1481.8369204612138},{"$f":"Computations!$F$17+Computations!$E$17*LN(Computations!D295)","v":1852.8620312722264},{"$f":"Computations!$F$18+Computations!$E$18*Computations!D295+Computations!$D$18*Computations!D295^2","v":1716.5883428135671},{"$f":"Computations!$F$19+Computations!$E$19*Computations!D295+Computations!$D$19*Computations!D295^2+Computations!$C$19*Computations!D295^3","v":1716.5883428135671},{"$f":"Computations!$J$15+Computations!$I$15*D295","v":450000},{"$f":"EXP(Computations!$J$16)*EXP(Computations!$I$16)^Computations!D295","v":450000.00000000035},{"$f":"Computations!$J$17+Computations!$I$17*LN(Computations!D295)","v":450000},{"$f":"Computations!$J$18+Computations!$I$18*Computations!D295+Computations!$H$18*Computations!D295^2","v":450000},{"$f":"Computations!$J$19+Computations!$I$19*Computations!D295+Computations!$H$19*Computations!D295^2+Computations!$G$19*Computations!D295^3","v":450000}]
[242,8.1423873422988291E-2,8.1715720679924775E-2,8.1569797051456533E-2,0.3606559301923199,3.0347400360456467E-3,1625.9183822560071,450000,{"$f":"G296-H296/User_entry!$E$18","v":125.91838225600713},125.91838225600713,null,{"$f":"HLOOKUP(User_entry!$B$56,Computations!$N$54:$R$1054,Computations!A296+1,FALSE)","v":1625.9183822560071},{"$f":"HLOOKUP(User_entry!$E$56,Computations!$S$54:$W$1054,Computations!A296+1,FALSE)","v":450000},{"$f":"Computations!$F$15+Computations!$E$15*D296","v":1625.9183822560071},{"$f":"EXP(Computations!$F$16)*EXP(Computations!$E$16)^Computations!D296","v":1484.9113068867068},{"$f":"Computations!$F$17+Computations!$E$17*LN(Computations!D296)","v":1857.4156716051193},{"$f":"Computations!$F$18+Computations!$E$18*Computations!D296+Computations!$D$18*Computations!D296^2","v":1721.2054988645757},{"$f":"Computations!$F$19+Computations!$E$19*Computations!D296+Computations!$D$19*Computations!D296^2+Computations!$C$19*Computations!D296^3","v":1721.2054988645757},{"$f":"Computations!$J$15+Computations!$I$15*D296","v":450000},{"$f":"EXP(Computations!$J$16)*EXP(Computations!$I$16)^Computations!D296","v":450000.00000000035},{"$f":"Computations!$J$17+Computations!$I$17*LN(Computations!D296)","v":450000},{"$f":"Computations!$J$18+Computations!$I$18*Computations!D296+Computations!$H$18*Computations!D296^2","v":450000},{"$f":"Computations!$J$19+Computations!$I$19*Computations!D296+Computations!$H$19*Computations!D296^2+Computations!$G$19*Computations!D296^3","v":450000}]
[243,8.1715720679924775E-2,8.2007567936861259E-2,8.1861644308393017E-2,0.363692720470361,3.0367902780411016E-3,1629.7584777420134,450000,{"$f":"G297-H297/User_entry!$E$18","v":129.75847774201338},129.75847774201338,null,{"$f":"HLOOKUP(User_entry!$B$56,Computations!$N$54:$R$1054,Computations!A297+1,FALSE)","v":1629.7584777420134},{"$f":"HLOOKUP(User_entry!$E$56,Computations!$S$54:$W$1054,Computations!A297+1,FALSE)","v":450000},{"$f":"Computations!$F$15+Computations!$E$15*D297","v":1629.7584777420134},{"$f":"EXP(Computations!$F$16)*EXP(Computations!$E$16)^Computations!D297","v":1487.992071781897},{"$f":"Computations!$F$17+Computations!$E$17*LN(Computations!D297)","v":1861.9530486014169},{"$f":"Computations!$F$18+Computations!$E$18*Computations!D297+Computations!$D$18*Computations!D297^2","v":1725.8163456695565},{"$f":"Computations!$F$19+Computations!$E$19*Computations!D297+Computations!$D$19*Computations!D297^2+Computations!$C$19*Computations!D297^3","v":1725.8163456695565},{"$f":"Computations!$J$15+Computations!$I$15*D297","v":450000},{"$f":"EXP(Computations!$J$16)*EXP(Computations!$I$16)^Computations!D297","v":450000.00000000035},{"$f":"Computations!$J$17+Computations!$I$17*LN(Computations!D297)","v":450000},{"$f":"Computations!$J$18+Computations!$I$18*Computations!D297+Computations!$H$18*Computations!D297^2","v":450000},{"$f":"Computations!$J$19+Computations!$I$19*Computations!D297+Computations!$H$19*Computations!D297^2+Computations!$G$19*Computations!D297^3","v":450000}]
[244,8.2007567936861259E-2,8.2299415193797743E-2,8.2153491565329501E-2,0.36673137264596078,3.0386521755997875E-3,1633.5985732280199,450000,{"$f":"G298-H298/User_entry!$E$18","v":133.59857322801986},133.59857322801986,null,{"$f":"HLOOKUP(User_entry!$B$56,Computations!$N$54:$R$1054,Computations!A298+1,FALSE)","v":1633.5985732280199},{"$f":"HLOOKUP(User_entry!$E$56,Computations!$S$54:$W$1054,Computations!A298+1,FALSE)","v":450000},{"$f":"Computations!$F$15+Computations!$E$15*D298","v":1633.5985732280199},{"$f":"EXP(Computations!$F$16)*EXP(Computations!$E$16)^Computations!D298","v":1491.0792283802787},{"$f":"Computations!$F$17+Computations!$E$17*LN(Computations!D298)","v":1866.4742780169036},{"$f":"Computations!$F$18+Computations!$E$18*Computations!D298+Computations!$D$18*Computations!D298^2","v":1730.4208832285087},{"$f":"Computations!$F$19+Computations!$E$19*Computations!D298+Computations!$D$19*Computations!D298^2+Computations!$C$19*Computations!D298^3","v":1730.4208832285087},{"$f":"Computations!$J$15+Computations!$I$15*D298","v":450000},{"$f":"EXP(Computations!$J$16)*EXP(Computations!$I$16)^Computations!D298","v":450000.00000000035},{"$f":"Computations!$J$17+Computations!$I$17*LN(Computations!D298)","v":450000},{"$f":"Computations!$J$18+Computations!$I$18*Computations!D298+Computations!$H$18*Computations!D298^2","v":450000},{"$f":"Computations!$J$19+Computations!$I$19*Computations!D298+Computations!$H$19*Computations!D298^2+Computations!$G$19*Computations!D298^3","v":450000}]
[245,8.2299415193797743E-2,8.2591262450734226E-2,8.2445338822265984E-2,0.36977169925727932,3.0403266113185334E-3,1637.4386687140263,450000,{"$f":"G299-H299/User_entry!$E$18","v":137.43866871402633},137.43866871402633,null,{"$f":"HLOOKUP(User_entry!$B$56,Computations!$N$54:$R$1054,Computations!A299+1,FALSE)","v":1637.4386687140263},{"$f":"HLOOKUP(User_entry!$E$56,Computations!$S$54:$W$1054,Computations!A299+1,FALSE)","v":450000},{"$f":"Computations!$F$15+Computations!$E$15*D299","v":1637.4386687140263},{"$f":"EXP(Computations!$F$16)*EXP(Computations!$E$16)^Computations!D299","v":1494.172789942802},{"$f":"Computations!$F$17+Computations!$E$17*LN(Computations!D299)","v":1870.9794743758957},{"$f":"Computations!$F$18+Computations!$E$18*Computations!D299+Computations!$D$18*Computations!D299^2","v":1735.0191115414332},{"$f":"Computations!$F$19+Computations!$E$19*Computations!D299+Computations!$D$19*Computations!D299^2+Computations!$C$19*Computations!D299^3","v":1735.0191115414332},{"$f":"Computations!$J$15+Computations!$I$15*D299","v":450000},{"$f":"EXP(Computations!$J$16)*EXP(Computations!$I$16)^Computations!D299","v":450000.00000000035},{"$f":"Computations!$J$17+Computations!$I$17*LN(Computations!D299)","v":450000},{"$f":"Computations!$J$18+Computations!$I$18*Computations!D299+Computations!$H$18*Computations!D299^2","v":450000},{"$f":"Computations!$J$19+Computations!$I$19*Computations!D299+Computations!$H$19*Computations!D299^2+Computations!$G$19*Computations!D299^3","v":450000}]
[246,8.2591262450734226E-2,8.288310970767071E-2,8.2737186079202468E-2,0.37281351374946836,3.0418144921890433E-3,1641.2787642000326,450000,{"$f":"G300-H300/User_entry!$E$18","v":141.27876420003258},141.27876420003258,null,{"$f":"HLOOKUP(User_entry!$B$56,Computations!$N$54:$R$1054,Computations!A300+1,FALSE)","v":1641.2787642000326},{"$f":"HLOOKUP(User_entry!$E$56,Computations!$S$54:$W$1054,Computations!A300+1,FALSE)","v":450000},{"$f":"Computations!$F$15+Computations!$E$15*D300","v":1641.2787642000326},{"$f":"EXP(Computations!$F$16)*EXP(Computations!$E$16)^Computations!D300","v":1497.2727697579301},{"$f":"Computations!$F$17+Computations!$E$17*LN(Computations!D300)","v":1875.4687509886398},{"$f":"Computations!$F$18+Computations!$E$18*Computations!D300+Computations!$D$18*Computations!D300^2","v":1739.6110306083287},{"$f":"Computations!$F$19+Computations!$E$19*Computations!D300+Computations!$D$19*Computations!D300^2+Computations!$C$19*Computations!D300^3","v":1739.6110306083287},{"$f":"Computations!$J$15+Computations!$I$15*D300","v":450000},{"$f":"EXP(Computations!$J$16)*EXP(Computations!$I$16)^Computations!D300","v":450000.00000000035},{"$f":"Computations!$J$17+Computations!$I$17*LN(Computations!D300)","v":450000},{"$f":"Computations!$J$18+Computations!$I$18*Computations!D300+Computations!$H$18*Computations!D300^2","v":450000},{"$f":"Computations!$J$19+Computations!$I$19*Computations!D300+Computations!$H$19*Computations!D300^2+Computations!$G$19*Computations!D300^3","v":450000}]
[247,8.288310970767071E-2,8.3174956964607194E-2,8.3029033336138952E-2,0.37585663049856299,3.043116749094632E-3,1645.1188596860391,450000,{"$f":"G301-H301/User_entry!$E$18","v":145.11885968603906},145.11885968603906,null,{"$f":"HLOOKUP(User_entry!$B$56,Computations!$N$54:$R$1054,Computations!A301+1,FALSE)","v":1645.1188596860391},{"$f":"HLOOKUP(User_entry!$E$56,Computations!$S$54:$W$1054,Computations!A301+1,FALSE)","v":450000},{"$f":"Computations!$F$15+Computations!$E$15*D301","v":1645.1188596860391},{"$f":"EXP(Computations!$F$16)*EXP(Computations!$E$16)^Computations!D301","v":1500.3791811416947},{"$f":"Computations!$F$17+Computations!$E$17*LN(Computations!D301)","v":1879.9422199684191},{"$f":"Computations!$F$18+Computations!$E$18*Computations!D301+Computations!$D$18*Computations!D301^2","v":1744.1966404291966},{"$f":"Computations!$F$19+Computations!$E$19*Computations!D301+Computations!$D$19*Computations!D301^2+Computations!$C$19*Computations!D301^3","v":1744.1966404291966},{"$f":"Computations!$J$15+Computations!$I$15*D301","v":450000},{"$f":"EXP(Computations!$J$16)*EXP(Computations!$I$16)^Computations!D301","v":450000.00000000035},{"$f":"Computations!$J$17+Computations!$I$17*LN(Computations!D301)","v":450000},{"$f":"Computations!$J$18+Computations!$I$18*Computations!D301+Computations!$H$18*Computations!D301^2","v":450000},{"$f":"Computations!$J$19+Computations!$I$19*Computations!D301+Computations!$H$19*Computations!D301^2+Computations!$G$19*Computations!D301^3","v":450000}]
[248,8.3174956964607194E-2,8.3466804221543678E-2,8.3320880593075436E-2,0.37890086483486768,3.0442343363046853E-3,1648.9589551720453,450000,{"$f":"G302-H302/User_entry!$E$18","v":148.95895517204531},148.95895517204531,null,{"$f":"HLOOKUP(User_entry!$B$56,Computations!$N$54:$R$1054,Computations!A302+1,FALSE)","v":1648.9589551720453},{"$f":"HLOOKUP(User_entry!$E$56,Computations!$S$54:$W$1054,Computations!A302+1,FALSE)","v":450000},{"$f":"Computations!$F$15+Computations!$E$15*D302","v":1648.9589551720453},{"$f":"EXP(Computations!$F$16)*EXP(Computations!$E$16)^Computations!D302","v":1503.4920374377566},{"$f":"Computations!$F$17+Computations!$E$17*LN(Computations!D302)","v":1884.3999922483481},{"$f":"Computations!$F$18+Computations!$E$18*Computations!D302+Computations!$D$18*Computations!D302^2","v":1748.7759410040358},{"$f":"Computations!$F$19+Computations!$E$19*Computations!D302+Computations!$D$19*Computations!D302^2+Computations!$C$19*Computations!D302^3","v":1748.7759410040358},{"$f":"Computations!$J$15+Computations!$I$15*D302","v":450000},{"$f":"EXP(Computations!$J$16)*EXP(Computations!$I$16)^Computations!D302","v":450000.00000000035},{"$f":"Computations!$J$17+Computations!$I$17*LN(Computations!D302)","v":450000},{"$f":"Computations!$J$18+Computations!$I$18*Computations!D302+Computations!$H$18*Computations!D302^2","v":450000},{"$f":"Computations!$J$19+Computations!$I$19*Computations!D302+Computations!$H$19*Computations!D302^2+Computations!$G$19*Computations!D302^3","v":450000}]
[249,8.3466804221543678E-2,8.3758651478480162E-2,8.361272785001192E-2,0.38194603306584202,3.0451682309743378E-3,1652.7990506580518,450000,{"$f":"G303-H303/User_entry!$E$18","v":152.79905065805178},152.79905065805178,null,{"$f":"HLOOKUP(User_entry!$B$56,Computations!$N$54:$R$1054,Computations!A303+1,FALSE)","v":1652.7990506580518},{"$f":"HLOOKUP(User_entry!$E$56,Computations!$S$54:$W$1054,Computations!A303+1,FALSE)","v":450000},{"$f":"Computations!$F$15+Computations!$E$15*D303","v":1652.7990506580518},{"$f":"EXP(Computations!$F$16)*EXP(Computations!$E$16)^Computations!D303","v":1506.6113520174586},{"$f":"Computations!$F$17+Computations!$E$17*LN(Computations!D303)","v":1888.8421775978836},{"$f":"Computations!$F$18+Computations!$E$18*Computations!D303+Computations!$D$18*Computations!D303^2","v":1753.3489323328472},{"$f":"Computations!$F$19+Computations!$E$19*Computations!D303+Computations!$D$19*Computations!D303^2+Computations!$C$19*Computations!D303^3","v":1753.3489323328472},{"$f":"Computations!$J$15+Computations!$I$15*D303","v":450000},{"$f":"EXP(Computations!$J$16)*EXP(Computations!$I$16)^Computations!D303","v":450000.00000000035},{"$f":"Computations!$J$17+Computations!$I$17*LN(Computations!D303)","v":450000},{"$f":"Computations!$J$18+Computations!$I$18*Computations!D303+Computations!$H$18*Computations!D303^2","v":450000},{"$f":"Computations!$J$19+Computations!$I$19*Computations!D303+Computations!$H$19*Computations!D303^2+Computations!$G$19*Computations!D303^3","v":450000}]
[250,8.3758651478480162E-2,8.4050498735416646E-2,8.3904575106948404E-2,0.384991952498489,3.0459194326469818E-3,1656.639146144058,450000,{"$f":"G304-H304/User_entry!$E$18","v":156.63914614405803},156.63914614405803,null,{"$f":"HLOOKUP(User_entry!$B$56,Computations!$N$54:$R$1054,Computations!A304+1,FALSE)","v":1656.639146144058},{"$f":"HLOOKUP(User_entry!$E$56,Computations!$S$54:$W$1054,Computations!A304+1,FALSE)","v":450000},{"$f":"Computations!$F$15+Computations!$E$15*D304","v":1656.639146144058},{"$f":"EXP(Computations!$F$16)*EXP(Computations!$E$16)^Computations!D304","v":1509.7371382798865},{"$f":"Computations!$F$17+Computations!$E$17*LN(Computations!D304)","v":1893.2688846390402},{"$f":"Computations!$F$18+Computations!$E$18*Computations!D304+Computations!$D$18*Computations!D304^2","v":1757.91561441563},{"$f":"Computations!$F$19+Computations!$E$19*Computations!D304+Computations!$D$19*Computations!D304^2+Computations!$C$19*Computations!D304^3","v":1757.91561441563},{"$f":"Computations!$J$15+Computations!$I$15*D304","v":450000},{"$f":"EXP(Computations!$J$16)*EXP(Computations!$I$16)^Computations!D304","v":450000.00000000035},{"$f":"Computations!$J$17+Computations!$I$17*LN(Computations!D304)","v":450000},{"$f":"Computations!$J$18+Computations!$I$18*Computations!D304+Computations!$H$18*Computations!D304^2","v":450000},{"$f":"Computations!$J$19+Computations!$I$19*Computations!D304+Computations!$H$19*Computations!D304^2+Computations!$G$19*Computations!D304^3","v":450000}]
[251,8.4050498735416646E-2,8.4342345992353129E-2,8.4196422363884887E-2,0.38803844146124045,3.046488962751448E-3,1660.4792416300645,450000,{"$f":"G305-H305/User_entry!$E$18","v":160.47924163006451},160.47924163006451,null,{"$f":"HLOOKUP(User_entry!$B$56,Computations!$N$54:$R$1054,Computations!A305+1,FALSE)","v":1660.4792416300645},{"$f":"HLOOKUP(User_entry!$E$56,Computations!$S$54:$W$1054,Computations!A305+1,FALSE)","v":450000},{"$f":"Computations!$F$15+Computations!$E$15*D305","v":1660.4792416300645},{"$f":"EXP(Computations!$F$16)*EXP(Computations!$E$16)^Computations!D305","v":1512.8694096519248},{"$f":"Computations!$F$17+Computations!$E$17*LN(Computations!D305)","v":1897.6802208623285},{"$f":"Computations!$F$18+Computations!$E$18*Computations!D305+Computations!$D$18*Computations!D305^2","v":1762.4759872523848},{"$f":"Computations!$F$19+Computations!$E$19*Computations!D305+Computations!$D$19*Computations!D305^2+Computations!$C$19*Computations!D305^3","v":1762.4759872523848},{"$f":"Computations!$J$15+Computations!$I$15*D305","v":450000},{"$f":"EXP(Computations!$J$16)*EXP(Computations!$I$16)^Computations!D305","v":450000.00000000035},{"$f":"Computations!$J$17+Computations!$I$17*LN(Computations!D305)","v":450000},{"$f":"Computations!$J$18+Computations!$I$18*Computations!D305+Computations!$H$18*Computations!D305^2","v":450000},{"$f":"Computations!$J$19+Computations!$I$19*Computations!D305+Computations!$H$19*Computations!D305^2+Computations!$G$19*Computations!D305^3","v":450000}]
[252,8.4342345992353129E-2,8.4634193249289613E-2,8.4488269620821371E-2,0.39108531932535007,3.0468778641096206E-3,1664.3193371160708,450000,{"$f":"G306-H306/User_entry!$E$18","v":164.31933711607076},164.31933711607076,null,{"$f":"HLOOKUP(User_entry!$B$56,Computations!$N$54:$R$1054,Computations!A306+1,FALSE)","v":1664.3193371160708},{"$f":"HLOOKUP(User_entry!$E$56,Computations!$S$54:$W$1054,Computations!A306+1,FALSE)","v":450000},{"$f":"Computations!$F$15+Computations!$E$15*D306","v":1664.3193371160708},{"$f":"EXP(Computations!$F$16)*EXP(Computations!$E$16)^Computations!D306","v":1516.0081795883154},{"$f":"Computations!$F$17+Computations!$E$17*LN(Computations!D306)","v":1902.0762926424159},{"$f":"Computations!$F$18+Computations!$E$18*Computations!D306+Computations!$D$18*Computations!D306^2","v":1767.030050843111},{"$f":"Computations!$F$19+Computations!$E$19*Computations!D306+Computations!$D$19*Computations!D306^2+Computations!$C$19*Computations!D306^3","v":1767.030050843111},{"$f":"Computations!$J$15+Computations!$I$15*D306","v":450000},{"$f":"EXP(Computations!$J$16)*EXP(Computations!$I$16)^Computations!D306","v":450000.00000000035},{"$f":"Computations!$J$17+Computations!$I$17*LN(Computations!D306)","v":450000},{"$f":"Computations!$J$18+Computations!$I$18*Computations!D306+Computations!$H$18*Computations!D306^2","v":450000},{"$f":"Computations!$J$19+Computations!$I$19*Computations!D306+Computations!$H$19*Computations!D306^2+Computations!$G$19*Computations!D306^3","v":450000}]
[253,8.4634193249289613E-2,8.4926040506226097E-2,8.4780116877757855E-2,0.39413240652578907,3.0470872004390026E-3,1668.1594326020772,450000,{"$f":"G307-H307/User_entry!$E$18","v":168.15943260207723},168.15943260207723,null,{"$f":"HLOOKUP(User_entry!$B$56,Computations!$N$54:$R$1054,Computations!A307+1,FALSE)","v":1668.1594326020772},{"$f":"HLOOKUP(User_entry!$E$56,Computations!$S$54:$W$1054,Computations!A307+1,FALSE)","v":450000},{"$f":"Computations!$F$15+Computations!$E$15*D307","v":1668.1594326020772},{"$f":"EXP(Computations!$F$16)*EXP(Computations!$E$16)^Computations!D307","v":1519.1534615717148},{"$f":"Computations!$F$17+Computations!$E$17*LN(Computations!D307)","v":1906.4572052535177},{"$f":"Computations!$F$18+Computations!$E$18*Computations!D307+Computations!$D$18*Computations!D307^2","v":1771.5778051878094},{"$f":"Computations!$F$19+Computations!$E$19*Computations!D307+Computations!$D$19*Computations!D307^2+Computations!$C$19*Computations!D307^3","v":1771.5778051878094},{"$f":"Computations!$J$15+Computations!$I$15*D307","v":450000},{"$f":"EXP(Computations!$J$16)*EXP(Computations!$I$16)^Computations!D307","v":450000.00000000035},{"$f":"Computations!$J$17+Computations!$I$17*LN(Computations!D307)","v":450000},{"$f":"Computations!$J$18+Computations!$I$18*Computations!D307+Computations!$H$18*Computations!D307^2","v":450000},{"$f":"Computations!$J$19+Computations!$I$19*Computations!D307+Computations!$H$19*Computations!D307^2+Computations!$G$19*Computations!D307^3","v":450000}]
[254,8.4926040506226097E-2,8.5217887763162581E-2,8.5071964134694339E-2,0.39717952458165112,3.0471180558620525E-3,1671.9995280880835,450000,{"$f":"G308-H308/User_entry!$E$18","v":171.99952808808348},171.99952808808348,null,{"$f":"HLOOKUP(User_entry!$B$56,Computations!$N$54:$R$1054,Computations!A308+1,FALSE)","v":1671.9995280880835},{"$f":"HLOOKUP(User_entry!$E$56,Computations!$S$54:$W$1054,Computations!A308+1,FALSE)","v":450000},{"$f":"Computations!$F$15+Computations!$E$15*D308","v":1671.9995280880835},{"$f":"EXP(Computations!$F$16)*EXP(Computations!$E$16)^Computations!D308","v":1522.3052691127518},{"$f":"Computations!$F$17+Computations!$E$17*LN(Computations!D308)","v":1910.8230628845258},{"$f":"Computations!$F$18+Computations!$E$18*Computations!D308+Computations!$D$18*Computations!D308^2","v":1776.1192502864792},{"$f":"Computations!$F$19+Computations!$E$19*Computations!D308+Computations!$D$19*Computations!D308^2+Computations!$C$19*Computations!D308^3","v":1776.1192502864792},{"$f":"Computations!$J$15+Computations!$I$15*D308","v":450000},{"$f":"EXP(Computations!$J$16)*EXP(Computations!$I$16)^Computations!D308","v":450000.00000000035},{"$f":"Computations!$J$17+Computations!$I$17*LN(Computations!D308)","v":450000},{"$f":"Computations!$J$18+Computations!$I$18*Computations!D308+Computations!$H$18*Computations!D308^2","v":450000},{"$f":"Computations!$J$19+Computations!$I$19*Computations!D308+Computations!$H$19*Computations!D308^2+Computations!$G$19*Computations!D308^3","v":450000}]
[255,8.5217887763162581E-2,8.5509735020099065E-2,8.5363811391630823E-2,0.40022649611606476,3.0469715344136339E-3,1675.83962357409,450000,{"$f":"G309-H309/User_entry!$E$18","v":175.83962357408996},175.83962357408996,null,{"$f":"HLOOKUP(User_entry!$B$56,Computations!$N$54:$R$1054,Computations!A309+1,FALSE)","v":1675.83962357409},{"$f":"HLOOKUP(User_entry!$E$56,Computations!$S$54:$W$1054,Computations!A309+1,FALSE)","v":450000},{"$f":"Computations!$F$15+Computations!$E$15*D309","v":1675.83962357409},{"$f":"EXP(Computations!$F$16)*EXP(Computations!$E$16)^Computations!D309","v":1525.4636157500861},{"$f":"Computations!$F$17+Computations!$E$17*LN(Computations!D309)","v":1915.1739686538745},{"$f":"Computations!$F$18+Computations!$E$18*Computations!D309+Computations!$D$18*Computations!D309^2","v":1780.654386139121},{"$f":"Computations!$F$19+Computations!$E$19*Computations!D309+Computations!$D$19*Computations!D309^2+Computations!$C$19*Computations!D309^3","v":1780.654386139121},{"$f":"Computations!$J$15+Computations!$I$15*D309","v":450000},{"$f":"EXP(Computations!$J$16)*EXP(Computations!$I$16)^Computations!D309","v":450000.00000000035},{"$f":"Computations!$J$17+Computations!$I$17*LN(Computations!D309)","v":450000},{"$f":"Computations!$J$18+Computations!$I$18*Computations!D309+Computations!$H$18*Computations!D309^2","v":450000},{"$f":"Computations!$J$19+Computations!$I$19*Computations!D309+Computations!$H$19*Computations!D309^2+Computations!$G$19*Computations!D309^3","v":450000}]
[256,8.5509735020099065E-2,8.5801582277035549E-2,8.5655658648567307E-2,0.40327314487561938,3.0466487595546266E-3,1679.6797190600962,450000,{"$f":"G310-H310/User_entry!$E$18","v":179.6797190600962},179.6797190600962,null,{"$f":"HLOOKUP(User_entry!$B$56,Computations!$N$54:$R$1054,Computations!A310+1,FALSE)","v":1679.6797190600962},{"$f":"HLOOKUP(User_entry!$E$56,Computations!$S$54:$W$1054,Computations!A310+1,FALSE)","v":450000},{"$f":"Computations!$F$15+Computations!$E$15*D310","v":1679.6797190600962},{"$f":"EXP(Computations!$F$16)*EXP(Computations!$E$16)^Computations!D310","v":1528.6285150504666},{"$f":"Computations!$F$17+Computations!$E$17*LN(Computations!D310)","v":1919.5100246241536},{"$f":"Computations!$F$18+Computations!$E$18*Computations!D310+Computations!$D$18*Computations!D310^2","v":1785.1832127457342},{"$f":"Computations!$F$19+Computations!$E$19*Computations!D310+Computations!$D$19*Computations!D310^2+Computations!$C$19*Computations!D310^3","v":1785.1832127457342},{"$f":"Computations!$J$15+Computations!$I$15*D310","v":450000},{"$f":"EXP(Computations!$J$16)*EXP(Computations!$I$16)^Computations!D310","v":450000.00000000035},{"$f":"Computations!$J$17+Computations!$I$17*LN(Computations!D310)","v":450000},{"$f":"Computations!$J$18+Computations!$I$18*Computations!D310+Computations!$H$18*Computations!D310^2","v":450000},{"$f":"Computations!$J$19+Computations!$I$19*Computations!D310+Computations!$H$19*Computations!D310^2+Computations!$G$19*Computations!D310^3","v":450000}]
[257,8.5801582277035549E-2,8.6093429533972032E-2,8.594750590550379E-2,0.40631929574930381,3.0461508736844278E-3,1683.5198145461027,450000,{"$f":"G311-H311/User_entry!$E$18","v":183.51981454610268},183.51981454610268,null,{"$f":"HLOOKUP(User_entry!$B$56,Computations!$N$54:$R$1054,Computations!A311+1,FALSE)","v":1683.5198145461027},{"$f":"HLOOKUP(User_entry!$E$56,Computations!$S$54:$W$1054,Computations!A311+1,FALSE)","v":450000},{"$f":"Computations!$F$15+Computations!$E$15*D311","v":1683.5198145461027},{"$f":"EXP(Computations!$F$16)*EXP(Computations!$E$16)^Computations!D311","v":1531.7999806087885},{"$f":"Computations!$F$17+Computations!$E$17*LN(Computations!D311)","v":1923.8313318164783},{"$f":"Computations!$F$18+Computations!$E$18*Computations!D311+Computations!$D$18*Computations!D311^2","v":1789.7057301063196},{"$f":"Computations!$F$19+Computations!$E$19*Computations!D311+Computations!$D$19*Computations!D311^2+Computations!$C$19*Computations!D311^3","v":1789.7057301063196},{"$f":"Computations!$J$15+Computations!$I$15*D311","v":450000},{"$f":"EXP(Computations!$J$16)*EXP(Computations!$I$16)^Computations!D311","v":450000.00000000035},{"$f":"Computations!$J$17+Computations!$I$17*LN(Computations!D311)","v":450000},{"$f":"Computations!$J$18+Computations!$I$18*Computations!D311+Computations!$H$18*Computations!D311^2","v":450000},{"$f":"Computations!$J$19+Computations!$I$19*Computations!D311+Computations!$H$19*Computations!D311^2+Computations!$G$19*Computations!D311^3","v":450000}]
[258,8.6093429533972032E-2,{"$f":"B312+$D$11","v":8.6385276790908516E-2},{"$f":"AVERAGE(B312:C312)","v":8.6239353162440274E-2},{"$f":"IF($D$3=\"Beta\",_xlfn.BETA.DIST(C312,$D$4,$D$5,TRUE),IF($D$3=\"Gamma\",_xlfn.GAMMA.DIST(C312,$D$4,$D$5,TRUE),IF($D$3=\"Lognorm\",_xlfn.LOGNORM.DIST(C312,$D$4,$D$5,TRUE),_xlfn.NORM.DIST(C312,$D$4,$D$5,TRUE))))","v":0.40936477478696326},{"$f":"E312-E311","v":3.0454790376594487E-3},{"$f":"L312","v":1687.3599100321089},{"$f":"M312","v":450000},{"$f":"G312-H312/User_entry!$E$18","v":187.35991003210893},{"$f":"MAX(I312,0)","v":187.35991003210893},null,{"$f":"HLOOKUP(User_entry!$B$56,Computations!$N$54:$R$1054,Computations!A312+1,FALSE)","v":1687.3599100321089},{"$f":"HLOOKUP(User_entry!$E$56,Computations!$S$54:$W$1054,Computations!A312+1,FALSE)","v":450000},{"$f":"Computations!$F$15+Computations!$E$15*D312","v":1687.3599100321089},{"$f":"EXP(Computations!$F$16)*EXP(Computations!$E$16)^Computations!D312","v":1534.9780260481534},{"$f":"Computations!$F$17+Computations!$E$17*LN(Computations!D312)","v":1928.1379902246063},{"$f":"Computations!$F$18+Computations!$E$18*Computations!D312+Computations!$D$18*Computations!D312^2","v":1794.2219382208764},{"$f":"Computations!$F$19+Computations!$E$19*Computations!D312+Computations!$D$19*Computations!D312^2+Computations!$C$19*Computations!D312^3","v":1794.2219382208764},{"$f":"Computations!$J$15+Computations!$I$15*D312","v":450000},{"$f":"EXP(Computations!$J$16)*EXP(Computations!$I$16)^Computations!D312","v":450000.00000000035},{"$f":"Computations!$J$17+Computations!$I$17*LN(Computations!D312)","v":450000},{"$f":"Computations!$J$18+Computations!$I$18*Computations!D312+Computations!$H$18*Computations!D312^2","v":450000},{"$f":"Computations!$J$19+Computations!$I$19*Computations!D312+Computations!$H$19*Computations!D312^2+Computations!$G$19*Computations!D312^3","v":450000}]
[259,{"$f":"C312","v":8.6385276790908516E-2},8.6677124047845E-2,8.6531200419376758E-2,0.41240940921727326,3.0446344303100004E-3,1691.2000055181154,450000,{"$f":"G313-H313/User_entry!$E$18","v":191.2000055181154},191.2000055181154,null,{"$f":"HLOOKUP(User_entry!$B$56,Computations!$N$54:$R$1054,Computations!A313+1,FALSE)","v":1691.2000055181154},{"$f":"HLOOKUP(User_entry!$E$56,Computations!$S$54:$W$1054,Computations!A313+1,FALSE)","v":450000},{"$f":"Computations!$F$15+Computations!$E$15*D313","v":1691.2000055181154},{"$f":"EXP(Computations!$F$16)*EXP(Computations!$E$16)^Computations!D313","v":1538.162665019926},{"$f":"Computations!$F$17+Computations!$E$17*LN(Computations!D313)","v":1932.4300988288242},{"$f":"Computations!$F$18+Computations!$E$18*Computations!D313+Computations!$D$18*Computations!D313^2","v":1798.7318370894052},{"$f":"Computations!$F$19+Computations!$E$19*Computations!D313+Computations!$D$19*Computations!D313^2+Computations!$C$19*Computations!D313^3","v":1798.7318370894052},{"$f":"Computations!$J$15+Computations!$I$15*D313","v":450000},{"$f":"EXP(Computations!$J$16)*EXP(Computations!$I$16)^Computations!D313","v":450000.00000000035},{"$f":"Computations!$J$17+Computations!$I$17*LN(Computations!D313)","v":450000},{"$f":"Computations!$J$18+Computations!$I$18*Computations!D313+Computations!$H$18*Computations!D313^2","v":450000},{"$f":"Computations!$J$19+Computations!$I$19*Computations!D313+Computations!$H$19*Computations!D313^2+Computations!$G$19*Computations!D313^3","v":450000}]
[260,8.6677124047845E-2,8.6968971304781484E-2,8.6823047676313242E-2,0.41545302746523721,3.0436182479639529E-3,1695.0401010041217,450000,{"$f":"G314-H314/User_entry!$E$18","v":195.04010100412165},195.04010100412165,null,{"$f":"HLOOKUP(User_entry!$B$56,Computations!$N$54:$R$1054,Computations!A314+1,FALSE)","v":1695.0401010041217},{"$f":"HLOOKUP(User_entry!$E$56,Computations!$S$54:$W$1054,Computations!A314+1,FALSE)","v":450000},{"$f":"Computations!$F$15+Computations!$E$15*D314","v":1695.0401010041217},{"$f":"EXP(Computations!$F$16)*EXP(Computations!$E$16)^Computations!D314","v":1541.3539112037943},{"$f":"Computations!$F$17+Computations!$E$17*LN(Computations!D314)","v":1936.7077556095969},{"$f":"Computations!$F$18+Computations!$E$18*Computations!D314+Computations!$D$18*Computations!D314^2","v":1803.2354267119053},{"$f":"Computations!$F$19+Computations!$E$19*Computations!D314+Computations!$D$19*Computations!D314^2+Computations!$C$19*Computations!D314^3","v":1803.2354267119053},{"$f":"Computations!$J$15+Computations!$I$15*D314","v":450000},{"$f":"EXP(Computations!$J$16)*EXP(Computations!$I$16)^Computations!D314","v":450000.00000000035},{"$f":"Computations!$J$17+Computations!$I$17*LN(Computations!D314)","v":450000},{"$f":"Computations!$J$18+Computations!$I$18*Computations!D314+Computations!$H$18*Computations!D314^2","v":450000},{"$f":"Computations!$J$19+Computations!$I$19*Computations!D314+Computations!$H$19*Computations!D314^2+Computations!$G$19*Computations!D314^3","v":450000}]
[261,8.6968971304781484E-2,8.7260818561717968E-2,8.7114894933249726E-2,0.418495459169206,3.0424317039687843E-3,1698.8801964901281,450000,{"$f":"G315-H315/User_entry!$E$18","v":198.88019649012813},198.88019649012813,null,{"$f":"HLOOKUP(User_entry!$B$56,Computations!$N$54:$R$1054,Computations!A315+1,FALSE)","v":1698.8801964901281},{"$f":"HLOOKUP(User_entry!$E$56,Computations!$S$54:$W$1054,Computations!A315+1,FALSE)","v":450000},{"$f":"Computations!$F$15+Computations!$E$15*D315","v":1698.8801964901281},{"$f":"EXP(Computations!$F$16)*EXP(Computations!$E$16)^Computations!D315","v":1544.551778307828},{"$f":"Computations!$F$17+Computations!$E$17*LN(Computations!D315)","v":1940.971057560987},{"$f":"Computations!$F$18+Computations!$E$18*Computations!D315+Computations!$D$18*Computations!D315^2","v":1807.732707088378},{"$f":"Computations!$F$19+Computations!$E$19*Computations!D315+Computations!$D$19*Computations!D315^2+Computations!$C$19*Computations!D315^3","v":1807.732707088378},{"$f":"Computations!$J$15+Computations!$I$15*D315","v":450000},{"$f":"EXP(Computations!$J$16)*EXP(Computations!$I$16)^Computations!D315","v":450000.00000000035},{"$f":"Computations!$J$17+Computations!$I$17*LN(Computations!D315)","v":450000},{"$f":"Computations!$J$18+Computations!$I$18*Computations!D315+Computations!$H$18*Computations!D315^2","v":450000},{"$f":"Computations!$J$19+Computations!$I$19*Computations!D315+Computations!$H$19*Computations!D315^2+Computations!$G$19*Computations!D315^3","v":450000}]
[262,8.7260818561717968E-2,8.7552665818654452E-2,8.740674219018621E-2,0.42153653519742884,3.0410760282228444E-3,1702.7202919761344,450000,{"$f":"G316-H316/User_entry!$E$18","v":202.72029197613438},202.72029197613438,null,{"$f":"HLOOKUP(User_entry!$B$56,Computations!$N$54:$R$1054,Computations!A316+1,FALSE)","v":1702.7202919761344},{"$f":"HLOOKUP(User_entry!$E$56,Computations!$S$54:$W$1054,Computations!A316+1,FALSE)","v":450000},{"$f":"Computations!$F$15+Computations!$E$15*D316","v":1702.7202919761344},{"$f":"EXP(Computations!$F$16)*EXP(Computations!$E$16)^Computations!D316","v":1547.7562800685364},{"$f":"Computations!$F$17+Computations!$E$17*LN(Computations!D316)","v":1945.2201007038525},{"$f":"Computations!$F$18+Computations!$E$18*Computations!D316+Computations!$D$18*Computations!D316^2","v":1812.2236782188215},{"$f":"Computations!$F$19+Computations!$E$19*Computations!D316+Computations!$D$19*Computations!D316^2+Computations!$C$19*Computations!D316^3","v":1812.2236782188215},{"$f":"Computations!$J$15+Computations!$I$15*D316","v":450000},{"$f":"EXP(Computations!$J$16)*EXP(Computations!$I$16)^Computations!D316","v":450000.00000000035},{"$f":"Computations!$J$17+Computations!$I$17*LN(Computations!D316)","v":450000},{"$f":"Computations!$J$18+Computations!$I$18*Computations!D316+Computations!$H$18*Computations!D316^2","v":450000},{"$f":"Computations!$J$19+Computations!$I$19*Computations!D316+Computations!$H$19*Computations!D316^2+Computations!$G$19*Computations!D316^3","v":450000}]
[263,8.7552665818654452E-2,8.7844513075590935E-2,8.7698589447122693E-2,0.42457608766413063,3.0395524667017892E-3,1706.5603874621409,450000,{"$f":"G317-H317/User_entry!$E$18","v":206.56038746214085},206.56038746214085,null,{"$f":"HLOOKUP(User_entry!$B$56,Computations!$N$54:$R$1054,Computations!A317+1,FALSE)","v":1706.5603874621409},{"$f":"HLOOKUP(User_entry!$E$56,Computations!$S$54:$W$1054,Computations!A317+1,FALSE)","v":450000},{"$f":"Computations!$F$15+Computations!$E$15*D317","v":1706.5603874621409},{"$f":"EXP(Computations!$F$16)*EXP(Computations!$E$16)^Computations!D317","v":1550.9674302509284},{"$f":"Computations!$F$17+Computations!$E$17*LN(Computations!D317)","v":1949.4549800988229},{"$f":"Computations!$F$18+Computations!$E$18*Computations!D317+Computations!$D$18*Computations!D317^2","v":1816.7083401032376},{"$f":"Computations!$F$19+Computations!$E$19*Computations!D317+Computations!$D$19*Computations!D317^2+Computations!$C$19*Computations!D317^3","v":1816.7083401032376},{"$f":"Computations!$J$15+Computations!$I$15*D317","v":450000},{"$f":"EXP(Computations!$J$16)*EXP(Computations!$I$16)^Computations!D317","v":450000.00000000035},{"$f":"Computations!$J$17+Computations!$I$17*LN(Computations!D317)","v":450000},{"$f":"Computations!$J$18+Computations!$I$18*Computations!D317+Computations!$H$18*Computations!D317^2","v":450000},{"$f":"Computations!$J$19+Computations!$I$19*Computations!D317+Computations!$H$19*Computations!D317^2+Computations!$G$19*Computations!D317^3","v":450000}]
[264,8.7844513075590935E-2,8.8136360332527419E-2,8.7990436704059177E-2,0.42761394994512497,3.0378622809943412E-3,1710.4004829481471,450000,{"$f":"G318-H318/User_entry!$E$18","v":210.4004829481471},210.4004829481471,null,{"$f":"HLOOKUP(User_entry!$B$56,Computations!$N$54:$R$1054,Computations!A318+1,FALSE)","v":1710.4004829481471},{"$f":"HLOOKUP(User_entry!$E$56,Computations!$S$54:$W$1054,Computations!A318+1,FALSE)","v":450000},{"$f":"Computations!$F$15+Computations!$E$15*D318","v":1710.4004829481471},{"$f":"EXP(Computations!$F$16)*EXP(Computations!$E$16)^Computations!D318","v":1554.1852426485714},{"$f":"Computations!$F$17+Computations!$E$17*LN(Computations!D318)","v":1953.6757898590599},{"$f":"Computations!$F$18+Computations!$E$18*Computations!D318+Computations!$D$18*Computations!D318^2","v":1821.1866927416247},{"$f":"Computations!$F$19+Computations!$E$19*Computations!D318+Computations!$D$19*Computations!D318^2+Computations!$C$19*Computations!D318^3","v":1821.1866927416247},{"$f":"Computations!$J$15+Computations!$I$15*D318","v":450000},{"$f":"EXP(Computations!$J$16)*EXP(Computations!$I$16)^Computations!D318","v":450000.00000000035},{"$f":"Computations!$J$17+Computations!$I$17*LN(Computations!D318)","v":450000},{"$f":"Computations!$J$18+Computations!$I$18*Computations!D318+Computations!$H$18*Computations!D318^2","v":450000},{"$f":"Computations!$J$19+Computations!$I$19*Computations!D318+Computations!$H$19*Computations!D318^2+Computations!$G$19*Computations!D318^3","v":450000}]
[265,8.8136360332527419E-2,8.8428207589463903E-2,8.8282283960995661E-2,0.43064995669296313,3.0360067478381603E-3,1714.2405784341536,450000,{"$f":"G319-H319/User_entry!$E$18","v":214.24057843415358},214.24057843415358,null,{"$f":"HLOOKUP(User_entry!$B$56,Computations!$N$54:$R$1054,Computations!A319+1,FALSE)","v":1714.2405784341536},{"$f":"HLOOKUP(User_entry!$E$56,Computations!$S$54:$W$1054,Computations!A319+1,FALSE)","v":450000},{"$f":"Computations!$F$15+Computations!$E$15*D319","v":1714.2405784341536},{"$f":"EXP(Computations!$F$16)*EXP(Computations!$E$16)^Computations!D319","v":1557.4097310836501},{"$f":"Computations!$F$17+Computations!$E$17*LN(Computations!D319)","v":1957.8826231628054},{"$f":"Computations!$F$18+Computations!$E$18*Computations!D319+Computations!$D$18*Computations!D319^2","v":1825.6587361339841},{"$f":"Computations!$F$19+Computations!$E$19*Computations!D319+Computations!$D$19*Computations!D319^2+Computations!$C$19*Computations!D319^3","v":1825.6587361339841},{"$f":"Computations!$J$15+Computations!$I$15*D319","v":450000},{"$f":"EXP(Computations!$J$16)*EXP(Computations!$I$16)^Computations!D319","v":450000.00000000035},{"$f":"Computations!$J$17+Computations!$I$17*LN(Computations!D319)","v":450000},{"$f":"Computations!$J$18+Computations!$I$18*Computations!D319+Computations!$H$18*Computations!D319^2","v":450000},{"$f":"Computations!$J$19+Computations!$I$19*Computations!D319+Computations!$H$19*Computations!D319^2+Computations!$G$19*Computations!D319^3","v":450000}]
[266,8.8428207589463903E-2,8.8720054846400387E-2,8.8574131217932145E-2,0.43368394385162296,3.0339871586598233E-3,1718.0806739201598,450000,{"$f":"G320-H320/User_entry!$E$18","v":218.08067392015982},218.08067392015982,null,{"$f":"HLOOKUP(User_entry!$B$56,Computations!$N$54:$R$1054,Computations!A320+1,FALSE)","v":1718.0806739201598},{"$f":"HLOOKUP(User_entry!$E$56,Computations!$S$54:$W$1054,Computations!A320+1,FALSE)","v":450000},{"$f":"Computations!$F$15+Computations!$E$15*D320","v":1718.0806739201598},{"$f":"EXP(Computations!$F$16)*EXP(Computations!$E$16)^Computations!D320","v":1560.6409094070273},{"$f":"Computations!$F$17+Computations!$E$17*LN(Computations!D320)","v":1962.0755722657273},{"$f":"Computations!$F$18+Computations!$E$18*Computations!D320+Computations!$D$18*Computations!D320^2","v":1830.1244702803149},{"$f":"Computations!$F$19+Computations!$E$19*Computations!D320+Computations!$D$19*Computations!D320^2+Computations!$C$19*Computations!D320^3","v":1830.1244702803149},{"$f":"Computations!$J$15+Computations!$I$15*D320","v":450000},{"$f":"EXP(Computations!$J$16)*EXP(Computations!$I$16)^Computations!D320","v":450000.00000000035},{"$f":"Computations!$J$17+Computations!$I$17*LN(Computations!D320)","v":450000},{"$f":"Computations!$J$18+Computations!$I$18*Computations!D320+Computations!$H$18*Computations!D320^2","v":450000},{"$f":"Computations!$J$19+Computations!$I$19*Computations!D320+Computations!$H$19*Computations!D320^2+Computations!$G$19*Computations!D320^3","v":450000}]
[267,8.8720054846400387E-2,8.9011902103336871E-2,8.8865978474868629E-2,0.43671574867074037,3.0318048191174118E-3,1721.9207694061663,450000,{"$f":"G321-H321/User_entry!$E$18","v":221.9207694061663},221.9207694061663,null,{"$f":"HLOOKUP(User_entry!$B$56,Computations!$N$54:$R$1054,Computations!A321+1,FALSE)","v":1721.9207694061663},{"$f":"HLOOKUP(User_entry!$E$56,Computations!$S$54:$W$1054,Computations!A321+1,FALSE)","v":450000},{"$f":"Computations!$F$15+Computations!$E$15*D321","v":1721.9207694061663},{"$f":"EXP(Computations!$F$16)*EXP(Computations!$E$16)^Computations!D321","v":1563.8787914983013},{"$f":"Computations!$F$17+Computations!$E$17*LN(Computations!D321)","v":1966.2547285130554},{"$f":"Computations!$F$18+Computations!$E$18*Computations!D321+Computations!$D$18*Computations!D321^2","v":1834.5838951806177},{"$f":"Computations!$F$19+Computations!$E$19*Computations!D321+Computations!$D$19*Computations!D321^2+Computations!$C$19*Computations!D321^3","v":1834.5838951806177},{"$f":"Computations!$J$15+Computations!$I$15*D321","v":450000},{"$f":"EXP(Computations!$J$16)*EXP(Computations!$I$16)^Computations!D321","v":450000.00000000035},{"$f":"Computations!$J$17+Computations!$I$17*LN(Computations!D321)","v":450000},{"$f":"Computations!$J$18+Computations!$I$18*Computations!D321+Computations!$H$18*Computations!D321^2","v":450000},{"$f":"Computations!$J$19+Computations!$I$19*Computations!D321+Computations!$H$19*Computations!D321^2+Computations!$G$19*Computations!D321^3","v":450000}]
[268,8.9011902103336871E-2,8.9303749360273355E-2,8.9157825731805113E-2,0.43974520971938696,3.0294610486465978E-3,1725.7608648921725,450000,{"$f":"G322-H322/User_entry!$E$18","v":225.76086489217255},225.76086489217255,null,{"$f":"HLOOKUP(User_entry!$B$56,Computations!$N$54:$R$1054,Computations!A322+1,FALSE)","v":1725.7608648921725},{"$f":"HLOOKUP(User_entry!$E$56,Computations!$S$54:$W$1054,Computations!A322+1,FALSE)","v":450000},{"$f":"Computations!$F$15+Computations!$E$15*D322","v":1725.7608648921725},{"$f":"EXP(Computations!$F$16)*EXP(Computations!$E$16)^Computations!D322","v":1567.123391265867},{"$f":"Computations!$F$17+Computations!$E$17*LN(Computations!D322)","v":1970.4201823515241},{"$f":"Computations!$F$18+Computations!$E$18*Computations!D322+Computations!$D$18*Computations!D322^2","v":1839.037010834892},{"$f":"Computations!$F$19+Computations!$E$19*Computations!D322+Computations!$D$19*Computations!D322^2+Computations!$C$19*Computations!D322^3","v":1839.037010834892},{"$f":"Computations!$J$15+Computations!$I$15*D322","v":450000},{"$f":"EXP(Computations!$J$16)*EXP(Computations!$I$16)^Computations!D322","v":450000.00000000035},{"$f":"Computations!$J$17+Computations!$I$17*LN(Computations!D322)","v":450000},{"$f":"Computations!$J$18+Computations!$I$18*Computations!D322+Computations!$H$18*Computations!D322^2","v":450000},{"$f":"Computations!$J$19+Computations!$I$19*Computations!D322+Computations!$H$19*Computations!D322^2+Computations!$G$19*Computations!D322^3","v":450000}]
[269,8.9303749360273355E-2,8.9595596617209838E-2,8.9449672988741596E-2,0.44277216689939997,3.0269571800130013E-3,1729.600960378179,450000,{"$f":"G323-H323/User_entry!$E$18","v":229.60096037817902},229.60096037817902,null,{"$f":"HLOOKUP(User_entry!$B$56,Computations!$N$54:$R$1054,Computations!A323+1,FALSE)","v":1729.600960378179},{"$f":"HLOOKUP(User_entry!$E$56,Computations!$S$54:$W$1054,Computations!A323+1,FALSE)","v":450000},{"$f":"Computations!$F$15+Computations!$E$15*D323","v":1729.600960378179},{"$f":"EXP(Computations!$F$16)*EXP(Computations!$E$16)^Computations!D323","v":1570.374722646975},{"$f":"Computations!$F$17+Computations!$E$17*LN(Computations!D323)","v":1974.5720233411166},{"$f":"Computations!$F$18+Computations!$E$18*Computations!D323+Computations!$D$18*Computations!D323^2","v":1843.4838172431384},{"$f":"Computations!$F$19+Computations!$E$19*Computations!D323+Computations!$D$19*Computations!D323^2+Computations!$C$19*Computations!D323^3","v":1843.4838172431384},{"$f":"Computations!$J$15+Computations!$I$15*D323","v":450000},{"$f":"EXP(Computations!$J$16)*EXP(Computations!$I$16)^Computations!D323","v":450000.00000000035},{"$f":"Computations!$J$17+Computations!$I$17*LN(Computations!D323)","v":450000},{"$f":"Computations!$J$18+Computations!$I$18*Computations!D323+Computations!$H$18*Computations!D323^2","v":450000},{"$f":"Computations!$J$19+Computations!$I$19*Computations!D323+Computations!$H$19*Computations!D323^2+Computations!$G$19*Computations!D323^3","v":450000}]
[270,8.9595596617209838E-2,8.9887443874146322E-2,8.974152024567808E-2,0.44579646145826168,3.0242945588617176E-3,1733.4410558641853,450000,{"$f":"G324-H324/User_entry!$E$18","v":233.44105586418527},233.44105586418527,null,{"$f":"HLOOKUP(User_entry!$B$56,Computations!$N$54:$R$1054,Computations!A324+1,FALSE)","v":1733.4410558641853},{"$f":"HLOOKUP(User_entry!$E$56,Computations!$S$54:$W$1054,Computations!A324+1,FALSE)","v":450000},{"$f":"Computations!$F$15+Computations!$E$15*D324","v":1733.4410558641853},{"$f":"EXP(Computations!$F$16)*EXP(Computations!$E$16)^Computations!D324","v":1573.6327996077925},{"$f":"Computations!$F$17+Computations!$E$17*LN(Computations!D324)","v":1978.71034016662},{"$f":"Computations!$F$18+Computations!$E$18*Computations!D324+Computations!$D$18*Computations!D324^2","v":1847.9243144053562},{"$f":"Computations!$F$19+Computations!$E$19*Computations!D324+Computations!$D$19*Computations!D324^2+Computations!$C$19*Computations!D324^3","v":1847.9243144053562},{"$f":"Computations!$J$15+Computations!$I$15*D324","v":450000},{"$f":"EXP(Computations!$J$16)*EXP(Computations!$I$16)^Computations!D324","v":450000.00000000035},{"$f":"Computations!$J$17+Computations!$I$17*LN(Computations!D324)","v":450000},{"$f":"Computations!$J$18+Computations!$I$18*Computations!D324+Computations!$H$18*Computations!D324^2","v":450000},{"$f":"Computations!$J$19+Computations!$I$19*Computations!D324+Computations!$H$19*Computations!D324^2+Computations!$G$19*Computations!D324^3","v":450000}]
[271,8.9887443874146322E-2,9.0179291131082806E-2,9.0033367502614564E-2,0.44881793600153985,3.0214745432781687E-3,1737.2811513501917,450000,{"$f":"G325-H325/User_entry!$E$18","v":237.28115135019175},237.28115135019175,null,{"$f":"HLOOKUP(User_entry!$B$56,Computations!$N$54:$R$1054,Computations!A325+1,FALSE)","v":1737.2811513501917},{"$f":"HLOOKUP(User_entry!$E$56,Computations!$S$54:$W$1054,Computations!A325+1,FALSE)","v":450000},{"$f":"Computations!$F$15+Computations!$E$15*D325","v":1737.2811513501917},{"$f":"EXP(Computations!$F$16)*EXP(Computations!$E$16)^Computations!D325","v":1576.8976361434611},{"$f":"Computations!$F$17+Computations!$E$17*LN(Computations!D325)","v":1982.8352206489894},{"$f":"Computations!$F$18+Computations!$E$18*Computations!D325+Computations!$D$18*Computations!D325^2","v":1852.3585023215455},{"$f":"Computations!$F$19+Computations!$E$19*Computations!D325+Computations!$D$19*Computations!D325^2+Computations!$C$19*Computations!D325^3","v":1852.3585023215455},{"$f":"Computations!$J$15+Computations!$I$15*D325","v":450000},{"$f":"EXP(Computations!$J$16)*EXP(Computations!$I$16)^Computations!D325","v":450000.00000000035},{"$f":"Computations!$J$17+Computations!$I$17*LN(Computations!D325)","v":450000},{"$f":"Computations!$J$18+Computations!$I$18*Computations!D325+Computations!$H$18*Computations!D325^2","v":450000},{"$f":"Computations!$J$19+Computations!$I$19*Computations!D325+Computations!$H$19*Computations!D325^2+Computations!$G$19*Computations!D325^3","v":450000}]
[272,9.0179291131082806E-2,9.047113838801929E-2,9.0325214759551048E-2,0.45183643450488487,3.0184985033450129E-3,1741.121246836198,450000,{"$f":"G326-H326/User_entry!$E$18","v":241.121246836198},241.121246836198,null,{"$f":"HLOOKUP(User_entry!$B$56,Computations!$N$54:$R$1054,Computations!A326+1,FALSE)","v":1741.121246836198},{"$f":"HLOOKUP(User_entry!$E$56,Computations!$S$54:$W$1054,Computations!A326+1,FALSE)","v":450000},{"$f":"Computations!$F$15+Computations!$E$15*D326","v":1741.121246836198},{"$f":"EXP(Computations!$F$16)*EXP(Computations!$E$16)^Computations!D326","v":1580.1692462781596},{"$f":"Computations!$F$17+Computations!$E$17*LN(Computations!D326)","v":1986.9467517565331},{"$f":"Computations!$F$18+Computations!$E$18*Computations!D326+Computations!$D$18*Computations!D326^2","v":1856.7863809917073},{"$f":"Computations!$F$19+Computations!$E$19*Computations!D326+Computations!$D$19*Computations!D326^2+Computations!$C$19*Computations!D326^3","v":1856.7863809917073},{"$f":"Computations!$J$15+Computations!$I$15*D326","v":450000},{"$f":"EXP(Computations!$J$16)*EXP(Computations!$I$16)^Computations!D326","v":450000.00000000035},{"$f":"Computations!$J$17+Computations!$I$17*LN(Computations!D326)","v":450000},{"$f":"Computations!$J$18+Computations!$I$18*Computations!D326+Computations!$H$18*Computations!D326^2","v":450000},{"$f":"Computations!$J$19+Computations!$I$19*Computations!D326+Computations!$H$19*Computations!D326^2+Computations!$G$19*Computations!D326^3","v":450000}]
[273,9.047113838801929E-2,9.0762985644955774E-2,9.0617062016487532E-2,0.4548518023255958,3.0153678207109347E-3,1744.9613423222045,450000,{"$f":"G327-H327/User_entry!$E$18","v":244.96134232220447},244.96134232220447,null,{"$f":"HLOOKUP(User_entry!$B$56,Computations!$N$54:$R$1054,Computations!A327+1,FALSE)","v":1744.9613423222045},{"$f":"HLOOKUP(User_entry!$E$56,Computations!$S$54:$W$1054,Computations!A327+1,FALSE)","v":450000},{"$f":"Computations!$F$15+Computations!$E$15*D327","v":1744.9613423222045},{"$f":"EXP(Computations!$F$16)*EXP(Computations!$E$16)^Computations!D327","v":1583.4476440651626},{"$f":"Computations!$F$17+Computations!$E$17*LN(Computations!D327)","v":1991.0450196159136},{"$f":"Computations!$F$18+Computations!$E$18*Computations!D327+Computations!$D$18*Computations!D327^2","v":1861.2079504158403},{"$f":"Computations!$F$19+Computations!$E$19*Computations!D327+Computations!$D$19*Computations!D327^2+Computations!$C$19*Computations!D327^3","v":1861.2079504158403},{"$f":"Computations!$J$15+Computations!$I$15*D327","v":450000},{"$f":"EXP(Computations!$J$16)*EXP(Computations!$I$16)^Computations!D327","v":450000.00000000035},{"$f":"Computations!$J$17+Computations!$I$17*LN(Computations!D327)","v":450000},{"$f":"Computations!$J$18+Computations!$I$18*Computations!D327+Computations!$H$18*Computations!D327^2","v":450000},{"$f":"Computations!$J$19+Computations!$I$19*Computations!D327+Computations!$H$19*Computations!D327^2+Computations!$G$19*Computations!D327^3","v":450000}]
[274,9.0762985644955774E-2,9.1054832901892258E-2,9.0908909273424016E-2,0.45786388621375024,3.0120838881544376E-3,1748.8014378082107,450000,{"$f":"G328-H328/User_entry!$E$18","v":248.80143780821072},248.80143780821072,null,{"$f":"HLOOKUP(User_entry!$B$56,Computations!$N$54:$R$1054,Computations!A328+1,FALSE)","v":1748.8014378082107},{"$f":"HLOOKUP(User_entry!$E$56,Computations!$S$54:$W$1054,Computations!A328+1,FALSE)","v":450000},{"$f":"Computations!$F$15+Computations!$E$15*D328","v":1748.8014378082107},{"$f":"EXP(Computations!$F$16)*EXP(Computations!$E$16)^Computations!D328","v":1586.7328435869003},{"$f":"Computations!$F$17+Computations!$E$17*LN(Computations!D328)","v":1995.1301095229728},{"$f":"Computations!$F$18+Computations!$E$18*Computations!D328+Computations!$D$18*Computations!D328^2","v":1865.6232105939455},{"$f":"Computations!$F$19+Computations!$E$19*Computations!D328+Computations!$D$19*Computations!D328^2+Computations!$C$19*Computations!D328^3","v":1865.6232105939455},{"$f":"Computations!$J$15+Computations!$I$15*D328","v":450000},{"$f":"EXP(Computations!$J$16)*EXP(Computations!$I$16)^Computations!D328","v":450000.00000000035},{"$f":"Computations!$J$17+Computations!$I$17*LN(Computations!D328)","v":450000},{"$f":"Computations!$J$18+Computations!$I$18*Computations!D328+Computations!$H$18*Computations!D328^2","v":450000},{"$f":"Computations!$J$19+Computations!$I$19*Computations!D328+Computations!$H$19*Computations!D328^2+Computations!$G$19*Computations!D328^3","v":450000}]
[275,9.1054832901892258E-2,9.1346680158828741E-2,9.1200756530360499E-2,0.46087253432290948,3.0086481091592399E-3,1752.6415332942172,450000,{"$f":"G329-H329/User_entry!$E$18","v":252.6415332942172},252.6415332942172,null,{"$f":"HLOOKUP(User_entry!$B$56,Computations!$N$54:$R$1054,Computations!A329+1,FALSE)","v":1752.6415332942172},{"$f":"HLOOKUP(User_entry!$E$56,Computations!$S$54:$W$1054,Computations!A329+1,FALSE)","v":450000},{"$f":"Computations!$F$15+Computations!$E$15*D329","v":1752.6415332942172},{"$f":"EXP(Computations!$F$16)*EXP(Computations!$E$16)^Computations!D329","v":1590.0248589550213},{"$f":"Computations!$F$17+Computations!$E$17*LN(Computations!D329)","v":1999.2021059533836},{"$f":"Computations!$F$18+Computations!$E$18*Computations!D329+Computations!$D$18*Computations!D329^2","v":1870.032161526022},{"$f":"Computations!$F$19+Computations!$E$19*Computations!D329+Computations!$D$19*Computations!D329^2+Computations!$C$19*Computations!D329^3","v":1870.032161526022},{"$f":"Computations!$J$15+Computations!$I$15*D329","v":450000},{"$f":"EXP(Computations!$J$16)*EXP(Computations!$I$16)^Computations!D329","v":450000.00000000035},{"$f":"Computations!$J$17+Computations!$I$17*LN(Computations!D329)","v":450000},{"$f":"Computations!$J$18+Computations!$I$18*Computations!D329+Computations!$H$18*Computations!D329^2","v":450000},{"$f":"Computations!$J$19+Computations!$I$19*Computations!D329+Computations!$H$19*Computations!D329^2+Computations!$G$19*Computations!D329^3","v":450000}]
[276,9.1346680158828741E-2,9.1638527415765225E-2,9.1492603787296983E-2,0.46387759622039804,3.005061897488559E-3,1756.4816287802234,450000,{"$f":"G330-H330/User_entry!$E$18","v":256.48162878022345},256.48162878022345,null,{"$f":"HLOOKUP(User_entry!$B$56,Computations!$N$54:$R$1054,Computations!A330+1,FALSE)","v":1756.4816287802234},{"$f":"HLOOKUP(User_entry!$E$56,Computations!$S$54:$W$1054,Computations!A330+1,FALSE)","v":450000},{"$f":"Computations!$F$15+Computations!$E$15*D330","v":1756.4816287802234},{"$f":"EXP(Computations!$F$16)*EXP(Computations!$E$16)^Computations!D330","v":1593.3237043104509},{"$f":"Computations!$F$17+Computations!$E$17*LN(Computations!D330)","v":2003.2610925731319},{"$f":"Computations!$F$18+Computations!$E$18*Computations!D330+Computations!$D$18*Computations!D330^2","v":1874.4348032120706},{"$f":"Computations!$F$19+Computations!$E$19*Computations!D330+Computations!$D$19*Computations!D330^2+Computations!$C$19*Computations!D330^3","v":1874.4348032120706},{"$f":"Computations!$J$15+Computations!$I$15*D330","v":450000},{"$f":"EXP(Computations!$J$16)*EXP(Computations!$I$16)^Computations!D330","v":450000.00000000035},{"$f":"Computations!$J$17+Computations!$I$17*LN(Computations!D330)","v":450000},{"$f":"Computations!$J$18+Computations!$I$18*Computations!D330+Computations!$H$18*Computations!D330^2","v":450000},{"$f":"Computations!$J$19+Computations!$I$19*Computations!D330+Computations!$H$19*Computations!D330^2+Computations!$G$19*Computations!D330^3","v":450000}]
[277,9.1638527415765225E-2,9.1930374672701709E-2,9.1784451044233467E-2,0.46687892289716271,3.0013266767646707E-3,1760.3217242662299,450000,{"$f":"G331-H331/User_entry!$E$18","v":260.32172426622992},260.32172426622992,null,{"$f":"HLOOKUP(User_entry!$B$56,Computations!$N$54:$R$1054,Computations!A331+1,FALSE)","v":1760.3217242662299},{"$f":"HLOOKUP(User_entry!$E$56,Computations!$S$54:$W$1054,Computations!A331+1,FALSE)","v":450000},{"$f":"Computations!$F$15+Computations!$E$15*D331","v":1760.3217242662299},{"$f":"EXP(Computations!$F$16)*EXP(Computations!$E$16)^Computations!D331","v":1596.6293938234533},{"$f":"Computations!$F$17+Computations!$E$17*LN(Computations!D331)","v":2007.3071522488312},{"$f":"Computations!$F$18+Computations!$E$18*Computations!D331+Computations!$D$18*Computations!D331^2","v":1878.8311356520908},{"$f":"Computations!$F$19+Computations!$E$19*Computations!D331+Computations!$D$19*Computations!D331^2+Computations!$C$19*Computations!D331^3","v":1878.8311356520908},{"$f":"Computations!$J$15+Computations!$I$15*D331","v":450000},{"$f":"EXP(Computations!$J$16)*EXP(Computations!$I$16)^Computations!D331","v":450000.00000000035},{"$f":"Computations!$J$17+Computations!$I$17*LN(Computations!D331)","v":450000},{"$f":"Computations!$J$18+Computations!$I$18*Computations!D331+Computations!$H$18*Computations!D331^2","v":450000},{"$f":"Computations!$J$19+Computations!$I$19*Computations!D331+Computations!$H$19*Computations!D331^2+Computations!$G$19*Computations!D331^3","v":450000}]
[278,9.1930374672701709E-2,9.2222221929638193E-2,9.2076298301169951E-2,0.46987636677721673,2.9974438800540182E-3,1764.1618197522362,450000,{"$f":"G332-H332/User_entry!$E$18","v":264.16181975223617},264.16181975223617,null,{"$f":"HLOOKUP(User_entry!$B$56,Computations!$N$54:$R$1054,Computations!A332+1,FALSE)","v":1764.1618197522362},{"$f":"HLOOKUP(User_entry!$E$56,Computations!$S$54:$W$1054,Computations!A332+1,FALSE)","v":450000},{"$f":"Computations!$F$15+Computations!$E$15*D332","v":1764.1618197522362},{"$f":"EXP(Computations!$F$16)*EXP(Computations!$E$16)^Computations!D332","v":1599.941941693691},{"$f":"Computations!$F$17+Computations!$E$17*LN(Computations!D332)","v":2011.3403670578737},{"$f":"Computations!$F$18+Computations!$E$18*Computations!D332+Computations!$D$18*Computations!D332^2","v":1883.2211588460827},{"$f":"Computations!$F$19+Computations!$E$19*Computations!D332+Computations!$D$19*Computations!D332^2+Computations!$C$19*Computations!D332^3","v":1883.2211588460827},{"$f":"Computations!$J$15+Computations!$I$15*D332","v":450000},{"$f":"EXP(Computations!$J$16)*EXP(Computations!$I$16)^Computations!D332","v":450000.00000000035},{"$f":"Computations!$J$17+Computations!$I$17*LN(Computations!D332)","v":450000},{"$f":"Computations!$J$18+Computations!$I$18*Computations!D332+Computations!$H$18*Computations!D332^2","v":450000},{"$f":"Computations!$J$19+Computations!$I$19*Computations!D332+Computations!$H$19*Computations!D332^2+Computations!$G$19*Computations!D332^3","v":450000}]
[279,9.2222221929638193E-2,9.2514069186574677E-2,9.2368145558106435E-2,0.47286978172667249,2.9934149494557638E-3,1768.0019152382426,450000,{"$f":"G333-H333/User_entry!$E$18","v":268.00191523824265},268.00191523824265,null,{"$f":"HLOOKUP(User_entry!$B$56,Computations!$N$54:$R$1054,Computations!A333+1,FALSE)","v":1768.0019152382426},{"$f":"HLOOKUP(User_entry!$E$56,Computations!$S$54:$W$1054,Computations!A333+1,FALSE)","v":450000},{"$f":"Computations!$F$15+Computations!$E$15*D333","v":1768.0019152382426},{"$f":"EXP(Computations!$F$16)*EXP(Computations!$E$16)^Computations!D333","v":1603.2613621502885},{"$f":"Computations!$F$17+Computations!$E$17*LN(Computations!D333)","v":2015.3608182984194},{"$f":"Computations!$F$18+Computations!$E$18*Computations!D333+Computations!$D$18*Computations!D333^2","v":1887.6048727940463},{"$f":"Computations!$F$19+Computations!$E$19*Computations!D333+Computations!$D$19*Computations!D333^2+Computations!$C$19*Computations!D333^3","v":1887.6048727940463},{"$f":"Computations!$J$15+Computations!$I$15*D333","v":450000},{"$f":"EXP(Computations!$J$16)*EXP(Computations!$I$16)^Computations!D333","v":450000.00000000035},{"$f":"Computations!$J$17+Computations!$I$17*LN(Computations!D333)","v":450000},{"$f":"Computations!$J$18+Computations!$I$18*Computations!D333+Computations!$H$18*Computations!D333^2","v":450000},{"$f":"Computations!$J$19+Computations!$I$19*Computations!D333+Computations!$H$19*Computations!D333^2+Computations!$G$19*Computations!D333^3","v":450000}]
[280,9.2514069186574677E-2,9.2805916443511161E-2,9.2659992815042919E-2,0.47585902306236244,2.9892413356899517E-3,1771.8420107242489,450000,{"$f":"G334-H334/User_entry!$E$18","v":271.84201072424889},271.84201072424889,null,{"$f":"HLOOKUP(User_entry!$B$56,Computations!$N$54:$R$1054,Computations!A334+1,FALSE)","v":1771.8420107242489},{"$f":"HLOOKUP(User_entry!$E$56,Computations!$S$54:$W$1054,Computations!A334+1,FALSE)","v":450000},{"$f":"Computations!$F$15+Computations!$E$15*D334","v":1771.8420107242489},{"$f":"EXP(Computations!$F$16)*EXP(Computations!$E$16)^Computations!D334","v":1606.5876694518895},{"$f":"Computations!$F$17+Computations!$E$17*LN(Computations!D334)","v":2019.3685864992317},{"$f":"Computations!$F$18+Computations!$E$18*Computations!D334+Computations!$D$18*Computations!D334^2","v":1891.9822774959821},{"$f":"Computations!$F$19+Computations!$E$19*Computations!D334+Computations!$D$19*Computations!D334^2+Computations!$C$19*Computations!D334^3","v":1891.9822774959821},{"$f":"Computations!$J$15+Computations!$I$15*D334","v":450000},{"$f":"EXP(Computations!$J$16)*EXP(Computations!$I$16)^Computations!D334","v":450000.00000000035},{"$f":"Computations!$J$17+Computations!$I$17*LN(Computations!D334)","v":450000},{"$f":"Computations!$J$18+Computations!$I$18*Computations!D334+Computations!$H$18*Computations!D334^2","v":450000},{"$f":"Computations!$J$19+Computations!$I$19*Computations!D334+Computations!$H$19*Computations!D334^2+Computations!$G$19*Computations!D334^3","v":450000}]
[281,9.2805916443511161E-2,9.3097763700447644E-2,9.2951840071979402E-2,0.47884394756006238,2.9849244976999367E-3,1775.6821062102554,450000,{"$f":"G335-H335/User_entry!$E$18","v":275.68210621025537},275.68210621025537,null,{"$f":"HLOOKUP(User_entry!$B$56,Computations!$N$54:$R$1054,Computations!A335+1,FALSE)","v":1775.6821062102554},{"$f":"HLOOKUP(User_entry!$E$56,Computations!$S$54:$W$1054,Computations!A335+1,FALSE)","v":450000},{"$f":"Computations!$F$15+Computations!$E$15*D335","v":1775.6821062102554},{"$f":"EXP(Computations!$F$16)*EXP(Computations!$E$16)^Computations!D335","v":1609.9208778867217},{"$f":"Computations!$F$17+Computations!$E$17*LN(Computations!D335)","v":2023.3637514293528},{"$f":"Computations!$F$18+Computations!$E$18*Computations!D335+Computations!$D$18*Computations!D335^2","v":1896.353372951889},{"$f":"Computations!$F$19+Computations!$E$19*Computations!D335+Computations!$D$19*Computations!D335^2+Computations!$C$19*Computations!D335^3","v":1896.353372951889},{"$f":"Computations!$J$15+Computations!$I$15*D335","v":450000},{"$f":"EXP(Computations!$J$16)*EXP(Computations!$I$16)^Computations!D335","v":450000.00000000035},{"$f":"Computations!$J$17+Computations!$I$17*LN(Computations!D335)","v":450000},{"$f":"Computations!$J$18+Computations!$I$18*Computations!D335+Computations!$H$18*Computations!D335^2","v":450000},{"$f":"Computations!$J$19+Computations!$I$19*Computations!D335+Computations!$H$19*Computations!D335^2+Computations!$G$19*Computations!D335^3","v":450000}]
[282,9.3097763700447644E-2,9.3389610957384128E-2,9.3243687328915886E-2,0.48182441346230936,2.980465902246987E-3,1779.5222016962616,450000,{"$f":"G336-H336/User_entry!$E$18","v":279.52220169626162},279.52220169626162,null,{"$f":"HLOOKUP(User_entry!$B$56,Computations!$N$54:$R$1054,Computations!A336+1,FALSE)","v":1779.5222016962616},{"$f":"HLOOKUP(User_entry!$E$56,Computations!$S$54:$W$1054,Computations!A336+1,FALSE)","v":450000},{"$f":"Computations!$F$15+Computations!$E$15*D336","v":1779.5222016962616},{"$f":"EXP(Computations!$F$16)*EXP(Computations!$E$16)^Computations!D336","v":1613.2610017726568},{"$f":"Computations!$F$17+Computations!$E$17*LN(Computations!D336)","v":2027.3463921076309},{"$f":"Computations!$F$18+Computations!$E$18*Computations!D336+Computations!$D$18*Computations!D336^2","v":1900.7181591617682},{"$f":"Computations!$F$19+Computations!$E$19*Computations!D336+Computations!$D$19*Computations!D336^2+Computations!$C$19*Computations!D336^3","v":1900.7181591617682},{"$f":"Computations!$J$15+Computations!$I$15*D336","v":450000},{"$f":"EXP(Computations!$J$16)*EXP(Computations!$I$16)^Computations!D336","v":450000.00000000035},{"$f":"Computations!$J$17+Computations!$I$17*LN(Computations!D336)","v":450000},{"$f":"Computations!$J$18+Computations!$I$18*Computations!D336+Computations!$H$18*Computations!D336^2","v":450000},{"$f":"Computations!$J$19+Computations!$I$19*Computations!D336+Computations!$H$19*Computations!D336^2+Computations!$G$19*Computations!D336^3","v":450000}]
[283,9.3389610957384128E-2,9.3681458214320612E-2,9.353553458585237E-2,0.48480028048582963,2.9758670235202622E-3,1783.3622971822681,450000,{"$f":"G337-H337/User_entry!$E$18","v":283.36229718226809},283.36229718226809,null,{"$f":"HLOOKUP(User_entry!$B$56,Computations!$N$54:$R$1054,Computations!A337+1,FALSE)","v":1783.3622971822681},{"$f":"HLOOKUP(User_entry!$E$56,Computations!$S$54:$W$1054,Computations!A337+1,FALSE)","v":450000},{"$f":"Computations!$F$15+Computations!$E$15*D337","v":1783.3622971822681},{"$f":"EXP(Computations!$F$16)*EXP(Computations!$E$16)^Computations!D337","v":1616.6080554572707},{"$f":"Computations!$F$17+Computations!$E$17*LN(Computations!D337)","v":2031.3165868120977},{"$f":"Computations!$F$18+Computations!$E$18*Computations!D337+Computations!$D$18*Computations!D337^2","v":1905.0766361256187},{"$f":"Computations!$F$19+Computations!$E$19*Computations!D337+Computations!$D$19*Computations!D337^2+Computations!$C$19*Computations!D337^3","v":1905.0766361256187},{"$f":"Computations!$J$15+Computations!$I$15*D337","v":450000},{"$f":"EXP(Computations!$J$16)*EXP(Computations!$I$16)^Computations!D337","v":450000.00000000035},{"$f":"Computations!$J$17+Computations!$I$17*LN(Computations!D337)","v":450000},{"$f":"Computations!$J$18+Computations!$I$18*Computations!D337+Computations!$H$18*Computations!D337^2","v":450000},{"$f":"Computations!$J$19+Computations!$I$19*Computations!D337+Computations!$H$19*Computations!D337^2+Computations!$G$19*Computations!D337^3","v":450000}]
[284,9.3681458214320612E-2,9.3973305471257096E-2,9.3827381842788854E-2,0.48777140982856804,2.97112934273841E-3,1787.2023926682743,450000,{"$f":"G338-H338/User_entry!$E$18","v":287.20239266827434},287.20239266827434,null,{"$f":"HLOOKUP(User_entry!$B$56,Computations!$N$54:$R$1054,Computations!A338+1,FALSE)","v":1787.2023926682743},{"$f":"HLOOKUP(User_entry!$E$56,Computations!$S$54:$W$1054,Computations!A338+1,FALSE)","v":450000},{"$f":"Computations!$F$15+Computations!$E$15*D338","v":1787.2023926682743},{"$f":"EXP(Computations!$F$16)*EXP(Computations!$E$16)^Computations!D338","v":1619.9620533179079},{"$f":"Computations!$F$17+Computations!$E$17*LN(Computations!D338)","v":2035.2744130892024},{"$f":"Computations!$F$18+Computations!$E$18*Computations!D338+Computations!$D$18*Computations!D338^2","v":1909.4288038434415},{"$f":"Computations!$F$19+Computations!$E$19*Computations!D338+Computations!$D$19*Computations!D338^2+Computations!$C$19*Computations!D338^3","v":1909.4288038434415},{"$f":"Computations!$J$15+Computations!$I$15*D338","v":450000},{"$f":"EXP(Computations!$J$16)*EXP(Computations!$I$16)^Computations!D338","v":450000.00000000035},{"$f":"Computations!$J$17+Computations!$I$17*LN(Computations!D338)","v":450000},{"$f":"Computations!$J$18+Computations!$I$18*Computations!D338+Computations!$H$18*Computations!D338^2","v":450000},{"$f":"Computations!$J$19+Computations!$I$19*Computations!D338+Computations!$H$19*Computations!D338^2+Computations!$G$19*Computations!D338^3","v":450000}]
[285,9.3973305471257096E-2,9.426515272819358E-2,9.4119229099725338E-2,0.49073766417633968,2.9662543477716463E-3,1791.0424881542808,450000,{"$f":"G339-H339/User_entry!$E$18","v":291.04248815428082},291.04248815428082,null,{"$f":"HLOOKUP(User_entry!$B$56,Computations!$N$54:$R$1054,Computations!A339+1,FALSE)","v":1791.0424881542808},{"$f":"HLOOKUP(User_entry!$E$56,Computations!$S$54:$W$1054,Computations!A339+1,FALSE)","v":450000},{"$f":"Computations!$F$15+Computations!$E$15*D339","v":1791.0424881542808},{"$f":"EXP(Computations!$F$16)*EXP(Computations!$E$16)^Computations!D339","v":1623.3230097617416},{"$f":"Computations!$F$17+Computations!$E$17*LN(Computations!D339)","v":2039.2199477628956},{"$f":"Computations!$F$18+Computations!$E$18*Computations!D339+Computations!$D$18*Computations!D339^2","v":1913.7746623152359},{"$f":"Computations!$F$19+Computations!$E$19*Computations!D339+Computations!$D$19*Computations!D339^2+Computations!$C$19*Computations!D339^3","v":1913.7746623152359},{"$f":"Computations!$J$15+Computations!$I$15*D339","v":450000},{"$f":"EXP(Computations!$J$16)*EXP(Computations!$I$16)^Computations!D339","v":450000.00000000035},{"$f":"Computations!$J$17+Computations!$I$17*LN(Computations!D339)","v":450000},{"$f":"Computations!$J$18+Computations!$I$18*Computations!D339+Computations!$H$18*Computations!D339^2","v":450000},{"$f":"Computations!$J$19+Computations!$I$19*Computations!D339+Computations!$H$19*Computations!D339^2+Computations!$G$19*Computations!D339^3","v":450000}]
[286,9.426515272819358E-2,9.4556999985130064E-2,9.4411076356661822E-2,0.49369890770909203,2.9612435327523445E-3,1794.8825836402871,450000,{"$f":"G340-H340/User_entry!$E$18","v":294.88258364028707},294.88258364028707,null,{"$f":"HLOOKUP(User_entry!$B$56,Computations!$N$54:$R$1054,Computations!A340+1,FALSE)","v":1794.8825836402871},{"$f":"HLOOKUP(User_entry!$E$56,Computations!$S$54:$W$1054,Computations!A340+1,FALSE)","v":450000},{"$f":"Computations!$F$15+Computations!$E$15*D340","v":1794.8825836402871},{"$f":"EXP(Computations!$F$16)*EXP(Computations!$E$16)^Computations!D340","v":1626.6909392258342},{"$f":"Computations!$F$17+Computations!$E$17*LN(Computations!D340)","v":2043.153266943581},{"$f":"Computations!$F$18+Computations!$E$18*Computations!D340+Computations!$D$18*Computations!D340^2","v":1918.1142115410016},{"$f":"Computations!$F$19+Computations!$E$19*Computations!D340+Computations!$D$19*Computations!D340^2+Computations!$C$19*Computations!D340^3","v":1918.1142115410016},{"$f":"Computations!$J$15+Computations!$I$15*D340","v":450000},{"$f":"EXP(Computations!$J$16)*EXP(Computations!$I$16)^Computations!D340","v":450000.00000000035},{"$f":"Computations!$J$17+Computations!$I$17*LN(Computations!D340)","v":450000},{"$f":"Computations!$J$18+Computations!$I$18*Computations!D340+Computations!$H$18*Computations!D340^2","v":450000},{"$f":"Computations!$J$19+Computations!$I$19*Computations!D340+Computations!$H$19*Computations!D340^2+Computations!$G$19*Computations!D340^3","v":450000}]
[287,9.4556999985130064E-2,9.4848847242066547E-2,9.4702923613598305E-2,0.49665500610679381,2.9560983977017785E-3,1798.7226791262935,450000,{"$f":"G341-H341/User_entry!$E$18","v":298.72267912629354},298.72267912629354,null,{"$f":"HLOOKUP(User_entry!$B$56,Computations!$N$54:$R$1054,Computations!A341+1,FALSE)","v":1798.7226791262935},{"$f":"HLOOKUP(User_entry!$E$56,Computations!$S$54:$W$1054,Computations!A341+1,FALSE)","v":450000},{"$f":"Computations!$F$15+Computations!$E$15*D341","v":1798.7226791262935},{"$f":"EXP(Computations!$F$16)*EXP(Computations!$E$16)^Computations!D341","v":1630.0658561772027},{"$f":"Computations!$F$17+Computations!$E$17*LN(Computations!D341)","v":2047.0744460369197},{"$f":"Computations!$F$18+Computations!$E$18*Computations!D341+Computations!$D$18*Computations!D341^2","v":1922.4474515207392},{"$f":"Computations!$F$19+Computations!$E$19*Computations!D341+Computations!$D$19*Computations!D341^2+Computations!$C$19*Computations!D341^3","v":1922.4474515207392},{"$f":"Computations!$J$15+Computations!$I$15*D341","v":450000},{"$f":"EXP(Computations!$J$16)*EXP(Computations!$I$16)^Computations!D341","v":450000.00000000035},{"$f":"Computations!$J$17+Computations!$I$17*LN(Computations!D341)","v":450000},{"$f":"Computations!$J$18+Computations!$I$18*Computations!D341+Computations!$H$18*Computations!D341^2","v":450000},{"$f":"Computations!$J$19+Computations!$I$19*Computations!D341+Computations!$H$19*Computations!D341^2+Computations!$G$19*Computations!D341^3","v":450000}]
[288,9.4848847242066547E-2,9.5140694499003031E-2,9.4994770870534789E-2,0.49960582655494706,2.9508204481532574E-3,1802.5627746122998,450000,{"$f":"G342-H342/User_entry!$E$18","v":302.56277461229979},302.56277461229979,null,{"$f":"HLOOKUP(User_entry!$B$56,Computations!$N$54:$R$1054,Computations!A342+1,FALSE)","v":1802.5627746122998},{"$f":"HLOOKUP(User_entry!$E$56,Computations!$S$54:$W$1054,Computations!A342+1,FALSE)","v":450000},{"$f":"Computations!$F$15+Computations!$E$15*D342","v":1802.5627746122998},{"$f":"EXP(Computations!$F$16)*EXP(Computations!$E$16)^Computations!D342","v":1633.4477751128782},{"$f":"Computations!$F$17+Computations!$E$17*LN(Computations!D342)","v":2050.9835597525112},{"$f":"Computations!$F$18+Computations!$E$18*Computations!D342+Computations!$D$18*Computations!D342^2","v":1926.7743822544489},{"$f":"Computations!$F$19+Computations!$E$19*Computations!D342+Computations!$D$19*Computations!D342^2+Computations!$C$19*Computations!D342^3","v":1926.7743822544489},{"$f":"Computations!$J$15+Computations!$I$15*D342","v":450000},{"$f":"EXP(Computations!$J$16)*EXP(Computations!$I$16)^Computations!D342","v":450000.00000000035},{"$f":"Computations!$J$17+Computations!$I$17*LN(Computations!D342)","v":450000},{"$f":"Computations!$J$18+Computations!$I$18*Computations!D342+Computations!$H$18*Computations!D342^2","v":450000},{"$f":"Computations!$J$19+Computations!$I$19*Computations!D342+Computations!$H$19*Computations!D342^2+Computations!$G$19*Computations!D342^3","v":450000}]
[289,9.5140694499003031E-2,9.5432541755939515E-2,9.5286618127471273E-2,0.50255123774972887,2.9454111947818107E-3,1806.4028700983063,450000,{"$f":"G343-H343/User_entry!$E$18","v":306.40287009830627},306.40287009830627,null,{"$f":"HLOOKUP(User_entry!$B$56,Computations!$N$54:$R$1054,Computations!A343+1,FALSE)","v":1806.4028700983063},{"$f":"HLOOKUP(User_entry!$E$56,Computations!$S$54:$W$1054,Computations!A343+1,FALSE)","v":450000},{"$f":"Computations!$F$15+Computations!$E$15*D343","v":1806.4028700983063},{"$f":"EXP(Computations!$F$16)*EXP(Computations!$E$16)^Computations!D343","v":1636.8367105599689},{"$f":"Computations!$F$17+Computations!$E$17*LN(Computations!D343)","v":2054.8806821124272},{"$f":"Computations!$F$18+Computations!$E$18*Computations!D343+Computations!$D$18*Computations!D343^2","v":1931.0950037421298},{"$f":"Computations!$F$19+Computations!$E$19*Computations!D343+Computations!$D$19*Computations!D343^2+Computations!$C$19*Computations!D343^3","v":1931.0950037421298},{"$f":"Computations!$J$15+Computations!$I$15*D343","v":450000},{"$f":"EXP(Computations!$J$16)*EXP(Computations!$I$16)^Computations!D343","v":450000.00000000035},{"$f":"Computations!$J$17+Computations!$I$17*LN(Computations!D343)","v":450000},{"$f":"Computations!$J$18+Computations!$I$18*Computations!D343+Computations!$H$18*Computations!D343^2","v":450000},{"$f":"Computations!$J$19+Computations!$I$19*Computations!D343+Computations!$H$19*Computations!D343^2+Computations!$G$19*Computations!D343^3","v":450000}]
[290,9.5432541755939515E-2,9.5724389012875999E-2,9.5578465384407757E-2,0.5054911099027759,2.9398721530470295E-3,1810.2429655843127,450000,{"$f":"G344-H344/User_entry!$E$18","v":310.24296558431274},310.24296558431274,null,{"$f":"HLOOKUP(User_entry!$B$56,Computations!$N$54:$R$1054,Computations!A344+1,FALSE)","v":1810.2429655843127},{"$f":"HLOOKUP(User_entry!$E$56,Computations!$S$54:$W$1054,Computations!A344+1,FALSE)","v":450000},{"$f":"Computations!$F$15+Computations!$E$15*D344","v":1810.2429655843127},{"$f":"EXP(Computations!$F$16)*EXP(Computations!$E$16)^Computations!D344","v":1640.2326770757224},{"$f":"Computations!$F$17+Computations!$E$17*LN(Computations!D344)","v":2058.7658864596269},{"$f":"Computations!$F$18+Computations!$E$18*Computations!D344+Computations!$D$18*Computations!D344^2","v":1935.409315983783},{"$f":"Computations!$F$19+Computations!$E$19*Computations!D344+Computations!$D$19*Computations!D344^2+Computations!$C$19*Computations!D344^3","v":1935.409315983783},{"$f":"Computations!$J$15+Computations!$I$15*D344","v":450000},{"$f":"EXP(Computations!$J$16)*EXP(Computations!$I$16)^Computations!D344","v":450000.00000000035},{"$f":"Computations!$J$17+Computations!$I$17*LN(Computations!D344)","v":450000},{"$f":"Computations!$J$18+Computations!$I$18*Computations!D344+Computations!$H$18*Computations!D344^2","v":450000},{"$f":"Computations!$J$19+Computations!$I$19*Computations!D344+Computations!$H$19*Computations!D344^2+Computations!$G$19*Computations!D344^3","v":450000}]
[291,9.5724389012875999E-2,9.6016236269812483E-2,9.5870312641344241E-2,0.50842531474559716,2.934204842821253E-3,1814.083061070319,450000,{"$f":"G345-H345/User_entry!$E$18","v":314.08306107031899},314.08306107031899,null,{"$f":"HLOOKUP(User_entry!$B$56,Computations!$N$54:$R$1054,Computations!A345+1,FALSE)","v":1814.083061070319},{"$f":"HLOOKUP(User_entry!$E$56,Computations!$S$54:$W$1054,Computations!A345+1,FALSE)","v":450000},{"$f":"Computations!$F$15+Computations!$E$15*D345","v":1814.083061070319},{"$f":"EXP(Computations!$F$16)*EXP(Computations!$E$16)^Computations!D345","v":1643.6356892475899},{"$f":"Computations!$F$17+Computations!$E$17*LN(Computations!D345)","v":2062.6392454662355},{"$f":"Computations!$F$18+Computations!$E$18*Computations!D345+Computations!$D$18*Computations!D345^2","v":1939.7173189794075},{"$f":"Computations!$F$19+Computations!$E$19*Computations!D345+Computations!$D$19*Computations!D345^2+Computations!$C$19*Computations!D345^3","v":1939.7173189794075},{"$f":"Computations!$J$15+Computations!$I$15*D345","v":450000},{"$f":"EXP(Computations!$J$16)*EXP(Computations!$I$16)^Computations!D345","v":450000.00000000035},{"$f":"Computations!$J$17+Computations!$I$17*LN(Computations!D345)","v":450000},{"$f":"Computations!$J$18+Computations!$I$18*Computations!D345+Computations!$H$18*Computations!D345^2","v":450000},{"$f":"Computations!$J$19+Computations!$I$19*Computations!D345+Computations!$H$19*Computations!D345^2+Computations!$G$19*Computations!D345^3","v":450000}]
[292,9.6016236269812483E-2,9.6308083526748967E-2,9.6162159898280725E-2,0.51135372553364145,2.9284107880442889E-3,1817.9231565563255,450000,{"$f":"G346-H346/User_entry!$E$18","v":317.92315655632547},317.92315655632547,null,{"$f":"HLOOKUP(User_entry!$B$56,Computations!$N$54:$R$1054,Computations!A346+1,FALSE)","v":1817.9231565563255},{"$f":"HLOOKUP(User_entry!$E$56,Computations!$S$54:$W$1054,Computations!A346+1,FALSE)","v":450000},{"$f":"Computations!$F$15+Computations!$E$15*D346","v":1817.9231565563255},{"$f":"EXP(Computations!$F$16)*EXP(Computations!$E$16)^Computations!D346","v":1647.0457616932849},{"$f":"Computations!$F$17+Computations!$E$17*LN(Computations!D346)","v":2066.5008311417032},{"$f":"Computations!$F$18+Computations!$E$18*Computations!D346+Computations!$D$18*Computations!D346^2","v":1944.0190127290043},{"$f":"Computations!$F$19+Computations!$E$19*Computations!D346+Computations!$D$19*Computations!D346^2+Computations!$C$19*Computations!D346^3","v":1944.0190127290043},{"$f":"Computations!$J$15+Computations!$I$15*D346","v":450000},{"$f":"EXP(Computations!$J$16)*EXP(Computations!$I$16)^Computations!D346","v":450000.00000000035},{"$f":"Computations!$J$17+Computations!$I$17*LN(Computations!D346)","v":450000},{"$f":"Computations!$J$18+Computations!$I$18*Computations!D346+Computations!$H$18*Computations!D346^2","v":450000},{"$f":"Computations!$J$19+Computations!$I$19*Computations!D346+Computations!$H$19*Computations!D346^2+Computations!$G$19*Computations!D346^3","v":450000}]
[293,9.6308083526748967E-2,9.659993078368545E-2,9.6454007155217208E-2,0.5142762170500067,2.9224915163652554E-3,1821.7632520423317,450000,{"$f":"G347-H347/User_entry!$E$18","v":321.76325204233171},321.76325204233171,null,{"$f":"HLOOKUP(User_entry!$B$56,Computations!$N$54:$R$1054,Computations!A347+1,FALSE)","v":1821.7632520423317},{"$f":"HLOOKUP(User_entry!$E$56,Computations!$S$54:$W$1054,Computations!A347+1,FALSE)","v":450000},{"$f":"Computations!$F$15+Computations!$E$15*D347","v":1821.7632520423317},{"$f":"EXP(Computations!$F$16)*EXP(Computations!$E$16)^Computations!D347","v":1650.4629090608505},{"$f":"Computations!$F$17+Computations!$E$17*LN(Computations!D347)","v":2070.3507148408357},{"$f":"Computations!$F$18+Computations!$E$18*Computations!D347+Computations!$D$18*Computations!D347^2","v":1948.3143972325724},{"$f":"Computations!$F$19+Computations!$E$19*Computations!D347+Computations!$D$19*Computations!D347^2+Computations!$C$19*Computations!D347^3","v":1948.3143972325724},{"$f":"Computations!$J$15+Computations!$I$15*D347","v":450000},{"$f":"EXP(Computations!$J$16)*EXP(Computations!$I$16)^Computations!D347","v":450000.00000000035},{"$f":"Computations!$J$17+Computations!$I$17*LN(Computations!D347)","v":450000},{"$f":"Computations!$J$18+Computations!$I$18*Computations!D347+Computations!$H$18*Computations!D347^2","v":450000},{"$f":"Computations!$J$19+Computations!$I$19*Computations!D347+Computations!$H$19*Computations!D347^2+Computations!$G$19*Computations!D347^3","v":450000}]
[294,9.659993078368545E-2,9.6891778040621934E-2,9.6745854412153692E-2,0.51719266560880639,2.9164485587996891E-3,1825.6033475283382,450000,{"$f":"G348-H348/User_entry!$E$18","v":325.60334752833819},325.60334752833819,null,{"$f":"HLOOKUP(User_entry!$B$56,Computations!$N$54:$R$1054,Computations!A348+1,FALSE)","v":1825.6033475283382},{"$f":"HLOOKUP(User_entry!$E$56,Computations!$S$54:$W$1054,Computations!A348+1,FALSE)","v":450000},{"$f":"Computations!$F$15+Computations!$E$15*D348","v":1825.6033475283382},{"$f":"EXP(Computations!$F$16)*EXP(Computations!$E$16)^Computations!D348","v":1653.8871460287194},{"$f":"Computations!$F$17+Computations!$E$17*LN(Computations!D348)","v":2074.188967271707},{"$f":"Computations!$F$18+Computations!$E$18*Computations!D348+Computations!$D$18*Computations!D348^2","v":1952.6034724901126},{"$f":"Computations!$F$19+Computations!$E$19*Computations!D348+Computations!$D$19*Computations!D348^2+Computations!$C$19*Computations!D348^3","v":1952.6034724901126},{"$f":"Computations!$J$15+Computations!$I$15*D348","v":450000},{"$f":"EXP(Computations!$J$16)*EXP(Computations!$I$16)^Computations!D348","v":450000.00000000035},{"$f":"Computations!$J$17+Computations!$I$17*LN(Computations!D348)","v":450000},{"$f":"Computations!$J$18+Computations!$I$18*Computations!D348+Computations!$H$18*Computations!D348^2","v":450000},{"$f":"Computations!$J$19+Computations!$I$19*Computations!D348+Computations!$H$19*Computations!D348^2+Computations!$G$19*Computations!D348^3","v":450000}]
[295,9.6891778040621934E-2,9.7183625297558418E-2,9.7037701669090176E-2,0.52010294905819132,2.9102834493849317E-3,1829.4434430143444,450000,{"$f":"G349-H349/User_entry!$E$18","v":329.44344301434444},329.44344301434444,null,{"$f":"HLOOKUP(User_entry!$B$56,Computations!$N$54:$R$1054,Computations!A349+1,FALSE)","v":1829.4434430143444},{"$f":"HLOOKUP(User_entry!$E$56,Computations!$S$54:$W$1054,Computations!A349+1,FALSE)","v":450000},{"$f":"Computations!$F$15+Computations!$E$15*D349","v":1829.4434430143444},{"$f":"EXP(Computations!$F$16)*EXP(Computations!$E$16)^Computations!D349","v":1657.318487305778},{"$f":"Computations!$F$17+Computations!$E$17*LN(Computations!D349)","v":2078.0156585034501},{"$f":"Computations!$F$18+Computations!$E$18*Computations!D349+Computations!$D$18*Computations!D349^2","v":1956.8862385016241},{"$f":"Computations!$F$19+Computations!$E$19*Computations!D349+Computations!$D$19*Computations!D349^2+Computations!$C$19*Computations!D349^3","v":1956.8862385016241},{"$f":"Computations!$J$15+Computations!$I$15*D349","v":450000},{"$f":"EXP(Computations!$J$16)*EXP(Computations!$I$16)^Computations!D349","v":450000.00000000035},{"$f":"Computations!$J$17+Computations!$I$17*LN(Computations!D349)","v":450000},{"$f":"Computations!$J$18+Computations!$I$18*Computations!D349+Computations!$H$18*Computations!D349^2","v":450000},{"$f":"Computations!$J$19+Computations!$I$19*Computations!D349+Computations!$H$19*Computations!D349^2+Computations!$G$19*Computations!D349^3","v":450000}]
[296,9.7183625297558418E-2,9.7475472554494902E-2,9.732954892602666E-2,0.52300694678303539,2.9039977248440652E-3,1833.2835385003509,450000,{"$f":"G350-H350/User_entry!$E$18","v":333.28353850035091},333.28353850035091,null,{"$f":"HLOOKUP(User_entry!$B$56,Computations!$N$54:$R$1054,Computations!A350+1,FALSE)","v":1833.2835385003509},{"$f":"HLOOKUP(User_entry!$E$56,Computations!$S$54:$W$1054,Computations!A350+1,FALSE)","v":450000},{"$f":"Computations!$F$15+Computations!$E$15*D350","v":1833.2835385003509},{"$f":"EXP(Computations!$F$16)*EXP(Computations!$E$16)^Computations!D350","v":1660.7569476314295},{"$f":"Computations!$F$17+Computations!$E$17*LN(Computations!D350)","v":2081.8308579739332},{"$f":"Computations!$F$18+Computations!$E$18*Computations!D350+Computations!$D$18*Computations!D350^2","v":1961.1626952671079},{"$f":"Computations!$F$19+Computations!$E$19*Computations!D350+Computations!$D$19*Computations!D350^2+Computations!$C$19*Computations!D350^3","v":1961.1626952671079},{"$f":"Computations!$J$15+Computations!$I$15*D350","v":450000},{"$f":"EXP(Computations!$J$16)*EXP(Computations!$I$16)^Computations!D350","v":450000.00000000035},{"$f":"Computations!$J$17+Computations!$I$17*LN(Computations!D350)","v":450000},{"$f":"Computations!$J$18+Computations!$I$18*Computations!D350+Computations!$H$18*Computations!D350^2","v":450000},{"$f":"Computations!$J$19+Computations!$I$19*Computations!D350+Computations!$H$19*Computations!D350^2+Computations!$G$19*Computations!D350^3","v":450000}]
[297,9.7475472554494902E-2,9.7767319811431386E-2,9.7621396182963144E-2,0.52590453970728812,2.8975929242527343E-3,1837.1236339863572,450000,{"$f":"G351-H351/User_entry!$E$18","v":337.12363398635716},337.12363398635716,null,{"$f":"HLOOKUP(User_entry!$B$56,Computations!$N$54:$R$1054,Computations!A351+1,FALSE)","v":1837.1236339863572},{"$f":"HLOOKUP(User_entry!$E$56,Computations!$S$54:$W$1054,Computations!A351+1,FALSE)","v":450000},{"$f":"Computations!$F$15+Computations!$E$15*D351","v":1837.1236339863572},{"$f":"EXP(Computations!$F$16)*EXP(Computations!$E$16)^Computations!D351","v":1664.202541775657},{"$f":"Computations!$F$17+Computations!$E$17*LN(Computations!D351)","v":2085.6346344973203},{"$f":"Computations!$F$18+Computations!$E$18*Computations!D351+Computations!$D$18*Computations!D351^2","v":1965.4328427865628},{"$f":"Computations!$F$19+Computations!$E$19*Computations!D351+Computations!$D$19*Computations!D351^2+Computations!$C$19*Computations!D351^3","v":1965.4328427865628},{"$f":"Computations!$J$15+Computations!$I$15*D351","v":450000},{"$f":"EXP(Computations!$J$16)*EXP(Computations!$I$16)^Computations!D351","v":450000.00000000035},{"$f":"Computations!$J$17+Computations!$I$17*LN(Computations!D351)","v":450000},{"$f":"Computations!$J$18+Computations!$I$18*Computations!D351+Computations!$H$18*Computations!D351^2","v":450000},{"$f":"Computations!$J$19+Computations!$I$19*Computations!D351+Computations!$H$19*Computations!D351^2+Computations!$G$19*Computations!D351^3","v":450000}]
[298,9.7767319811431386E-2,9.805916706836787E-2,9.7913243439899628E-2,0.52879561029599587,2.8910705887077448E-3,1840.9637294723636,450000,{"$f":"G352-H352/User_entry!$E$18","v":340.96372947236364},340.96372947236364,null,{"$f":"HLOOKUP(User_entry!$B$56,Computations!$N$54:$R$1054,Computations!A352+1,FALSE)","v":1840.9637294723636},{"$f":"HLOOKUP(User_entry!$E$56,Computations!$S$54:$W$1054,Computations!A352+1,FALSE)","v":450000},{"$f":"Computations!$F$15+Computations!$E$15*D352","v":1840.9637294723636},{"$f":"EXP(Computations!$F$16)*EXP(Computations!$E$16)^Computations!D352","v":1667.6552845390868},{"$f":"Computations!$F$17+Computations!$E$17*LN(Computations!D352)","v":2089.427056271516},{"$f":"Computations!$F$18+Computations!$E$18*Computations!D352+Computations!$D$18*Computations!D352^2","v":1969.6966810599902},{"$f":"Computations!$F$19+Computations!$E$19*Computations!D352+Computations!$D$19*Computations!D352^2+Computations!$C$19*Computations!D352^3","v":1969.6966810599902},{"$f":"Computations!$J$15+Computations!$I$15*D352","v":450000},{"$f":"EXP(Computations!$J$16)*EXP(Computations!$I$16)^Computations!D352","v":450000.00000000035},{"$f":"Computations!$J$17+Computations!$I$17*LN(Computations!D352)","v":450000},{"$f":"Computations!$J$18+Computations!$I$18*Computations!D352+Computations!$H$18*Computations!D352^2","v":450000},{"$f":"Computations!$J$19+Computations!$I$19*Computations!D352+Computations!$H$19*Computations!D352^2+Computations!$G$19*Computations!D352^3","v":450000}]
[299,9.805916706836787E-2,9.8351014325304353E-2,9.8205090696836111E-2,0.53168004255700585,2.8844322610099837E-3,1844.8038249583699,450000,{"$f":"G353-H353/User_entry!$E$18","v":344.80382495836989},344.80382495836989,null,{"$f":"HLOOKUP(User_entry!$B$56,Computations!$N$54:$R$1054,Computations!A353+1,FALSE)","v":1844.8038249583699},{"$f":"HLOOKUP(User_entry!$E$56,Computations!$S$54:$W$1054,Computations!A353+1,FALSE)","v":450000},{"$f":"Computations!$F$15+Computations!$E$15*D353","v":1844.8038249583699},{"$f":"EXP(Computations!$F$16)*EXP(Computations!$E$16)^Computations!D353","v":1671.115190753053},{"$f":"Computations!$F$17+Computations!$E$17*LN(Computations!D353)","v":2093.2081908855057},{"$f":"Computations!$F$18+Computations!$E$18*Computations!D353+Computations!$D$18*Computations!D353^2","v":1973.9542100873887},{"$f":"Computations!$F$19+Computations!$E$19*Computations!D353+Computations!$D$19*Computations!D353^2+Computations!$C$19*Computations!D353^3","v":1973.9542100873887},{"$f":"Computations!$J$15+Computations!$I$15*D353","v":450000},{"$f":"EXP(Computations!$J$16)*EXP(Computations!$I$16)^Computations!D353","v":450000.00000000035},{"$f":"Computations!$J$17+Computations!$I$17*LN(Computations!D353)","v":450000},{"$f":"Computations!$J$18+Computations!$I$18*Computations!D353+Computations!$H$18*Computations!D353^2","v":450000},{"$f":"Computations!$J$19+Computations!$I$19*Computations!D353+Computations!$H$19*Computations!D353^2+Computations!$G$19*Computations!D353^3","v":450000}]
[300,9.8351014325304353E-2,9.8642861582240837E-2,9.8496937953772595E-2,0.53455772204234187,2.8776794853360155E-3,1848.6439204443764,450000,{"$f":"G354-H354/User_entry!$E$18","v":348.64392044437636},348.64392044437636,null,{"$f":"HLOOKUP(User_entry!$B$56,Computations!$N$54:$R$1054,Computations!A354+1,FALSE)","v":1848.6439204443764},{"$f":"HLOOKUP(User_entry!$E$56,Computations!$S$54:$W$1054,Computations!A354+1,FALSE)","v":450000},{"$f":"Computations!$F$15+Computations!$E$15*D354","v":1848.6439204443764},{"$f":"EXP(Computations!$F$16)*EXP(Computations!$E$16)^Computations!D354","v":1674.5822752796605},{"$f":"Computations!$F$17+Computations!$E$17*LN(Computations!D354)","v":2096.9781053265801},{"$f":"Computations!$F$18+Computations!$E$18*Computations!D354+Computations!$D$18*Computations!D354^2","v":1978.2054298687594},{"$f":"Computations!$F$19+Computations!$E$19*Computations!D354+Computations!$D$19*Computations!D354^2+Computations!$C$19*Computations!D354^3","v":1978.2054298687594},{"$f":"Computations!$J$15+Computations!$I$15*D354","v":450000},{"$f":"EXP(Computations!$J$16)*EXP(Computations!$I$16)^Computations!D354","v":450000.00000000035},{"$f":"Computations!$J$17+Computations!$I$17*LN(Computations!D354)","v":450000},{"$f":"Computations!$J$18+Computations!$I$18*Computations!D354+Computations!$H$18*Computations!D354^2","v":450000},{"$f":"Computations!$J$19+Computations!$I$19*Computations!D354+Computations!$H$19*Computations!D354^2+Computations!$G$19*Computations!D354^3","v":450000}]
[301,9.8642861582240837E-2,9.8934708839177321E-2,9.8788785210709079E-2,0.53742853584927364,2.8708138069317712E-3,1852.4840159303826,450000,{"$f":"G355-H355/User_entry!$E$18","v":352.48401593038261},352.48401593038261,null,{"$f":"HLOOKUP(User_entry!$B$56,Computations!$N$54:$R$1054,Computations!A355+1,FALSE)","v":1852.4840159303826},{"$f":"HLOOKUP(User_entry!$E$56,Computations!$S$54:$W$1054,Computations!A355+1,FALSE)","v":450000},{"$f":"Computations!$F$15+Computations!$E$15*D355","v":1852.4840159303826},{"$f":"EXP(Computations!$F$16)*EXP(Computations!$E$16)^Computations!D355","v":1678.0565530118474},{"$f":"Computations!$F$17+Computations!$E$17*LN(Computations!D355)","v":2100.7368659874578},{"$f":"Computations!$F$18+Computations!$E$18*Computations!D355+Computations!$D$18*Computations!D355^2","v":1982.4503404041016},{"$f":"Computations!$F$19+Computations!$E$19*Computations!D355+Computations!$D$19*Computations!D355^2+Computations!$C$19*Computations!D355^3","v":1982.4503404041016},{"$f":"Computations!$J$15+Computations!$I$15*D355","v":450000},{"$f":"EXP(Computations!$J$16)*EXP(Computations!$I$16)^Computations!D355","v":450000.00000000035},{"$f":"Computations!$J$17+Computations!$I$17*LN(Computations!D355)","v":450000},{"$f":"Computations!$J$18+Computations!$I$18*Computations!D355+Computations!$H$18*Computations!D355^2","v":450000},{"$f":"Computations!$J$19+Computations!$I$19*Computations!D355+Computations!$H$19*Computations!D355^2+Computations!$G$19*Computations!D355^3","v":450000}]
[302,9.8934708839177321E-2,9.9226556096113805E-2,9.9080632467645563E-2,0.54029237262106955,2.8638367717959134E-3,1856.3241114163891,450000,{"$f":"G356-H356/User_entry!$E$18","v":356.32411141638909},356.32411141638909,null,{"$f":"HLOOKUP(User_entry!$B$56,Computations!$N$54:$R$1054,Computations!A356+1,FALSE)","v":1856.3241114163891},{"$f":"HLOOKUP(User_entry!$E$56,Computations!$S$54:$W$1054,Computations!A356+1,FALSE)","v":450000},{"$f":"Computations!$F$15+Computations!$E$15*D356","v":1856.3241114163891},{"$f":"EXP(Computations!$F$16)*EXP(Computations!$E$16)^Computations!D356","v":1681.5380388734516},{"$f":"Computations!$F$17+Computations!$E$17*LN(Computations!D356)","v":2104.4845386733014},{"$f":"Computations!$F$18+Computations!$E$18*Computations!D356+Computations!$D$18*Computations!D356^2","v":1986.6889416934157},{"$f":"Computations!$F$19+Computations!$E$19*Computations!D356+Computations!$D$19*Computations!D356^2+Computations!$C$19*Computations!D356^3","v":1986.6889416934157},{"$f":"Computations!$J$15+Computations!$I$15*D356","v":450000},{"$f":"EXP(Computations!$J$16)*EXP(Computations!$I$16)^Computations!D356","v":450000.00000000035},{"$f":"Computations!$J$17+Computations!$I$17*LN(Computations!D356)","v":450000},{"$f":"Computations!$J$18+Computations!$I$18*Computations!D356+Computations!$H$18*Computations!D356^2","v":450000},{"$f":"Computations!$J$19+Computations!$I$19*Computations!D356+Computations!$H$19*Computations!D356^2+Computations!$G$19*Computations!D356^3","v":450000}]
[303,9.9226556096113805E-2,9.9518403353050289E-2,9.9372479724582047E-2,0.54314912254745029,2.8567499263807417E-3,1860.1642069023953,450000,{"$f":"G357-H357/User_entry!$E$18","v":360.16420690239534},360.16420690239534,null,{"$f":"HLOOKUP(User_entry!$B$56,Computations!$N$54:$R$1054,Computations!A357+1,FALSE)","v":1860.1642069023953},{"$f":"HLOOKUP(User_entry!$E$56,Computations!$S$54:$W$1054,Computations!A357+1,FALSE)","v":450000},{"$f":"Computations!$F$15+Computations!$E$15*D357","v":1860.1642069023953},{"$f":"EXP(Computations!$F$16)*EXP(Computations!$E$16)^Computations!D357","v":1685.0267478192739},{"$f":"Computations!$F$17+Computations!$E$17*LN(Computations!D357)","v":2108.221188608627},{"$f":"Computations!$F$18+Computations!$E$18*Computations!D357+Computations!$D$18*Computations!D357^2","v":1990.9212337367012},{"$f":"Computations!$F$19+Computations!$E$19*Computations!D357+Computations!$D$19*Computations!D357^2+Computations!$C$19*Computations!D357^3","v":1990.9212337367012},{"$f":"Computations!$J$15+Computations!$I$15*D357","v":450000},{"$f":"EXP(Computations!$J$16)*EXP(Computations!$I$16)^Computations!D357","v":450000.00000000035},{"$f":"Computations!$J$17+Computations!$I$17*LN(Computations!D357)","v":450000},{"$f":"Computations!$J$18+Computations!$I$18*Computations!D357+Computations!$H$18*Computations!D357^2","v":450000},{"$f":"Computations!$J$19+Computations!$I$19*Computations!D357+Computations!$H$19*Computations!D357^2+Computations!$G$19*Computations!D357^3","v":450000}]
[304,9.9518403353050289E-2,9.9810250609986773E-2,9.9664326981518531E-2,0.54599867736473462,2.8495548172843277E-3,1864.0043023884018,450000,{"$f":"G358-H358/User_entry!$E$18","v":364.00430238840181},364.00430238840181,null,{"$f":"HLOOKUP(User_entry!$B$56,Computations!$N$54:$R$1054,Computations!A358+1,FALSE)","v":1864.0043023884018},{"$f":"HLOOKUP(User_entry!$E$56,Computations!$S$54:$W$1054,Computations!A358+1,FALSE)","v":450000},{"$f":"Computations!$F$15+Computations!$E$15*D358","v":1864.0043023884018},{"$f":"EXP(Computations!$F$16)*EXP(Computations!$E$16)^Computations!D358","v":1688.522694835141},{"$f":"Computations!$F$17+Computations!$E$17*LN(Computations!D358)","v":2111.9468804441194},{"$f":"Computations!$F$18+Computations!$E$18*Computations!D358+Computations!$D$18*Computations!D358^2","v":1995.147216533959},{"$f":"Computations!$F$19+Computations!$E$19*Computations!D358+Computations!$D$19*Computations!D358^2+Computations!$C$19*Computations!D358^3","v":1995.147216533959},{"$f":"Computations!$J$15+Computations!$I$15*D358","v":450000},{"$f":"EXP(Computations!$J$16)*EXP(Computations!$I$16)^Computations!D358","v":450000.00000000035},{"$f":"Computations!$J$17+Computations!$I$17*LN(Computations!D358)","v":450000},{"$f":"Computations!$J$18+Computations!$I$18*Computations!D358+Computations!$H$18*Computations!D358^2","v":450000},{"$f":"Computations!$J$19+Computations!$I$19*Computations!D358+Computations!$H$19*Computations!D358^2+Computations!$G$19*Computations!D358^3","v":450000}]
[305,9.9810250609986773E-2,0.10010209786692326,9.9956174238455014E-2,0.54884093035569537,2.8422529909607475E-3,1867.8443978744081,450000,{"$f":"G359-H359/User_entry!$E$18","v":367.84439787440806},367.84439787440806,null,{"$f":"HLOOKUP(User_entry!$B$56,Computations!$N$54:$R$1054,Computations!A359+1,FALSE)","v":1867.8443978744081},{"$f":"HLOOKUP(User_entry!$E$56,Computations!$S$54:$W$1054,Computations!A359+1,FALSE)","v":450000},{"$f":"Computations!$F$15+Computations!$E$15*D359","v":1867.8443978744081},{"$f":"EXP(Computations!$F$16)*EXP(Computations!$E$16)^Computations!D359","v":1692.0258949379718},{"$f":"Computations!$F$17+Computations!$E$17*LN(Computations!D359)","v":2115.6616782633419},{"$f":"Computations!$F$18+Computations!$E$18*Computations!D359+Computations!$D$18*Computations!D359^2","v":1999.3668900851881},{"$f":"Computations!$F$19+Computations!$E$19*Computations!D359+Computations!$D$19*Computations!D359^2+Computations!$C$19*Computations!D359^3","v":1999.3668900851881},{"$f":"Computations!$J$15+Computations!$I$15*D359","v":450000},{"$f":"EXP(Computations!$J$16)*EXP(Computations!$I$16)^Computations!D359","v":450000.00000000035},{"$f":"Computations!$J$17+Computations!$I$17*LN(Computations!D359)","v":450000},{"$f":"Computations!$J$18+Computations!$I$18*Computations!D359+Computations!$H$18*Computations!D359^2","v":450000},{"$f":"Computations!$J$19+Computations!$I$19*Computations!D359+Computations!$H$19*Computations!D359^2+Computations!$G$19*Computations!D359^3","v":450000}]
[306,0.10010209786692326,0.10039394512385974,0.1002480214953915,0.55167577634911802,2.8348459934226522E-3,1871.6844933604145,450000,{"$f":"G360-H360/User_entry!$E$18","v":371.68449336041454},371.68449336041454,null,{"$f":"HLOOKUP(User_entry!$B$56,Computations!$N$54:$R$1054,Computations!A360+1,FALSE)","v":1871.6844933604145},{"$f":"HLOOKUP(User_entry!$E$56,Computations!$S$54:$W$1054,Computations!A360+1,FALSE)","v":450000},{"$f":"Computations!$F$15+Computations!$E$15*D360","v":1871.6844933604145},{"$f":"EXP(Computations!$F$16)*EXP(Computations!$E$16)^Computations!D360","v":1695.5363631758401},{"$f":"Computations!$F$17+Computations!$E$17*LN(Computations!D360)","v":2119.3656455893488},{"$f":"Computations!$F$18+Computations!$E$18*Computations!D360+Computations!$D$18*Computations!D360^2","v":2003.5802543903892},{"$f":"Computations!$F$19+Computations!$E$19*Computations!D360+Computations!$D$19*Computations!D360^2+Computations!$C$19*Computations!D360^3","v":2003.5802543903892},{"$f":"Computations!$J$15+Computations!$I$15*D360","v":450000},{"$f":"EXP(Computations!$J$16)*EXP(Computations!$I$16)^Computations!D360","v":450000.00000000035},{"$f":"Computations!$J$17+Computations!$I$17*LN(Computations!D360)","v":450000},{"$f":"Computations!$J$18+Computations!$I$18*Computations!D360+Computations!$H$18*Computations!D360^2","v":450000},{"$f":"Computations!$J$19+Computations!$I$19*Computations!D360+Computations!$H$19*Computations!D360^2+Computations!$G$19*Computations!D360^3","v":450000}]
[307,0.10039394512385974,0.10068579238079622,0.10053986875232798,0.55450311171907707,2.8273353699590498E-3,1875.5245888464208,450000,{"$f":"G361-H361/User_entry!$E$18","v":375.52458884642078},375.52458884642078,null,{"$f":"HLOOKUP(User_entry!$B$56,Computations!$N$54:$R$1054,Computations!A361+1,FALSE)","v":1875.5245888464208},{"$f":"HLOOKUP(User_entry!$E$56,Computations!$S$54:$W$1054,Computations!A361+1,FALSE)","v":450000},{"$f":"Computations!$F$15+Computations!$E$15*D361","v":1875.5245888464208},{"$f":"EXP(Computations!$F$16)*EXP(Computations!$E$16)^Computations!D361","v":1699.0541146280409},{"$f":"Computations!$F$17+Computations!$E$17*LN(Computations!D361)","v":2123.058845391206},{"$f":"Computations!$F$18+Computations!$E$18*Computations!D361+Computations!$D$18*Computations!D361^2","v":2007.7873094495617},{"$f":"Computations!$F$19+Computations!$E$19*Computations!D361+Computations!$D$19*Computations!D361^2+Computations!$C$19*Computations!D361^3","v":2007.7873094495617},{"$f":"Computations!$J$15+Computations!$I$15*D361","v":450000},{"$f":"EXP(Computations!$J$16)*EXP(Computations!$I$16)^Computations!D361","v":450000.00000000035},{"$f":"Computations!$J$17+Computations!$I$17*LN(Computations!D361)","v":450000},{"$f":"Computations!$J$18+Computations!$I$18*Computations!D361+Computations!$H$18*Computations!D361^2","v":450000},{"$f":"Computations!$J$19+Computations!$I$19*Computations!D361+Computations!$H$19*Computations!D361^2+Computations!$G$19*Computations!D361^3","v":450000}]
[308,0.10068579238079622,0.10097763963773271,0.10083171600926447,0.55732283438392871,2.8197226648516427E-3,1879.3646843324273,450000,{"$f":"G362-H362/User_entry!$E$18","v":379.36468433242726},379.36468433242726,null,{"$f":"HLOOKUP(User_entry!$B$56,Computations!$N$54:$R$1054,Computations!A362+1,FALSE)","v":1879.3646843324273},{"$f":"HLOOKUP(User_entry!$E$56,Computations!$S$54:$W$1054,Computations!A362+1,FALSE)","v":450000},{"$f":"Computations!$F$15+Computations!$E$15*D362","v":1879.3646843324273},{"$f":"EXP(Computations!$F$16)*EXP(Computations!$E$16)^Computations!D362","v":1702.5791644051546},{"$f":"Computations!$F$17+Computations!$E$17*LN(Computations!D362)","v":2126.7413400904115},{"$f":"Computations!$F$18+Computations!$E$18*Computations!D362+Computations!$D$18*Computations!D362^2","v":2011.9880552627064},{"$f":"Computations!$F$19+Computations!$E$19*Computations!D362+Computations!$D$19*Computations!D362^2+Computations!$C$19*Computations!D362^3","v":2011.9880552627064},{"$f":"Computations!$J$15+Computations!$I$15*D362","v":450000},{"$f":"EXP(Computations!$J$16)*EXP(Computations!$I$16)^Computations!D362","v":450000.00000000035},{"$f":"Computations!$J$17+Computations!$I$17*LN(Computations!D362)","v":450000},{"$f":"Computations!$J$18+Computations!$I$18*Computations!D362+Computations!$H$18*Computations!D362^2","v":450000},{"$f":"Computations!$J$19+Computations!$I$19*Computations!D362+Computations!$H$19*Computations!D362^2+Computations!$G$19*Computations!D362^3","v":450000}]
[309,0.10097763963773271,0.10126948689466919,0.10112356326620095,0.56013484380502443,2.8120094210957181E-3,1883.2047798184335,450000,{"$f":"G363-H363/User_entry!$E$18","v":383.20477981843351},383.20477981843351,null,{"$f":"HLOOKUP(User_entry!$B$56,Computations!$N$54:$R$1054,Computations!A363+1,FALSE)","v":1883.2047798184335},{"$f":"HLOOKUP(User_entry!$E$56,Computations!$S$54:$W$1054,Computations!A363+1,FALSE)","v":450000},{"$f":"Computations!$F$15+Computations!$E$15*D363","v":1883.2047798184335},{"$f":"EXP(Computations!$F$16)*EXP(Computations!$E$16)^Computations!D363","v":1706.1115276491109},{"$f":"Computations!$F$17+Computations!$E$17*LN(Computations!D363)","v":2130.4131915672269},{"$f":"Computations!$F$18+Computations!$E$18*Computations!D363+Computations!$D$18*Computations!D363^2","v":2016.1824918298225},{"$f":"Computations!$F$19+Computations!$E$19*Computations!D363+Computations!$D$19*Computations!D363^2+Computations!$C$19*Computations!D363^3","v":2016.1824918298225},{"$f":"Computations!$J$15+Computations!$I$15*D363","v":450000},{"$f":"EXP(Computations!$J$16)*EXP(Computations!$I$16)^Computations!D363","v":450000.00000000035},{"$f":"Computations!$J$17+Computations!$I$17*LN(Computations!D363)","v":450000},{"$f":"Computations!$J$18+Computations!$I$18*Computations!D363+Computations!$H$18*Computations!D363^2","v":450000},{"$f":"Computations!$J$19+Computations!$I$19*Computations!D363+Computations!$H$19*Computations!D363^2+Computations!$G$19*Computations!D363^3","v":450000}]
[310,0.10126948689466919,0.10156133415160568,0.10141541052313743,0.56293904098514813,2.804197180123702E-3,1887.04487530444,450000,{"$f":"G364-H364/User_entry!$E$18","v":387.04487530443998},387.04487530443998,null,{"$f":"HLOOKUP(User_entry!$B$56,Computations!$N$54:$R$1054,Computations!A364+1,FALSE)","v":1887.04487530444},{"$f":"HLOOKUP(User_entry!$E$56,Computations!$S$54:$W$1054,Computations!A364+1,FALSE)","v":450000},{"$f":"Computations!$F$15+Computations!$E$15*D364","v":1887.04487530444},{"$f":"EXP(Computations!$F$16)*EXP(Computations!$E$16)^Computations!D364","v":1709.6512195332546},{"$f":"Computations!$F$17+Computations!$E$17*LN(Computations!D364)","v":2134.0744611669161},{"$f":"Computations!$F$18+Computations!$E$18*Computations!D364+Computations!$D$18*Computations!D364^2","v":2020.3706191509109},{"$f":"Computations!$F$19+Computations!$E$19*Computations!D364+Computations!$D$19*Computations!D364^2+Computations!$C$19*Computations!D364^3","v":2020.3706191509109},{"$f":"Computations!$J$15+Computations!$I$15*D364","v":450000},{"$f":"EXP(Computations!$J$16)*EXP(Computations!$I$16)^Computations!D364","v":450000.00000000035},{"$f":"Computations!$J$17+Computations!$I$17*LN(Computations!D364)","v":450000},{"$f":"Computations!$J$18+Computations!$I$18*Computations!D364+Computations!$H$18*Computations!D364^2","v":450000},{"$f":"Computations!$J$19+Computations!$I$19*Computations!D364+Computations!$H$19*Computations!D364^2+Computations!$G$19*Computations!D364^3","v":450000}]
[311,0.10156133415160568,0.10185318140854216,0.10170725778007392,0.56573532846669572,2.796287481547588E-3,1890.8849707904462,450000,{"$f":"G365-H365/User_entry!$E$18","v":390.88497079044623},390.88497079044623,null,{"$f":"HLOOKUP(User_entry!$B$56,Computations!$N$54:$R$1054,Computations!A365+1,FALSE)","v":1890.8849707904462},{"$f":"HLOOKUP(User_entry!$E$56,Computations!$S$54:$W$1054,Computations!A365+1,FALSE)","v":450000},{"$f":"Computations!$F$15+Computations!$E$15*D365","v":1890.8849707904462},{"$f":"EXP(Computations!$F$16)*EXP(Computations!$E$16)^Computations!D365","v":1713.198255262412},{"$f":"Computations!$F$17+Computations!$E$17*LN(Computations!D365)","v":2137.7252097058977},{"$f":"Computations!$F$18+Computations!$E$18*Computations!D365+Computations!$D$18*Computations!D365^2","v":2024.5524372259704},{"$f":"Computations!$F$19+Computations!$E$19*Computations!D365+Computations!$D$19*Computations!D365^2+Computations!$C$19*Computations!D365^3","v":2024.5524372259704},{"$f":"Computations!$J$15+Computations!$I$15*D365","v":450000},{"$f":"EXP(Computations!$J$16)*EXP(Computations!$I$16)^Computations!D365","v":450000.00000000035},{"$f":"Computations!$J$17+Computations!$I$17*LN(Computations!D365)","v":450000},{"$f":"Computations!$J$18+Computations!$I$18*Computations!D365+Computations!$H$18*Computations!D365^2","v":450000},{"$f":"Computations!$J$19+Computations!$I$19*Computations!D365+Computations!$H$19*Computations!D365^2+Computations!$G$19*Computations!D365^3","v":450000}]
[312,0.10185318140854216,0.10214502866547864,0.1019991050370104,0.56852361032957666,2.7882818628809369E-3,1894.7250662764527,450000,{"$f":"G366-H366/User_entry!$E$18","v":394.72506627645271},394.72506627645271,null,{"$f":"HLOOKUP(User_entry!$B$56,Computations!$N$54:$R$1054,Computations!A366+1,FALSE)","v":1894.7250662764527},{"$f":"HLOOKUP(User_entry!$E$56,Computations!$S$54:$W$1054,Computations!A366+1,FALSE)","v":450000},{"$f":"Computations!$F$15+Computations!$E$15*D366","v":1894.7250662764527},{"$f":"EXP(Computations!$F$16)*EXP(Computations!$E$16)^Computations!D366","v":1716.7526500729543},{"$f":"Computations!$F$17+Computations!$E$17*LN(Computations!D366)","v":2141.3654974777996},{"$f":"Computations!$F$18+Computations!$E$18*Computations!D366+Computations!$D$18*Computations!D366^2","v":2028.7279460550021},{"$f":"Computations!$F$19+Computations!$E$19*Computations!D366+Computations!$D$19*Computations!D366^2+Computations!$C$19*Computations!D366^3","v":2028.7279460550021},{"$f":"Computations!$J$15+Computations!$I$15*D366","v":450000},{"$f":"EXP(Computations!$J$16)*EXP(Computations!$I$16)^Computations!D366","v":450000.00000000035},{"$f":"Computations!$J$17+Computations!$I$17*LN(Computations!D366)","v":450000},{"$f":"Computations!$J$18+Computations!$I$18*Computations!D366+Computations!$H$18*Computations!D366^2","v":450000},{"$f":"Computations!$J$19+Computations!$I$19*Computations!D366+Computations!$H$19*Computations!D366^2+Computations!$G$19*Computations!D366^3","v":450000}]
[313,0.10214502866547864,0.10243687592241513,0.10229095229394689,0.57130379218886507,2.7801818592884109E-3,1898.565161762459,450000,{"$f":"G367-H367/User_entry!$E$18","v":398.56516176245896},398.56516176245896,null,{"$f":"HLOOKUP(User_entry!$B$56,Computations!$N$54:$R$1054,Computations!A367+1,FALSE)","v":1898.565161762459},{"$f":"HLOOKUP(User_entry!$E$56,Computations!$S$54:$W$1054,Computations!A367+1,FALSE)","v":450000},{"$f":"Computations!$F$15+Computations!$E$15*D367","v":1898.565161762459},{"$f":"EXP(Computations!$F$16)*EXP(Computations!$E$16)^Computations!D367","v":1720.3144192328632},{"$f":"Computations!$F$17+Computations!$E$17*LN(Computations!D367)","v":2144.9953842594423},{"$f":"Computations!$F$18+Computations!$E$18*Computations!D367+Computations!$D$18*Computations!D367^2","v":2032.8971456380052},{"$f":"Computations!$F$19+Computations!$E$19*Computations!D367+Computations!$D$19*Computations!D367^2+Computations!$C$19*Computations!D367^3","v":2032.8971456380052},{"$f":"Computations!$J$15+Computations!$I$15*D367","v":450000},{"$f":"EXP(Computations!$J$16)*EXP(Computations!$I$16)^Computations!D367","v":450000.00000000035},{"$f":"Computations!$J$17+Computations!$I$17*LN(Computations!D367)","v":450000},{"$f":"Computations!$J$18+Computations!$I$18*Computations!D367+Computations!$H$18*Computations!D367^2","v":450000},{"$f":"Computations!$J$19+Computations!$I$19*Computations!D367+Computations!$H$19*Computations!D367^2+Computations!$G$19*Computations!D367^3","v":450000}]
[314,0.10243687592241513,0.10272872317935161,0.10258279955088337,0.57407578119219582,2.7719890033307548E-3,1902.4052572484654,450000,{"$f":"G368-H368/User_entry!$E$18","v":402.40525724846543},402.40525724846543,null,{"$f":"HLOOKUP(User_entry!$B$56,Computations!$N$54:$R$1054,Computations!A368+1,FALSE)","v":1902.4052572484654},{"$f":"HLOOKUP(User_entry!$E$56,Computations!$S$54:$W$1054,Computations!A368+1,FALSE)","v":450000},{"$f":"Computations!$F$15+Computations!$E$15*D368","v":1902.4052572484654},{"$f":"EXP(Computations!$F$16)*EXP(Computations!$E$16)^Computations!D368","v":1723.883578041798},{"$f":"Computations!$F$17+Computations!$E$17*LN(Computations!D368)","v":2148.6149293167214},{"$f":"Computations!$F$18+Computations!$E$18*Computations!D368+Computations!$D$18*Computations!D368^2","v":2037.0600359749806},{"$f":"Computations!$F$19+Computations!$E$19*Computations!D368+Computations!$D$19*Computations!D368^2+Computations!$C$19*Computations!D368^3","v":2037.0600359749806},{"$f":"Computations!$J$15+Computations!$I$15*D368","v":450000},{"$f":"EXP(Computations!$J$16)*EXP(Computations!$I$16)^Computations!D368","v":450000.00000000035},{"$f":"Computations!$J$17+Computations!$I$17*LN(Computations!D368)","v":450000},{"$f":"Computations!$J$18+Computations!$I$18*Computations!D368+Computations!$H$18*Computations!D368^2","v":450000},{"$f":"Computations!$J$19+Computations!$I$19*Computations!D368+Computations!$H$19*Computations!D368^2+Computations!$G$19*Computations!D368^3","v":450000}]
[315,0.10272872317935161,0.10302057043628809,0.10287464680781985,0.57683948601690216,2.7637048247063367E-3,1906.2453527344717,450000,{"$f":"G369-H369/User_entry!$E$18","v":406.24535273447168},406.24535273447168,null,{"$f":"HLOOKUP(User_entry!$B$56,Computations!$N$54:$R$1054,Computations!A369+1,FALSE)","v":1906.2453527344717},{"$f":"HLOOKUP(User_entry!$E$56,Computations!$S$54:$W$1054,Computations!A369+1,FALSE)","v":450000},{"$f":"Computations!$F$15+Computations!$E$15*D369","v":1906.2453527344717},{"$f":"EXP(Computations!$F$16)*EXP(Computations!$E$16)^Computations!D369","v":1727.4601418311606},{"$f":"Computations!$F$17+Computations!$E$17*LN(Computations!D369)","v":2152.2241914104179},{"$f":"Computations!$F$18+Computations!$E$18*Computations!D369+Computations!$D$18*Computations!D369^2","v":2041.216617065927},{"$f":"Computations!$F$19+Computations!$E$19*Computations!D369+Computations!$D$19*Computations!D369^2+Computations!$C$19*Computations!D369^3","v":2041.216617065927},{"$f":"Computations!$J$15+Computations!$I$15*D369","v":450000},{"$f":"EXP(Computations!$J$16)*EXP(Computations!$I$16)^Computations!D369","v":450000.00000000035},{"$f":"Computations!$J$17+Computations!$I$17*LN(Computations!D369)","v":450000},{"$f":"Computations!$J$18+Computations!$I$18*Computations!D369+Computations!$H$18*Computations!D369^2","v":450000},{"$f":"Computations!$J$19+Computations!$I$19*Computations!D369+Computations!$H$19*Computations!D369^2+Computations!$G$19*Computations!D369^3","v":450000}]
[316,0.10302057043628809,0.10331241769322458,0.10316649406475634,0.57959481686691772,2.7553308500155582E-3,1910.0854482204782,450000,{"$f":"G370-H370/User_entry!$E$18","v":410.08544822047816},410.08544822047816,null,{"$f":"HLOOKUP(User_entry!$B$56,Computations!$N$54:$R$1054,Computations!A370+1,FALSE)","v":1910.0854482204782},{"$f":"HLOOKUP(User_entry!$E$56,Computations!$S$54:$W$1054,Computations!A370+1,FALSE)","v":450000},{"$f":"Computations!$F$15+Computations!$E$15*D370","v":1910.0854482204782},{"$f":"EXP(Computations!$F$16)*EXP(Computations!$E$16)^Computations!D370","v":1731.04412596416},{"$f":"Computations!$F$17+Computations!$E$17*LN(Computations!D370)","v":2155.8232288019212},{"$f":"Computations!$F$18+Computations!$E$18*Computations!D370+Computations!$D$18*Computations!D370^2","v":2045.3668889108458},{"$f":"Computations!$F$19+Computations!$E$19*Computations!D370+Computations!$D$19*Computations!D370^2+Computations!$C$19*Computations!D370^3","v":2045.3668889108458},{"$f":"Computations!$J$15+Computations!$I$15*D370","v":450000},{"$f":"EXP(Computations!$J$16)*EXP(Computations!$I$16)^Computations!D370","v":450000.00000000035},{"$f":"Computations!$J$17+Computations!$I$17*LN(Computations!D370)","v":450000},{"$f":"Computations!$J$18+Computations!$I$18*Computations!D370+Computations!$H$18*Computations!D370^2","v":450000},{"$f":"Computations!$J$19+Computations!$I$19*Computations!D370+Computations!$H$19*Computations!D370^2+Computations!$G$19*Computations!D370^3","v":450000}]
[317,0.10331241769322458,0.10360426495016106,0.10345834132169282,0.5823416854694301,2.7468686025123867E-3,1913.9255437064844,450000,{"$f":"G371-H371/User_entry!$E$18","v":413.9255437064844},413.9255437064844,null,{"$f":"HLOOKUP(User_entry!$B$56,Computations!$N$54:$R$1054,Computations!A371+1,FALSE)","v":1913.9255437064844},{"$f":"HLOOKUP(User_entry!$E$56,Computations!$S$54:$W$1054,Computations!A371+1,FALSE)","v":450000},{"$f":"Computations!$F$15+Computations!$E$15*D371","v":1913.9255437064844},{"$f":"EXP(Computations!$F$16)*EXP(Computations!$E$16)^Computations!D371","v":1734.6355458358805},{"$f":"Computations!$F$17+Computations!$E$17*LN(Computations!D371)","v":2159.4120992588696},{"$f":"Computations!$F$18+Computations!$E$18*Computations!D371+Computations!$D$18*Computations!D371^2","v":2049.5108515097359},{"$f":"Computations!$F$19+Computations!$E$19*Computations!D371+Computations!$D$19*Computations!D371^2+Computations!$C$19*Computations!D371^3","v":2049.5108515097359},{"$f":"Computations!$J$15+Computations!$I$15*D371","v":450000},{"$f":"EXP(Computations!$J$16)*EXP(Computations!$I$16)^Computations!D371","v":450000.00000000035},{"$f":"Computations!$J$17+Computations!$I$17*LN(Computations!D371)","v":450000},{"$f":"Computations!$J$18+Computations!$I$18*Computations!D371+Computations!$H$18*Computations!D371^2","v":450000},{"$f":"Computations!$J$19+Computations!$I$19*Computations!D371+Computations!$H$19*Computations!D371^2+Computations!$G$19*Computations!D371^3","v":450000}]
[318,0.10360426495016106,0.10389611220709755,0.1037501885786293,0.58508000507130009,2.7383196018699874E-3,1917.7656391924909,450000,{"$f":"G372-H372/User_entry!$E$18","v":417.76563919249088},417.76563919249088,null,{"$f":"HLOOKUP(User_entry!$B$56,Computations!$N$54:$R$1054,Computations!A372+1,FALSE)","v":1917.7656391924909},{"$f":"HLOOKUP(User_entry!$E$56,Computations!$S$54:$W$1054,Computations!A372+1,FALSE)","v":450000},{"$f":"Computations!$F$15+Computations!$E$15*D372","v":1917.7656391924909},{"$f":"EXP(Computations!$F$16)*EXP(Computations!$E$16)^Computations!D372","v":1738.2344168733462},{"$f":"Computations!$F$17+Computations!$E$17*LN(Computations!D372)","v":2162.9908600607187},{"$f":"Computations!$F$18+Computations!$E$18*Computations!D372+Computations!$D$18*Computations!D372^2","v":2053.6485048625982},{"$f":"Computations!$F$19+Computations!$E$19*Computations!D372+Computations!$D$19*Computations!D372^2+Computations!$C$19*Computations!D372^3","v":2053.6485048625982},{"$f":"Computations!$J$15+Computations!$I$15*D372","v":450000},{"$f":"EXP(Computations!$J$16)*EXP(Computations!$I$16)^Computations!D372","v":450000.00000000035},{"$f":"Computations!$J$17+Computations!$I$17*LN(Computations!D372)","v":450000},{"$f":"Computations!$J$18+Computations!$I$18*Computations!D372+Computations!$H$18*Computations!D372^2","v":450000},{"$f":"Computations!$J$19+Computations!$I$19*Computations!D372+Computations!$H$19*Computations!D372^2+Computations!$G$19*Computations!D372^3","v":450000}]
[319,0.10389611220709755,0.10418795946403403,0.10404203583556579,0.58780969043524789,2.729685363947798E-3,1921.6057346784971,450000,{"$f":"G373-H373/User_entry!$E$18","v":421.60573467849713},421.60573467849713,null,{"$f":"HLOOKUP(User_entry!$B$56,Computations!$N$54:$R$1054,Computations!A373+1,FALSE)","v":1921.6057346784971},{"$f":"HLOOKUP(User_entry!$E$56,Computations!$S$54:$W$1054,Computations!A373+1,FALSE)","v":450000},{"$f":"Computations!$F$15+Computations!$E$15*D373","v":1921.6057346784971},{"$f":"EXP(Computations!$F$16)*EXP(Computations!$E$16)^Computations!D373","v":1741.8407545355883},{"$f":"Computations!$F$17+Computations!$E$17*LN(Computations!D373)","v":2166.5595680042215},{"$f":"Computations!$F$18+Computations!$E$18*Computations!D373+Computations!$D$18*Computations!D373^2","v":2057.7798489694314},{"$f":"Computations!$F$19+Computations!$E$19*Computations!D373+Computations!$D$19*Computations!D373^2+Computations!$C$19*Computations!D373^3","v":2057.7798489694314},{"$f":"Computations!$J$15+Computations!$I$15*D373","v":450000},{"$f":"EXP(Computations!$J$16)*EXP(Computations!$I$16)^Computations!D373","v":450000.00000000035},{"$f":"Computations!$J$17+Computations!$I$17*LN(Computations!D373)","v":450000},{"$f":"Computations!$J$18+Computations!$I$18*Computations!D373+Computations!$H$18*Computations!D373^2","v":450000},{"$f":"Computations!$J$19+Computations!$I$19*Computations!D373+Computations!$H$19*Computations!D373^2+Computations!$G$19*Computations!D373^3","v":450000}]
[320,0.10418795946403403,0.10447980672097051,0.10433388309250227,0.59053065783581182,2.7209674005639339E-3,1925.4458301645036,450000,{"$f":"G374-H374/User_entry!$E$18","v":425.4458301645036},425.4458301645036,null,{"$f":"HLOOKUP(User_entry!$B$56,Computations!$N$54:$R$1054,Computations!A374+1,FALSE)","v":1925.4458301645036},{"$f":"HLOOKUP(User_entry!$E$56,Computations!$S$54:$W$1054,Computations!A374+1,FALSE)","v":450000},{"$f":"Computations!$F$15+Computations!$E$15*D374","v":1925.4458301645036},{"$f":"EXP(Computations!$F$16)*EXP(Computations!$E$16)^Computations!D374","v":1745.4545743137107},{"$f":"Computations!$F$17+Computations!$E$17*LN(Computations!D374)","v":2170.1182794088395},{"$f":"Computations!$F$18+Computations!$E$18*Computations!D374+Computations!$D$18*Computations!D374^2","v":2061.9048838302369},{"$f":"Computations!$F$19+Computations!$E$19*Computations!D374+Computations!$D$19*Computations!D374^2+Computations!$C$19*Computations!D374^3","v":2061.9048838302369},{"$f":"Computations!$J$15+Computations!$I$15*D374","v":450000},{"$f":"EXP(Computations!$J$16)*EXP(Computations!$I$16)^Computations!D374","v":450000.00000000035},{"$f":"Computations!$J$17+Computations!$I$17*LN(Computations!D374)","v":450000},{"$f":"Computations!$J$18+Computations!$I$18*Computations!D374+Computations!$H$18*Computations!D374^2","v":450000},{"$f":"Computations!$J$19+Computations!$I$19*Computations!D374+Computations!$H$19*Computations!D374^2+Computations!$G$19*Computations!D374^3","v":450000}]
[321,0.10447980672097051,0.104771653977907,0.10462573034943876,0.5932428250550813,2.712167219269479E-3,1929.2859256505099,450000,{"$f":"G375-H375/User_entry!$E$18","v":429.28592565050985},429.28592565050985,null,{"$f":"HLOOKUP(User_entry!$B$56,Computations!$N$54:$R$1054,Computations!A375+1,FALSE)","v":1929.2859256505099},{"$f":"HLOOKUP(User_entry!$E$56,Computations!$S$54:$W$1054,Computations!A375+1,FALSE)","v":450000},{"$f":"Computations!$F$15+Computations!$E$15*D375","v":1929.2859256505099},{"$f":"EXP(Computations!$F$16)*EXP(Computations!$E$16)^Computations!D375","v":1749.075891730957},{"$f":"Computations!$F$17+Computations!$E$17*LN(Computations!D375)","v":2173.6670501220756},{"$f":"Computations!$F$18+Computations!$E$18*Computations!D375+Computations!$D$18*Computations!D375^2","v":2066.0236094450147},{"$f":"Computations!$F$19+Computations!$E$19*Computations!D375+Computations!$D$19*Computations!D375^2+Computations!$C$19*Computations!D375^3","v":2066.0236094450147},{"$f":"Computations!$J$15+Computations!$I$15*D375","v":450000},{"$f":"EXP(Computations!$J$16)*EXP(Computations!$I$16)^Computations!D375","v":450000.00000000035},{"$f":"Computations!$J$17+Computations!$I$17*LN(Computations!D375)","v":450000},{"$f":"Computations!$J$18+Computations!$I$18*Computations!D375+Computations!$H$18*Computations!D375^2","v":450000},{"$f":"Computations!$J$19+Computations!$I$19*Computations!D375+Computations!$H$19*Computations!D375^2+Computations!$G$19*Computations!D375^3","v":450000}]
[322,0.104771653977907,{"$f":"B376+$D$11","v":0.10506350123484348},{"$f":"AVERAGE(B376:C376)","v":0.10491757760637524},{"$f":"IF($D$3=\"Beta\",_xlfn.BETA.DIST(C376,$D$4,$D$5,TRUE),IF($D$3=\"Gamma\",_xlfn.GAMMA.DIST(C376,$D$4,$D$5,TRUE),IF($D$3=\"Lognorm\",_xlfn.LOGNORM.DIST(C376,$D$4,$D$5,TRUE),_xlfn.NORM.DIST(C376,$D$4,$D$5,TRUE))))","v":0.59594611137821563},{"$f":"E376-E375","v":2.703286323134324E-3},{"$f":"L376","v":1933.1260211365163},{"$f":"M376","v":450000},{"$f":"G376-H376/User_entry!$E$18","v":433.12602113651633},{"$f":"MAX(I376,0)","v":433.12602113651633},null,{"$f":"HLOOKUP(User_entry!$B$56,Computations!$N$54:$R$1054,Computations!A376+1,FALSE)","v":1933.1260211365163},{"$f":"HLOOKUP(User_entry!$E$56,Computations!$S$54:$W$1054,Computations!A376+1,FALSE)","v":450000},{"$f":"Computations!$F$15+Computations!$E$15*D376","v":1933.1260211365163},{"$f":"EXP(Computations!$F$16)*EXP(Computations!$E$16)^Computations!D376","v":1752.7047223427769},{"$f":"Computations!$F$17+Computations!$E$17*LN(Computations!D376)","v":2177.2059355247334},{"$f":"Computations!$F$18+Computations!$E$18*Computations!D376+Computations!$D$18*Computations!D376^2","v":2070.1360258137634},{"$f":"Computations!$F$19+Computations!$E$19*Computations!D376+Computations!$D$19*Computations!D376^2+Computations!$C$19*Computations!D376^3","v":2070.1360258137634},{"$f":"Computations!$J$15+Computations!$I$15*D376","v":450000},{"$f":"EXP(Computations!$J$16)*EXP(Computations!$I$16)^Computations!D376","v":450000.00000000035},{"$f":"Computations!$J$17+Computations!$I$17*LN(Computations!D376)","v":450000},{"$f":"Computations!$J$18+Computations!$I$18*Computations!D376+Computations!$H$18*Computations!D376^2","v":450000},{"$f":"Computations!$J$19+Computations!$I$19*Computations!D376+Computations!$H$19*Computations!D376^2+Computations!$G$19*Computations!D376^3","v":450000}]
[323,{"$f":"C376","v":0.10506350123484348},0.10535534849177997,0.10520942486331172,0.59864043758873975,2.6943262105241228E-3,1936.9661166225226,450000,{"$f":"G377-H377/User_entry!$E$18","v":436.96611662252258},436.96611662252258,null,{"$f":"HLOOKUP(User_entry!$B$56,Computations!$N$54:$R$1054,Computations!A377+1,FALSE)","v":1936.9661166225226},{"$f":"HLOOKUP(User_entry!$E$56,Computations!$S$54:$W$1054,Computations!A377+1,FALSE)","v":450000},{"$f":"Computations!$F$15+Computations!$E$15*D377","v":1936.9661166225226},{"$f":"EXP(Computations!$F$16)*EXP(Computations!$E$16)^Computations!D377","v":1756.3410817368933},{"$f":"Computations!$F$17+Computations!$E$17*LN(Computations!D377)","v":2180.7349905361011},{"$f":"Computations!$F$18+Computations!$E$18*Computations!D377+Computations!$D$18*Computations!D377^2","v":2074.2421329364843},{"$f":"Computations!$F$19+Computations!$E$19*Computations!D377+Computations!$D$19*Computations!D377^2+Computations!$C$19*Computations!D377^3","v":2074.2421329364843},{"$f":"Computations!$J$15+Computations!$I$15*D377","v":450000},{"$f":"EXP(Computations!$J$16)*EXP(Computations!$I$16)^Computations!D377","v":450000.00000000035},{"$f":"Computations!$J$17+Computations!$I$17*LN(Computations!D377)","v":450000},{"$f":"Computations!$J$18+Computations!$I$18*Computations!D377+Computations!$H$18*Computations!D377^2","v":450000},{"$f":"Computations!$J$19+Computations!$I$19*Computations!D377+Computations!$H$19*Computations!D377^2+Computations!$G$19*Computations!D377^3","v":450000}]
[324,0.10535534849177997,0.10564719574871645,0.10550127212024821,0.60132572596363865,2.6852883748988976E-3,1940.8062121085291,450000,{"$f":"G378-H378/User_entry!$E$18","v":440.80621210852905},440.80621210852905,null,{"$f":"HLOOKUP(User_entry!$B$56,Computations!$N$54:$R$1054,Computations!A378+1,FALSE)","v":1940.8062121085291},{"$f":"HLOOKUP(User_entry!$E$56,Computations!$S$54:$W$1054,Computations!A378+1,FALSE)","v":450000},{"$f":"Computations!$F$15+Computations!$E$15*D378","v":1940.8062121085291},{"$f":"EXP(Computations!$F$16)*EXP(Computations!$E$16)^Computations!D378","v":1759.98498553337},{"$f":"Computations!$F$17+Computations!$E$17*LN(Computations!D378)","v":2184.2542696190658},{"$f":"Computations!$F$18+Computations!$E$18*Computations!D378+Computations!$D$18*Computations!D378^2","v":2078.3419308131765},{"$f":"Computations!$F$19+Computations!$E$19*Computations!D378+Computations!$D$19*Computations!D378^2+Computations!$C$19*Computations!D378^3","v":2078.3419308131765},{"$f":"Computations!$J$15+Computations!$I$15*D378","v":450000},{"$f":"EXP(Computations!$J$16)*EXP(Computations!$I$16)^Computations!D378","v":450000.00000000035},{"$f":"Computations!$J$17+Computations!$I$17*LN(Computations!D378)","v":450000},{"$f":"Computations!$J$18+Computations!$I$18*Computations!D378+Computations!$H$18*Computations!D378^2","v":450000},{"$f":"Computations!$J$19+Computations!$I$19*Computations!D378+Computations!$H$19*Computations!D378^2+Computations!$G$19*Computations!D378^3","v":450000}]
[325,0.10564719574871645,0.10593904300565293,0.10579311937718469,0.60400190026823952,2.6761743046008757E-3,1944.6463075945353,450000,{"$f":"G379-H379/User_entry!$E$18","v":444.6463075945353},444.6463075945353,null,{"$f":"HLOOKUP(User_entry!$B$56,Computations!$N$54:$R$1054,Computations!A379+1,FALSE)","v":1944.6463075945353},{"$f":"HLOOKUP(User_entry!$E$56,Computations!$S$54:$W$1054,Computations!A379+1,FALSE)","v":450000},{"$f":"Computations!$F$15+Computations!$E$15*D379","v":1944.6463075945353},{"$f":"EXP(Computations!$F$16)*EXP(Computations!$E$16)^Computations!D379","v":1763.6364493846763},{"$f":"Computations!$F$17+Computations!$E$17*LN(Computations!D379)","v":2187.7638267851576},{"$f":"Computations!$F$18+Computations!$E$18*Computations!D379+Computations!$D$18*Computations!D379^2","v":2082.4354194438411},{"$f":"Computations!$F$19+Computations!$E$19*Computations!D379+Computations!$D$19*Computations!D379^2+Computations!$C$19*Computations!D379^3","v":2082.4354194438411},{"$f":"Computations!$J$15+Computations!$I$15*D379","v":450000},{"$f":"EXP(Computations!$J$16)*EXP(Computations!$I$16)^Computations!D379","v":450000.00000000035},{"$f":"Computations!$J$17+Computations!$I$17*LN(Computations!D379)","v":450000},{"$f":"Computations!$J$18+Computations!$I$18*Computations!D379+Computations!$H$18*Computations!D379^2","v":450000},{"$f":"Computations!$J$19+Computations!$I$19*Computations!D379+Computations!$H$19*Computations!D379^2+Computations!$G$19*Computations!D379^3","v":450000}]
[326,0.10593904300565293,0.10623089026258942,0.10608496663412117,0.60666888575089406,2.6669854826545381E-3,1948.4864030805418,450000,{"$f":"G380-H380/User_entry!$E$18","v":448.48640308054178},448.48640308054178,null,{"$f":"HLOOKUP(User_entry!$B$56,Computations!$N$54:$R$1054,Computations!A380+1,FALSE)","v":1948.4864030805418},{"$f":"HLOOKUP(User_entry!$E$56,Computations!$S$54:$W$1054,Computations!A380+1,FALSE)","v":450000},{"$f":"Computations!$F$15+Computations!$E$15*D380","v":1948.4864030805418},{"$f":"EXP(Computations!$F$16)*EXP(Computations!$E$16)^Computations!D380","v":1767.2954889757568},{"$f":"Computations!$F$17+Computations!$E$17*LN(Computations!D380)","v":2191.2637155995235},{"$f":"Computations!$F$18+Computations!$E$18*Computations!D380+Computations!$D$18*Computations!D380^2","v":2086.5225988284769},{"$f":"Computations!$F$19+Computations!$E$19*Computations!D380+Computations!$D$19*Computations!D380^2+Computations!$C$19*Computations!D380^3","v":2086.5225988284769},{"$f":"Computations!$J$15+Computations!$I$15*D380","v":450000},{"$f":"EXP(Computations!$J$16)*EXP(Computations!$I$16)^Computations!D380","v":450000.00000000035},{"$f":"Computations!$J$17+Computations!$I$17*LN(Computations!D380)","v":450000},{"$f":"Computations!$J$18+Computations!$I$18*Computations!D380+Computations!$H$18*Computations!D380^2","v":450000},{"$f":"Computations!$J$19+Computations!$I$19*Computations!D380+Computations!$H$19*Computations!D380^2+Computations!$G$19*Computations!D380^3","v":450000}]
[327,0.10623089026258942,0.1065227375195259,0.10637681389105766,0.6093266091374625,2.6577233865684446E-3,1952.326498566548,450000,{"$f":"G381-H381/User_entry!$E$18","v":452.32649856654803},452.32649856654803,null,{"$f":"HLOOKUP(User_entry!$B$56,Computations!$N$54:$R$1054,Computations!A381+1,FALSE)","v":1952.326498566548},{"$f":"HLOOKUP(User_entry!$E$56,Computations!$S$54:$W$1054,Computations!A381+1,FALSE)","v":450000},{"$f":"Computations!$F$15+Computations!$E$15*D381","v":1952.326498566548},{"$f":"EXP(Computations!$F$16)*EXP(Computations!$E$16)^Computations!D381","v":1770.9621200240986},{"$f":"Computations!$F$17+Computations!$E$17*LN(Computations!D381)","v":2194.753989185831},{"$f":"Computations!$F$18+Computations!$E$18*Computations!D381+Computations!$D$18*Computations!D381^2","v":2090.6034689670851},{"$f":"Computations!$F$19+Computations!$E$19*Computations!D381+Computations!$D$19*Computations!D381^2+Computations!$C$19*Computations!D381^3","v":2090.6034689670851},{"$f":"Computations!$J$15+Computations!$I$15*D381","v":450000},{"$f":"EXP(Computations!$J$16)*EXP(Computations!$I$16)^Computations!D381","v":450000.00000000035},{"$f":"Computations!$J$17+Computations!$I$17*LN(Computations!D381)","v":450000},{"$f":"Computations!$J$18+Computations!$I$18*Computations!D381+Computations!$H$18*Computations!D381^2","v":450000},{"$f":"Computations!$J$19+Computations!$I$19*Computations!D381+Computations!$H$19*Computations!D381^2+Computations!$G$19*Computations!D381^3","v":450000}]
[328,0.1065227375195259,0.10681458477646238,0.10666866114799414,0.61197499862560645,2.6483894881439429E-3,1956.1665940525545,450000,{"$f":"G382-H382/User_entry!$E$18","v":456.1665940525545},456.1665940525545,null,{"$f":"HLOOKUP(User_entry!$B$56,Computations!$N$54:$R$1054,Computations!A382+1,FALSE)","v":1956.1665940525545},{"$f":"HLOOKUP(User_entry!$E$56,Computations!$S$54:$W$1054,Computations!A382+1,FALSE)","v":450000},{"$f":"Computations!$F$15+Computations!$E$15*D382","v":1956.1665940525545},{"$f":"EXP(Computations!$F$16)*EXP(Computations!$E$16)^Computations!D382","v":1774.6363582797967},{"$f":"Computations!$F$17+Computations!$E$17*LN(Computations!D382)","v":2198.2347002311071},{"$f":"Computations!$F$18+Computations!$E$18*Computations!D382+Computations!$D$18*Computations!D382^2","v":2094.6780298596645},{"$f":"Computations!$F$19+Computations!$E$19*Computations!D382+Computations!$D$19*Computations!D382^2+Computations!$C$19*Computations!D382^3","v":2094.6780298596645},{"$f":"Computations!$J$15+Computations!$I$15*D382","v":450000},{"$f":"EXP(Computations!$J$16)*EXP(Computations!$I$16)^Computations!D382","v":450000.00000000035},{"$f":"Computations!$J$17+Computations!$I$17*LN(Computations!D382)","v":450000},{"$f":"Computations!$J$18+Computations!$I$18*Computations!D382+Computations!$H$18*Computations!D382^2","v":450000},{"$f":"Computations!$J$19+Computations!$I$19*Computations!D382+Computations!$H$19*Computations!D382^2+Computations!$G$19*Computations!D382^3","v":450000}]
[329,0.10681458477646238,0.10710643203339887,0.10696050840493063,0.61461398387889254,2.6389852532860969E-3,1960.0066895385607,450000,{"$f":"G383-H383/User_entry!$E$18","v":460.00668953856075},460.00668953856075,null,{"$f":"HLOOKUP(User_entry!$B$56,Computations!$N$54:$R$1054,Computations!A383+1,FALSE)","v":1960.0066895385607},{"$f":"HLOOKUP(User_entry!$E$56,Computations!$S$54:$W$1054,Computations!A383+1,FALSE)","v":450000},{"$f":"Computations!$F$15+Computations!$E$15*D383","v":1960.0066895385607},{"$f":"EXP(Computations!$F$16)*EXP(Computations!$E$16)^Computations!D383","v":1778.3182195256234},{"$f":"Computations!$F$17+Computations!$E$17*LN(Computations!D383)","v":2201.7059009905129},{"$f":"Computations!$F$18+Computations!$E$18*Computations!D383+Computations!$D$18*Computations!D383^2","v":2098.7462815062158},{"$f":"Computations!$F$19+Computations!$E$19*Computations!D383+Computations!$D$19*Computations!D383^2+Computations!$C$19*Computations!D383^3","v":2098.7462815062158},{"$f":"Computations!$J$15+Computations!$I$15*D383","v":450000},{"$f":"EXP(Computations!$J$16)*EXP(Computations!$I$16)^Computations!D383","v":450000.00000000035},{"$f":"Computations!$J$17+Computations!$I$17*LN(Computations!D383)","v":450000},{"$f":"Computations!$J$18+Computations!$I$18*Computations!D383+Computations!$H$18*Computations!D383^2","v":450000},{"$f":"Computations!$J$19+Computations!$I$19*Computations!D383+Computations!$H$19*Computations!D383^2+Computations!$G$19*Computations!D383^3","v":450000}]
[330,0.10710643203339887,0.10739827929033535,0.10725235566186711,0.61724349602070494,2.6295121418123957E-3,1963.8467850245672,450000,{"$f":"G384-H384/User_entry!$E$18","v":463.84678502456723},463.84678502456723,null,{"$f":"HLOOKUP(User_entry!$B$56,Computations!$N$54:$R$1054,Computations!A384+1,FALSE)","v":1963.8467850245672},{"$f":"HLOOKUP(User_entry!$E$56,Computations!$S$54:$W$1054,Computations!A384+1,FALSE)","v":450000},{"$f":"Computations!$F$15+Computations!$E$15*D384","v":1963.8467850245672},{"$f":"EXP(Computations!$F$16)*EXP(Computations!$E$16)^Computations!D384","v":1782.0077195770964},{"$f":"Computations!$F$17+Computations!$E$17*LN(Computations!D384)","v":2205.1676432920463},{"$f":"Computations!$F$18+Computations!$E$18*Computations!D384+Computations!$D$18*Computations!D384^2","v":2102.8082239067389},{"$f":"Computations!$F$19+Computations!$E$19*Computations!D384+Computations!$D$19*Computations!D384^2+Computations!$C$19*Computations!D384^3","v":2102.8082239067389},{"$f":"Computations!$J$15+Computations!$I$15*D384","v":450000},{"$f":"EXP(Computations!$J$16)*EXP(Computations!$I$16)^Computations!D384","v":450000.00000000035},{"$f":"Computations!$J$17+Computations!$I$17*LN(Computations!D384)","v":450000},{"$f":"Computations!$J$18+Computations!$I$18*Computations!D384+Computations!$H$18*Computations!D384^2","v":450000},{"$f":"Computations!$J$19+Computations!$I$19*Computations!D384+Computations!$H$19*Computations!D384^2+Computations!$G$19*Computations!D384^3","v":450000}]
[331,0.10739827929033535,0.10769012654727184,0.10754420291880359,0.61986346762798772,2.6199716072827783E-3,1967.6868805105735,450000,{"$f":"G385-H385/User_entry!$E$18","v":467.68688051057347},467.68688051057347,null,{"$f":"HLOOKUP(User_entry!$B$56,Computations!$N$54:$R$1054,Computations!A385+1,FALSE)","v":1967.6868805105735},{"$f":"HLOOKUP(User_entry!$E$56,Computations!$S$54:$W$1054,Computations!A385+1,FALSE)","v":450000},{"$f":"Computations!$F$15+Computations!$E$15*D385","v":1967.6868805105735},{"$f":"EXP(Computations!$F$16)*EXP(Computations!$E$16)^Computations!D385","v":1785.7048742825459},{"$f":"Computations!$F$17+Computations!$E$17*LN(Computations!D385)","v":2208.6199785411882},{"$f":"Computations!$F$18+Computations!$E$18*Computations!D385+Computations!$D$18*Computations!D385^2","v":2106.8638570612338},{"$f":"Computations!$F$19+Computations!$E$19*Computations!D385+Computations!$D$19*Computations!D385^2+Computations!$C$19*Computations!D385^3","v":2106.8638570612338},{"$f":"Computations!$J$15+Computations!$I$15*D385","v":450000},{"$f":"EXP(Computations!$J$16)*EXP(Computations!$I$16)^Computations!D385","v":450000.00000000035},{"$f":"Computations!$J$17+Computations!$I$17*LN(Computations!D385)","v":450000},{"$f":"Computations!$J$18+Computations!$I$18*Computations!D385+Computations!$H$18*Computations!D385^2","v":450000},{"$f":"Computations!$J$19+Computations!$I$19*Computations!D385+Computations!$H$19*Computations!D385^2+Computations!$G$19*Computations!D385^3","v":450000}]
[332,0.10769012654727184,0.10798197380420832,0.10783605017574008,0.62247383272480328,2.6103650968155589E-3,1971.5269759965799,450000,{"$f":"G386-H386/User_entry!$E$18","v":471.52697599657995},471.52697599657995,null,{"$f":"HLOOKUP(User_entry!$B$56,Computations!$N$54:$R$1054,Computations!A386+1,FALSE)","v":1971.5269759965799},{"$f":"HLOOKUP(User_entry!$E$56,Computations!$S$54:$W$1054,Computations!A386+1,FALSE)","v":450000},{"$f":"Computations!$F$15+Computations!$E$15*D386","v":1971.5269759965799},{"$f":"EXP(Computations!$F$16)*EXP(Computations!$E$16)^Computations!D386","v":1789.4096995231814},{"$f":"Computations!$F$17+Computations!$E$17*LN(Computations!D386)","v":2212.0629577254817},{"$f":"Computations!$F$18+Computations!$E$18*Computations!D386+Computations!$D$18*Computations!D386^2","v":2110.9131809697001},{"$f":"Computations!$F$19+Computations!$E$19*Computations!D386+Computations!$D$19*Computations!D386^2+Computations!$C$19*Computations!D386^3","v":2110.9131809697001},{"$f":"Computations!$J$15+Computations!$I$15*D386","v":450000},{"$f":"EXP(Computations!$J$16)*EXP(Computations!$I$16)^Computations!D386","v":450000.00000000035},{"$f":"Computations!$J$17+Computations!$I$17*LN(Computations!D386)","v":450000},{"$f":"Computations!$J$18+Computations!$I$18*Computations!D386+Computations!$H$18*Computations!D386^2","v":450000},{"$f":"Computations!$J$19+Computations!$I$19*Computations!D386+Computations!$H$19*Computations!D386^2+Computations!$G$19*Computations!D386^3","v":450000}]
[333,0.10798197380420832,0.1082738210611448,0.10812789743267656,0.62507452677572051,2.6006940509172294E-3,1975.3670714825862,450000,{"$f":"G387-H387/User_entry!$E$18","v":475.3670714825862},475.3670714825862,null,{"$f":"HLOOKUP(User_entry!$B$56,Computations!$N$54:$R$1054,Computations!A387+1,FALSE)","v":1975.3670714825862},{"$f":"HLOOKUP(User_entry!$E$56,Computations!$S$54:$W$1054,Computations!A387+1,FALSE)","v":450000},{"$f":"Computations!$F$15+Computations!$E$15*D387","v":1975.3670714825862},{"$f":"EXP(Computations!$F$16)*EXP(Computations!$E$16)^Computations!D387","v":1793.1222112131638},{"$f":"Computations!$F$17+Computations!$E$17*LN(Computations!D387)","v":2215.4966314190515},{"$f":"Computations!$F$18+Computations!$E$18*Computations!D387+Computations!$D$18*Computations!D387^2","v":2114.9561956321386},{"$f":"Computations!$F$19+Computations!$E$19*Computations!D387+Computations!$D$19*Computations!D387^2+Computations!$C$19*Computations!D387^3","v":2114.9561956321386},{"$f":"Computations!$J$15+Computations!$I$15*D387","v":450000},{"$f":"EXP(Computations!$J$16)*EXP(Computations!$I$16)^Computations!D387","v":450000.00000000035},{"$f":"Computations!$J$17+Computations!$I$17*LN(Computations!D387)","v":450000},{"$f":"Computations!$J$18+Computations!$I$18*Computations!D387+Computations!$H$18*Computations!D387^2","v":450000},{"$f":"Computations!$J$19+Computations!$I$19*Computations!D387+Computations!$H$19*Computations!D387^2+Computations!$G$19*Computations!D387^3","v":450000}]
[334,0.1082738210611448,0.10856566831808129,0.10841974468961305,0.62766548667903543,2.5909599033149266E-3,1979.2071669685927,450000,{"$f":"G388-H388/User_entry!$E$18","v":479.20716696859267},479.20716696859267,null,{"$f":"HLOOKUP(User_entry!$B$56,Computations!$N$54:$R$1054,Computations!A388+1,FALSE)","v":1979.2071669685927},{"$f":"HLOOKUP(User_entry!$E$56,Computations!$S$54:$W$1054,Computations!A388+1,FALSE)","v":450000},{"$f":"Computations!$F$15+Computations!$E$15*D388","v":1979.2071669685927},{"$f":"EXP(Computations!$F$16)*EXP(Computations!$E$16)^Computations!D388","v":1796.8424252996692},{"$f":"Computations!$F$17+Computations!$E$17*LN(Computations!D388)","v":2218.9210497870581},{"$f":"Computations!$F$18+Computations!$E$18*Computations!D388+Computations!$D$18*Computations!D388^2","v":2118.9929010485484},{"$f":"Computations!$F$19+Computations!$E$19*Computations!D388+Computations!$D$19*Computations!D388^2+Computations!$C$19*Computations!D388^3","v":2118.9929010485484},{"$f":"Computations!$J$15+Computations!$I$15*D388","v":450000},{"$f":"EXP(Computations!$J$16)*EXP(Computations!$I$16)^Computations!D388","v":450000.00000000035},{"$f":"Computations!$J$17+Computations!$I$17*LN(Computations!D388)","v":450000},{"$f":"Computations!$J$18+Computations!$I$18*Computations!D388+Computations!$H$18*Computations!D388^2","v":450000},{"$f":"Computations!$J$19+Computations!$I$19*Computations!D388+Computations!$H$19*Computations!D388^2+Computations!$G$19*Computations!D388^3","v":450000}]
[335,0.10856566831808129,0.10885751557501777,0.10871159194654953,0.63024665075982655,2.5811640807911207E-3,1983.0472624545989,450000,{"$f":"G389-H389/User_entry!$E$18","v":483.04726245459892},483.04726245459892,null,{"$f":"HLOOKUP(User_entry!$B$56,Computations!$N$54:$R$1054,Computations!A389+1,FALSE)","v":1983.0472624545989},{"$f":"HLOOKUP(User_entry!$E$56,Computations!$S$54:$W$1054,Computations!A389+1,FALSE)","v":450000},{"$f":"Computations!$F$15+Computations!$E$15*D389","v":1983.0472624545989},{"$f":"EXP(Computations!$F$16)*EXP(Computations!$E$16)^Computations!D389","v":1800.5703577629604},{"$f":"Computations!$F$17+Computations!$E$17*LN(Computations!D389)","v":2222.3362625901009},{"$f":"Computations!$F$18+Computations!$E$18*Computations!D389+Computations!$D$18*Computations!D389^2","v":2123.0232972189306},{"$f":"Computations!$F$19+Computations!$E$19*Computations!D389+Computations!$D$19*Computations!D389^2+Computations!$C$19*Computations!D389^3","v":2123.0232972189306},{"$f":"Computations!$J$15+Computations!$I$15*D389","v":450000},{"$f":"EXP(Computations!$J$16)*EXP(Computations!$I$16)^Computations!D389","v":450000.00000000035},{"$f":"Computations!$J$17+Computations!$I$17*LN(Computations!D389)","v":450000},{"$f":"Computations!$J$18+Computations!$I$18*Computations!D389+Computations!$H$18*Computations!D389^2","v":450000},{"$f":"Computations!$J$19+Computations!$I$19*Computations!D389+Computations!$H$19*Computations!D389^2+Computations!$G$19*Computations!D389^3","v":450000}]
[336,0.10885751557501777,0.10914936283195426,0.10900343920348601,0.63281795876285207,2.5713080030255187E-3,1986.8873579406054,450000,{"$f":"G390-H390/User_entry!$E$18","v":486.8873579406054},486.8873579406054,null,{"$f":"HLOOKUP(User_entry!$B$56,Computations!$N$54:$R$1054,Computations!A390+1,FALSE)","v":1986.8873579406054},{"$f":"HLOOKUP(User_entry!$E$56,Computations!$S$54:$W$1054,Computations!A390+1,FALSE)","v":450000},{"$f":"Computations!$F$15+Computations!$E$15*D390","v":1986.8873579406054},{"$f":"EXP(Computations!$F$16)*EXP(Computations!$E$16)^Computations!D390","v":1804.3060246164555},{"$f":"Computations!$F$17+Computations!$E$17*LN(Computations!D390)","v":2225.7423191885505},{"$f":"Computations!$F$18+Computations!$E$18*Computations!D390+Computations!$D$18*Computations!D390^2","v":2127.047384143284},{"$f":"Computations!$F$19+Computations!$E$19*Computations!D390+Computations!$D$19*Computations!D390^2+Computations!$C$19*Computations!D390^3","v":2127.047384143284},{"$f":"Computations!$J$15+Computations!$I$15*D390","v":450000},{"$f":"EXP(Computations!$J$16)*EXP(Computations!$I$16)^Computations!D390","v":450000.00000000035},{"$f":"Computations!$J$17+Computations!$I$17*LN(Computations!D390)","v":450000},{"$f":"Computations!$J$18+Computations!$I$18*Computations!D390+Computations!$H$18*Computations!D390^2","v":450000},{"$f":"Computations!$J$19+Computations!$I$19*Computations!D390+Computations!$H$19*Computations!D390^2+Computations!$G$19*Computations!D390^3","v":450000}]
[337,0.10914936283195426,0.10944121008889074,0.1092952864604225,0.63537935184528682,2.5613930824347486E-3,1990.7274534266119,450000,{"$f":"G391-H391/User_entry!$E$18","v":490.72745342661187},490.72745342661187,null,{"$f":"HLOOKUP(User_entry!$B$56,Computations!$N$54:$R$1054,Computations!A391+1,FALSE)","v":1990.7274534266119},{"$f":"HLOOKUP(User_entry!$E$56,Computations!$S$54:$W$1054,Computations!A391+1,FALSE)","v":450000},{"$f":"Computations!$F$15+Computations!$E$15*D391","v":1990.7274534266119},{"$f":"EXP(Computations!$F$16)*EXP(Computations!$E$16)^Computations!D391","v":1808.0494419067932},{"$f":"Computations!$F$17+Computations!$E$17*LN(Computations!D391)","v":2229.139268546834},{"$f":"Computations!$F$18+Computations!$E$18*Computations!D391+Computations!$D$18*Computations!D391^2","v":2131.0651618216098},{"$f":"Computations!$F$19+Computations!$E$19*Computations!D391+Computations!$D$19*Computations!D391^2+Computations!$C$19*Computations!D391^3","v":2131.0651618216098},{"$f":"Computations!$J$15+Computations!$I$15*D391","v":450000},{"$f":"EXP(Computations!$J$16)*EXP(Computations!$I$16)^Computations!D391","v":450000.00000000035},{"$f":"Computations!$J$17+Computations!$I$17*LN(Computations!D391)","v":450000},{"$f":"Computations!$J$18+Computations!$I$18*Computations!D391+Computations!$H$18*Computations!D391^2","v":450000},{"$f":"Computations!$J$19+Computations!$I$19*Computations!D391+Computations!$H$19*Computations!D391^2+Computations!$G$19*Computations!D391^3","v":450000}]
[338,0.10944121008889074,0.10973305734582722,0.10958713371735898,0.63793077256931408,2.5514207240272535E-3,1994.5675489126181,450000,{"$f":"G392-H392/User_entry!$E$18","v":494.56754891261812},494.56754891261812,null,{"$f":"HLOOKUP(User_entry!$B$56,Computations!$N$54:$R$1054,Computations!A392+1,FALSE)","v":1994.5675489126181},{"$f":"HLOOKUP(User_entry!$E$56,Computations!$S$54:$W$1054,Computations!A392+1,FALSE)","v":450000},{"$f":"Computations!$F$15+Computations!$E$15*D392","v":1994.5675489126181},{"$f":"EXP(Computations!$F$16)*EXP(Computations!$E$16)^Computations!D392","v":1811.8006257139075},{"$f":"Computations!$F$17+Computations!$E$17*LN(Computations!D392)","v":2232.5271592376562},{"$f":"Computations!$F$18+Computations!$E$18*Computations!D392+Computations!$D$18*Computations!D392^2","v":2135.0766302539064},{"$f":"Computations!$F$19+Computations!$E$19*Computations!D392+Computations!$D$19*Computations!D392^2+Computations!$C$19*Computations!D392^3","v":2135.0766302539064},{"$f":"Computations!$J$15+Computations!$I$15*D392","v":450000},{"$f":"EXP(Computations!$J$16)*EXP(Computations!$I$16)^Computations!D392","v":450000.00000000035},{"$f":"Computations!$J$17+Computations!$I$17*LN(Computations!D392)","v":450000},{"$f":"Computations!$J$18+Computations!$I$18*Computations!D392+Computations!$H$18*Computations!D392^2","v":450000},{"$f":"Computations!$J$19+Computations!$I$19*Computations!D392+Computations!$H$19*Computations!D392^2+Computations!$G$19*Computations!D392^3","v":450000}]
[339,0.10973305734582722,0.11002490460276371,0.10987898097429546,0.64047216489455971,2.5413923252456394E-3,1998.4076443986246,450000,{"$f":"G393-H393/User_entry!$E$18","v":498.4076443986246},498.4076443986246,null,{"$f":"HLOOKUP(User_entry!$B$56,Computations!$N$54:$R$1054,Computations!A393+1,FALSE)","v":1998.4076443986246},{"$f":"HLOOKUP(User_entry!$E$56,Computations!$S$54:$W$1054,Computations!A393+1,FALSE)","v":450000},{"$f":"Computations!$F$15+Computations!$E$15*D393","v":1998.4076443986246},{"$f":"EXP(Computations!$F$16)*EXP(Computations!$E$16)^Computations!D393","v":1815.5595921510921},{"$f":"Computations!$F$17+Computations!$E$17*LN(Computations!D393)","v":2235.9060394461681},{"$f":"Computations!$F$18+Computations!$E$18*Computations!D393+Computations!$D$18*Computations!D393^2","v":2139.0817894401753},{"$f":"Computations!$F$19+Computations!$E$19*Computations!D393+Computations!$D$19*Computations!D393^2+Computations!$C$19*Computations!D393^3","v":2139.0817894401753},{"$f":"Computations!$J$15+Computations!$I$15*D393","v":450000},{"$f":"EXP(Computations!$J$16)*EXP(Computations!$I$16)^Computations!D393","v":450000.00000000035},{"$f":"Computations!$J$17+Computations!$I$17*LN(Computations!D393)","v":450000},{"$f":"Computations!$J$18+Computations!$I$18*Computations!D393+Computations!$H$18*Computations!D393^2","v":450000},{"$f":"Computations!$J$19+Computations!$I$19*Computations!D393+Computations!$H$19*Computations!D393^2+Computations!$G$19*Computations!D393^3","v":450000}]
[340,0.11002490460276371,0.11031675185970019,0.11017082823123195,0.64300347417039205,2.5313092758323386E-3,2002.2477398846308,450000,{"$f":"G394-H394/User_entry!$E$18","v":502.24773988463085},502.24773988463085,null,{"$f":"HLOOKUP(User_entry!$B$56,Computations!$N$54:$R$1054,Computations!A394+1,FALSE)","v":2002.2477398846308},{"$f":"HLOOKUP(User_entry!$E$56,Computations!$S$54:$W$1054,Computations!A394+1,FALSE)","v":450000},{"$f":"Computations!$F$15+Computations!$E$15*D394","v":2002.2477398846308},{"$f":"EXP(Computations!$F$16)*EXP(Computations!$E$16)^Computations!D394","v":1819.3263573650711},{"$f":"Computations!$F$17+Computations!$E$17*LN(Computations!D394)","v":2239.275956974077},{"$f":"Computations!$F$18+Computations!$E$18*Computations!D394+Computations!$D$18*Computations!D394^2","v":2143.080639380416},{"$f":"Computations!$F$19+Computations!$E$19*Computations!D394+Computations!$D$19*Computations!D394^2+Computations!$C$19*Computations!D394^3","v":2143.080639380416},{"$f":"Computations!$J$15+Computations!$I$15*D394","v":450000},{"$f":"EXP(Computations!$J$16)*EXP(Computations!$I$16)^Computations!D394","v":450000.00000000035},{"$f":"Computations!$J$17+Computations!$I$17*LN(Computations!D394)","v":450000},{"$f":"Computations!$J$18+Computations!$I$18*Computations!D394+Computations!$H$18*Computations!D394^2","v":450000},{"$f":"Computations!$J$19+Computations!$I$19*Computations!D394+Computations!$H$19*Computations!D394^2+Computations!$G$19*Computations!D394^3","v":450000}]
[341,0.11031675185970019,0.11060859911663667,0.11046267548816843,0.64552464712807367,2.5211729576816166E-3,2006.0878353706373,450000,{"$f":"G395-H395/User_entry!$E$18","v":506.08783537063732},506.08783537063732,null,{"$f":"HLOOKUP(User_entry!$B$56,Computations!$N$54:$R$1054,Computations!A395+1,FALSE)","v":2006.0878353706373},{"$f":"HLOOKUP(User_entry!$E$56,Computations!$S$54:$W$1054,Computations!A395+1,FALSE)","v":450000},{"$f":"Computations!$F$15+Computations!$E$15*D395","v":2006.0878353706373},{"$f":"EXP(Computations!$F$16)*EXP(Computations!$E$16)^Computations!D395","v":1823.1009375360684},{"$f":"Computations!$F$17+Computations!$E$17*LN(Computations!D395)","v":2242.6369592437059},{"$f":"Computations!$F$18+Computations!$E$18*Computations!D395+Computations!$D$18*Computations!D395^2","v":2147.0731800746285},{"$f":"Computations!$F$19+Computations!$E$19*Computations!D395+Computations!$D$19*Computations!D395^2+Computations!$C$19*Computations!D395^3","v":2147.0731800746285},{"$f":"Computations!$J$15+Computations!$I$15*D395","v":450000},{"$f":"EXP(Computations!$J$16)*EXP(Computations!$I$16)^Computations!D395","v":450000.00000000035},{"$f":"Computations!$J$17+Computations!$I$17*LN(Computations!D395)","v":450000},{"$f":"Computations!$J$18+Computations!$I$18*Computations!D395+Computations!$H$18*Computations!D395^2","v":450000},{"$f":"Computations!$J$19+Computations!$I$19*Computations!D395+Computations!$H$19*Computations!D395^2+Computations!$G$19*Computations!D395^3","v":450000}]
[342,0.11060859911663667,0.11090044637357316,0.11075452274510492,0.64803563187278079,2.5109847447071232E-3,2009.9279308566436,450000,{"$f":"G396-H396/User_entry!$E$18","v":509.92793085664357},509.92793085664357,null,{"$f":"HLOOKUP(User_entry!$B$56,Computations!$N$54:$R$1054,Computations!A396+1,FALSE)","v":2009.9279308566436},{"$f":"HLOOKUP(User_entry!$E$56,Computations!$S$54:$W$1054,Computations!A396+1,FALSE)","v":450000},{"$f":"Computations!$F$15+Computations!$E$15*D396","v":2009.9279308566436},{"$f":"EXP(Computations!$F$16)*EXP(Computations!$E$16)^Computations!D396","v":1826.8833488778778},{"$f":"Computations!$F$17+Computations!$E$17*LN(Computations!D396)","v":2245.9890933019992},{"$f":"Computations!$F$18+Computations!$E$18*Computations!D396+Computations!$D$18*Computations!D396^2","v":2151.0594115228123},{"$f":"Computations!$F$19+Computations!$E$19*Computations!D396+Computations!$D$19*Computations!D396^2+Computations!$C$19*Computations!D396^3","v":2151.0594115228123},{"$f":"Computations!$J$15+Computations!$I$15*D396","v":450000},{"$f":"EXP(Computations!$J$16)*EXP(Computations!$I$16)^Computations!D396","v":450000.00000000035},{"$f":"Computations!$J$17+Computations!$I$17*LN(Computations!D396)","v":450000},{"$f":"Computations!$J$18+Computations!$I$18*Computations!D396+Computations!$H$18*Computations!D396^2","v":450000},{"$f":"Computations!$J$19+Computations!$I$19*Computations!D396+Computations!$H$19*Computations!D396^2+Computations!$G$19*Computations!D396^3","v":450000}]
[343,0.11090044637357316,0.11119229363050964,0.1110463700020414,0.65053637787548868,2.5007460027078876E-3,2013.76802634265,450000,{"$f":"G397-H397/User_entry!$E$18","v":513.76802634265005},513.76802634265005,null,{"$f":"HLOOKUP(User_entry!$B$56,Computations!$N$54:$R$1054,Computations!A397+1,FALSE)","v":2013.76802634265},{"$f":"HLOOKUP(User_entry!$E$56,Computations!$S$54:$W$1054,Computations!A397+1,FALSE)","v":450000},{"$f":"Computations!$F$15+Computations!$E$15*D397","v":2013.76802634265},{"$f":"EXP(Computations!$F$16)*EXP(Computations!$E$16)^Computations!D397","v":1830.6736076379314},{"$f":"Computations!$F$17+Computations!$E$17*LN(Computations!D397)","v":2249.3324058244684},{"$f":"Computations!$F$18+Computations!$E$18*Computations!D397+Computations!$D$18*Computations!D397^2","v":2155.0393337249684},{"$f":"Computations!$F$19+Computations!$E$19*Computations!D397+Computations!$D$19*Computations!D397^2+Computations!$C$19*Computations!D397^3","v":2155.0393337249684},{"$f":"Computations!$J$15+Computations!$I$15*D397","v":450000},{"$f":"EXP(Computations!$J$16)*EXP(Computations!$I$16)^Computations!D397","v":450000.00000000035},{"$f":"Computations!$J$17+Computations!$I$17*LN(Computations!D397)","v":450000},{"$f":"Computations!$J$18+Computations!$I$18*Computations!D397+Computations!$H$18*Computations!D397^2","v":450000},{"$f":"Computations!$J$19+Computations!$I$19*Computations!D397+Computations!$H$19*Computations!D397^2+Computations!$G$19*Computations!D397^3","v":450000}]
[344,0.11119229363050964,0.11148414088744613,0.11133821725897788,0.65302683596472721,2.4904580892385342E-3,2017.6081218286563,450000,{"$f":"G398-H398/User_entry!$E$18","v":517.60812182865629},517.60812182865629,null,{"$f":"HLOOKUP(User_entry!$B$56,Computations!$N$54:$R$1054,Computations!A398+1,FALSE)","v":2017.6081218286563},{"$f":"HLOOKUP(User_entry!$E$56,Computations!$S$54:$W$1054,Computations!A398+1,FALSE)","v":450000},{"$f":"Computations!$F$15+Computations!$E$15*D398","v":2017.6081218286563},{"$f":"EXP(Computations!$F$16)*EXP(Computations!$E$16)^Computations!D398","v":1834.4717300973707},{"$f":"Computations!$F$17+Computations!$E$17*LN(Computations!D398)","v":2252.6669431190985},{"$f":"Computations!$F$18+Computations!$E$18*Computations!D398+Computations!$D$18*Computations!D398^2","v":2159.0129466810959},{"$f":"Computations!$F$19+Computations!$E$19*Computations!D398+Computations!$D$19*Computations!D398^2+Computations!$C$19*Computations!D398^3","v":2159.0129466810959},{"$f":"Computations!$J$15+Computations!$I$15*D398","v":450000},{"$f":"EXP(Computations!$J$16)*EXP(Computations!$I$16)^Computations!D398","v":450000.00000000035},{"$f":"Computations!$J$17+Computations!$I$17*LN(Computations!D398)","v":450000},{"$f":"Computations!$J$18+Computations!$I$18*Computations!D398+Computations!$H$18*Computations!D398^2","v":450000},{"$f":"Computations!$J$19+Computations!$I$19*Computations!D398+Computations!$H$19*Computations!D398^2+Computations!$G$19*Computations!D398^3","v":450000}]
[345,0.11148414088744613,0.11177598814438261,0.11163006451591437,0.65550695831821304,2.4801223534858252E-3,2021.4482173146628,450000,{"$f":"G399-H399/User_entry!$E$18","v":521.44821731466277},521.44821731466277,null,{"$f":"HLOOKUP(User_entry!$B$56,Computations!$N$54:$R$1054,Computations!A399+1,FALSE)","v":2021.4482173146628},{"$f":"HLOOKUP(User_entry!$E$56,Computations!$S$54:$W$1054,Computations!A399+1,FALSE)","v":450000},{"$f":"Computations!$F$15+Computations!$E$15*D399","v":2021.4482173146628},{"$f":"EXP(Computations!$F$16)*EXP(Computations!$E$16)^Computations!D399","v":1838.2777325711158},{"$f":"Computations!$F$17+Computations!$E$17*LN(Computations!D399)","v":2255.9927511301926},{"$f":"Computations!$F$18+Computations!$E$18*Computations!D399+Computations!$D$18*Computations!D399^2","v":2162.9802503911951},{"$f":"Computations!$F$19+Computations!$E$19*Computations!D399+Computations!$D$19*Computations!D399^2+Computations!$C$19*Computations!D399^3","v":2162.9802503911951},{"$f":"Computations!$J$15+Computations!$I$15*D399","v":450000},{"$f":"EXP(Computations!$J$16)*EXP(Computations!$I$16)^Computations!D399","v":450000.00000000035},{"$f":"Computations!$J$17+Computations!$I$17*LN(Computations!D399)","v":450000},{"$f":"Computations!$J$18+Computations!$I$18*Computations!D399+Computations!$H$18*Computations!D399^2","v":450000},{"$f":"Computations!$J$19+Computations!$I$19*Computations!D399+Computations!$H$19*Computations!D399^2+Computations!$G$19*Computations!D399^3","v":450000}]
[346,0.11177598814438261,0.11206783540131909,0.11192191177285085,0.65797669845435869,2.4697401361456484E-3,2025.288312800669,450000,{"$f":"G400-H400/User_entry!$E$18","v":525.28831280066902},525.28831280066902,null,{"$f":"HLOOKUP(User_entry!$B$56,Computations!$N$54:$R$1054,Computations!A400+1,FALSE)","v":2025.288312800669},{"$f":"HLOOKUP(User_entry!$E$56,Computations!$S$54:$W$1054,Computations!A400+1,FALSE)","v":450000},{"$f":"Computations!$F$15+Computations!$E$15*D400","v":2025.288312800669},{"$f":"EXP(Computations!$F$16)*EXP(Computations!$E$16)^Computations!D400","v":1842.0916314079348},{"$f":"Computations!$F$17+Computations!$E$17*LN(Computations!D400)","v":2259.3098754421708},{"$f":"Computations!$F$18+Computations!$E$18*Computations!D400+Computations!$D$18*Computations!D400^2","v":2166.9412448552662},{"$f":"Computations!$F$19+Computations!$E$19*Computations!D400+Computations!$D$19*Computations!D400^2+Computations!$C$19*Computations!D400^3","v":2166.9412448552662},{"$f":"Computations!$J$15+Computations!$I$15*D400","v":450000},{"$f":"EXP(Computations!$J$16)*EXP(Computations!$I$16)^Computations!D400","v":450000.00000000035},{"$f":"Computations!$J$17+Computations!$I$17*LN(Computations!D400)","v":450000},{"$f":"Computations!$J$18+Computations!$I$18*Computations!D400+Computations!$H$18*Computations!D400^2","v":450000},{"$f":"Computations!$J$19+Computations!$I$19*Computations!D400+Computations!$H$19*Computations!D400^2+Computations!$G$19*Computations!D400^3","v":450000}]
[347,0.11206783540131909,0.11235968265825558,0.11221375902978734,0.6604360112236638,2.4593127693051109E-3,2029.1284082866755,450000,{"$f":"G401-H401/User_entry!$E$18","v":529.12840828667549},529.12840828667549,null,{"$f":"HLOOKUP(User_entry!$B$56,Computations!$N$54:$R$1054,Computations!A401+1,FALSE)","v":2029.1284082866755},{"$f":"HLOOKUP(User_entry!$E$56,Computations!$S$54:$W$1054,Computations!A401+1,FALSE)","v":450000},{"$f":"Computations!$F$15+Computations!$E$15*D401","v":2029.1284082866755},{"$f":"EXP(Computations!$F$16)*EXP(Computations!$E$16)^Computations!D401","v":1845.9134429905155},{"$f":"Computations!$F$17+Computations!$E$17*LN(Computations!D401)","v":2262.6183612833197},{"$f":"Computations!$F$18+Computations!$E$18*Computations!D401+Computations!$D$18*Computations!D401^2","v":2170.895930073309},{"$f":"Computations!$F$19+Computations!$E$19*Computations!D401+Computations!$D$19*Computations!D401^2+Computations!$C$19*Computations!D401^3","v":2170.895930073309},{"$f":"Computations!$J$15+Computations!$I$15*D401","v":450000},{"$f":"EXP(Computations!$J$16)*EXP(Computations!$I$16)^Computations!D401","v":450000.00000000035},{"$f":"Computations!$J$17+Computations!$I$17*LN(Computations!D401)","v":450000},{"$f":"Computations!$J$18+Computations!$I$18*Computations!D401+Computations!$H$18*Computations!D401^2","v":450000},{"$f":"Computations!$J$19+Computations!$I$19*Computations!D401+Computations!$H$19*Computations!D401^2+Computations!$G$19*Computations!D401^3","v":450000}]
[348,0.11235968265825558,0.11265152991519206,0.11250560628672382,0.66288485279999465,2.4488415763308513E-3,2032.9685037726817,450000,{"$f":"G402-H402/User_entry!$E$18","v":532.96850377268174},532.96850377268174,null,{"$f":"HLOOKUP(User_entry!$B$56,Computations!$N$54:$R$1054,Computations!A402+1,FALSE)","v":2032.9685037726817},{"$f":"HLOOKUP(User_entry!$E$56,Computations!$S$54:$W$1054,Computations!A402+1,FALSE)","v":450000},{"$f":"Computations!$F$15+Computations!$E$15*D402","v":2032.9685037726817},{"$f":"EXP(Computations!$F$16)*EXP(Computations!$E$16)^Computations!D402","v":1849.7431837355357},{"$f":"Computations!$F$17+Computations!$E$17*LN(Computations!D402)","v":2265.9182535294917},{"$f":"Computations!$F$18+Computations!$E$18*Computations!D402+Computations!$D$18*Computations!D402^2","v":2174.8443060453237},{"$f":"Computations!$F$19+Computations!$E$19*Computations!D402+Computations!$D$19*Computations!D402^2+Computations!$C$19*Computations!D402^3","v":2174.8443060453237},{"$f":"Computations!$J$15+Computations!$I$15*D402","v":450000},{"$f":"EXP(Computations!$J$16)*EXP(Computations!$I$16)^Computations!D402","v":450000.00000000035},{"$f":"Computations!$J$17+Computations!$I$17*LN(Computations!D402)","v":450000},{"$f":"Computations!$J$18+Computations!$I$18*Computations!D402+Computations!$H$18*Computations!D402^2","v":450000},{"$f":"Computations!$J$19+Computations!$I$19*Computations!D402+Computations!$H$19*Computations!D402^2+Computations!$G$19*Computations!D402^3","v":450000}]
[349,0.11265152991519206,0.11294337717212855,0.1127974535436603,0.66532318067174923,2.4383278717545753E-3,2036.8085992586882,450000,{"$f":"G403-H403/User_entry!$E$18","v":536.80859925868822},536.80859925868822,null,{"$f":"HLOOKUP(User_entry!$B$56,Computations!$N$54:$R$1054,Computations!A403+1,FALSE)","v":2036.8085992586882},{"$f":"HLOOKUP(User_entry!$E$56,Computations!$S$54:$W$1054,Computations!A403+1,FALSE)","v":450000},{"$f":"Computations!$F$15+Computations!$E$15*D403","v":2036.8085992586882},{"$f":"EXP(Computations!$F$16)*EXP(Computations!$E$16)^Computations!D403","v":1853.5808700937314},{"$f":"Computations!$F$17+Computations!$E$17*LN(Computations!D403)","v":2269.2095967077576},{"$f":"Computations!$F$18+Computations!$E$18*Computations!D403+Computations!$D$18*Computations!D403^2","v":2178.7863727713102},{"$f":"Computations!$F$19+Computations!$E$19*Computations!D403+Computations!$D$19*Computations!D403^2+Computations!$C$19*Computations!D403^3","v":2178.7863727713102},{"$f":"Computations!$J$15+Computations!$I$15*D403","v":450000},{"$f":"EXP(Computations!$J$16)*EXP(Computations!$I$16)^Computations!D403","v":450000.00000000035},{"$f":"Computations!$J$17+Computations!$I$17*LN(Computations!D403)","v":450000},{"$f":"Computations!$J$18+Computations!$I$18*Computations!D403+Computations!$H$18*Computations!D403^2","v":450000},{"$f":"Computations!$J$19+Computations!$I$19*Computations!D403+Computations!$H$19*Computations!D403^2+Computations!$G$19*Computations!D403^3","v":450000}]
[350,0.11294337717212855,0.11323522442906503,0.11308930080059679,0.66775095363291637,2.4277729611671406E-3,2040.6486947446945,450000,{"$f":"G404-H404/User_entry!$E$18","v":540.64869474469447},540.64869474469447,null,{"$f":"HLOOKUP(User_entry!$B$56,Computations!$N$54:$R$1054,Computations!A404+1,FALSE)","v":2040.6486947446945},{"$f":"HLOOKUP(User_entry!$E$56,Computations!$S$54:$W$1054,Computations!A404+1,FALSE)","v":450000},{"$f":"Computations!$F$15+Computations!$E$15*D404","v":2040.6486947446945},{"$f":"EXP(Computations!$F$16)*EXP(Computations!$E$16)^Computations!D404","v":1857.4265185499701},{"$f":"Computations!$F$17+Computations!$E$17*LN(Computations!D404)","v":2272.4924350000119},{"$f":"Computations!$F$18+Computations!$E$18*Computations!D404+Computations!$D$18*Computations!D404^2","v":2182.722130251268},{"$f":"Computations!$F$19+Computations!$E$19*Computations!D404+Computations!$D$19*Computations!D404^2+Computations!$C$19*Computations!D404^3","v":2182.722130251268},{"$f":"Computations!$J$15+Computations!$I$15*D404","v":450000},{"$f":"EXP(Computations!$J$16)*EXP(Computations!$I$16)^Computations!D404","v":450000.00000000035},{"$f":"Computations!$J$17+Computations!$I$17*LN(Computations!D404)","v":450000},{"$f":"Computations!$J$18+Computations!$I$18*Computations!D404+Computations!$H$18*Computations!D404^2","v":450000},{"$f":"Computations!$J$19+Computations!$I$19*Computations!D404+Computations!$H$19*Computations!D404^2+Computations!$G$19*Computations!D404^3","v":450000}]
[351,0.11323522442906503,0.11352707168600151,0.11338114805753327,0.67016813177403489,2.4171781411185256E-3,2044.4887902307009,450000,{"$f":"G405-H405/User_entry!$E$18","v":544.48879023070094},544.48879023070094,null,{"$f":"HLOOKUP(User_entry!$B$56,Computations!$N$54:$R$1054,Computations!A405+1,FALSE)","v":2044.4887902307009},{"$f":"HLOOKUP(User_entry!$E$56,Computations!$S$54:$W$1054,Computations!A405+1,FALSE)","v":450000},{"$f":"Computations!$F$15+Computations!$E$15*D405","v":2044.4887902307009},{"$f":"EXP(Computations!$F$16)*EXP(Computations!$E$16)^Computations!D405","v":1861.2801456233215},{"$f":"Computations!$F$17+Computations!$E$17*LN(Computations!D405)","v":2275.7668122465325},{"$f":"Computations!$F$18+Computations!$E$18*Computations!D405+Computations!$D$18*Computations!D405^2","v":2186.6515784851977},{"$f":"Computations!$F$19+Computations!$E$19*Computations!D405+Computations!$D$19*Computations!D405^2+Computations!$C$19*Computations!D405^3","v":2186.6515784851977},{"$f":"Computations!$J$15+Computations!$I$15*D405","v":450000},{"$f":"EXP(Computations!$J$16)*EXP(Computations!$I$16)^Computations!D405","v":450000.00000000035},{"$f":"Computations!$J$17+Computations!$I$17*LN(Computations!D405)","v":450000},{"$f":"Computations!$J$18+Computations!$I$18*Computations!D405+Computations!$H$18*Computations!D405^2","v":450000},{"$f":"Computations!$J$19+Computations!$I$19*Computations!D405+Computations!$H$19*Computations!D405^2+Computations!$G$19*Computations!D405^3","v":450000}]
[352,0.11352707168600151,0.113818918942938,0.11367299531446975,0.67257467647304647,2.4065446990115813E-3,2048.3288857167072,450000,{"$f":"G406-H406/User_entry!$E$18","v":548.32888571670719},548.32888571670719,null,{"$f":"HLOOKUP(User_entry!$B$56,Computations!$N$54:$R$1054,Computations!A406+1,FALSE)","v":2048.3288857167072},{"$f":"HLOOKUP(User_entry!$E$56,Computations!$S$54:$W$1054,Computations!A406+1,FALSE)","v":450000},{"$f":"Computations!$F$15+Computations!$E$15*D406","v":2048.3288857167072},{"$f":"EXP(Computations!$F$16)*EXP(Computations!$E$16)^Computations!D406","v":1865.141767867126},{"$f":"Computations!$F$17+Computations!$E$17*LN(Computations!D406)","v":2279.0327719494894},{"$f":"Computations!$F$18+Computations!$E$18*Computations!D406+Computations!$D$18*Computations!D406^2","v":2190.5747174730996},{"$f":"Computations!$F$19+Computations!$E$19*Computations!D406+Computations!$D$19*Computations!D406^2+Computations!$C$19*Computations!D406^3","v":2190.5747174730996},{"$f":"Computations!$J$15+Computations!$I$15*D406","v":450000},{"$f":"EXP(Computations!$J$16)*EXP(Computations!$I$16)^Computations!D406","v":450000.00000000035},{"$f":"Computations!$J$17+Computations!$I$17*LN(Computations!D406)","v":450000},{"$f":"Computations!$J$18+Computations!$I$18*Computations!D406+Computations!$H$18*Computations!D406^2","v":450000},{"$f":"Computations!$J$19+Computations!$I$19*Computations!D406+Computations!$H$19*Computations!D406^2+Computations!$G$19*Computations!D406^3","v":450000}]
[353,0.113818918942938,0.11411076619987448,0.11396484257140624,0.67497055038605902,2.3958739130125473E-3,2052.1689812027134,450000,{"$f":"G407-H407/User_entry!$E$18","v":552.16898120271344},552.16898120271344,null,{"$f":"HLOOKUP(User_entry!$B$56,Computations!$N$54:$R$1054,Computations!A407+1,FALSE)","v":2052.1689812027134},{"$f":"HLOOKUP(User_entry!$E$56,Computations!$S$54:$W$1054,Computations!A407+1,FALSE)","v":450000},{"$f":"Computations!$F$15+Computations!$E$15*D407","v":2052.1689812027134},{"$f":"EXP(Computations!$F$16)*EXP(Computations!$E$16)^Computations!D407","v":1869.0114018690685},{"$f":"Computations!$F$17+Computations!$E$17*LN(Computations!D407)","v":2282.2903572764185},{"$f":"Computations!$F$18+Computations!$E$18*Computations!D407+Computations!$D$18*Computations!D407^2","v":2194.4915472149728},{"$f":"Computations!$F$19+Computations!$E$19*Computations!D407+Computations!$D$19*Computations!D407^2+Computations!$C$19*Computations!D407^3","v":2194.4915472149728},{"$f":"Computations!$J$15+Computations!$I$15*D407","v":450000},{"$f":"EXP(Computations!$J$16)*EXP(Computations!$I$16)^Computations!D407","v":450000.00000000035},{"$f":"Computations!$J$17+Computations!$I$17*LN(Computations!D407)","v":450000},{"$f":"Computations!$J$18+Computations!$I$18*Computations!D407+Computations!$H$18*Computations!D407^2","v":450000},{"$f":"Computations!$J$19+Computations!$I$19*Computations!D407+Computations!$H$19*Computations!D407^2+Computations!$G$19*Computations!D407^3","v":450000}]
[354,0.11411076619987448,0.11440261345681096,0.11425668982834272,0.67735571743800826,2.3851670519492441E-3,2056.0090766887197,450000,{"$f":"G408-H408/User_entry!$E$18","v":556.00907668871969},556.00907668871969,null,{"$f":"HLOOKUP(User_entry!$B$56,Computations!$N$54:$R$1054,Computations!A408+1,FALSE)","v":2056.0090766887197},{"$f":"HLOOKUP(User_entry!$E$56,Computations!$S$54:$W$1054,Computations!A408+1,FALSE)","v":450000},{"$f":"Computations!$F$15+Computations!$E$15*D408","v":2056.0090766887197},{"$f":"EXP(Computations!$F$16)*EXP(Computations!$E$16)^Computations!D408","v":1872.8890642512483},{"$f":"Computations!$F$17+Computations!$E$17*LN(Computations!D408)","v":2285.5396110636389},{"$f":"Computations!$F$18+Computations!$E$18*Computations!D408+Computations!$D$18*Computations!D408^2","v":2198.4020677108178},{"$f":"Computations!$F$19+Computations!$E$19*Computations!D408+Computations!$D$19*Computations!D408^2+Computations!$C$19*Computations!D408^3","v":2198.4020677108178},{"$f":"Computations!$J$15+Computations!$I$15*D408","v":450000},{"$f":"EXP(Computations!$J$16)*EXP(Computations!$I$16)^Computations!D408","v":450000.00000000035},{"$f":"Computations!$J$17+Computations!$I$17*LN(Computations!D408)","v":450000},{"$f":"Computations!$J$18+Computations!$I$18*Computations!D408+Computations!$H$18*Computations!D408^2","v":450000},{"$f":"Computations!$J$19+Computations!$I$19*Computations!D408+Computations!$H$19*Computations!D408^2+Computations!$G$19*Computations!D408^3","v":450000}]
[355,0.11440261345681096,0.11469446071374745,0.11454853708527921,0.67973014281323874,2.3744253752304711E-3,2059.8491721747264,450000,{"$f":"G409-H409/User_entry!$E$18","v":559.84917217472639},559.84917217472639,null,{"$f":"HLOOKUP(User_entry!$B$56,Computations!$N$54:$R$1054,Computations!A409+1,FALSE)","v":2059.8491721747264},{"$f":"HLOOKUP(User_entry!$E$56,Computations!$S$54:$W$1054,Computations!A409+1,FALSE)","v":450000},{"$f":"Computations!$F$15+Computations!$E$15*D409","v":2059.8491721747264},{"$f":"EXP(Computations!$F$16)*EXP(Computations!$E$16)^Computations!D409","v":1876.7747716702513},{"$f":"Computations!$F$17+Computations!$E$17*LN(Computations!D409)","v":2288.7805758196382},{"$f":"Computations!$F$18+Computations!$E$18*Computations!D409+Computations!$D$18*Computations!D409^2","v":2202.3062789606347},{"$f":"Computations!$F$19+Computations!$E$19*Computations!D409+Computations!$D$19*Computations!D409^2+Computations!$C$19*Computations!D409^3","v":2202.3062789606347},{"$f":"Computations!$J$15+Computations!$I$15*D409","v":450000},{"$f":"EXP(Computations!$J$16)*EXP(Computations!$I$16)^Computations!D409","v":450000.00000000035},{"$f":"Computations!$J$17+Computations!$I$17*LN(Computations!D409)","v":450000},{"$f":"Computations!$J$18+Computations!$I$18*Computations!D409+Computations!$H$18*Computations!D409^2","v":450000},{"$f":"Computations!$J$19+Computations!$I$19*Computations!D409+Computations!$H$19*Computations!D409^2+Computations!$G$19*Computations!D409^3","v":450000}]
[356,0.11469446071374745,0.11498630797068393,0.11484038434221569,0.68209379294598982,2.3636501327510828E-3,2063.6892676607326,450000,{"$f":"G410-H410/User_entry!$E$18","v":563.68926766073264},563.68926766073264,null,{"$f":"HLOOKUP(User_entry!$B$56,Computations!$N$54:$R$1054,Computations!A410+1,FALSE)","v":2063.6892676607326},{"$f":"HLOOKUP(User_entry!$E$56,Computations!$S$54:$W$1054,Computations!A410+1,FALSE)","v":450000},{"$f":"Computations!$F$15+Computations!$E$15*D410","v":2063.6892676607326},{"$f":"EXP(Computations!$F$16)*EXP(Computations!$E$16)^Computations!D410","v":1880.6685408172195},{"$f":"Computations!$F$17+Computations!$E$17*LN(Computations!D410)","v":2292.0132937284052},{"$f":"Computations!$F$18+Computations!$E$18*Computations!D410+Computations!$D$18*Computations!D410^2","v":2206.2041809644234},{"$f":"Computations!$F$19+Computations!$E$19*Computations!D410+Computations!$D$19*Computations!D410^2+Computations!$C$19*Computations!D410^3","v":2206.2041809644234},{"$f":"Computations!$J$15+Computations!$I$15*D410","v":450000},{"$f":"EXP(Computations!$J$16)*EXP(Computations!$I$16)^Computations!D410","v":450000.00000000035},{"$f":"Computations!$J$17+Computations!$I$17*LN(Computations!D410)","v":450000},{"$f":"Computations!$J$18+Computations!$I$18*Computations!D410+Computations!$H$18*Computations!D410^2","v":450000},{"$f":"Computations!$J$19+Computations!$I$19*Computations!D410+Computations!$H$19*Computations!D410^2+Computations!$G$19*Computations!D410^3","v":450000}]
[357,0.11498630797068393,0.11527815522762042,0.11513223159915217,0.68444663551080676,2.3528425648169371E-3,2067.5293631467393,450000,{"$f":"G411-H411/User_entry!$E$18","v":567.52936314673934},567.52936314673934,null,{"$f":"HLOOKUP(User_entry!$B$56,Computations!$N$54:$R$1054,Computations!A411+1,FALSE)","v":2067.5293631467393},{"$f":"HLOOKUP(User_entry!$E$56,Computations!$S$54:$W$1054,Computations!A411+1,FALSE)","v":450000},{"$f":"Computations!$F$15+Computations!$E$15*D411","v":2067.5293631467393},{"$f":"EXP(Computations!$F$16)*EXP(Computations!$E$16)^Computations!D411","v":1884.5703884179263},{"$f":"Computations!$F$17+Computations!$E$17*LN(Computations!D411)","v":2295.2378066527267},{"$f":"Computations!$F$18+Computations!$E$18*Computations!D411+Computations!$D$18*Computations!D411^2","v":2210.0957737221834},{"$f":"Computations!$F$19+Computations!$E$19*Computations!D411+Computations!$D$19*Computations!D411^2+Computations!$C$19*Computations!D411^3","v":2210.0957737221834},{"$f":"Computations!$J$15+Computations!$I$15*D411","v":450000},{"$f":"EXP(Computations!$J$16)*EXP(Computations!$I$16)^Computations!D411","v":450000.00000000035},{"$f":"Computations!$J$17+Computations!$I$17*LN(Computations!D411)","v":450000},{"$f":"Computations!$J$18+Computations!$I$18*Computations!D411+Computations!$H$18*Computations!D411^2","v":450000},{"$f":"Computations!$J$19+Computations!$I$19*Computations!D411+Computations!$H$19*Computations!D411^2+Computations!$G$19*Computations!D411^3","v":450000}]
[358,0.11527815522762042,0.1155700024845569,0.11542407885608866,0.68678863941286261,2.3420039020558558E-3,2071.3694586327456,450000,{"$f":"G412-H412/User_entry!$E$18","v":571.36945863274559},571.36945863274559,null,{"$f":"HLOOKUP(User_entry!$B$56,Computations!$N$54:$R$1054,Computations!A412+1,FALSE)","v":2071.3694586327456},{"$f":"HLOOKUP(User_entry!$E$56,Computations!$S$54:$W$1054,Computations!A412+1,FALSE)","v":450000},{"$f":"Computations!$F$15+Computations!$E$15*D412","v":2071.3694586327456},{"$f":"EXP(Computations!$F$16)*EXP(Computations!$E$16)^Computations!D412","v":1888.4803312328445},{"$f":"Computations!$F$17+Computations!$E$17*LN(Computations!D412)","v":2298.4541561374385},{"$f":"Computations!$F$18+Computations!$E$18*Computations!D412+Computations!$D$18*Computations!D412^2","v":2213.9810572339161},{"$f":"Computations!$F$19+Computations!$E$19*Computations!D412+Computations!$D$19*Computations!D412^2+Computations!$C$19*Computations!D412^3","v":2213.9810572339161},{"$f":"Computations!$J$15+Computations!$I$15*D412","v":450000},{"$f":"EXP(Computations!$J$16)*EXP(Computations!$I$16)^Computations!D412","v":450000.00000000035},{"$f":"Computations!$J$17+Computations!$I$17*LN(Computations!D412)","v":450000},{"$f":"Computations!$J$18+Computations!$I$18*Computations!D412+Computations!$H$18*Computations!D412^2","v":450000},{"$f":"Computations!$J$19+Computations!$I$19*Computations!D412+Computations!$H$19*Computations!D412^2+Computations!$G$19*Computations!D412^3","v":450000}]
[359,0.1155700024845569,0.11586184974149338,0.11571592611302514,0.6891197747782134,2.3311353653507894E-3,2075.2095541187518,450000,{"$f":"G413-H413/User_entry!$E$18","v":575.20955411875184},575.20955411875184,null,{"$f":"HLOOKUP(User_entry!$B$56,Computations!$N$54:$R$1054,Computations!A413+1,FALSE)","v":2075.2095541187518},{"$f":"HLOOKUP(User_entry!$E$56,Computations!$S$54:$W$1054,Computations!A413+1,FALSE)","v":450000},{"$f":"Computations!$F$15+Computations!$E$15*D413","v":2075.2095541187518},{"$f":"EXP(Computations!$F$16)*EXP(Computations!$E$16)^Computations!D413","v":1892.3983860572212},{"$f":"Computations!$F$17+Computations!$E$17*LN(Computations!D413)","v":2301.6623834126394},{"$f":"Computations!$F$18+Computations!$E$18*Computations!D413+Computations!$D$18*Computations!D413^2","v":2217.8600314996197},{"$f":"Computations!$F$19+Computations!$E$19*Computations!D413+Computations!$D$19*Computations!D413^2+Computations!$C$19*Computations!D413^3","v":2217.8600314996197},{"$f":"Computations!$J$15+Computations!$I$15*D413","v":450000},{"$f":"EXP(Computations!$J$16)*EXP(Computations!$I$16)^Computations!D413","v":450000.00000000035},{"$f":"Computations!$J$17+Computations!$I$17*LN(Computations!D413)","v":450000},{"$f":"Computations!$J$18+Computations!$I$18*Computations!D413+Computations!$H$18*Computations!D413^2","v":450000},{"$f":"Computations!$J$19+Computations!$I$19*Computations!D413+Computations!$H$19*Computations!D413^2+Computations!$G$19*Computations!D413^3","v":450000}]
[360,0.11586184974149338,0.11615369699842987,0.11600777336996163,0.69144001294396995,2.3202381657565496E-3,2079.0496496047581,450000,{"$f":"G414-H414/User_entry!$E$18","v":579.04964960475809},579.04964960475809,null,{"$f":"HLOOKUP(User_entry!$B$56,Computations!$N$54:$R$1054,Computations!A414+1,FALSE)","v":2079.0496496047581},{"$f":"HLOOKUP(User_entry!$E$56,Computations!$S$54:$W$1054,Computations!A414+1,FALSE)","v":450000},{"$f":"Computations!$F$15+Computations!$E$15*D414","v":2079.0496496047581},{"$f":"EXP(Computations!$F$16)*EXP(Computations!$E$16)^Computations!D414","v":1896.3245697211485},{"$f":"Computations!$F$17+Computations!$E$17*LN(Computations!D414)","v":2304.8625293968594},{"$f":"Computations!$F$18+Computations!$E$18*Computations!D414+Computations!$D$18*Computations!D414^2","v":2221.7326965192956},{"$f":"Computations!$F$19+Computations!$E$19*Computations!D414+Computations!$D$19*Computations!D414^2+Computations!$C$19*Computations!D414^3","v":2221.7326965192956},{"$f":"Computations!$J$15+Computations!$I$15*D414","v":450000},{"$f":"EXP(Computations!$J$16)*EXP(Computations!$I$16)^Computations!D414","v":450000.00000000035},{"$f":"Computations!$J$17+Computations!$I$17*LN(Computations!D414)","v":450000},{"$f":"Computations!$J$18+Computations!$I$18*Computations!D414+Computations!$H$18*Computations!D414^2","v":450000},{"$f":"Computations!$J$19+Computations!$I$19*Computations!D414+Computations!$H$19*Computations!D414^2+Computations!$G$19*Computations!D414^3","v":450000}]
[361,0.11615369699842987,0.11644554425536635,0.11629962062689811,0.69374932644840726,2.3093135044373048E-3,2082.8897450907643,450000,{"$f":"G415-H415/User_entry!$E$18","v":582.88974509076434},582.88974509076434,null,{"$f":"HLOOKUP(User_entry!$B$56,Computations!$N$54:$R$1054,Computations!A415+1,FALSE)","v":2082.8897450907643},{"$f":"HLOOKUP(User_entry!$E$56,Computations!$S$54:$W$1054,Computations!A415+1,FALSE)","v":450000},{"$f":"Computations!$F$15+Computations!$E$15*D415","v":2082.8897450907643},{"$f":"EXP(Computations!$F$16)*EXP(Computations!$E$16)^Computations!D415","v":1900.2588990896361},{"$f":"Computations!$F$17+Computations!$E$17*LN(Computations!D415)","v":2308.0546347001946},{"$f":"Computations!$F$18+Computations!$E$18*Computations!D415+Computations!$D$18*Computations!D415^2","v":2225.5990522929428},{"$f":"Computations!$F$19+Computations!$E$19*Computations!D415+Computations!$D$19*Computations!D415^2+Computations!$C$19*Computations!D415^3","v":2225.5990522929428},{"$f":"Computations!$J$15+Computations!$I$15*D415","v":450000},{"$f":"EXP(Computations!$J$16)*EXP(Computations!$I$16)^Computations!D415","v":450000.00000000035},{"$f":"Computations!$J$17+Computations!$I$17*LN(Computations!D415)","v":450000},{"$f":"Computations!$J$18+Computations!$I$18*Computations!D415+Computations!$H$18*Computations!D415^2","v":450000},{"$f":"Computations!$J$19+Computations!$I$19*Computations!D415+Computations!$H$19*Computations!D415^2+Computations!$G$19*Computations!D415^3","v":450000}]
[362,0.11644554425536635,0.11673739151230283,0.11659146788383459,0.69604768902100145,2.2983625725941925E-3,2086.7298405767706,450000,{"$f":"G416-H416/User_entry!$E$18","v":586.72984057677058},586.72984057677058,null,{"$f":"HLOOKUP(User_entry!$B$56,Computations!$N$54:$R$1054,Computations!A416+1,FALSE)","v":2086.7298405767706},{"$f":"HLOOKUP(User_entry!$E$56,Computations!$S$54:$W$1054,Computations!A416+1,FALSE)","v":450000},{"$f":"Computations!$F$15+Computations!$E$15*D416","v":2086.7298405767706},{"$f":"EXP(Computations!$F$16)*EXP(Computations!$E$16)^Computations!D416","v":1904.2013910626831},{"$f":"Computations!$F$17+Computations!$E$17*LN(Computations!D416)","v":2311.2387396273953},{"$f":"Computations!$F$18+Computations!$E$18*Computations!D416+Computations!$D$18*Computations!D416^2","v":2229.4590988205618},{"$f":"Computations!$F$19+Computations!$E$19*Computations!D416+Computations!$D$19*Computations!D416^2+Computations!$C$19*Computations!D416^3","v":2229.4590988205618},{"$f":"Computations!$J$15+Computations!$I$15*D416","v":450000},{"$f":"EXP(Computations!$J$16)*EXP(Computations!$I$16)^Computations!D416","v":450000.00000000035},{"$f":"Computations!$J$17+Computations!$I$17*LN(Computations!D416)","v":450000},{"$f":"Computations!$J$18+Computations!$I$18*Computations!D416+Computations!$H$18*Computations!D416^2","v":450000},{"$f":"Computations!$J$19+Computations!$I$19*Computations!D416+Computations!$H$19*Computations!D416^2+Computations!$G$19*Computations!D416^3","v":450000}]
[363,0.11673739151230283,0.11702923876923932,0.11688331514077108,0.69833507557240548,2.2873865514040359E-3,2090.5699360627773,450000,{"$f":"G417-H417/User_entry!$E$18","v":590.56993606277729},590.56993606277729,null,{"$f":"HLOOKUP(User_entry!$B$56,Computations!$N$54:$R$1054,Computations!A417+1,FALSE)","v":2090.5699360627773},{"$f":"HLOOKUP(User_entry!$E$56,Computations!$S$54:$W$1054,Computations!A417+1,FALSE)","v":450000},{"$f":"Computations!$F$15+Computations!$E$15*D417","v":2090.5699360627773},{"$f":"EXP(Computations!$F$16)*EXP(Computations!$E$16)^Computations!D417","v":1908.1520625753526},{"$f":"Computations!$F$17+Computations!$E$17*LN(Computations!D417)","v":2314.4148841809229},{"$f":"Computations!$F$18+Computations!$E$18*Computations!D417+Computations!$D$18*Computations!D417^2","v":2233.3128361021527},{"$f":"Computations!$F$19+Computations!$E$19*Computations!D417+Computations!$D$19*Computations!D417^2+Computations!$C$19*Computations!D417^3","v":2233.3128361021527},{"$f":"Computations!$J$15+Computations!$I$15*D417","v":450000},{"$f":"EXP(Computations!$J$16)*EXP(Computations!$I$16)^Computations!D417","v":450000.00000000035},{"$f":"Computations!$J$17+Computations!$I$17*LN(Computations!D417)","v":450000},{"$f":"Computations!$J$18+Computations!$I$18*Computations!D417+Computations!$H$18*Computations!D417^2","v":450000},{"$f":"Computations!$J$19+Computations!$I$19*Computations!D417+Computations!$H$19*Computations!D417^2+Computations!$G$19*Computations!D417^3","v":450000}]
[364,0.11702923876923932,0.1173210860261758,0.11717516239770756,0.7006114621843611,2.2763866119556164E-3,2094.4100315487835,450000,{"$f":"G418-H418/User_entry!$E$18","v":594.41003154878354},594.41003154878354,null,{"$f":"HLOOKUP(User_entry!$B$56,Computations!$N$54:$R$1054,Computations!A418+1,FALSE)","v":2094.4100315487835},{"$f":"HLOOKUP(User_entry!$E$56,Computations!$S$54:$W$1054,Computations!A418+1,FALSE)","v":450000},{"$f":"Computations!$F$15+Computations!$E$15*D418","v":2094.4100315487835},{"$f":"EXP(Computations!$F$16)*EXP(Computations!$E$16)^Computations!D418","v":1912.1109305978421},{"$f":"Computations!$F$17+Computations!$E$17*LN(Computations!D418)","v":2317.5831080639641},{"$f":"Computations!$F$18+Computations!$E$18*Computations!D418+Computations!$D$18*Computations!D418^2","v":2237.1602641377153},{"$f":"Computations!$F$19+Computations!$E$19*Computations!D418+Computations!$D$19*Computations!D418^2+Computations!$C$19*Computations!D418^3","v":2237.1602641377153},{"$f":"Computations!$J$15+Computations!$I$15*D418","v":450000},{"$f":"EXP(Computations!$J$16)*EXP(Computations!$I$16)^Computations!D418","v":450000.00000000035},{"$f":"Computations!$J$17+Computations!$I$17*LN(Computations!D418)","v":450000},{"$f":"Computations!$J$18+Computations!$I$18*Computations!D418+Computations!$H$18*Computations!D418^2","v":450000},{"$f":"Computations!$J$19+Computations!$I$19*Computations!D418+Computations!$H$19*Computations!D418^2+Computations!$G$19*Computations!D418^3","v":450000}]
[365,0.1173210860261758,0.11761293328311229,0.11746700965464404,0.70287682609955693,2.2653639151958282E-3,2098.2501270347902,450000,{"$f":"G419-H419/User_entry!$E$18","v":598.25012703479024},598.25012703479024,null,{"$f":"HLOOKUP(User_entry!$B$56,Computations!$N$54:$R$1054,Computations!A419+1,FALSE)","v":2098.2501270347902},{"$f":"HLOOKUP(User_entry!$E$56,Computations!$S$54:$W$1054,Computations!A419+1,FALSE)","v":450000},{"$f":"Computations!$F$15+Computations!$E$15*D419","v":2098.2501270347902},{"$f":"EXP(Computations!$F$16)*EXP(Computations!$E$16)^Computations!D419","v":1916.0780121355574},{"$f":"Computations!$F$17+Computations!$E$17*LN(Computations!D419)","v":2320.7434506834088},{"$f":"Computations!$F$18+Computations!$E$18*Computations!D419+Computations!$D$18*Computations!D419^2","v":2241.0013829272498},{"$f":"Computations!$F$19+Computations!$E$19*Computations!D419+Computations!$D$19*Computations!D419^2+Computations!$C$19*Computations!D419^3","v":2241.0013829272498},{"$f":"Computations!$J$15+Computations!$I$15*D419","v":450000},{"$f":"EXP(Computations!$J$16)*EXP(Computations!$I$16)^Computations!D419","v":450000.00000000035},{"$f":"Computations!$J$17+Computations!$I$17*LN(Computations!D419)","v":450000},{"$f":"Computations!$J$18+Computations!$I$18*Computations!D419+Computations!$H$18*Computations!D419^2","v":450000},{"$f":"Computations!$J$19+Computations!$I$19*Computations!D419+Computations!$H$19*Computations!D419^2+Computations!$G$19*Computations!D419^3","v":450000}]
[366,0.11761293328311229,0.11790478054004877,0.11775885691158053,0.70513114571142321,2.2543196118662845E-3,2102.0902225207965,450000,{"$f":"G420-H420/User_entry!$E$18","v":602.09022252079649},602.09022252079649,null,{"$f":"HLOOKUP(User_entry!$B$56,Computations!$N$54:$R$1054,Computations!A420+1,FALSE)","v":2102.0902225207965},{"$f":"HLOOKUP(User_entry!$E$56,Computations!$S$54:$W$1054,Computations!A420+1,FALSE)","v":450000},{"$f":"Computations!$F$15+Computations!$E$15*D420","v":2102.0902225207965},{"$f":"EXP(Computations!$F$16)*EXP(Computations!$E$16)^Computations!D420","v":1920.0533242291863},{"$f":"Computations!$F$17+Computations!$E$17*LN(Computations!D420)","v":2323.8959511527905},{"$f":"Computations!$F$18+Computations!$E$18*Computations!D420+Computations!$D$18*Computations!D420^2","v":2244.836192470756},{"$f":"Computations!$F$19+Computations!$E$19*Computations!D420+Computations!$D$19*Computations!D420^2+Computations!$C$19*Computations!D420^3","v":2244.836192470756},{"$f":"Computations!$J$15+Computations!$I$15*D420","v":450000},{"$f":"EXP(Computations!$J$16)*EXP(Computations!$I$16)^Computations!D420","v":450000.00000000035},{"$f":"Computations!$J$17+Computations!$I$17*LN(Computations!D420)","v":450000},{"$f":"Computations!$J$18+Computations!$I$18*Computations!D420+Computations!$H$18*Computations!D420^2","v":450000},{"$f":"Computations!$J$19+Computations!$I$19*Computations!D420+Computations!$H$19*Computations!D420^2+Computations!$G$19*Computations!D420^3","v":450000}]
[367,0.11790478054004877,0.11819662779698525,0.11805070416851701,0.70737440055388445,2.2432548424612397E-3,2105.9303180068027,450000,{"$f":"G421-H421/User_entry!$E$18","v":605.93031800680274},605.93031800680274,null,{"$f":"HLOOKUP(User_entry!$B$56,Computations!$N$54:$R$1054,Computations!A421+1,FALSE)","v":2105.9303180068027},{"$f":"HLOOKUP(User_entry!$E$56,Computations!$S$54:$W$1054,Computations!A421+1,FALSE)","v":450000},{"$f":"Computations!$F$15+Computations!$E$15*D421","v":2105.9303180068027},{"$f":"EXP(Computations!$F$16)*EXP(Computations!$E$16)^Computations!D421","v":1924.0368839547702},{"$f":"Computations!$F$17+Computations!$E$17*LN(Computations!D421)","v":2327.0406482951907},{"$f":"Computations!$F$18+Computations!$E$18*Computations!D421+Computations!$D$18*Computations!D421^2","v":2248.6646927682336},{"$f":"Computations!$F$19+Computations!$E$19*Computations!D421+Computations!$D$19*Computations!D421^2+Computations!$C$19*Computations!D421^3","v":2248.6646927682336},{"$f":"Computations!$J$15+Computations!$I$15*D421","v":450000},{"$f":"EXP(Computations!$J$16)*EXP(Computations!$I$16)^Computations!D421","v":450000.00000000035},{"$f":"Computations!$J$17+Computations!$I$17*LN(Computations!D421)","v":450000},{"$f":"Computations!$J$18+Computations!$I$18*Computations!D421+Computations!$H$18*Computations!D421^2","v":450000},{"$f":"Computations!$J$19+Computations!$I$19*Computations!D421+Computations!$H$19*Computations!D421^2+Computations!$G$19*Computations!D421^3","v":450000}]
[368,0.11819662779698525,0.11848847505392174,0.1183425514254535,0.70960657129105464,2.2321707371701915E-3,2109.770413492809,450000,{"$f":"G422-H422/User_entry!$E$18","v":609.77041349280898},609.77041349280898,null,{"$f":"HLOOKUP(User_entry!$B$56,Computations!$N$54:$R$1054,Computations!A422+1,FALSE)","v":2109.770413492809},{"$f":"HLOOKUP(User_entry!$E$56,Computations!$S$54:$W$1054,Computations!A422+1,FALSE)","v":450000},{"$f":"Computations!$F$15+Computations!$E$15*D422","v":2109.770413492809},{"$f":"EXP(Computations!$F$16)*EXP(Computations!$E$16)^Computations!D422","v":1928.0287084237793},{"$f":"Computations!$F$17+Computations!$E$17*LN(Computations!D422)","v":2330.1775806461101},{"$f":"Computations!$F$18+Computations!$E$18*Computations!D422+Computations!$D$18*Computations!D422^2","v":2252.4868838196835},{"$f":"Computations!$F$19+Computations!$E$19*Computations!D422+Computations!$D$19*Computations!D422^2+Computations!$C$19*Computations!D422^3","v":2252.4868838196835},{"$f":"Computations!$J$15+Computations!$I$15*D422","v":450000},{"$f":"EXP(Computations!$J$16)*EXP(Computations!$I$16)^Computations!D422","v":450000.00000000035},{"$f":"Computations!$J$17+Computations!$I$17*LN(Computations!D422)","v":450000},{"$f":"Computations!$J$18+Computations!$I$18*Computations!D422+Computations!$H$18*Computations!D422^2","v":450000},{"$f":"Computations!$J$19+Computations!$I$19*Computations!D422+Computations!$H$19*Computations!D422^2+Computations!$G$19*Computations!D422^3","v":450000}]
[369,0.11848847505392174,0.11878032231085822,0.11863439868238998,0.71182763970688745,2.2210684158328053E-3,2113.6105089788152,450000,{"$f":"G423-H423/User_entry!$E$18","v":613.61050897881523},613.61050897881523,null,{"$f":"HLOOKUP(User_entry!$B$56,Computations!$N$54:$R$1054,Computations!A423+1,FALSE)","v":2113.6105089788152},{"$f":"HLOOKUP(User_entry!$E$56,Computations!$S$54:$W$1054,Computations!A423+1,FALSE)","v":450000},{"$f":"Computations!$F$15+Computations!$E$15*D423","v":2113.6105089788152},{"$f":"EXP(Computations!$F$16)*EXP(Computations!$E$16)^Computations!D423","v":1932.0288147831848},{"$f":"Computations!$F$17+Computations!$E$17*LN(Computations!D423)","v":2333.3067864562977},{"$f":"Computations!$F$18+Computations!$E$18*Computations!D423+Computations!$D$18*Computations!D423^2","v":2256.3027656251047},{"$f":"Computations!$F$19+Computations!$E$19*Computations!D423+Computations!$D$19*Computations!D423^2+Computations!$C$19*Computations!D423^3","v":2256.3027656251047},{"$f":"Computations!$J$15+Computations!$I$15*D423","v":450000},{"$f":"EXP(Computations!$J$16)*EXP(Computations!$I$16)^Computations!D423","v":450000.00000000035},{"$f":"Computations!$J$17+Computations!$I$17*LN(Computations!D423)","v":450000},{"$f":"Computations!$J$18+Computations!$I$18*Computations!D423+Computations!$H$18*Computations!D423^2","v":450000},{"$f":"Computations!$J$19+Computations!$I$19*Computations!D423+Computations!$H$19*Computations!D423^2+Computations!$G$19*Computations!D423^3","v":450000}]
[370,0.11878032231085822,0.11907216956779471,0.11892624593932646,0.71403758869478784,2.2099489879003897E-3,2117.4506044648215,450000,{"$f":"G424-H424/User_entry!$E$18","v":617.45060446482148},617.45060446482148,null,{"$f":"HLOOKUP(User_entry!$B$56,Computations!$N$54:$R$1054,Computations!A424+1,FALSE)","v":2117.4506044648215},{"$f":"HLOOKUP(User_entry!$E$56,Computations!$S$54:$W$1054,Computations!A424+1,FALSE)","v":450000},{"$f":"Computations!$F$15+Computations!$E$15*D424","v":2117.4506044648215},{"$f":"EXP(Computations!$F$16)*EXP(Computations!$E$16)^Computations!D424","v":1936.0372202155327},{"$f":"Computations!$F$17+Computations!$E$17*LN(Computations!D424)","v":2336.4283036945549},{"$f":"Computations!$F$18+Computations!$E$18*Computations!D424+Computations!$D$18*Computations!D424^2","v":2260.1123381844982},{"$f":"Computations!$F$19+Computations!$E$19*Computations!D424+Computations!$D$19*Computations!D424^2+Computations!$C$19*Computations!D424^3","v":2260.1123381844982},{"$f":"Computations!$J$15+Computations!$I$15*D424","v":450000},{"$f":"EXP(Computations!$J$16)*EXP(Computations!$I$16)^Computations!D424","v":450000.00000000035},{"$f":"Computations!$J$17+Computations!$I$17*LN(Computations!D424)","v":450000},{"$f":"Computations!$J$18+Computations!$I$18*Computations!D424+Computations!$H$18*Computations!D424^2","v":450000},{"$f":"Computations!$J$19+Computations!$I$19*Computations!D424+Computations!$H$19*Computations!D424^2+Computations!$G$19*Computations!D424^3","v":450000}]
[371,0.11907216956779471,0.11936401682473119,0.11921809319626295,0.716236402247173,2.1988135523851593E-3,2121.2906999508282,450000,{"$f":"G425-H425/User_entry!$E$18","v":621.29069995082818},621.29069995082818,null,{"$f":"HLOOKUP(User_entry!$B$56,Computations!$N$54:$R$1054,Computations!A425+1,FALSE)","v":2121.2906999508282},{"$f":"HLOOKUP(User_entry!$E$56,Computations!$S$54:$W$1054,Computations!A425+1,FALSE)","v":450000},{"$f":"Computations!$F$15+Computations!$E$15*D425","v":2121.2906999508282},{"$f":"EXP(Computations!$F$16)*EXP(Computations!$E$16)^Computations!D425","v":1940.0539419390184},{"$f":"Computations!$F$17+Computations!$E$17*LN(Computations!D425)","v":2339.5421700504935},{"$f":"Computations!$F$18+Computations!$E$18*Computations!D425+Computations!$D$18*Computations!D425^2","v":2263.9156014978626},{"$f":"Computations!$F$19+Computations!$E$19*Computations!D425+Computations!$D$19*Computations!D425^2+Computations!$C$19*Computations!D425^3","v":2263.9156014978626},{"$f":"Computations!$J$15+Computations!$I$15*D425","v":450000},{"$f":"EXP(Computations!$J$16)*EXP(Computations!$I$16)^Computations!D425","v":450000.00000000035},{"$f":"Computations!$J$17+Computations!$I$17*LN(Computations!D425)","v":450000},{"$f":"Computations!$J$18+Computations!$I$18*Computations!D425+Computations!$H$18*Computations!D425^2","v":450000},{"$f":"Computations!$J$19+Computations!$I$19*Computations!D425+Computations!$H$19*Computations!D425^2+Computations!$G$19*Computations!D425^3","v":450000}]
[372,0.11936401682473119,0.11965586408166767,0.11950994045319943,0.71842406544500514,2.1876631978321459E-3,2125.1307954368344,450000,{"$f":"G426-H426/User_entry!$E$18","v":625.13079543683443},625.13079543683443,null,{"$f":"HLOOKUP(User_entry!$B$56,Computations!$N$54:$R$1054,Computations!A426+1,FALSE)","v":2125.1307954368344},{"$f":"HLOOKUP(User_entry!$E$56,Computations!$S$54:$W$1054,Computations!A426+1,FALSE)","v":450000},{"$f":"Computations!$F$15+Computations!$E$15*D426","v":2125.1307954368344},{"$f":"EXP(Computations!$F$16)*EXP(Computations!$E$16)^Computations!D426","v":1944.0789972075602},{"$f":"Computations!$F$17+Computations!$E$17*LN(Computations!D426)","v":2342.6484229372713},{"$f":"Computations!$F$18+Computations!$E$18*Computations!D426+Computations!$D$18*Computations!D426^2","v":2267.7125555651996},{"$f":"Computations!$F$19+Computations!$E$19*Computations!D426+Computations!$D$19*Computations!D426^2+Computations!$C$19*Computations!D426^3","v":2267.7125555651996},{"$f":"Computations!$J$15+Computations!$I$15*D426","v":450000},{"$f":"EXP(Computations!$J$16)*EXP(Computations!$I$16)^Computations!D426","v":450000.00000000035},{"$f":"Computations!$J$17+Computations!$I$17*LN(Computations!D426)","v":450000},{"$f":"Computations!$J$18+Computations!$I$18*Computations!D426+Computations!$H$18*Computations!D426^2","v":450000},{"$f":"Computations!$J$19+Computations!$I$19*Computations!D426+Computations!$H$19*Computations!D426^2+Computations!$G$19*Computations!D426^3","v":450000}]
[373,0.11965586408166767,0.11994771133860416,0.11980178771013592,0.72060056444727971,2.1764990022745678E-3,2128.9708909228411,450000,{"$f":"G427-H427/User_entry!$E$18","v":628.97089092284114},628.97089092284114,null,{"$f":"HLOOKUP(User_entry!$B$56,Computations!$N$54:$R$1054,Computations!A427+1,FALSE)","v":2128.9708909228411},{"$f":"HLOOKUP(User_entry!$E$56,Computations!$S$54:$W$1054,Computations!A427+1,FALSE)","v":450000},{"$f":"Computations!$F$15+Computations!$E$15*D427","v":2128.9708909228411},{"$f":"EXP(Computations!$F$16)*EXP(Computations!$E$16)^Computations!D427","v":1948.1124033108717},{"$f":"Computations!$F$17+Computations!$E$17*LN(Computations!D427)","v":2345.7470994942864},{"$f":"Computations!$F$18+Computations!$E$18*Computations!D427+Computations!$D$18*Computations!D427^2","v":2271.5032003865076},{"$f":"Computations!$F$19+Computations!$E$19*Computations!D427+Computations!$D$19*Computations!D427^2+Computations!$C$19*Computations!D427^3","v":2271.5032003865076},{"$f":"Computations!$J$15+Computations!$I$15*D427","v":450000},{"$f":"EXP(Computations!$J$16)*EXP(Computations!$I$16)^Computations!D427","v":450000.00000000035},{"$f":"Computations!$J$17+Computations!$I$17*LN(Computations!D427)","v":450000},{"$f":"Computations!$J$18+Computations!$I$18*Computations!D427+Computations!$H$18*Computations!D427^2","v":450000},{"$f":"Computations!$J$19+Computations!$I$19*Computations!D427+Computations!$H$19*Computations!D427^2+Computations!$G$19*Computations!D427^3","v":450000}]
[374,0.11994771133860416,0.12023955859554064,0.1200936349670724,0.7227658864804869,2.1653220332071843E-3,2132.8109864088474,450000,{"$f":"G428-H428/User_entry!$E$18","v":632.81098640884738},632.81098640884738,null,{"$f":"HLOOKUP(User_entry!$B$56,Computations!$N$54:$R$1054,Computations!A428+1,FALSE)","v":2132.8109864088474},{"$f":"HLOOKUP(User_entry!$E$56,Computations!$S$54:$W$1054,Computations!A428+1,FALSE)","v":450000},{"$f":"Computations!$F$15+Computations!$E$15*D428","v":2132.8109864088474},{"$f":"EXP(Computations!$F$16)*EXP(Computations!$E$16)^Computations!D428","v":1952.1541775745397},{"$f":"Computations!$F$17+Computations!$E$17*LN(Computations!D428)","v":2348.8382365898433},{"$f":"Computations!$F$18+Computations!$E$18*Computations!D428+Computations!$D$18*Computations!D428^2","v":2275.2875359617883},{"$f":"Computations!$F$19+Computations!$E$19*Computations!D428+Computations!$D$19*Computations!D428^2+Computations!$C$19*Computations!D428^3","v":2275.2875359617883},{"$f":"Computations!$J$15+Computations!$I$15*D428","v":450000},{"$f":"EXP(Computations!$J$16)*EXP(Computations!$I$16)^Computations!D428","v":450000.00000000035},{"$f":"Computations!$J$17+Computations!$I$17*LN(Computations!D428)","v":450000},{"$f":"Computations!$J$18+Computations!$I$18*Computations!D428+Computations!$H$18*Computations!D428^2","v":450000},{"$f":"Computations!$J$19+Computations!$I$19*Computations!D428+Computations!$H$19*Computations!D428^2+Computations!$G$19*Computations!D428^3","v":450000}]
[375,0.12023955859554064,0.12053140585247712,0.12038548222400888,0.72492001982803955,2.1541333475526558E-3,2136.6510818948536,450000,{"$f":"G429-H429/User_entry!$E$18","v":636.65108189485363},636.65108189485363,null,{"$f":"HLOOKUP(User_entry!$B$56,Computations!$N$54:$R$1054,Computations!A429+1,FALSE)","v":2136.6510818948536},{"$f":"HLOOKUP(User_entry!$E$56,Computations!$S$54:$W$1054,Computations!A429+1,FALSE)","v":450000},{"$f":"Computations!$F$15+Computations!$E$15*D429","v":2136.6510818948536},{"$f":"EXP(Computations!$F$16)*EXP(Computations!$E$16)^Computations!D429","v":1956.2043373600961},{"$f":"Computations!$F$17+Computations!$E$17*LN(Computations!D429)","v":2351.9218708237831},{"$f":"Computations!$F$18+Computations!$E$18*Computations!D429+Computations!$D$18*Computations!D429^2","v":2279.0655622910399},{"$f":"Computations!$F$19+Computations!$E$19*Computations!D429+Computations!$D$19*Computations!D429^2+Computations!$C$19*Computations!D429^3","v":2279.0655622910399},{"$f":"Computations!$J$15+Computations!$I$15*D429","v":450000},{"$f":"EXP(Computations!$J$16)*EXP(Computations!$I$16)^Computations!D429","v":450000.00000000035},{"$f":"Computations!$J$17+Computations!$I$17*LN(Computations!D429)","v":450000},{"$f":"Computations!$J$18+Computations!$I$18*Computations!D429+Computations!$H$18*Computations!D429^2","v":450000},{"$f":"Computations!$J$19+Computations!$I$19*Computations!D429+Computations!$H$19*Computations!D429^2+Computations!$G$19*Computations!D429^3","v":450000}]
[376,0.12053140585247712,0.12082325310941361,0.12067732948094537,0.72706295381967334,2.1429339916337886E-3,2140.4911773808599,450000,{"$f":"G430-H430/User_entry!$E$18","v":640.49117738085988},640.49117738085988,null,{"$f":"HLOOKUP(User_entry!$B$56,Computations!$N$54:$R$1054,Computations!A430+1,FALSE)","v":2140.4911773808599},{"$f":"HLOOKUP(User_entry!$E$56,Computations!$S$54:$W$1054,Computations!A430+1,FALSE)","v":450000},{"$f":"Computations!$F$15+Computations!$E$15*D430","v":2140.4911773808599},{"$f":"EXP(Computations!$F$16)*EXP(Computations!$E$16)^Computations!D430","v":1960.2629000650923},{"$f":"Computations!$F$17+Computations!$E$17*LN(Computations!D430)","v":2354.9980385300846},{"$f":"Computations!$F$18+Computations!$E$18*Computations!D430+Computations!$D$18*Computations!D430^2","v":2282.8372793742637},{"$f":"Computations!$F$19+Computations!$E$19*Computations!D430+Computations!$D$19*Computations!D430^2+Computations!$C$19*Computations!D430^3","v":2282.8372793742637},{"$f":"Computations!$J$15+Computations!$I$15*D430","v":450000},{"$f":"EXP(Computations!$J$16)*EXP(Computations!$I$16)^Computations!D430","v":450000.00000000035},{"$f":"Computations!$J$17+Computations!$I$17*LN(Computations!D430)","v":450000},{"$f":"Computations!$J$18+Computations!$I$18*Computations!D430+Computations!$H$18*Computations!D430^2","v":450000},{"$f":"Computations!$J$19+Computations!$I$19*Computations!D430+Computations!$H$19*Computations!D430^2+Computations!$G$19*Computations!D430^3","v":450000}]
[377,0.12082325310941361,0.12111510036635009,0.12096917673788185,0.72919467882082278,2.1317250011494426E-3,2144.3312728668661,450000,{"$f":"G431-H431/User_entry!$E$18","v":644.33127286686613},644.33127286686613,null,{"$f":"HLOOKUP(User_entry!$B$56,Computations!$N$54:$R$1054,Computations!A431+1,FALSE)","v":2144.3312728668661},{"$f":"HLOOKUP(User_entry!$E$56,Computations!$S$54:$W$1054,Computations!A431+1,FALSE)","v":450000},{"$f":"Computations!$F$15+Computations!$E$15*D431","v":2144.3312728668661},{"$f":"EXP(Computations!$F$16)*EXP(Computations!$E$16)^Computations!D431","v":1964.329883123175},{"$f":"Computations!$F$17+Computations!$E$17*LN(Computations!D431)","v":2358.0667757794349},{"$f":"Computations!$F$18+Computations!$E$18*Computations!D431+Computations!$D$18*Computations!D431^2","v":2286.6026872114589},{"$f":"Computations!$F$19+Computations!$E$19*Computations!D431+Computations!$D$19*Computations!D431^2+Computations!$C$19*Computations!D431^3","v":2286.6026872114589},{"$f":"Computations!$J$15+Computations!$I$15*D431","v":450000},{"$f":"EXP(Computations!$J$16)*EXP(Computations!$I$16)^Computations!D431","v":450000.00000000035},{"$f":"Computations!$J$17+Computations!$I$17*LN(Computations!D431)","v":450000},{"$f":"Computations!$J$18+Computations!$I$18*Computations!D431+Computations!$H$18*Computations!D431^2","v":450000},{"$f":"Computations!$J$19+Computations!$I$19*Computations!D431+Computations!$H$19*Computations!D431^2+Computations!$G$19*Computations!D431^3","v":450000}]
[378,0.12111510036635009,0.12140694762328658,0.12126102399481833,0.73131518622197234,2.1205074011495517E-3,2148.1713683528724,450000,{"$f":"G432-H432/User_entry!$E$18","v":648.17136835287238},648.17136835287238,null,{"$f":"HLOOKUP(User_entry!$B$56,Computations!$N$54:$R$1054,Computations!A432+1,FALSE)","v":2148.1713683528724},{"$f":"HLOOKUP(User_entry!$E$56,Computations!$S$54:$W$1054,Computations!A432+1,FALSE)","v":450000},{"$f":"Computations!$F$15+Computations!$E$15*D432","v":2148.1713683528724},{"$f":"EXP(Computations!$F$16)*EXP(Computations!$E$16)^Computations!D432","v":1968.4053040041615},{"$f":"Computations!$F$17+Computations!$E$17*LN(Computations!D432)","v":2361.1281183817623},{"$f":"Computations!$F$18+Computations!$E$18*Computations!D432+Computations!$D$18*Computations!D432^2","v":2290.3617858026264},{"$f":"Computations!$F$19+Computations!$E$19*Computations!D432+Computations!$D$19*Computations!D432^2+Computations!$C$19*Computations!D432^3","v":2290.3617858026264},{"$f":"Computations!$J$15+Computations!$I$15*D432","v":450000},{"$f":"EXP(Computations!$J$16)*EXP(Computations!$I$16)^Computations!D432","v":450000.00000000035},{"$f":"Computations!$J$17+Computations!$I$17*LN(Computations!D432)","v":450000},{"$f":"Computations!$J$18+Computations!$I$18*Computations!D432+Computations!$H$18*Computations!D432^2","v":450000},{"$f":"Computations!$J$19+Computations!$I$19*Computations!D432+Computations!$H$19*Computations!D432^2+Computations!$G$19*Computations!D432^3","v":450000}]
[379,0.12140694762328658,0.12169879488022306,0.12155287125175482,0.73342446842798859,2.1092822060162497E-3,2152.0114638388791,450000,{"$f":"G433-H433/User_entry!$E$18","v":652.01146383887908},652.01146383887908,null,{"$f":"HLOOKUP(User_entry!$B$56,Computations!$N$54:$R$1054,Computations!A433+1,FALSE)","v":2152.0114638388791},{"$f":"HLOOKUP(User_entry!$E$56,Computations!$S$54:$W$1054,Computations!A433+1,FALSE)","v":450000},{"$f":"Computations!$F$15+Computations!$E$15*D433","v":2152.0114638388791},{"$f":"EXP(Computations!$F$16)*EXP(Computations!$E$16)^Computations!D433","v":1972.4891802141124},{"$f":"Computations!$F$17+Computations!$E$17*LN(Computations!D433)","v":2364.1821018887495},{"$f":"Computations!$F$18+Computations!$E$18*Computations!D433+Computations!$D$18*Computations!D433^2","v":2294.1145751477648},{"$f":"Computations!$F$19+Computations!$E$19*Computations!D433+Computations!$D$19*Computations!D433^2+Computations!$C$19*Computations!D433^3","v":2294.1145751477648},{"$f":"Computations!$J$15+Computations!$I$15*D433","v":450000},{"$f":"EXP(Computations!$J$16)*EXP(Computations!$I$16)^Computations!D433","v":450000.00000000035},{"$f":"Computations!$J$17+Computations!$I$17*LN(Computations!D433)","v":450000},{"$f":"Computations!$J$18+Computations!$I$18*Computations!D433+Computations!$H$18*Computations!D433^2","v":450000},{"$f":"Computations!$J$19+Computations!$I$19*Computations!D433+Computations!$H$19*Computations!D433^2+Computations!$G$19*Computations!D433^3","v":450000}]
[380,0.12169879488022306,0.12199064213715954,0.1218447185086913,0.73552251884743636,2.0980504194477723E-3,2155.8515593248853,450000,{"$f":"G434-H434/User_entry!$E$18","v":655.85155932488533},655.85155932488533,null,{"$f":"HLOOKUP(User_entry!$B$56,Computations!$N$54:$R$1054,Computations!A434+1,FALSE)","v":2155.8515593248853},{"$f":"HLOOKUP(User_entry!$E$56,Computations!$S$54:$W$1054,Computations!A434+1,FALSE)","v":450000},{"$f":"Computations!$F$15+Computations!$E$15*D434","v":2155.8515593248853},{"$f":"EXP(Computations!$F$16)*EXP(Computations!$E$16)^Computations!D434","v":1976.5815292954096},{"$f":"Computations!$F$17+Computations!$E$17*LN(Computations!D434)","v":2367.2287615963069},{"$f":"Computations!$F$18+Computations!$E$18*Computations!D434+Computations!$D$18*Computations!D434^2","v":2297.8610552468758},{"$f":"Computations!$F$19+Computations!$E$19*Computations!D434+Computations!$D$19*Computations!D434^2+Computations!$C$19*Computations!D434^3","v":2297.8610552468758},{"$f":"Computations!$J$15+Computations!$I$15*D434","v":450000},{"$f":"EXP(Computations!$J$16)*EXP(Computations!$I$16)^Computations!D434","v":450000.00000000035},{"$f":"Computations!$J$17+Computations!$I$17*LN(Computations!D434)","v":450000},{"$f":"Computations!$J$18+Computations!$I$18*Computations!D434+Computations!$H$18*Computations!D434^2","v":450000},{"$f":"Computations!$J$19+Computations!$I$19*Computations!D434+Computations!$H$19*Computations!D434^2+Computations!$G$19*Computations!D434^3","v":450000}]
[381,0.12199064213715954,0.12228248939409603,0.12213656576562779,0.7376093318818725,2.0868130344361413E-3,2159.691654810892,450000,{"$f":"G435-H435/User_entry!$E$18","v":659.69165481089203},659.69165481089203,null,{"$f":"HLOOKUP(User_entry!$B$56,Computations!$N$54:$R$1054,Computations!A435+1,FALSE)","v":2159.691654810892},{"$f":"HLOOKUP(User_entry!$E$56,Computations!$S$54:$W$1054,Computations!A435+1,FALSE)","v":450000},{"$f":"Computations!$F$15+Computations!$E$15*D435","v":2159.691654810892},{"$f":"EXP(Computations!$F$16)*EXP(Computations!$E$16)^Computations!D435","v":1980.6823688268305},{"$f":"Computations!$F$17+Computations!$E$17*LN(Computations!D435)","v":2370.2681325470212},{"$f":"Computations!$F$18+Computations!$E$18*Computations!D435+Computations!$D$18*Computations!D435^2","v":2301.6012260999578},{"$f":"Computations!$F$19+Computations!$E$19*Computations!D435+Computations!$D$19*Computations!D435^2+Computations!$C$19*Computations!D435^3","v":2301.6012260999578},{"$f":"Computations!$J$15+Computations!$I$15*D435","v":450000},{"$f":"EXP(Computations!$J$16)*EXP(Computations!$I$16)^Computations!D435","v":450000.00000000035},{"$f":"Computations!$J$17+Computations!$I$17*LN(Computations!D435)","v":450000},{"$f":"Computations!$J$18+Computations!$I$18*Computations!D435+Computations!$H$18*Computations!D435^2","v":450000},{"$f":"Computations!$J$19+Computations!$I$19*Computations!D435+Computations!$H$19*Computations!D435^2+Computations!$G$19*Computations!D435^3","v":450000}]
[382,0.12228248939409603,0.12257433665103251,0.12242841302256427,0.73968490291513311,2.0755710332606148E-3,2163.5317502968983,450000,{"$f":"G436-H436/User_entry!$E$18","v":663.53175029689828},663.53175029689828,null,{"$f":"HLOOKUP(User_entry!$B$56,Computations!$N$54:$R$1054,Computations!A436+1,FALSE)","v":2163.5317502968983},{"$f":"HLOOKUP(User_entry!$E$56,Computations!$S$54:$W$1054,Computations!A436+1,FALSE)","v":450000},{"$f":"Computations!$F$15+Computations!$E$15*D436","v":2163.5317502968983},{"$f":"EXP(Computations!$F$16)*EXP(Computations!$E$16)^Computations!D436","v":1984.7917164236219},{"$f":"Computations!$F$17+Computations!$E$17*LN(Computations!D436)","v":2373.3002495325741},{"$f":"Computations!$F$18+Computations!$E$18*Computations!D436+Computations!$D$18*Computations!D436^2","v":2305.3350877070125},{"$f":"Computations!$F$19+Computations!$E$19*Computations!D436+Computations!$D$19*Computations!D436^2+Computations!$C$19*Computations!D436^3","v":2305.3350877070125},{"$f":"Computations!$J$15+Computations!$I$15*D436","v":450000},{"$f":"EXP(Computations!$J$16)*EXP(Computations!$I$16)^Computations!D436","v":450000.00000000035},{"$f":"Computations!$J$17+Computations!$I$17*LN(Computations!D436)","v":450000},{"$f":"Computations!$J$18+Computations!$I$18*Computations!D436+Computations!$H$18*Computations!D436^2","v":450000},{"$f":"Computations!$J$19+Computations!$I$19*Computations!D436+Computations!$H$19*Computations!D436^2+Computations!$G$19*Computations!D436^3","v":450000}]
[383,0.12257433665103251,0.122866183907969,0.12272026027950075,0.74174922830260681,2.0643253874736978E-3,2167.3718457829045,450000,{"$f":"G437-H437/User_entry!$E$18","v":667.37184578290453},667.37184578290453,null,{"$f":"HLOOKUP(User_entry!$B$56,Computations!$N$54:$R$1054,Computations!A437+1,FALSE)","v":2167.3718457829045},{"$f":"HLOOKUP(User_entry!$E$56,Computations!$S$54:$W$1054,Computations!A437+1,FALSE)","v":450000},{"$f":"Computations!$F$15+Computations!$E$15*D437","v":2167.3718457829045},{"$f":"EXP(Computations!$F$16)*EXP(Computations!$E$16)^Computations!D437","v":1988.9095897375789},{"$f":"Computations!$F$17+Computations!$E$17*LN(Computations!D437)","v":2376.3251470961322},{"$f":"Computations!$F$18+Computations!$E$18*Computations!D437+Computations!$D$18*Computations!D437^2","v":2309.062640068038},{"$f":"Computations!$F$19+Computations!$E$19*Computations!D437+Computations!$D$19*Computations!D437^2+Computations!$C$19*Computations!D437^3","v":2309.062640068038},{"$f":"Computations!$J$15+Computations!$I$15*D437","v":450000},{"$f":"EXP(Computations!$J$16)*EXP(Computations!$I$16)^Computations!D437","v":450000.00000000035},{"$f":"Computations!$J$17+Computations!$I$17*LN(Computations!D437)","v":450000},{"$f":"Computations!$J$18+Computations!$I$18*Computations!D437+Computations!$H$18*Computations!D437^2","v":450000},{"$f":"Computations!$J$19+Computations!$I$19*Computations!D437+Computations!$H$19*Computations!D437^2+Computations!$G$19*Computations!D437^3","v":450000}]
[384,0.122866183907969,0.12315803116490548,0.12301210753643724,0.74380230536049941,2.0530770578925939E-3,2171.2119412689108,450000,{"$f":"G438-H438/User_entry!$E$18","v":671.21194126891078},671.21194126891078,null,{"$f":"HLOOKUP(User_entry!$B$56,Computations!$N$54:$R$1054,Computations!A438+1,FALSE)","v":2171.2119412689108},{"$f":"HLOOKUP(User_entry!$E$56,Computations!$S$54:$W$1054,Computations!A438+1,FALSE)","v":450000},{"$f":"Computations!$F$15+Computations!$E$15*D438","v":2171.2119412689108},{"$f":"EXP(Computations!$F$16)*EXP(Computations!$E$16)^Computations!D438","v":1993.0360064571184},{"$f":"Computations!$F$17+Computations!$E$17*LN(Computations!D438)","v":2379.3428595347068},{"$f":"Computations!$F$18+Computations!$E$18*Computations!D438+Computations!$D$18*Computations!D438^2","v":2312.7838831830354},{"$f":"Computations!$F$19+Computations!$E$19*Computations!D438+Computations!$D$19*Computations!D438^2+Computations!$C$19*Computations!D438^3","v":2312.7838831830354},{"$f":"Computations!$J$15+Computations!$I$15*D438","v":450000},{"$f":"EXP(Computations!$J$16)*EXP(Computations!$I$16)^Computations!D438","v":450000.00000000035},{"$f":"Computations!$J$17+Computations!$I$17*LN(Computations!D438)","v":450000},{"$f":"Computations!$J$18+Computations!$I$18*Computations!D438+Computations!$H$18*Computations!D438^2","v":450000},{"$f":"Computations!$J$19+Computations!$I$19*Computations!D438+Computations!$H$19*Computations!D438^2+Computations!$G$19*Computations!D438^3","v":450000}]
[385,0.12315803116490548,0.12344987842184196,0.12330395479337372,0.74584413235509184,2.0418269945924328E-3,2175.052036754917,450000,{"$f":"G439-H439/User_entry!$E$18","v":675.05203675491703},675.05203675491703,null,{"$f":"HLOOKUP(User_entry!$B$56,Computations!$N$54:$R$1054,Computations!A439+1,FALSE)","v":2175.052036754917},{"$f":"HLOOKUP(User_entry!$E$56,Computations!$S$54:$W$1054,Computations!A439+1,FALSE)","v":450000},{"$f":"Computations!$F$15+Computations!$E$15*D439","v":2175.052036754917},{"$f":"EXP(Computations!$F$16)*EXP(Computations!$E$16)^Computations!D439","v":1997.1709843073554},{"$f":"Computations!$F$17+Computations!$E$17*LN(Computations!D439)","v":2382.3534209014897},{"$f":"Computations!$F$18+Computations!$E$18*Computations!D439+Computations!$D$18*Computations!D439^2","v":2316.4988170520051},{"$f":"Computations!$F$19+Computations!$E$19*Computations!D439+Computations!$D$19*Computations!D439^2+Computations!$C$19*Computations!D439^3","v":2316.4988170520051},{"$f":"Computations!$J$15+Computations!$I$15*D439","v":450000},{"$f":"EXP(Computations!$J$16)*EXP(Computations!$I$16)^Computations!D439","v":450000.00000000035},{"$f":"Computations!$J$17+Computations!$I$17*LN(Computations!D439)","v":450000},{"$f":"Computations!$J$18+Computations!$I$18*Computations!D439+Computations!$H$18*Computations!D439^2","v":450000},{"$f":"Computations!$J$19+Computations!$I$19*Computations!D439+Computations!$H$19*Computations!D439^2+Computations!$G$19*Computations!D439^3","v":450000}]
[386,0.12344987842184196,{"$f":"B440+$D$11","v":0.12374172567877845},{"$f":"AVERAGE(B440:C440)","v":0.12359580205031021},{"$f":"IF($D$3=\"Beta\",_xlfn.BETA.DIST(C440,$D$4,$D$5,TRUE),IF($D$3=\"Gamma\",_xlfn.GAMMA.DIST(C440,$D$4,$D$5,TRUE),IF($D$3=\"Lognorm\",_xlfn.LOGNORM.DIST(C440,$D$4,$D$5,TRUE),_xlfn.NORM.DIST(C440,$D$4,$D$5,TRUE))))","v":0.74787470849199322},{"$f":"E440-E439","v":2.0305761369013853E-3},{"$f":"L440","v":2178.8921322409237},{"$f":"M440","v":450000},{"$f":"G440-H440/User_entry!$E$18","v":678.89213224092373},{"$f":"MAX(I440,0)","v":678.89213224092373},null,{"$f":"HLOOKUP(User_entry!$B$56,Computations!$N$54:$R$1054,Computations!A440+1,FALSE)","v":2178.8921322409237},{"$f":"HLOOKUP(User_entry!$E$56,Computations!$S$54:$W$1054,Computations!A440+1,FALSE)","v":450000},{"$f":"Computations!$F$15+Computations!$E$15*D440","v":2178.8921322409237},{"$f":"EXP(Computations!$F$16)*EXP(Computations!$E$16)^Computations!D440","v":2001.3145410501795},{"$f":"Computations!$F$17+Computations!$E$17*LN(Computations!D440)","v":2385.3568650081547},{"$f":"Computations!$F$18+Computations!$E$18*Computations!D440+Computations!$D$18*Computations!D440^2","v":2320.207441674946},{"$f":"Computations!$F$19+Computations!$E$19*Computations!D440+Computations!$D$19*Computations!D440^2+Computations!$C$19*Computations!D440^3","v":2320.207441674946},{"$f":"Computations!$J$15+Computations!$I$15*D440","v":450000},{"$f":"EXP(Computations!$J$16)*EXP(Computations!$I$16)^Computations!D440","v":450000.00000000035},{"$f":"Computations!$J$17+Computations!$I$17*LN(Computations!D440)","v":450000},{"$f":"Computations!$J$18+Computations!$I$18*Computations!D440+Computations!$H$18*Computations!D440^2","v":450000},{"$f":"Computations!$J$19+Computations!$I$19*Computations!D440+Computations!$H$19*Computations!D440^2+Computations!$G$19*Computations!D440^3","v":450000}]
[387,{"$f":"C440","v":0.12374172567877845},0.12403357293571493,0.12388764930724669,0.74989403390539411,2.0193254134008853E-3,2182.73222772693,450000,{"$f":"G441-H441/User_entry!$E$18","v":682.73222772692998},682.73222772692998,null,{"$f":"HLOOKUP(User_entry!$B$56,Computations!$N$54:$R$1054,Computations!A441+1,FALSE)","v":2182.73222772693},{"$f":"HLOOKUP(User_entry!$E$56,Computations!$S$54:$W$1054,Computations!A441+1,FALSE)","v":450000},{"$f":"Computations!$F$15+Computations!$E$15*D441","v":2182.73222772693},{"$f":"EXP(Computations!$F$16)*EXP(Computations!$E$16)^Computations!D441","v":2005.4666944843318},{"$f":"Computations!$F$17+Computations!$E$17*LN(Computations!D441)","v":2388.3532254271422},{"$f":"Computations!$F$18+Computations!$E$18*Computations!D441+Computations!$D$18*Computations!D441^2","v":2323.9097570518593},{"$f":"Computations!$F$19+Computations!$E$19*Computations!D441+Computations!$D$19*Computations!D441^2+Computations!$C$19*Computations!D441^3","v":2323.9097570518593},{"$f":"Computations!$J$15+Computations!$I$15*D441","v":450000},{"$f":"EXP(Computations!$J$16)*EXP(Computations!$I$16)^Computations!D441","v":450000.00000000035},{"$f":"Computations!$J$17+Computations!$I$17*LN(Computations!D441)","v":450000},{"$f":"Computations!$J$18+Computations!$I$18*Computations!D441+Computations!$H$18*Computations!D441^2","v":450000},{"$f":"Computations!$J$19+Computations!$I$19*Computations!D441+Computations!$H$19*Computations!D441^2+Computations!$G$19*Computations!D441^3","v":450000}]
[388,0.12403357293571493,0.12432542019265141,0.12417949656418317,0.75190210964731374,2.0080757419196349E-3,2186.5723232129367,450000,{"$f":"G442-H442/User_entry!$E$18","v":686.57232321293668},686.57232321293668,null,{"$f":"HLOOKUP(User_entry!$B$56,Computations!$N$54:$R$1054,Computations!A442+1,FALSE)","v":2186.5723232129367},{"$f":"HLOOKUP(User_entry!$E$56,Computations!$S$54:$W$1054,Computations!A442+1,FALSE)","v":450000},{"$f":"Computations!$F$15+Computations!$E$15*D442","v":2186.5723232129367},{"$f":"EXP(Computations!$F$16)*EXP(Computations!$E$16)^Computations!D442","v":2009.6274624454795},{"$f":"Computations!$F$17+Computations!$E$17*LN(Computations!D442)","v":2391.3425354939036},{"$f":"Computations!$F$18+Computations!$E$18*Computations!D442+Computations!$D$18*Computations!D442^2","v":2327.6057631827434},{"$f":"Computations!$F$19+Computations!$E$19*Computations!D442+Computations!$D$19*Computations!D442^2+Computations!$C$19*Computations!D442^3","v":2327.6057631827434},{"$f":"Computations!$J$15+Computations!$I$15*D442","v":450000},{"$f":"EXP(Computations!$J$16)*EXP(Computations!$I$16)^Computations!D442","v":450000.00000000035},{"$f":"Computations!$J$17+Computations!$I$17*LN(Computations!D442)","v":450000},{"$f":"Computations!$J$18+Computations!$I$18*Computations!D442+Computations!$H$18*Computations!D442^2","v":450000},{"$f":"Computations!$J$19+Computations!$I$19*Computations!D442+Computations!$H$19*Computations!D442^2+Computations!$G$19*Computations!D442^3","v":450000}]
[389,0.12432542019265141,0.1246172674495879,0.12447134382111966,0.753898937676859,1.9968280295452612E-3,2190.4124186989429,450000,{"$f":"G443-H443/User_entry!$E$18","v":690.41241869894293},690.41241869894293,null,{"$f":"HLOOKUP(User_entry!$B$56,Computations!$N$54:$R$1054,Computations!A443+1,FALSE)","v":2190.4124186989429},{"$f":"HLOOKUP(User_entry!$E$56,Computations!$S$54:$W$1054,Computations!A443+1,FALSE)","v":450000},{"$f":"Computations!$F$15+Computations!$E$15*D443","v":2190.4124186989429},{"$f":"EXP(Computations!$F$16)*EXP(Computations!$E$16)^Computations!D443","v":2013.7968628062945},{"$f":"Computations!$F$17+Computations!$E$17*LN(Computations!D443)","v":2394.3248283091334},{"$f":"Computations!$F$18+Computations!$E$18*Computations!D443+Computations!$D$18*Computations!D443^2","v":2331.2954600676003},{"$f":"Computations!$F$19+Computations!$E$19*Computations!D443+Computations!$D$19*Computations!D443^2+Computations!$C$19*Computations!D443^3","v":2331.2954600676003},{"$f":"Computations!$J$15+Computations!$I$15*D443","v":450000},{"$f":"EXP(Computations!$J$16)*EXP(Computations!$I$16)^Computations!D443","v":450000.00000000035},{"$f":"Computations!$J$17+Computations!$I$17*LN(Computations!D443)","v":450000},{"$f":"Computations!$J$18+Computations!$I$18*Computations!D443+Computations!$H$18*Computations!D443^2","v":450000},{"$f":"Computations!$J$19+Computations!$I$19*Computations!D443+Computations!$H$19*Computations!D443^2+Computations!$G$19*Computations!D443^3","v":450000}]
[390,0.1246172674495879,0.12490911470652438,0.12476319107805614,0.75588452084947466,1.985583172615657E-3,2194.2525141849492,450000,{"$f":"G444-H444/User_entry!$E$18","v":694.25251418494918},694.25251418494918,null,{"$f":"HLOOKUP(User_entry!$B$56,Computations!$N$54:$R$1054,Computations!A444+1,FALSE)","v":2194.2525141849492},{"$f":"HLOOKUP(User_entry!$E$56,Computations!$S$54:$W$1054,Computations!A444+1,FALSE)","v":450000},{"$f":"Computations!$F$15+Computations!$E$15*D444","v":2194.2525141849492},{"$f":"EXP(Computations!$F$16)*EXP(Computations!$E$16)^Computations!D444","v":2017.9749134765298},{"$f":"Computations!$F$17+Computations!$E$17*LN(Computations!D444)","v":2397.3001367409634},{"$f":"Computations!$F$18+Computations!$E$18*Computations!D444+Computations!$D$18*Computations!D444^2","v":2334.9788477064285},{"$f":"Computations!$F$19+Computations!$E$19*Computations!D444+Computations!$D$19*Computations!D444^2+Computations!$C$19*Computations!D444^3","v":2334.9788477064285},{"$f":"Computations!$J$15+Computations!$I$15*D444","v":450000},{"$f":"EXP(Computations!$J$16)*EXP(Computations!$I$16)^Computations!D444","v":450000.00000000035},{"$f":"Computations!$J$17+Computations!$I$17*LN(Computations!D444)","v":450000},{"$f":"Computations!$J$18+Computations!$I$18*Computations!D444+Computations!$H$18*Computations!D444^2","v":450000},{"$f":"Computations!$J$19+Computations!$I$19*Computations!D444+Computations!$H$19*Computations!D444^2+Computations!$G$19*Computations!D444^3","v":450000}]
[391,0.12490911470652438,0.12520096196346087,0.12505503833499262,0.75785886290621174,1.9743420567370773E-3,2198.0926096709554,450000,{"$f":"G445-H445/User_entry!$E$18","v":698.09260967095543},698.09260967095543,null,{"$f":"HLOOKUP(User_entry!$B$56,Computations!$N$54:$R$1054,Computations!A445+1,FALSE)","v":2198.0926096709554},{"$f":"HLOOKUP(User_entry!$E$56,Computations!$S$54:$W$1054,Computations!A445+1,FALSE)","v":450000},{"$f":"Computations!$F$15+Computations!$E$15*D445","v":2198.0926096709554},{"$f":"EXP(Computations!$F$16)*EXP(Computations!$E$16)^Computations!D445","v":2022.1616324030942},{"$f":"Computations!$F$17+Computations!$E$17*LN(Computations!D445)","v":2400.2684934271392},{"$f":"Computations!$F$18+Computations!$E$18*Computations!D445+Computations!$D$18*Computations!D445^2","v":2338.6559260992285},{"$f":"Computations!$F$19+Computations!$E$19*Computations!D445+Computations!$D$19*Computations!D445^2+Computations!$C$19*Computations!D445^3","v":2338.6559260992285},{"$f":"Computations!$J$15+Computations!$I$15*D445","v":450000},{"$f":"EXP(Computations!$J$16)*EXP(Computations!$I$16)^Computations!D445","v":450000.00000000035},{"$f":"Computations!$J$17+Computations!$I$17*LN(Computations!D445)","v":450000},{"$f":"Computations!$J$18+Computations!$I$18*Computations!D445+Computations!$H$18*Computations!D445^2","v":450000},{"$f":"Computations!$J$19+Computations!$I$19*Computations!D445+Computations!$H$19*Computations!D445^2+Computations!$G$19*Computations!D445^3","v":450000}]
[392,0.12520096196346087,0.12549280922039735,0.12534688559192911,0.7598219684629951,1.9631055567833622E-3,2201.9327051569617,450000,{"$f":"G446-H446/User_entry!$E$18","v":701.93270515696167},701.93270515696167,null,{"$f":"HLOOKUP(User_entry!$B$56,Computations!$N$54:$R$1054,Computations!A446+1,FALSE)","v":2201.9327051569617},{"$f":"HLOOKUP(User_entry!$E$56,Computations!$S$54:$W$1054,Computations!A446+1,FALSE)","v":450000},{"$f":"Computations!$F$15+Computations!$E$15*D446","v":2201.9327051569617},{"$f":"EXP(Computations!$F$16)*EXP(Computations!$E$16)^Computations!D446","v":2026.3570375701336},{"$f":"Computations!$F$17+Computations!$E$17*LN(Computations!D446)","v":2403.2299307771668},{"$f":"Computations!$F$18+Computations!$E$18*Computations!D446+Computations!$D$18*Computations!D446^2","v":2342.3266952459999},{"$f":"Computations!$F$19+Computations!$E$19*Computations!D446+Computations!$D$19*Computations!D446^2+Computations!$C$19*Computations!D446^3","v":2342.3266952459999},{"$f":"Computations!$J$15+Computations!$I$15*D446","v":450000},{"$f":"EXP(Computations!$J$16)*EXP(Computations!$I$16)^Computations!D446","v":450000.00000000035},{"$f":"Computations!$J$17+Computations!$I$17*LN(Computations!D446)","v":450000},{"$f":"Computations!$J$18+Computations!$I$18*Computations!D446+Computations!$H$18*Computations!D446^2","v":450000},{"$f":"Computations!$J$19+Computations!$I$19*Computations!D446+Computations!$H$19*Computations!D446^2+Computations!$G$19*Computations!D446^3","v":450000}]
[393,0.12549280922039735,0.12578465647733383,0.12563873284886559,0.76177384299990547,1.9518745369103696E-3,2205.7728006429679,450000,{"$f":"G447-H447/User_entry!$E$18","v":705.77280064296792},705.77280064296792,null,{"$f":"HLOOKUP(User_entry!$B$56,Computations!$N$54:$R$1054,Computations!A447+1,FALSE)","v":2205.7728006429679},{"$f":"HLOOKUP(User_entry!$E$56,Computations!$S$54:$W$1054,Computations!A447+1,FALSE)","v":450000},{"$f":"Computations!$F$15+Computations!$E$15*D447","v":2205.7728006429679},{"$f":"EXP(Computations!$F$16)*EXP(Computations!$E$16)^Computations!D447","v":2030.5611469991047},{"$f":"Computations!$F$17+Computations!$E$17*LN(Computations!D447)","v":2406.1844809744362},{"$f":"Computations!$F$18+Computations!$E$18*Computations!D447+Computations!$D$18*Computations!D447^2","v":2345.9911551467435},{"$f":"Computations!$F$19+Computations!$E$19*Computations!D447+Computations!$D$19*Computations!D447^2+Computations!$C$19*Computations!D447^3","v":2345.9911551467435},{"$f":"Computations!$J$15+Computations!$I$15*D447","v":450000},{"$f":"EXP(Computations!$J$16)*EXP(Computations!$I$16)^Computations!D447","v":450000.00000000035},{"$f":"Computations!$J$17+Computations!$I$17*LN(Computations!D447)","v":450000},{"$f":"Computations!$J$18+Computations!$I$18*Computations!D447+Computations!$H$18*Computations!D447^2","v":450000},{"$f":"Computations!$J$19+Computations!$I$19*Computations!D447+Computations!$H$19*Computations!D447^2+Computations!$G$19*Computations!D447^3","v":450000}]
[394,0.12578465647733383,0.12607650373427032,0.12593058010580208,0.76371449285047077,1.9406498505653014E-3,2209.6128961289746,450000,{"$f":"G448-H448/User_entry!$E$18","v":709.61289612897463},709.61289612897463,null,{"$f":"HLOOKUP(User_entry!$B$56,Computations!$N$54:$R$1054,Computations!A448+1,FALSE)","v":2209.6128961289746},{"$f":"HLOOKUP(User_entry!$E$56,Computations!$S$54:$W$1054,Computations!A448+1,FALSE)","v":450000},{"$f":"Computations!$F$15+Computations!$E$15*D448","v":2209.6128961289746},{"$f":"EXP(Computations!$F$16)*EXP(Computations!$E$16)^Computations!D448","v":2034.7739787488522},{"$f":"Computations!$F$17+Computations!$E$17*LN(Computations!D448)","v":2409.1321759783191},{"$f":"Computations!$F$18+Computations!$E$18*Computations!D448+Computations!$D$18*Computations!D448^2","v":2349.6493058014585},{"$f":"Computations!$F$19+Computations!$E$19*Computations!D448+Computations!$D$19*Computations!D448^2+Computations!$C$19*Computations!D448^3","v":2349.6493058014585},{"$f":"Computations!$J$15+Computations!$I$15*D448","v":450000},{"$f":"EXP(Computations!$J$16)*EXP(Computations!$I$16)^Computations!D448","v":450000.00000000035},{"$f":"Computations!$J$17+Computations!$I$17*LN(Computations!D448)","v":450000},{"$f":"Computations!$J$18+Computations!$I$18*Computations!D448+Computations!$H$18*Computations!D448^2","v":450000},{"$f":"Computations!$J$19+Computations!$I$19*Computations!D448+Computations!$H$19*Computations!D448^2+Computations!$G$19*Computations!D448^3","v":450000}]
[395,0.12607650373427032,0.1263683509912068,0.12622242736273856,0.76564392519097102,1.9294323405002478E-3,2213.4529916149809,450000,{"$f":"G449-H449/User_entry!$E$18","v":713.45299161498087},713.45299161498087,null,{"$f":"HLOOKUP(User_entry!$B$56,Computations!$N$54:$R$1054,Computations!A449+1,FALSE)","v":2213.4529916149809},{"$f":"HLOOKUP(User_entry!$E$56,Computations!$S$54:$W$1054,Computations!A449+1,FALSE)","v":450000},{"$f":"Computations!$F$15+Computations!$E$15*D449","v":2213.4529916149809},{"$f":"EXP(Computations!$F$16)*EXP(Computations!$E$16)^Computations!D449","v":2038.99555091569},{"$f":"Computations!$F$17+Computations!$E$17*LN(Computations!D449)","v":2412.0730475262458},{"$f":"Computations!$F$18+Computations!$E$18*Computations!D449+Computations!$D$18*Computations!D449^2","v":2353.3011472101457},{"$f":"Computations!$F$19+Computations!$E$19*Computations!D449+Computations!$D$19*Computations!D449^2+Computations!$C$19*Computations!D449^3","v":2353.3011472101457},{"$f":"Computations!$J$15+Computations!$I$15*D449","v":450000},{"$f":"EXP(Computations!$J$16)*EXP(Computations!$I$16)^Computations!D449","v":450000.00000000035},{"$f":"Computations!$J$17+Computations!$I$17*LN(Computations!D449)","v":450000},{"$f":"Computations!$J$18+Computations!$I$18*Computations!D449+Computations!$H$18*Computations!D449^2","v":450000},{"$f":"Computations!$J$19+Computations!$I$19*Computations!D449+Computations!$H$19*Computations!D449^2+Computations!$G$19*Computations!D449^3","v":450000}]
[396,0.1263683509912068,0.12666019824814329,0.12651427461967504,0.76756214802976208,1.9182228387910616E-3,2217.2930871009876,450000,{"$f":"G450-H450/User_entry!$E$18","v":717.29308710098758},717.29308710098758,null,{"$f":"HLOOKUP(User_entry!$B$56,Computations!$N$54:$R$1054,Computations!A450+1,FALSE)","v":2217.2930871009876},{"$f":"HLOOKUP(User_entry!$E$56,Computations!$S$54:$W$1054,Computations!A450+1,FALSE)","v":450000},{"$f":"Computations!$F$15+Computations!$E$15*D450","v":2217.2930871009876},{"$f":"EXP(Computations!$F$16)*EXP(Computations!$E$16)^Computations!D450","v":2043.2258816334756},{"$f":"Computations!$F$17+Computations!$E$17*LN(Computations!D450)","v":2415.0071271357533},{"$f":"Computations!$F$18+Computations!$E$18*Computations!D450+Computations!$D$18*Computations!D450^2","v":2356.9466793728043},{"$f":"Computations!$F$19+Computations!$E$19*Computations!D450+Computations!$D$19*Computations!D450^2+Computations!$C$19*Computations!D450^3","v":2356.9466793728043},{"$f":"Computations!$J$15+Computations!$I$15*D450","v":450000},{"$f":"EXP(Computations!$J$16)*EXP(Computations!$I$16)^Computations!D450","v":450000.00000000035},{"$f":"Computations!$J$17+Computations!$I$17*LN(Computations!D450)","v":450000},{"$f":"Computations!$J$18+Computations!$I$18*Computations!D450+Computations!$H$18*Computations!D450^2","v":450000},{"$f":"Computations!$J$19+Computations!$I$19*Computations!D450+Computations!$H$19*Computations!D450^2+Computations!$G$19*Computations!D450^3","v":450000}]
[397,0.12666019824814329,0.12695204550507977,0.12680612187661153,0.76946917019661076,1.907022166848682E-3,2221.1331825869938,450000,{"$f":"G451-H451/User_entry!$E$18","v":721.13318258699383},721.13318258699383,null,{"$f":"HLOOKUP(User_entry!$B$56,Computations!$N$54:$R$1054,Computations!A451+1,FALSE)","v":2221.1331825869938},{"$f":"HLOOKUP(User_entry!$E$56,Computations!$S$54:$W$1054,Computations!A451+1,FALSE)","v":450000},{"$f":"Computations!$F$15+Computations!$E$15*D451","v":2221.1331825869938},{"$f":"EXP(Computations!$F$16)*EXP(Computations!$E$16)^Computations!D451","v":2047.4649890736887},{"$f":"Computations!$F$17+Computations!$E$17*LN(Computations!D451)","v":2417.9344461065111},{"$f":"Computations!$F$18+Computations!$E$18*Computations!D451+Computations!$D$18*Computations!D451^2","v":2360.5859022894347},{"$f":"Computations!$F$19+Computations!$E$19*Computations!D451+Computations!$D$19*Computations!D451^2+Computations!$C$19*Computations!D451^3","v":2360.5859022894347},{"$f":"Computations!$J$15+Computations!$I$15*D451","v":450000},{"$f":"EXP(Computations!$J$16)*EXP(Computations!$I$16)^Computations!D451","v":450000.00000000035},{"$f":"Computations!$J$17+Computations!$I$17*LN(Computations!D451)","v":450000},{"$f":"Computations!$J$18+Computations!$I$18*Computations!D451+Computations!$H$18*Computations!D451^2","v":450000},{"$f":"Computations!$J$19+Computations!$I$19*Computations!D451+Computations!$H$19*Computations!D451^2+Computations!$G$19*Computations!D451^3","v":450000}]
[398,0.12695204550507977,0.12724389276201625,0.12709796913354801,0.77136500133205299,1.8958311354422275E-3,2224.9732780730001,450000,{"$f":"G452-H452/User_entry!$E$18","v":724.97327807300007},724.97327807300007,null,{"$f":"HLOOKUP(User_entry!$B$56,Computations!$N$54:$R$1054,Computations!A452+1,FALSE)","v":2224.9732780730001},{"$f":"HLOOKUP(User_entry!$E$56,Computations!$S$54:$W$1054,Computations!A452+1,FALSE)","v":450000},{"$f":"Computations!$F$15+Computations!$E$15*D452","v":2224.9732780730001},{"$f":"EXP(Computations!$F$16)*EXP(Computations!$E$16)^Computations!D452","v":2051.7128914455102},{"$f":"Computations!$F$17+Computations!$E$17*LN(Computations!D452)","v":2420.8550355223279},{"$f":"Computations!$F$18+Computations!$E$18*Computations!D452+Computations!$D$18*Computations!D452^2","v":2364.2188159600369},{"$f":"Computations!$F$19+Computations!$E$19*Computations!D452+Computations!$D$19*Computations!D452^2+Computations!$C$19*Computations!D452^3","v":2364.2188159600369},{"$f":"Computations!$J$15+Computations!$I$15*D452","v":450000},{"$f":"EXP(Computations!$J$16)*EXP(Computations!$I$16)^Computations!D452","v":450000.00000000035},{"$f":"Computations!$J$17+Computations!$I$17*LN(Computations!D452)","v":450000},{"$f":"Computations!$J$18+Computations!$I$18*Computations!D452+Computations!$H$18*Computations!D452^2","v":450000},{"$f":"Computations!$J$19+Computations!$I$19*Computations!D452+Computations!$H$19*Computations!D452^2+Computations!$G$19*Computations!D452^3","v":450000}]
[399,0.12724389276201625,0.12753574001895274,0.12738981639048449,0.77324965187677175,1.8846505447187578E-3,2228.8133735590063,450000,{"$f":"G453-H453/User_entry!$E$18","v":728.81337355900632},728.81337355900632,null,{"$f":"HLOOKUP(User_entry!$B$56,Computations!$N$54:$R$1054,Computations!A453+1,FALSE)","v":2228.8133735590063},{"$f":"HLOOKUP(User_entry!$E$56,Computations!$S$54:$W$1054,Computations!A453+1,FALSE)","v":450000},{"$f":"Computations!$F$15+Computations!$E$15*D453","v":2228.8133735590063},{"$f":"EXP(Computations!$F$16)*EXP(Computations!$E$16)^Computations!D453","v":2055.9696069959004},{"$f":"Computations!$F$17+Computations!$E$17*LN(Computations!D453)","v":2423.768926253128},{"$f":"Computations!$F$18+Computations!$E$18*Computations!D453+Computations!$D$18*Computations!D453^2","v":2367.8454203846109},{"$f":"Computations!$F$19+Computations!$E$19*Computations!D453+Computations!$D$19*Computations!D453^2+Computations!$C$19*Computations!D453^3","v":2367.8454203846109},{"$f":"Computations!$J$15+Computations!$I$15*D453","v":450000},{"$f":"EXP(Computations!$J$16)*EXP(Computations!$I$16)^Computations!D453","v":450000.00000000035},{"$f":"Computations!$J$17+Computations!$I$17*LN(Computations!D453)","v":450000},{"$f":"Computations!$J$18+Computations!$I$18*Computations!D453+Computations!$H$18*Computations!D453^2","v":450000},{"$f":"Computations!$J$19+Computations!$I$19*Computations!D453+Computations!$H$19*Computations!D453^2+Computations!$G$19*Computations!D453^3","v":450000}]
[400,0.12753574001895274,0.12782758727588922,0.12768166364742098,0.77512313306099767,1.8734811842259225E-3,2232.6534690450126,450000,{"$f":"G454-H454/User_entry!$E$18","v":732.65346904501257},732.65346904501257,null,{"$f":"HLOOKUP(User_entry!$B$56,Computations!$N$54:$R$1054,Computations!A454+1,FALSE)","v":2232.6534690450126},{"$f":"HLOOKUP(User_entry!$E$56,Computations!$S$54:$W$1054,Computations!A454+1,FALSE)","v":450000},{"$f":"Computations!$F$15+Computations!$E$15*D454","v":2232.6534690450126},{"$f":"EXP(Computations!$F$16)*EXP(Computations!$E$16)^Computations!D454","v":2060.2351540096747},{"$f":"Computations!$F$17+Computations!$E$17*LN(Computations!D454)","v":2426.676148956913},{"$f":"Computations!$F$18+Computations!$E$18*Computations!D454+Computations!$D$18*Computations!D454^2","v":2371.4657155631567},{"$f":"Computations!$F$19+Computations!$E$19*Computations!D454+Computations!$D$19*Computations!D454^2+Computations!$C$19*Computations!D454^3","v":2371.4657155631567},{"$f":"Computations!$J$15+Computations!$I$15*D454","v":450000},{"$f":"EXP(Computations!$J$16)*EXP(Computations!$I$16)^Computations!D454","v":450000.00000000035},{"$f":"Computations!$J$17+Computations!$I$17*LN(Computations!D454)","v":450000},{"$f":"Computations!$J$18+Computations!$I$18*Computations!D454+Computations!$H$18*Computations!D454^2","v":450000},{"$f":"Computations!$J$19+Computations!$I$19*Computations!D454+Computations!$H$19*Computations!D454^2+Computations!$G$19*Computations!D454^3","v":450000}]
[401,0.12782758727588922,0.1281194345328257,0.12797351090435746,0.77698545689393006,1.8623238329323888E-3,2236.4935645310188,450000,{"$f":"G455-H455/User_entry!$E$18","v":736.49356453101882},736.49356453101882,null,{"$f":"HLOOKUP(User_entry!$B$56,Computations!$N$54:$R$1054,Computations!A455+1,FALSE)","v":2236.4935645310188},{"$f":"HLOOKUP(User_entry!$E$56,Computations!$S$54:$W$1054,Computations!A455+1,FALSE)","v":450000},{"$f":"Computations!$F$15+Computations!$E$15*D455","v":2236.4935645310188},{"$f":"EXP(Computations!$F$16)*EXP(Computations!$E$16)^Computations!D455","v":2064.5095508095869},{"$f":"Computations!$F$17+Computations!$E$17*LN(Computations!D455)","v":2429.5767340816951},{"$f":"Computations!$F$18+Computations!$E$18*Computations!D455+Computations!$D$18*Computations!D455^2","v":2375.0797014956743},{"$f":"Computations!$F$19+Computations!$E$19*Computations!D455+Computations!$D$19*Computations!D455^2+Computations!$C$19*Computations!D455^3","v":2375.0797014956743},{"$f":"Computations!$J$15+Computations!$I$15*D455","v":450000},{"$f":"EXP(Computations!$J$16)*EXP(Computations!$I$16)^Computations!D455","v":450000.00000000035},{"$f":"Computations!$J$17+Computations!$I$17*LN(Computations!D455)","v":450000},{"$f":"Computations!$J$18+Computations!$I$18*Computations!D455+Computations!$H$18*Computations!D455^2","v":450000},{"$f":"Computations!$J$19+Computations!$I$19*Computations!D455+Computations!$H$19*Computations!D455^2+Computations!$G$19*Computations!D455^3","v":450000}]
[402,0.1281194345328257,0.12841128178976219,0.12826535816129395,0.77883663615318843,1.8511792592583731E-3,2240.3336600170255,450000,{"$f":"G456-H456/User_entry!$E$18","v":740.33366001702552},740.33366001702552,null,{"$f":"HLOOKUP(User_entry!$B$56,Computations!$N$54:$R$1054,Computations!A456+1,FALSE)","v":2240.3336600170255},{"$f":"HLOOKUP(User_entry!$E$56,Computations!$S$54:$W$1054,Computations!A456+1,FALSE)","v":450000},{"$f":"Computations!$F$15+Computations!$E$15*D456","v":2240.3336600170255},{"$f":"EXP(Computations!$F$16)*EXP(Computations!$E$16)^Computations!D456","v":2068.7928157564029},{"$f":"Computations!$F$17+Computations!$E$17*LN(Computations!D456)","v":2432.4707118674091},{"$f":"Computations!$F$18+Computations!$E$18*Computations!D456+Computations!$D$18*Computations!D456^2","v":2378.6873781821632},{"$f":"Computations!$F$19+Computations!$E$19*Computations!D456+Computations!$D$19*Computations!D456^2+Computations!$C$19*Computations!D456^3","v":2378.6873781821632},{"$f":"Computations!$J$15+Computations!$I$15*D456","v":450000},{"$f":"EXP(Computations!$J$16)*EXP(Computations!$I$16)^Computations!D456","v":450000.00000000035},{"$f":"Computations!$J$17+Computations!$I$17*LN(Computations!D456)","v":450000},{"$f":"Computations!$J$18+Computations!$I$18*Computations!D456+Computations!$H$18*Computations!D456^2","v":450000},{"$f":"Computations!$J$19+Computations!$I$19*Computations!D456+Computations!$H$19*Computations!D456^2+Computations!$G$19*Computations!D456^3","v":450000}]
[403,0.12841128178976219,0.12870312904669867,0.12855720541823043,0.78067668437428739,1.8400482210989555E-3,2244.1737555030318,450000,{"$f":"G457-H457/User_entry!$E$18","v":744.17375550303177},744.17375550303177,null,{"$f":"HLOOKUP(User_entry!$B$56,Computations!$N$54:$R$1054,Computations!A457+1,FALSE)","v":2244.1737555030318},{"$f":"HLOOKUP(User_entry!$E$56,Computations!$S$54:$W$1054,Computations!A457+1,FALSE)","v":450000},{"$f":"Computations!$F$15+Computations!$E$15*D457","v":2244.1737555030318},{"$f":"EXP(Computations!$F$16)*EXP(Computations!$E$16)^Computations!D457","v":2073.0849672489835},{"$f":"Computations!$F$17+Computations!$E$17*LN(Computations!D457)","v":2435.358112347807},{"$f":"Computations!$F$18+Computations!$E$18*Computations!D457+Computations!$D$18*Computations!D457^2","v":2382.2887456226244},{"$f":"Computations!$F$19+Computations!$E$19*Computations!D457+Computations!$D$19*Computations!D457^2+Computations!$C$19*Computations!D457^3","v":2382.2887456226244},{"$f":"Computations!$J$15+Computations!$I$15*D457","v":450000},{"$f":"EXP(Computations!$J$16)*EXP(Computations!$I$16)^Computations!D457","v":450000.00000000035},{"$f":"Computations!$J$17+Computations!$I$17*LN(Computations!D457)","v":450000},{"$f":"Computations!$J$18+Computations!$I$18*Computations!D457+Computations!$H$18*Computations!D457^2","v":450000},{"$f":"Computations!$J$19+Computations!$I$19*Computations!D457+Computations!$H$19*Computations!D457^2+Computations!$G$19*Computations!D457^3","v":450000}]
[404,0.12870312904669867,0.12899497630363516,0.12884905267516691,0.78250561584014355,1.8289314658561651E-3,2248.0138509890385,450000,{"$f":"G458-H458/User_entry!$E$18","v":748.01385098903847},748.01385098903847,null,{"$f":"HLOOKUP(User_entry!$B$56,Computations!$N$54:$R$1054,Computations!A458+1,FALSE)","v":2248.0138509890385},{"$f":"HLOOKUP(User_entry!$E$56,Computations!$S$54:$W$1054,Computations!A458+1,FALSE)","v":450000},{"$f":"Computations!$F$15+Computations!$E$15*D458","v":2248.0138509890385},{"$f":"EXP(Computations!$F$16)*EXP(Computations!$E$16)^Computations!D458","v":2077.3860237243616},{"$f":"Computations!$F$17+Computations!$E$17*LN(Computations!D458)","v":2438.2389653523269},{"$f":"Computations!$F$18+Computations!$E$18*Computations!D458+Computations!$D$18*Computations!D458^2","v":2385.8838038170566},{"$f":"Computations!$F$19+Computations!$E$19*Computations!D458+Computations!$D$19*Computations!D458^2+Computations!$C$19*Computations!D458^3","v":2385.8838038170566},{"$f":"Computations!$J$15+Computations!$I$15*D458","v":450000},{"$f":"EXP(Computations!$J$16)*EXP(Computations!$I$16)^Computations!D458","v":450000.00000000035},{"$f":"Computations!$J$17+Computations!$I$17*LN(Computations!D458)","v":450000},{"$f":"Computations!$J$18+Computations!$I$18*Computations!D458+Computations!$H$18*Computations!D458^2","v":450000},{"$f":"Computations!$J$19+Computations!$I$19*Computations!D458+Computations!$H$19*Computations!D458^2+Computations!$G$19*Computations!D458^3","v":450000}]
[405,0.12899497630363516,0.12928682356057164,0.1291408999321034,0.78432344557060796,1.8178297304644042E-3,2251.8539464750447,450000,{"$f":"G459-H459/User_entry!$E$18","v":751.85394647504472},751.85394647504472,null,{"$f":"HLOOKUP(User_entry!$B$56,Computations!$N$54:$R$1054,Computations!A459+1,FALSE)","v":2251.8539464750447},{"$f":"HLOOKUP(User_entry!$E$56,Computations!$S$54:$W$1054,Computations!A459+1,FALSE)","v":450000},{"$f":"Computations!$F$15+Computations!$E$15*D459","v":2251.8539464750447},{"$f":"EXP(Computations!$F$16)*EXP(Computations!$E$16)^Computations!D459","v":2081.6960036578207},{"$f":"Computations!$F$17+Computations!$E$17*LN(Computations!D459)","v":2441.1133005079409},{"$f":"Computations!$F$18+Computations!$E$18*Computations!D459+Computations!$D$18*Computations!D459^2","v":2389.4725527654614},{"$f":"Computations!$F$19+Computations!$E$19*Computations!D459+Computations!$D$19*Computations!D459^2+Computations!$C$19*Computations!D459^3","v":2389.4725527654614},{"$f":"Computations!$J$15+Computations!$I$15*D459","v":450000},{"$f":"EXP(Computations!$J$16)*EXP(Computations!$I$16)^Computations!D459","v":450000.00000000035},{"$f":"Computations!$J$17+Computations!$I$17*LN(Computations!D459)","v":450000},{"$f":"Computations!$J$18+Computations!$I$18*Computations!D459+Computations!$H$18*Computations!D459^2","v":450000},{"$f":"Computations!$J$19+Computations!$I$19*Computations!D459+Computations!$H$19*Computations!D459^2+Computations!$G$19*Computations!D459^3","v":450000}]
[406,0.12928682356057164,0.12957867081750812,0.12943274718903988,0.78613018931203316,1.8067437414251986E-3,2255.694041961051,450000,{"$f":"G460-H460/User_entry!$E$18","v":755.69404196105097},755.69404196105097,null,{"$f":"HLOOKUP(User_entry!$B$56,Computations!$N$54:$R$1054,Computations!A460+1,FALSE)","v":2255.694041961051},{"$f":"HLOOKUP(User_entry!$E$56,Computations!$S$54:$W$1054,Computations!A460+1,FALSE)","v":450000},{"$f":"Computations!$F$15+Computations!$E$15*D460","v":2255.694041961051},{"$f":"EXP(Computations!$F$16)*EXP(Computations!$E$16)^Computations!D460","v":2086.0149255629767},{"$f":"Computations!$F$17+Computations!$E$17*LN(Computations!D460)","v":2443.981147240986},{"$f":"Computations!$F$18+Computations!$E$18*Computations!D460+Computations!$D$18*Computations!D460^2","v":2393.0549924678371},{"$f":"Computations!$F$19+Computations!$E$19*Computations!D460+Computations!$D$19*Computations!D460^2+Computations!$C$19*Computations!D460^3","v":2393.0549924678371},{"$f":"Computations!$J$15+Computations!$I$15*D460","v":450000},{"$f":"EXP(Computations!$J$16)*EXP(Computations!$I$16)^Computations!D460","v":450000.00000000035},{"$f":"Computations!$J$17+Computations!$I$17*LN(Computations!D460)","v":450000},{"$f":"Computations!$J$18+Computations!$I$18*Computations!D460+Computations!$H$18*Computations!D460^2","v":450000},{"$f":"Computations!$J$19+Computations!$I$19*Computations!D460+Computations!$H$19*Computations!D460^2+Computations!$G$19*Computations!D460^3","v":450000}]
[407,0.12957867081750812,0.12987051807444461,0.12972459444597637,0.78792586352687555,1.795674214842391E-3,2259.5341374470572,450000,{"$f":"G461-H461/User_entry!$E$18","v":759.53413744705722},759.53413744705722,null,{"$f":"HLOOKUP(User_entry!$B$56,Computations!$N$54:$R$1054,Computations!A461+1,FALSE)","v":2259.5341374470572},{"$f":"HLOOKUP(User_entry!$E$56,Computations!$S$54:$W$1054,Computations!A461+1,FALSE)","v":450000},{"$f":"Computations!$F$15+Computations!$E$15*D461","v":2259.5341374470572},{"$f":"EXP(Computations!$F$16)*EXP(Computations!$E$16)^Computations!D461","v":2090.3428079918544},{"$f":"Computations!$F$17+Computations!$E$17*LN(Computations!D461)","v":2446.8425347789685},{"$f":"Computations!$F$18+Computations!$E$18*Computations!D461+Computations!$D$18*Computations!D461^2","v":2396.6311229241855},{"$f":"Computations!$F$19+Computations!$E$19*Computations!D461+Computations!$D$19*Computations!D461^2+Computations!$C$19*Computations!D461^3","v":2396.6311229241855},{"$f":"Computations!$J$15+Computations!$I$15*D461","v":450000},{"$f":"EXP(Computations!$J$16)*EXP(Computations!$I$16)^Computations!D461","v":450000.00000000035},{"$f":"Computations!$J$17+Computations!$I$17*LN(Computations!D461)","v":450000},{"$f":"Computations!$J$18+Computations!$I$18*Computations!D461+Computations!$H$18*Computations!D461^2","v":450000},{"$f":"Computations!$J$19+Computations!$I$19*Computations!D461+Computations!$H$19*Computations!D461^2+Computations!$G$19*Computations!D461^3","v":450000}]
[408,0.12987051807444461,0.13016236533138109,0.13001644170291285,0.78971048538332611,1.7846218564505634E-3,2263.3742329330635,450000,{"$f":"G462-H462/User_entry!$E$18","v":763.37423293306347},763.37423293306347,null,{"$f":"HLOOKUP(User_entry!$B$56,Computations!$N$54:$R$1054,Computations!A462+1,FALSE)","v":2263.3742329330635},{"$f":"HLOOKUP(User_entry!$E$56,Computations!$S$54:$W$1054,Computations!A462+1,FALSE)","v":450000},{"$f":"Computations!$F$15+Computations!$E$15*D462","v":2263.3742329330635},{"$f":"EXP(Computations!$F$16)*EXP(Computations!$E$16)^Computations!D462","v":2094.6796695349699},{"$f":"Computations!$F$17+Computations!$E$17*LN(Computations!D462)","v":2449.6974921523524},{"$f":"Computations!$F$18+Computations!$E$18*Computations!D462+Computations!$D$18*Computations!D462^2","v":2400.2009441345053},{"$f":"Computations!$F$19+Computations!$E$19*Computations!D462+Computations!$D$19*Computations!D462^2+Computations!$C$19*Computations!D462^3","v":2400.2009441345053},{"$f":"Computations!$J$15+Computations!$I$15*D462","v":450000},{"$f":"EXP(Computations!$J$16)*EXP(Computations!$I$16)^Computations!D462","v":450000.00000000035},{"$f":"Computations!$J$17+Computations!$I$17*LN(Computations!D462)","v":450000},{"$f":"Computations!$J$18+Computations!$I$18*Computations!D462+Computations!$H$18*Computations!D462^2","v":450000},{"$f":"Computations!$J$19+Computations!$I$19*Computations!D462+Computations!$H$19*Computations!D462^2+Computations!$G$19*Computations!D462^3","v":450000}]
[409,0.13016236533138109,0.13045421258831758,0.13030828895984933,0.79148407274498078,1.7735873616546716E-3,2267.2143284190697,450000,{"$f":"G463-H463/User_entry!$E$18","v":767.21432841906972},767.21432841906972,null,{"$f":"HLOOKUP(User_entry!$B$56,Computations!$N$54:$R$1054,Computations!A463+1,FALSE)","v":2267.2143284190697},{"$f":"HLOOKUP(User_entry!$E$56,Computations!$S$54:$W$1054,Computations!A463+1,FALSE)","v":450000},{"$f":"Computations!$F$15+Computations!$E$15*D463","v":2267.2143284190697},{"$f":"EXP(Computations!$F$16)*EXP(Computations!$E$16)^Computations!D463","v":2099.0255288214084},{"$f":"Computations!$F$17+Computations!$E$17*LN(Computations!D463)","v":2452.5460481963287},{"$f":"Computations!$F$18+Computations!$E$18*Computations!D463+Computations!$D$18*Computations!D463^2","v":2403.7644560987969},{"$f":"Computations!$F$19+Computations!$E$19*Computations!D463+Computations!$D$19*Computations!D463^2+Computations!$C$19*Computations!D463^3","v":2403.7644560987969},{"$f":"Computations!$J$15+Computations!$I$15*D463","v":450000},{"$f":"EXP(Computations!$J$16)*EXP(Computations!$I$16)^Computations!D463","v":450000.00000000035},{"$f":"Computations!$J$17+Computations!$I$17*LN(Computations!D463)","v":450000},{"$f":"Computations!$J$18+Computations!$I$18*Computations!D463+Computations!$H$18*Computations!D463^2","v":450000},{"$f":"Computations!$J$19+Computations!$I$19*Computations!D463+Computations!$H$19*Computations!D463^2+Computations!$G$19*Computations!D463^3","v":450000}]
[410,0.13045421258831758,0.13074605984525406,0.13060013621678582,0.7932466441605498,1.7625714155690142E-3,2271.0544239050764,450000,{"$f":"G464-H464/User_entry!$E$18","v":771.05442390507642},771.05442390507642,null,{"$f":"HLOOKUP(User_entry!$B$56,Computations!$N$54:$R$1054,Computations!A464+1,FALSE)","v":2271.0544239050764},{"$f":"HLOOKUP(User_entry!$E$56,Computations!$S$54:$W$1054,Computations!A464+1,FALSE)","v":450000},{"$f":"Computations!$F$15+Computations!$E$15*D464","v":2271.0544239050764},{"$f":"EXP(Computations!$F$16)*EXP(Computations!$E$16)^Computations!D464","v":2103.3804045189063},{"$f":"Computations!$F$17+Computations!$E$17*LN(Computations!D464)","v":2455.3882315525593},{"$f":"Computations!$F$18+Computations!$E$18*Computations!D464+Computations!$D$18*Computations!D464^2","v":2407.3216588170599},{"$f":"Computations!$F$19+Computations!$E$19*Computations!D464+Computations!$D$19*Computations!D464^2+Computations!$C$19*Computations!D464^3","v":2407.3216588170599},{"$f":"Computations!$J$15+Computations!$I$15*D464","v":450000},{"$f":"EXP(Computations!$J$16)*EXP(Computations!$I$16)^Computations!D464","v":450000.00000000035},{"$f":"Computations!$J$17+Computations!$I$17*LN(Computations!D464)","v":450000},{"$f":"Computations!$J$18+Computations!$I$18*Computations!D464+Computations!$H$18*Computations!D464^2","v":450000},{"$f":"Computations!$J$19+Computations!$I$19*Computations!D464+Computations!$H$19*Computations!D464^2+Computations!$G$19*Computations!D464^3","v":450000}]
[411,0.13074605984525406,0.13103790710219054,0.1308919834737223,0.79499821885360067,1.7515746930508724E-3,2274.8945193910827,450000,{"$f":"G465-H465/User_entry!$E$18","v":774.89451939108267},774.89451939108267,null,{"$f":"HLOOKUP(User_entry!$B$56,Computations!$N$54:$R$1054,Computations!A465+1,FALSE)","v":2274.8945193910827},{"$f":"HLOOKUP(User_entry!$E$56,Computations!$S$54:$W$1054,Computations!A465+1,FALSE)","v":450000},{"$f":"Computations!$F$15+Computations!$E$15*D465","v":2274.8945193910827},{"$f":"EXP(Computations!$F$16)*EXP(Computations!$E$16)^Computations!D465","v":2107.7443153339295},{"$f":"Computations!$F$17+Computations!$E$17*LN(Computations!D465)","v":2458.2240706709081},{"$f":"Computations!$F$18+Computations!$E$18*Computations!D465+Computations!$D$18*Computations!D465^2","v":2410.8725522892951},{"$f":"Computations!$F$19+Computations!$E$19*Computations!D465+Computations!$D$19*Computations!D465^2+Computations!$C$19*Computations!D465^3","v":2410.8725522892951},{"$f":"Computations!$J$15+Computations!$I$15*D465","v":450000},{"$f":"EXP(Computations!$J$16)*EXP(Computations!$I$16)^Computations!D465","v":450000.00000000035},{"$f":"Computations!$J$17+Computations!$I$17*LN(Computations!D465)","v":450000},{"$f":"Computations!$J$18+Computations!$I$18*Computations!D465+Computations!$H$18*Computations!D465^2","v":450000},{"$f":"Computations!$J$19+Computations!$I$19*Computations!D465+Computations!$H$19*Computations!D465^2+Computations!$G$19*Computations!D465^3","v":450000}]
[412,0.13103790710219054,0.13132975435912703,0.13118383073065878,0.79673881671234503,1.7405978587443638E-3,2278.7346148770894,450000,{"$f":"G466-H466/User_entry!$E$18","v":778.73461487708937},778.73461487708937,null,{"$f":"HLOOKUP(User_entry!$B$56,Computations!$N$54:$R$1054,Computations!A466+1,FALSE)","v":2278.7346148770894},{"$f":"HLOOKUP(User_entry!$E$56,Computations!$S$54:$W$1054,Computations!A466+1,FALSE)","v":450000},{"$f":"Computations!$F$15+Computations!$E$15*D466","v":2278.7346148770894},{"$f":"EXP(Computations!$F$16)*EXP(Computations!$E$16)^Computations!D466","v":2112.1172800117538},{"$f":"Computations!$F$17+Computations!$E$17*LN(Computations!D466)","v":2461.053593811147},{"$f":"Computations!$F$18+Computations!$E$18*Computations!D466+Computations!$D$18*Computations!D466^2","v":2414.4171365155016},{"$f":"Computations!$F$19+Computations!$E$19*Computations!D466+Computations!$D$19*Computations!D466^2+Computations!$C$19*Computations!D466^3","v":2414.4171365155016},{"$f":"Computations!$J$15+Computations!$I$15*D466","v":450000},{"$f":"EXP(Computations!$J$16)*EXP(Computations!$I$16)^Computations!D466","v":450000.00000000035},{"$f":"Computations!$J$17+Computations!$I$17*LN(Computations!D466)","v":450000},{"$f":"Computations!$J$18+Computations!$I$18*Computations!D466+Computations!$H$18*Computations!D466^2","v":450000},{"$f":"Computations!$J$19+Computations!$I$19*Computations!D466+Computations!$H$19*Computations!D466^2+Computations!$G$19*Computations!D466^3","v":450000}]
[413,0.13132975435912703,0.13162160161606351,0.13147567798759527,0.79846845827946389,1.7296415671188559E-3,2282.5747103630956,450000,{"$f":"G467-H467/User_entry!$E$18","v":782.57471036309562},782.57471036309562,null,{"$f":"HLOOKUP(User_entry!$B$56,Computations!$N$54:$R$1054,Computations!A467+1,FALSE)","v":2282.5747103630956},{"$f":"HLOOKUP(User_entry!$E$56,Computations!$S$54:$W$1054,Computations!A467+1,FALSE)","v":450000},{"$f":"Computations!$F$15+Computations!$E$15*D467","v":2282.5747103630956},{"$f":"EXP(Computations!$F$16)*EXP(Computations!$E$16)^Computations!D467","v":2116.4993173365465},{"$f":"Computations!$F$17+Computations!$E$17*LN(Computations!D467)","v":2463.8768290446474},{"$f":"Computations!$F$18+Computations!$E$18*Computations!D467+Computations!$D$18*Computations!D467^2","v":2417.95541149568},{"$f":"Computations!$F$19+Computations!$E$19*Computations!D467+Computations!$D$19*Computations!D467^2+Computations!$C$19*Computations!D467^3","v":2417.95541149568},{"$f":"Computations!$J$15+Computations!$I$15*D467","v":450000},{"$f":"EXP(Computations!$J$16)*EXP(Computations!$I$16)^Computations!D467","v":450000.00000000035},{"$f":"Computations!$J$17+Computations!$I$17*LN(Computations!D467)","v":450000},{"$f":"Computations!$J$18+Computations!$I$18*Computations!D467+Computations!$H$18*Computations!D467^2","v":450000},{"$f":"Computations!$J$19+Computations!$I$19*Computations!D467+Computations!$H$19*Computations!D467^2+Computations!$G$19*Computations!D467^3","v":450000}]
[414,0.13162160161606351,0.13191344887299999,0.13176752524453175,0.80018716474197671,1.7187064625128201E-3,2286.4148058491019,450000,{"$f":"G468-H468/User_entry!$E$18","v":786.41480584910187},786.41480584910187,null,{"$f":"HLOOKUP(User_entry!$B$56,Computations!$N$54:$R$1054,Computations!A468+1,FALSE)","v":2286.4148058491019},{"$f":"HLOOKUP(User_entry!$E$56,Computations!$S$54:$W$1054,Computations!A468+1,FALSE)","v":450000},{"$f":"Computations!$F$15+Computations!$E$15*D468","v":2286.4148058491019},{"$f":"EXP(Computations!$F$16)*EXP(Computations!$E$16)^Computations!D468","v":2120.8904461314473},{"$f":"Computations!$F$17+Computations!$E$17*LN(Computations!D468)","v":2466.6938042560514},{"$f":"Computations!$F$18+Computations!$E$18*Computations!D468+Computations!$D$18*Computations!D468^2","v":2421.4873772298301},{"$f":"Computations!$F$19+Computations!$E$19*Computations!D468+Computations!$D$19*Computations!D468^2+Computations!$C$19*Computations!D468^3","v":2421.4873772298301},{"$f":"Computations!$J$15+Computations!$I$15*D468","v":450000},{"$f":"EXP(Computations!$J$16)*EXP(Computations!$I$16)^Computations!D468","v":450000.00000000035},{"$f":"Computations!$J$17+Computations!$I$17*LN(Computations!D468)","v":450000},{"$f":"Computations!$J$18+Computations!$I$18*Computations!D468+Computations!$H$18*Computations!D468^2","v":450000},{"$f":"Computations!$J$19+Computations!$I$19*Computations!D468+Computations!$H$19*Computations!D468^2+Computations!$G$19*Computations!D468^3","v":450000}]
[415,0.13191344887299999,0.13220529612993648,0.13205937250146824,0.80189495792115295,1.7077931791762424E-3,2290.2549013351081,450000,{"$f":"G469-H469/User_entry!$E$18","v":790.25490133510812},790.25490133510812,null,{"$f":"HLOOKUP(User_entry!$B$56,Computations!$N$54:$R$1054,Computations!A469+1,FALSE)","v":2290.2549013351081},{"$f":"HLOOKUP(User_entry!$E$56,Computations!$S$54:$W$1054,Computations!A469+1,FALSE)","v":450000},{"$f":"Computations!$F$15+Computations!$E$15*D469","v":2290.2549013351081},{"$f":"EXP(Computations!$F$16)*EXP(Computations!$E$16)^Computations!D469","v":2125.2906852586484},{"$f":"Computations!$F$17+Computations!$E$17*LN(Computations!D469)","v":2469.5045471449225},{"$f":"Computations!$F$18+Computations!$E$18*Computations!D469+Computations!$D$18*Computations!D469^2","v":2425.0130337179526},{"$f":"Computations!$F$19+Computations!$E$19*Computations!D469+Computations!$D$19*Computations!D469^2+Computations!$C$19*Computations!D469^3","v":2425.0130337179526},{"$f":"Computations!$J$15+Computations!$I$15*D469","v":450000},{"$f":"EXP(Computations!$J$16)*EXP(Computations!$I$16)^Computations!D469","v":450000.00000000035},{"$f":"Computations!$J$17+Computations!$I$17*LN(Computations!D469)","v":450000},{"$f":"Computations!$J$18+Computations!$I$18*Computations!D469+Computations!$H$18*Computations!D469^2","v":450000},{"$f":"Computations!$J$19+Computations!$I$19*Computations!D469+Computations!$H$19*Computations!D469^2+Computations!$G$19*Computations!D469^3","v":450000}]
[416,0.13220529612993648,0.13249714338687296,0.13235121975840472,0.80359186026247009,1.6969023413171413E-3,2294.0949968211144,450000,{"$f":"G470-H470/User_entry!$E$18","v":794.09499682111436},794.09499682111436,null,{"$f":"HLOOKUP(User_entry!$B$56,Computations!$N$54:$R$1054,Computations!A470+1,FALSE)","v":2294.0949968211144},{"$f":"HLOOKUP(User_entry!$E$56,Computations!$S$54:$W$1054,Computations!A470+1,FALSE)","v":450000},{"$f":"Computations!$F$15+Computations!$E$15*D470","v":2294.0949968211144},{"$f":"EXP(Computations!$F$16)*EXP(Computations!$E$16)^Computations!D470","v":2129.7000536194741},{"$f":"Computations!$F$17+Computations!$E$17*LN(Computations!D470)","v":2472.3090852273835},{"$f":"Computations!$F$18+Computations!$E$18*Computations!D470+Computations!$D$18*Computations!D470^2","v":2428.5323809600459},{"$f":"Computations!$F$19+Computations!$E$19*Computations!D470+Computations!$D$19*Computations!D470^2+Computations!$C$19*Computations!D470^3","v":2428.5323809600459},{"$f":"Computations!$J$15+Computations!$I$15*D470","v":450000},{"$f":"EXP(Computations!$J$16)*EXP(Computations!$I$16)^Computations!D470","v":450000.00000000035},{"$f":"Computations!$J$17+Computations!$I$17*LN(Computations!D470)","v":450000},{"$f":"Computations!$J$18+Computations!$I$18*Computations!D470+Computations!$H$18*Computations!D470^2","v":450000},{"$f":"Computations!$J$19+Computations!$I$19*Computations!D470+Computations!$H$19*Computations!D470^2+Computations!$G$19*Computations!D470^3","v":450000}]
[417,0.13249714338687296,0.13278899064380945,0.1326430670153412,0.80527789482561285,1.6860345631427576E-3,2297.9350923071206,450000,{"$f":"G471-H471/User_entry!$E$18","v":797.93509230712061},797.93509230712061,null,{"$f":"HLOOKUP(User_entry!$B$56,Computations!$N$54:$R$1054,Computations!A471+1,FALSE)","v":2297.9350923071206},{"$f":"HLOOKUP(User_entry!$E$56,Computations!$S$54:$W$1054,Computations!A471+1,FALSE)","v":450000},{"$f":"Computations!$F$15+Computations!$E$15*D471","v":2297.9350923071206},{"$f":"EXP(Computations!$F$16)*EXP(Computations!$E$16)^Computations!D471","v":2134.1185701544664},{"$f":"Computations!$F$17+Computations!$E$17*LN(Computations!D471)","v":2475.1074458377257},{"$f":"Computations!$F$18+Computations!$E$18*Computations!D471+Computations!$D$18*Computations!D471^2","v":2432.045418956111},{"$f":"Computations!$F$19+Computations!$E$19*Computations!D471+Computations!$D$19*Computations!D471^2+Computations!$C$19*Computations!D471^3","v":2432.045418956111},{"$f":"Computations!$J$15+Computations!$I$15*D471","v":450000},{"$f":"EXP(Computations!$J$16)*EXP(Computations!$I$16)^Computations!D471","v":450000.00000000035},{"$f":"Computations!$J$17+Computations!$I$17*LN(Computations!D471)","v":450000},{"$f":"Computations!$J$18+Computations!$I$18*Computations!D471+Computations!$H$18*Computations!D471^2","v":450000},{"$f":"Computations!$J$19+Computations!$I$19*Computations!D471+Computations!$H$19*Computations!D471^2+Computations!$G$19*Computations!D471^3","v":450000}]
[418,0.13278899064380945,0.13308083790074593,0.13293491427227769,0.80695308527452547,1.6751904489126224E-3,2301.7751877931273,450000,{"$f":"G472-H472/User_entry!$E$18","v":801.77518779312732},801.77518779312732,null,{"$f":"HLOOKUP(User_entry!$B$56,Computations!$N$54:$R$1054,Computations!A472+1,FALSE)","v":2301.7751877931273},{"$f":"HLOOKUP(User_entry!$E$56,Computations!$S$54:$W$1054,Computations!A472+1,FALSE)","v":450000},{"$f":"Computations!$F$15+Computations!$E$15*D472","v":2301.7751877931273},{"$f":"EXP(Computations!$F$16)*EXP(Computations!$E$16)^Computations!D472","v":2138.5462538434604},{"$f":"Computations!$F$17+Computations!$E$17*LN(Computations!D472)","v":2477.899656130016},{"$f":"Computations!$F$18+Computations!$E$18*Computations!D472+Computations!$D$18*Computations!D472^2","v":2435.5521477061484},{"$f":"Computations!$F$19+Computations!$E$19*Computations!D472+Computations!$D$19*Computations!D472^2+Computations!$C$19*Computations!D472^3","v":2435.5521477061484},{"$f":"Computations!$J$15+Computations!$I$15*D472","v":450000},{"$f":"EXP(Computations!$J$16)*EXP(Computations!$I$16)^Computations!D472","v":450000.00000000035},{"$f":"Computations!$J$17+Computations!$I$17*LN(Computations!D472)","v":450000},{"$f":"Computations!$J$18+Computations!$I$18*Computations!D472+Computations!$H$18*Computations!D472^2","v":450000},{"$f":"Computations!$J$19+Computations!$I$19*Computations!D472+Computations!$H$19*Computations!D472^2+Computations!$G$19*Computations!D472^3","v":450000}]
[419,0.13308083790074593,0.13337268515768241,0.13322676152921417,0.80861745586750688,1.6643705929814123E-3,2305.6152832791336,450000,{"$f":"G473-H473/User_entry!$E$18","v":805.61528327913356},805.61528327913356,null,{"$f":"HLOOKUP(User_entry!$B$56,Computations!$N$54:$R$1054,Computations!A473+1,FALSE)","v":2305.6152832791336},{"$f":"HLOOKUP(User_entry!$E$56,Computations!$S$54:$W$1054,Computations!A473+1,FALSE)","v":450000},{"$f":"Computations!$F$15+Computations!$E$15*D473","v":2305.6152832791336},{"$f":"EXP(Computations!$F$16)*EXP(Computations!$E$16)^Computations!D473","v":2142.9831237056706},{"$f":"Computations!$F$17+Computations!$E$17*LN(Computations!D473)","v":2480.6857430796726},{"$f":"Computations!$F$18+Computations!$E$18*Computations!D473+Computations!$D$18*Computations!D473^2","v":2439.0525672101571},{"$f":"Computations!$F$19+Computations!$E$19*Computations!D473+Computations!$D$19*Computations!D473^2+Computations!$C$19*Computations!D473^3","v":2439.0525672101571},{"$f":"Computations!$J$15+Computations!$I$15*D473","v":450000},{"$f":"EXP(Computations!$J$16)*EXP(Computations!$I$16)^Computations!D473","v":450000.00000000035},{"$f":"Computations!$J$17+Computations!$I$17*LN(Computations!D473)","v":450000},{"$f":"Computations!$J$18+Computations!$I$18*Computations!D473+Computations!$H$18*Computations!D473^2","v":450000},{"$f":"Computations!$J$19+Computations!$I$19*Computations!D473+Computations!$H$19*Computations!D473^2+Computations!$G$19*Computations!D473^3","v":450000}]
[420,0.13337268515768241,0.1336645324146189,0.13351860878615066,0.81027103144735613,1.6535755798492424E-3,2309.4553787651403,450000,{"$f":"G474-H474/User_entry!$E$18","v":809.45537876514027},809.45537876514027,null,{"$f":"HLOOKUP(User_entry!$B$56,Computations!$N$54:$R$1054,Computations!A474+1,FALSE)","v":2309.4553787651403},{"$f":"HLOOKUP(User_entry!$E$56,Computations!$S$54:$W$1054,Computations!A474+1,FALSE)","v":450000},{"$f":"Computations!$F$15+Computations!$E$15*D474","v":2309.4553787651403},{"$f":"EXP(Computations!$F$16)*EXP(Computations!$E$16)^Computations!D474","v":2147.4291987997713},{"$f":"Computations!$F$17+Computations!$E$17*LN(Computations!D474)","v":2483.4657334850294},{"$f":"Computations!$F$18+Computations!$E$18*Computations!D474+Computations!$D$18*Computations!D474^2","v":2442.5466774681381},{"$f":"Computations!$F$19+Computations!$E$19*Computations!D474+Computations!$D$19*Computations!D474^2+Computations!$C$19*Computations!D474^3","v":2442.5466774681381},{"$f":"Computations!$J$15+Computations!$I$15*D474","v":450000},{"$f":"EXP(Computations!$J$16)*EXP(Computations!$I$16)^Computations!D474","v":450000.00000000035},{"$f":"Computations!$J$17+Computations!$I$17*LN(Computations!D474)","v":450000},{"$f":"Computations!$J$18+Computations!$I$18*Computations!D474+Computations!$H$18*Computations!D474^2","v":450000},{"$f":"Computations!$J$19+Computations!$I$19*Computations!D474+Computations!$H$19*Computations!D474^2+Computations!$G$19*Computations!D474^3","v":450000}]
[421,0.1336645324146189,0.13395637967155538,0.13381045604308714,0.81191383743156953,1.6428059842134024E-3,2313.2954742511465,450000,{"$f":"G475-H475/User_entry!$E$18","v":813.29547425114652},813.29547425114652,null,{"$f":"HLOOKUP(User_entry!$B$56,Computations!$N$54:$R$1054,Computations!A475+1,FALSE)","v":2313.2954742511465},{"$f":"HLOOKUP(User_entry!$E$56,Computations!$S$54:$W$1054,Computations!A475+1,FALSE)","v":450000},{"$f":"Computations!$F$15+Computations!$E$15*D475","v":2313.2954742511465},{"$f":"EXP(Computations!$F$16)*EXP(Computations!$E$16)^Computations!D475","v":2151.8844982239766},{"$f":"Computations!$F$17+Computations!$E$17*LN(Computations!D475)","v":2486.239653968883},{"$f":"Computations!$F$18+Computations!$E$18*Computations!D475+Computations!$D$18*Computations!D475^2","v":2446.0344784800905},{"$f":"Computations!$F$19+Computations!$E$19*Computations!D475+Computations!$D$19*Computations!D475^2+Computations!$C$19*Computations!D475^3","v":2446.0344784800905},{"$f":"Computations!$J$15+Computations!$I$15*D475","v":450000},{"$f":"EXP(Computations!$J$16)*EXP(Computations!$I$16)^Computations!D475","v":450000.00000000035},{"$f":"Computations!$J$17+Computations!$I$17*LN(Computations!D475)","v":450000},{"$f":"Computations!$J$18+Computations!$I$18*Computations!D475+Computations!$H$18*Computations!D475^2","v":450000},{"$f":"Computations!$J$19+Computations!$I$19*Computations!D475+Computations!$H$19*Computations!D475^2+Computations!$G$19*Computations!D475^3","v":450000}]
[422,0.13395637967155538,0.13424822692849187,0.13410230330002362,0.81354589980258707,1.6320623710175397E-3,2317.1355697371528,450000,{"$f":"G476-H476/User_entry!$E$18","v":817.13556973715276},817.13556973715276,null,{"$f":"HLOOKUP(User_entry!$B$56,Computations!$N$54:$R$1054,Computations!A476+1,FALSE)","v":2317.1355697371528},{"$f":"HLOOKUP(User_entry!$E$56,Computations!$S$54:$W$1054,Computations!A476+1,FALSE)","v":450000},{"$f":"Computations!$F$15+Computations!$E$15*D476","v":2317.1355697371528},{"$f":"EXP(Computations!$F$16)*EXP(Computations!$E$16)^Computations!D476","v":2156.3490411161251},{"$f":"Computations!$F$17+Computations!$E$17*LN(Computations!D476)","v":2489.0075309800236},{"$f":"Computations!$F$18+Computations!$E$18*Computations!D476+Computations!$D$18*Computations!D476^2","v":2449.5159702460151},{"$f":"Computations!$F$19+Computations!$E$19*Computations!D476+Computations!$D$19*Computations!D476^2+Computations!$C$19*Computations!D476^3","v":2449.5159702460151},{"$f":"Computations!$J$15+Computations!$I$15*D476","v":450000},{"$f":"EXP(Computations!$J$16)*EXP(Computations!$I$16)^Computations!D476","v":450000.00000000035},{"$f":"Computations!$J$17+Computations!$I$17*LN(Computations!D476)","v":450000},{"$f":"Computations!$J$18+Computations!$I$18*Computations!D476+Computations!$H$18*Computations!D476^2","v":450000},{"$f":"Computations!$J$19+Computations!$I$19*Computations!D476+Computations!$H$19*Computations!D476^2+Computations!$G$19*Computations!D476^3","v":450000}]
[423,0.13424822692849187,0.13454007418542835,0.13439415055696011,0.81516724509809013,1.6213452955030627E-3,2320.975665223159,450000,{"$f":"G477-H477/User_entry!$E$18","v":820.97566522315901},820.97566522315901,null,{"$f":"HLOOKUP(User_entry!$B$56,Computations!$N$54:$R$1054,Computations!A477+1,FALSE)","v":2320.975665223159},{"$f":"HLOOKUP(User_entry!$E$56,Computations!$S$54:$W$1054,Computations!A477+1,FALSE)","v":450000},{"$f":"Computations!$F$15+Computations!$E$15*D477","v":2320.975665223159},{"$f":"EXP(Computations!$F$16)*EXP(Computations!$E$16)^Computations!D477","v":2160.8228466537607},{"$f":"Computations!$F$17+Computations!$E$17*LN(Computations!D477)","v":2491.769390794746},{"$f":"Computations!$F$18+Computations!$E$18*Computations!D477+Computations!$D$18*Computations!D477^2","v":2452.9911527659106},{"$f":"Computations!$F$19+Computations!$E$19*Computations!D477+Computations!$D$19*Computations!D477^2+Computations!$C$19*Computations!D477^3","v":2452.9911527659106},{"$f":"Computations!$J$15+Computations!$I$15*D477","v":450000},{"$f":"EXP(Computations!$J$16)*EXP(Computations!$I$16)^Computations!D477","v":450000.00000000035},{"$f":"Computations!$J$17+Computations!$I$17*LN(Computations!D477)","v":450000},{"$f":"Computations!$J$18+Computations!$I$18*Computations!D477+Computations!$H$18*Computations!D477^2","v":450000},{"$f":"Computations!$J$19+Computations!$I$19*Computations!D477+Computations!$H$19*Computations!D477^2+Computations!$G$19*Computations!D477^3","v":450000}]
[424,0.13454007418542835,0.13483192144236483,0.13468599781389659,0.81677790040135345,1.6106553032633197E-3,2324.8157607091653,450000,{"$f":"G478-H478/User_entry!$E$18","v":824.81576070916526},824.81576070916526,null,{"$f":"HLOOKUP(User_entry!$B$56,Computations!$N$54:$R$1054,Computations!A478+1,FALSE)","v":2324.8157607091653},{"$f":"HLOOKUP(User_entry!$E$56,Computations!$S$54:$W$1054,Computations!A478+1,FALSE)","v":450000},{"$f":"Computations!$F$15+Computations!$E$15*D478","v":2324.8157607091653},{"$f":"EXP(Computations!$F$16)*EXP(Computations!$E$16)^Computations!D478","v":2165.305934054215},{"$f":"Computations!$F$17+Computations!$E$17*LN(Computations!D478)","v":2494.5252595183479},{"$f":"Computations!$F$18+Computations!$E$18*Computations!D478+Computations!$D$18*Computations!D478^2","v":2456.4600260397788},{"$f":"Computations!$F$19+Computations!$E$19*Computations!D478+Computations!$D$19*Computations!D478^2+Computations!$C$19*Computations!D478^3","v":2456.4600260397788},{"$f":"Computations!$J$15+Computations!$I$15*D478","v":450000},{"$f":"EXP(Computations!$J$16)*EXP(Computations!$I$16)^Computations!D478","v":450000.00000000035},{"$f":"Computations!$J$17+Computations!$I$17*LN(Computations!D478)","v":450000},{"$f":"Computations!$J$18+Computations!$I$18*Computations!D478+Computations!$H$18*Computations!D478^2","v":450000},{"$f":"Computations!$J$19+Computations!$I$19*Computations!D478+Computations!$H$19*Computations!D478^2+Computations!$G$19*Computations!D478^3","v":450000}]
[425,0.13483192144236483,0.13512376869930132,0.13497784507083307,0.81837789333165167,1.5999929302982219E-3,2328.6558561951715,450000,{"$f":"G479-H479/User_entry!$E$18","v":828.65585619517151},828.65585619517151,null,{"$f":"HLOOKUP(User_entry!$B$56,Computations!$N$54:$R$1054,Computations!A479+1,FALSE)","v":2328.6558561951715},{"$f":"HLOOKUP(User_entry!$E$56,Computations!$S$54:$W$1054,Computations!A479+1,FALSE)","v":450000},{"$f":"Computations!$F$15+Computations!$E$15*D479","v":2328.6558561951715},{"$f":"EXP(Computations!$F$16)*EXP(Computations!$E$16)^Computations!D479","v":2169.7983225746893},{"$f":"Computations!$F$17+Computations!$E$17*LN(Computations!D479)","v":2497.2751630866096},{"$f":"Computations!$F$18+Computations!$E$18*Computations!D479+Computations!$D$18*Computations!D479^2","v":2459.9225900676179},{"$f":"Computations!$F$19+Computations!$E$19*Computations!D479+Computations!$D$19*Computations!D479^2+Computations!$C$19*Computations!D479^3","v":2459.9225900676179},{"$f":"Computations!$J$15+Computations!$I$15*D479","v":450000},{"$f":"EXP(Computations!$J$16)*EXP(Computations!$I$16)^Computations!D479","v":450000.00000000035},{"$f":"Computations!$J$17+Computations!$I$17*LN(Computations!D479)","v":450000},{"$f":"Computations!$J$18+Computations!$I$18*Computations!D479+Computations!$H$18*Computations!D479^2","v":450000},{"$f":"Computations!$J$19+Computations!$I$19*Computations!D479+Computations!$H$19*Computations!D479^2+Computations!$G$19*Computations!D479^3","v":450000}]
[426,0.13512376869930132,0.1354156159562378,0.13526969232776956,0.81996725203471565,1.5893587030639811E-3,2332.4959516811782,450000,{"$f":"G480-H480/User_entry!$E$18","v":832.49595168117821},832.49595168117821,null,{"$f":"HLOOKUP(User_entry!$B$56,Computations!$N$54:$R$1054,Computations!A480+1,FALSE)","v":2332.4959516811782},{"$f":"HLOOKUP(User_entry!$E$56,Computations!$S$54:$W$1054,Computations!A480+1,FALSE)","v":450000},{"$f":"Computations!$F$15+Computations!$E$15*D480","v":2332.4959516811782},{"$f":"EXP(Computations!$F$16)*EXP(Computations!$E$16)^Computations!D480","v":2174.3000315123404},{"$f":"Computations!$F$17+Computations!$E$17*LN(Computations!D480)","v":2500.01912726726},{"$f":"Computations!$F$18+Computations!$E$18*Computations!D480+Computations!$D$18*Computations!D480^2","v":2463.3788448494292},{"$f":"Computations!$F$19+Computations!$E$19*Computations!D480+Computations!$D$19*Computations!D480^2+Computations!$C$19*Computations!D480^3","v":2463.3788448494292},{"$f":"Computations!$J$15+Computations!$I$15*D480","v":450000},{"$f":"EXP(Computations!$J$16)*EXP(Computations!$I$16)^Computations!D480","v":450000.00000000035},{"$f":"Computations!$J$17+Computations!$I$17*LN(Computations!D480)","v":450000},{"$f":"Computations!$J$18+Computations!$I$18*Computations!D480+Computations!$H$18*Computations!D480^2","v":450000},{"$f":"Computations!$J$19+Computations!$I$19*Computations!D480+Computations!$H$19*Computations!D480^2+Computations!$G$19*Computations!D480^3","v":450000}]
[427,0.1354156159562378,0.13570746321317428,0.13556153958470604,0.8215460051732506,1.5787531385349496E-3,2336.3360471671845,450000,{"$f":"G481-H481/User_entry!$E$18","v":836.33604716718446},836.33604716718446,null,{"$f":"HLOOKUP(User_entry!$B$56,Computations!$N$54:$R$1054,Computations!A481+1,FALSE)","v":2336.3360471671845},{"$f":"HLOOKUP(User_entry!$E$56,Computations!$S$54:$W$1054,Computations!A481+1,FALSE)","v":450000},{"$f":"Computations!$F$15+Computations!$E$15*D481","v":2336.3360471671845},{"$f":"EXP(Computations!$F$16)*EXP(Computations!$E$16)^Computations!D481","v":2178.8110802043584},{"$f":"Computations!$F$17+Computations!$E$17*LN(Computations!D481)","v":2502.7571776614222},{"$f":"Computations!$F$18+Computations!$E$18*Computations!D481+Computations!$D$18*Computations!D481^2","v":2466.8287903852124},{"$f":"Computations!$F$19+Computations!$E$19*Computations!D481+Computations!$D$19*Computations!D481^2+Computations!$C$19*Computations!D481^3","v":2466.8287903852124},{"$f":"Computations!$J$15+Computations!$I$15*D481","v":450000},{"$f":"EXP(Computations!$J$16)*EXP(Computations!$I$16)^Computations!D481","v":450000.00000000035},{"$f":"Computations!$J$17+Computations!$I$17*LN(Computations!D481)","v":450000},{"$f":"Computations!$J$18+Computations!$I$18*Computations!D481+Computations!$H$18*Computations!D481^2","v":450000},{"$f":"Computations!$J$19+Computations!$I$19*Computations!D481+Computations!$H$19*Computations!D481^2+Computations!$G$19*Computations!D481^3","v":450000}]
[428,0.13570746321317428,0.13599931047011077,0.13585338684164253,0.82311418191750729,1.5681767442566885E-3,2340.1761426531912,450000,{"$f":"G482-H482/User_entry!$E$18","v":840.17614265319116},840.17614265319116,null,{"$f":"HLOOKUP(User_entry!$B$56,Computations!$N$54:$R$1054,Computations!A482+1,FALSE)","v":2340.1761426531912},{"$f":"HLOOKUP(User_entry!$E$56,Computations!$S$54:$W$1054,Computations!A482+1,FALSE)","v":450000},{"$f":"Computations!$F$15+Computations!$E$15*D482","v":2340.1761426531912},{"$f":"EXP(Computations!$F$16)*EXP(Computations!$E$16)^Computations!D482","v":2183.3314880280541},{"$f":"Computations!$F$17+Computations!$E$17*LN(Computations!D482)","v":2505.4893397050505},{"$f":"Computations!$F$18+Computations!$E$18*Computations!D482+Computations!$D$18*Computations!D482^2","v":2470.2724266749674},{"$f":"Computations!$F$19+Computations!$E$19*Computations!D482+Computations!$D$19*Computations!D482^2+Computations!$C$19*Computations!D482^3","v":2470.2724266749674},{"$f":"Computations!$J$15+Computations!$I$15*D482","v":450000},{"$f":"EXP(Computations!$J$16)*EXP(Computations!$I$16)^Computations!D482","v":450000.00000000035},{"$f":"Computations!$J$17+Computations!$I$17*LN(Computations!D482)","v":450000},{"$f":"Computations!$J$18+Computations!$I$18*Computations!D482+Computations!$H$18*Computations!D482^2","v":450000},{"$f":"Computations!$J$19+Computations!$I$19*Computations!D482+Computations!$H$19*Computations!D482^2+Computations!$G$19*Computations!D482^3","v":450000}]
[429,0.13599931047011077,0.13629115772704725,0.13614523409857901,0.82467181193590888,1.5576300184015901E-3,2344.0162381391974,450000,{"$f":"G483-H483/User_entry!$E$18","v":844.01623813919741},844.01623813919741,null,{"$f":"HLOOKUP(User_entry!$B$56,Computations!$N$54:$R$1054,Computations!A483+1,FALSE)","v":2344.0162381391974},{"$f":"HLOOKUP(User_entry!$E$56,Computations!$S$54:$W$1054,Computations!A483+1,FALSE)","v":450000},{"$f":"Computations!$F$15+Computations!$E$15*D483","v":2344.0162381391974},{"$f":"EXP(Computations!$F$16)*EXP(Computations!$E$16)^Computations!D483","v":2187.8612744009401},{"$f":"Computations!$F$17+Computations!$E$17*LN(Computations!D483)","v":2508.2156386703446},{"$f":"Computations!$F$18+Computations!$E$18*Computations!D483+Computations!$D$18*Computations!D483^2","v":2473.7097537186937},{"$f":"Computations!$F$19+Computations!$E$19*Computations!D483+Computations!$D$19*Computations!D483^2+Computations!$C$19*Computations!D483^3","v":2473.7097537186937},{"$f":"Computations!$J$15+Computations!$I$15*D483","v":450000},{"$f":"EXP(Computations!$J$16)*EXP(Computations!$I$16)^Computations!D483","v":450000.00000000035},{"$f":"Computations!$J$17+Computations!$I$17*LN(Computations!D483)","v":450000},{"$f":"Computations!$J$18+Computations!$I$18*Computations!D483+Computations!$H$18*Computations!D483^2","v":450000},{"$f":"Computations!$J$19+Computations!$I$19*Computations!D483+Computations!$H$19*Computations!D483^2+Computations!$G$19*Computations!D483^3","v":450000}]
[430,0.13629115772704725,0.13658300498398374,0.13643708135551549,0.82621892538573838,1.5471134498294958E-3,2347.8563336252037,450000,{"$f":"G484-H484/User_entry!$E$18","v":847.85633362520366},847.85633362520366,null,{"$f":"HLOOKUP(User_entry!$B$56,Computations!$N$54:$R$1054,Computations!A484+1,FALSE)","v":2347.8563336252037},{"$f":"HLOOKUP(User_entry!$E$56,Computations!$S$54:$W$1054,Computations!A484+1,FALSE)","v":450000},{"$f":"Computations!$F$15+Computations!$E$15*D484","v":2347.8563336252037},{"$f":"EXP(Computations!$F$16)*EXP(Computations!$E$16)^Computations!D484","v":2192.4004587808154},{"$f":"Computations!$F$17+Computations!$E$17*LN(Computations!D484)","v":2510.9360996671562},{"$f":"Computations!$F$18+Computations!$E$18*Computations!D484+Computations!$D$18*Computations!D484^2","v":2477.1407715163919},{"$f":"Computations!$F$19+Computations!$E$19*Computations!D484+Computations!$D$19*Computations!D484^2+Computations!$C$19*Computations!D484^3","v":2477.1407715163919},{"$f":"Computations!$J$15+Computations!$I$15*D484","v":450000},{"$f":"EXP(Computations!$J$16)*EXP(Computations!$I$16)^Computations!D484","v":450000.00000000035},{"$f":"Computations!$J$17+Computations!$I$17*LN(Computations!D484)","v":450000},{"$f":"Computations!$J$18+Computations!$I$18*Computations!D484+Computations!$H$18*Computations!D484^2","v":450000},{"$f":"Computations!$J$19+Computations!$I$19*Computations!D484+Computations!$H$19*Computations!D484^2+Computations!$G$19*Computations!D484^3","v":450000}]
[431,0.13658300498398374,0.13687485224092022,0.13672892861245198,0.82775555290388414,1.5366275181457612E-3,2351.6964291112099,450000,{"$f":"G485-H485/User_entry!$E$18","v":851.69642911120991},851.69642911120991,null,{"$f":"HLOOKUP(User_entry!$B$56,Computations!$N$54:$R$1054,Computations!A485+1,FALSE)","v":2351.6964291112099},{"$f":"HLOOKUP(User_entry!$E$56,Computations!$S$54:$W$1054,Computations!A485+1,FALSE)","v":450000},{"$f":"Computations!$F$15+Computations!$E$15*D485","v":2351.6964291112099},{"$f":"EXP(Computations!$F$16)*EXP(Computations!$E$16)^Computations!D485","v":2196.9490606658474},{"$f":"Computations!$F$17+Computations!$E$17*LN(Computations!D485)","v":2513.6507476443721},{"$f":"Computations!$F$18+Computations!$E$18*Computations!D485+Computations!$D$18*Computations!D485^2","v":2480.5654800680618},{"$f":"Computations!$F$19+Computations!$E$19*Computations!D485+Computations!$D$19*Computations!D485^2+Computations!$C$19*Computations!D485^3","v":2480.5654800680618},{"$f":"Computations!$J$15+Computations!$I$15*D485","v":450000},{"$f":"EXP(Computations!$J$16)*EXP(Computations!$I$16)^Computations!D485","v":450000.00000000035},{"$f":"Computations!$J$17+Computations!$I$17*LN(Computations!D485)","v":450000},{"$f":"Computations!$J$18+Computations!$I$18*Computations!D485+Computations!$H$18*Computations!D485^2","v":450000},{"$f":"Computations!$J$19+Computations!$I$19*Computations!D485+Computations!$H$19*Computations!D485^2+Computations!$G$19*Computations!D485^3","v":450000}]
[432,0.13687485224092022,0.1371666994978567,0.13702077586938846,0.82928172559764246,1.5261726937583209E-3,2355.5365245972162,450000,{"$f":"G486-H486/User_entry!$E$18","v":855.53652459721616},855.53652459721616,null,{"$f":"HLOOKUP(User_entry!$B$56,Computations!$N$54:$R$1054,Computations!A486+1,FALSE)","v":2355.5365245972162},{"$f":"HLOOKUP(User_entry!$E$56,Computations!$S$54:$W$1054,Computations!A486+1,FALSE)","v":450000},{"$f":"Computations!$F$15+Computations!$E$15*D486","v":2355.5365245972162},{"$f":"EXP(Computations!$F$16)*EXP(Computations!$E$16)^Computations!D486","v":2201.507099594658},{"$f":"Computations!$F$17+Computations!$E$17*LN(Computations!D486)","v":2516.3596073912918},{"$f":"Computations!$F$18+Computations!$E$18*Computations!D486+Computations!$D$18*Computations!D486^2","v":2483.9838793737035},{"$f":"Computations!$F$19+Computations!$E$19*Computations!D486+Computations!$D$19*Computations!D486^2+Computations!$C$19*Computations!D486^3","v":2483.9838793737035},{"$f":"Computations!$J$15+Computations!$I$15*D486","v":450000},{"$f":"EXP(Computations!$J$16)*EXP(Computations!$I$16)^Computations!D486","v":450000.00000000035},{"$f":"Computations!$J$17+Computations!$I$17*LN(Computations!D486)","v":450000},{"$f":"Computations!$J$18+Computations!$I$18*Computations!D486+Computations!$H$18*Computations!D486^2","v":450000},{"$f":"Computations!$J$19+Computations!$I$19*Computations!D486+Computations!$H$19*Computations!D486^2+Computations!$G$19*Computations!D486^3","v":450000}]
[433,0.1371666994978567,0.13745854675479319,0.13731262312632495,0.83079747503558288,1.5157494379404168E-3,2359.3766200832229,450000,{"$f":"G487-H487/User_entry!$E$18","v":859.37662008322286},859.37662008322286,null,{"$f":"HLOOKUP(User_entry!$B$56,Computations!$N$54:$R$1054,Computations!A487+1,FALSE)","v":2359.3766200832229},{"$f":"HLOOKUP(User_entry!$E$56,Computations!$S$54:$W$1054,Computations!A487+1,FALSE)","v":450000},{"$f":"Computations!$F$15+Computations!$E$15*D487","v":2359.3766200832229},{"$f":"EXP(Computations!$F$16)*EXP(Computations!$E$16)^Computations!D487","v":2206.0745951464041},{"$f":"Computations!$F$17+Computations!$E$17*LN(Computations!D487)","v":2519.0627035389798},{"$f":"Computations!$F$18+Computations!$E$18*Computations!D487+Computations!$D$18*Computations!D487^2","v":2487.3959694333171},{"$f":"Computations!$F$19+Computations!$E$19*Computations!D487+Computations!$D$19*Computations!D487^2+Computations!$C$19*Computations!D487^3","v":2487.3959694333171},{"$f":"Computations!$J$15+Computations!$I$15*D487","v":450000},{"$f":"EXP(Computations!$J$16)*EXP(Computations!$I$16)^Computations!D487","v":450000.00000000035},{"$f":"Computations!$J$17+Computations!$I$17*LN(Computations!D487)","v":450000},{"$f":"Computations!$J$18+Computations!$I$18*Computations!D487+Computations!$H$18*Computations!D487^2","v":450000},{"$f":"Computations!$J$19+Computations!$I$19*Computations!D487+Computations!$H$19*Computations!D487^2+Computations!$G$19*Computations!D487^3","v":450000}]
[434,0.13745854675479319,0.13775039401172967,0.13760447038326143,0.83230283323847298,1.5053582028901058E-3,2363.2167155692291,450000,{"$f":"G488-H488/User_entry!$E$18","v":863.21671556922911},863.21671556922911,null,{"$f":"HLOOKUP(User_entry!$B$56,Computations!$N$54:$R$1054,Computations!A488+1,FALSE)","v":2363.2167155692291},{"$f":"HLOOKUP(User_entry!$E$56,Computations!$S$54:$W$1054,Computations!A488+1,FALSE)","v":450000},{"$f":"Computations!$F$15+Computations!$E$15*D488","v":2363.2167155692291},{"$f":"EXP(Computations!$F$16)*EXP(Computations!$E$16)^Computations!D488","v":2210.6515669408659},{"$f":"Computations!$F$17+Computations!$E$17*LN(Computations!D488)","v":2521.7600605616167},{"$f":"Computations!$F$18+Computations!$E$18*Computations!D488+Computations!$D$18*Computations!D488^2","v":2490.8017502469024},{"$f":"Computations!$F$19+Computations!$E$19*Computations!D488+Computations!$D$19*Computations!D488^2+Computations!$C$19*Computations!D488^3","v":2490.8017502469024},{"$f":"Computations!$J$15+Computations!$I$15*D488","v":450000},{"$f":"EXP(Computations!$J$16)*EXP(Computations!$I$16)^Computations!D488","v":450000.00000000035},{"$f":"Computations!$J$17+Computations!$I$17*LN(Computations!D488)","v":450000},{"$f":"Computations!$J$18+Computations!$I$18*Computations!D488+Computations!$H$18*Computations!D488^2","v":450000},{"$f":"Computations!$J$19+Computations!$I$19*Computations!D488+Computations!$H$19*Computations!D488^2+Computations!$G$19*Computations!D488^3","v":450000}]
[435,0.13775039401172967,0.13804224126866615,0.13789631764019791,0.83379783267026419,1.4949994317912108E-3,2367.0568110552358,450000,{"$f":"G489-H489/User_entry!$E$18","v":867.05681105523581},867.05681105523581,null,{"$f":"HLOOKUP(User_entry!$B$56,Computations!$N$54:$R$1054,Computations!A489+1,FALSE)","v":2367.0568110552358},{"$f":"HLOOKUP(User_entry!$E$56,Computations!$S$54:$W$1054,Computations!A489+1,FALSE)","v":450000},{"$f":"Computations!$F$15+Computations!$E$15*D489","v":2367.0568110552358},{"$f":"EXP(Computations!$F$16)*EXP(Computations!$E$16)^Computations!D489","v":2215.2380346385276},{"$f":"Computations!$F$17+Computations!$E$17*LN(Computations!D489)","v":2524.451702777822},{"$f":"Computations!$F$18+Computations!$E$18*Computations!D489+Computations!$D$18*Computations!D489^2","v":2494.2012218144591},{"$f":"Computations!$F$19+Computations!$E$19*Computations!D489+Computations!$D$19*Computations!D489^2+Computations!$C$19*Computations!D489^3","v":2494.2012218144591},{"$f":"Computations!$J$15+Computations!$I$15*D489","v":450000},{"$f":"EXP(Computations!$J$16)*EXP(Computations!$I$16)^Computations!D489","v":450000.00000000035},{"$f":"Computations!$J$17+Computations!$I$17*LN(Computations!D489)","v":450000},{"$f":"Computations!$J$18+Computations!$I$18*Computations!D489+Computations!$H$18*Computations!D489^2","v":450000},{"$f":"Computations!$J$19+Computations!$I$19*Computations!D489+Computations!$H$19*Computations!D489^2+Computations!$G$19*Computations!D489^3","v":450000}]
[436,0.13804224126866615,0.13833408852560264,0.1381881648971344,0.8352825062291398,1.4846735588756044E-3,2370.8969065412421,450000,{"$f":"G490-H490/User_entry!$E$18","v":870.89690654124206},870.89690654124206,null,{"$f":"HLOOKUP(User_entry!$B$56,Computations!$N$54:$R$1054,Computations!A490+1,FALSE)","v":2370.8969065412421},{"$f":"HLOOKUP(User_entry!$E$56,Computations!$S$54:$W$1054,Computations!A490+1,FALSE)","v":450000},{"$f":"Computations!$F$15+Computations!$E$15*D490","v":2370.8969065412421},{"$f":"EXP(Computations!$F$16)*EXP(Computations!$E$16)^Computations!D490","v":2219.8340179406632},{"$f":"Computations!$F$17+Computations!$E$17*LN(Computations!D490)","v":2527.1376543519741},{"$f":"Computations!$F$18+Computations!$E$18*Computations!D490+Computations!$D$18*Computations!D490^2","v":2497.5943841359885},{"$f":"Computations!$F$19+Computations!$E$19*Computations!D490+Computations!$D$19*Computations!D490^2+Computations!$C$19*Computations!D490^3","v":2497.5943841359885},{"$f":"Computations!$J$15+Computations!$I$15*D490","v":450000},{"$f":"EXP(Computations!$J$16)*EXP(Computations!$I$16)^Computations!D490","v":450000.00000000035},{"$f":"Computations!$J$17+Computations!$I$17*LN(Computations!D490)","v":450000},{"$f":"Computations!$J$18+Computations!$I$18*Computations!D490+Computations!$H$18*Computations!D490^2","v":450000},{"$f":"Computations!$J$19+Computations!$I$19*Computations!D490+Computations!$H$19*Computations!D490^2+Computations!$G$19*Computations!D490^3","v":450000}]
[437,0.13833408852560264,0.13862593578253912,0.13848001215407088,0.8367568872386264,1.4743810094866028E-3,2374.7370020272483,450000,{"$f":"G491-H491/User_entry!$E$18","v":874.73700202724831},874.73700202724831,null,{"$f":"HLOOKUP(User_entry!$B$56,Computations!$N$54:$R$1054,Computations!A491+1,FALSE)","v":2374.7370020272483},{"$f":"HLOOKUP(User_entry!$E$56,Computations!$S$54:$W$1054,Computations!A491+1,FALSE)","v":450000},{"$f":"Computations!$F$15+Computations!$E$15*D491","v":2374.7370020272483},{"$f":"EXP(Computations!$F$16)*EXP(Computations!$E$16)^Computations!D491","v":2224.4395365894229},{"$f":"Computations!$F$17+Computations!$E$17*LN(Computations!D491)","v":2529.8179392955103},{"$f":"Computations!$F$18+Computations!$E$18*Computations!D491+Computations!$D$18*Computations!D491^2","v":2500.9812372114884},{"$f":"Computations!$F$19+Computations!$E$19*Computations!D491+Computations!$D$19*Computations!D491^2+Computations!$C$19*Computations!D491^3","v":2500.9812372114884},{"$f":"Computations!$J$15+Computations!$I$15*D491","v":450000},{"$f":"EXP(Computations!$J$16)*EXP(Computations!$I$16)^Computations!D491","v":450000.00000000035},{"$f":"Computations!$J$17+Computations!$I$17*LN(Computations!D491)","v":450000},{"$f":"Computations!$J$18+Computations!$I$18*Computations!D491+Computations!$H$18*Computations!D491^2","v":450000},{"$f":"Computations!$J$19+Computations!$I$19*Computations!D491+Computations!$H$19*Computations!D491^2+Computations!$G$19*Computations!D491^3","v":450000}]
[438,0.13862593578253912,0.13891778303947561,0.13877185941100736,0.83822100943876565,1.4641222001392507E-3,2378.5770975132546,450000,{"$f":"G492-H492/User_entry!$E$18","v":878.57709751325456},878.57709751325456,null,{"$f":"HLOOKUP(User_entry!$B$56,Computations!$N$54:$R$1054,Computations!A492+1,FALSE)","v":2378.5770975132546},{"$f":"HLOOKUP(User_entry!$E$56,Computations!$S$54:$W$1054,Computations!A492+1,FALSE)","v":450000},{"$f":"Computations!$F$15+Computations!$E$15*D492","v":2378.5770975132546},{"$f":"EXP(Computations!$F$16)*EXP(Computations!$E$16)^Computations!D492","v":2229.0546103679139},{"$f":"Computations!$F$17+Computations!$E$17*LN(Computations!D492)","v":2532.4925814682138},{"$f":"Computations!$F$18+Computations!$E$18*Computations!D492+Computations!$D$18*Computations!D492^2","v":2504.361781040961},{"$f":"Computations!$F$19+Computations!$E$19*Computations!D492+Computations!$D$19*Computations!D492^2+Computations!$C$19*Computations!D492^3","v":2504.361781040961},{"$f":"Computations!$J$15+Computations!$I$15*D492","v":450000},{"$f":"EXP(Computations!$J$16)*EXP(Computations!$I$16)^Computations!D492","v":450000.00000000035},{"$f":"Computations!$J$17+Computations!$I$17*LN(Computations!D492)","v":450000},{"$f":"Computations!$J$18+Computations!$I$18*Computations!D492+Computations!$H$18*Computations!D492^2","v":450000},{"$f":"Computations!$J$19+Computations!$I$19*Computations!D492+Computations!$H$19*Computations!D492^2+Computations!$G$19*Computations!D492^3","v":450000}]
[439,0.13891778303947561,0.13920963029641209,0.13906370666794385,0.83967490697735481,1.453897538589155E-3,2382.4171929992608,450000,{"$f":"G493-H493/User_entry!$E$18","v":882.41719299926081},882.41719299926081,null,{"$f":"HLOOKUP(User_entry!$B$56,Computations!$N$54:$R$1054,Computations!A493+1,FALSE)","v":2382.4171929992608},{"$f":"HLOOKUP(User_entry!$E$56,Computations!$S$54:$W$1054,Computations!A493+1,FALSE)","v":450000},{"$f":"Computations!$F$15+Computations!$E$15*D493","v":2382.4171929992608},{"$f":"EXP(Computations!$F$16)*EXP(Computations!$E$16)^Computations!D493","v":2233.6792591002886},{"$f":"Computations!$F$17+Computations!$E$17*LN(Computations!D493)","v":2535.1616045794908},{"$f":"Computations!$F$18+Computations!$E$18*Computations!D493+Computations!$D$18*Computations!D493^2","v":2507.7360156244049},{"$f":"Computations!$F$19+Computations!$E$19*Computations!D493+Computations!$D$19*Computations!D493^2+Computations!$C$19*Computations!D493^3","v":2507.7360156244049},{"$f":"Computations!$J$15+Computations!$I$15*D493","v":450000},{"$f":"EXP(Computations!$J$16)*EXP(Computations!$I$16)^Computations!D493","v":450000.00000000035},{"$f":"Computations!$J$17+Computations!$I$17*LN(Computations!D493)","v":450000},{"$f":"Computations!$J$18+Computations!$I$18*Computations!D493+Computations!$H$18*Computations!D493^2","v":450000},{"$f":"Computations!$J$19+Computations!$I$19*Computations!D493+Computations!$H$19*Computations!D493^2+Computations!$G$19*Computations!D493^3","v":450000}]
[440,0.13920963029641209,0.13950147755334857,0.13935555392488033,0.8411186144012448,1.443707423889995E-3,2386.2572884852671,450000,{"$f":"G494-H494/User_entry!$E$18","v":886.25728848526705},886.25728848526705,null,{"$f":"HLOOKUP(User_entry!$B$56,Computations!$N$54:$R$1054,Computations!A494+1,FALSE)","v":2386.2572884852671},{"$f":"HLOOKUP(User_entry!$E$56,Computations!$S$54:$W$1054,Computations!A494+1,FALSE)","v":450000},{"$f":"Computations!$F$15+Computations!$E$15*D494","v":2386.2572884852671},{"$f":"EXP(Computations!$F$16)*EXP(Computations!$E$16)^Computations!D494","v":2238.3135026518298},{"$f":"Computations!$F$17+Computations!$E$17*LN(Computations!D494)","v":2537.8250321896285},{"$f":"Computations!$F$18+Computations!$E$18*Computations!D494+Computations!$D$18*Computations!D494^2","v":2511.1039409618206},{"$f":"Computations!$F$19+Computations!$E$19*Computations!D494+Computations!$D$19*Computations!D494^2+Computations!$C$19*Computations!D494^3","v":2511.1039409618206},{"$f":"Computations!$J$15+Computations!$I$15*D494","v":450000},{"$f":"EXP(Computations!$J$16)*EXP(Computations!$I$16)^Computations!D494","v":450000.00000000035},{"$f":"Computations!$J$17+Computations!$I$17*LN(Computations!D494)","v":450000},{"$f":"Computations!$J$18+Computations!$I$18*Computations!D494+Computations!$H$18*Computations!D494^2","v":450000},{"$f":"Computations!$J$19+Computations!$I$19*Computations!D494+Computations!$H$19*Computations!D494^2+Computations!$G$19*Computations!D494^3","v":450000}]
[441,0.13950147755334857,0.13979332481028506,0.13964740118181682,0.84255216664770938,1.4335522464645756E-3,2390.0973839712738,450000,{"$f":"G495-H495/User_entry!$E$18","v":890.09738397127376},890.09738397127376,null,{"$f":"HLOOKUP(User_entry!$B$56,Computations!$N$54:$R$1054,Computations!A495+1,FALSE)","v":2390.0973839712738},{"$f":"HLOOKUP(User_entry!$E$56,Computations!$S$54:$W$1054,Computations!A495+1,FALSE)","v":450000},{"$f":"Computations!$F$15+Computations!$E$15*D495","v":2390.0973839712738},{"$f":"EXP(Computations!$F$16)*EXP(Computations!$E$16)^Computations!D495","v":2242.9573609290342},{"$f":"Computations!$F$17+Computations!$E$17*LN(Computations!D495)","v":2540.4828877110444},{"$f":"Computations!$F$18+Computations!$E$18*Computations!D495+Computations!$D$18*Computations!D495^2","v":2514.4655570532082},{"$f":"Computations!$F$19+Computations!$E$19*Computations!D495+Computations!$D$19*Computations!D495^2+Computations!$C$19*Computations!D495^3","v":2514.4655570532082},{"$f":"Computations!$J$15+Computations!$I$15*D495","v":450000},{"$f":"EXP(Computations!$J$16)*EXP(Computations!$I$16)^Computations!D495","v":450000.00000000035},{"$f":"Computations!$J$17+Computations!$I$17*LN(Computations!D495)","v":450000},{"$f":"Computations!$J$18+Computations!$I$18*Computations!D495+Computations!$H$18*Computations!D495^2","v":450000},{"$f":"Computations!$J$19+Computations!$I$19*Computations!D495+Computations!$H$19*Computations!D495^2+Computations!$G$19*Computations!D495^3","v":450000}]
[442,0.13979332481028506,0.14008517206722154,0.1399392484387533,0.84397559903587482,1.4234323881654465E-3,2393.93747945728,450000,{"$f":"G496-H496/User_entry!$E$18","v":893.93747945728001},893.93747945728001,null,{"$f":"HLOOKUP(User_entry!$B$56,Computations!$N$54:$R$1054,Computations!A496+1,FALSE)","v":2393.93747945728},{"$f":"HLOOKUP(User_entry!$E$56,Computations!$S$54:$W$1054,Computations!A496+1,FALSE)","v":450000},{"$f":"Computations!$F$15+Computations!$E$15*D496","v":2393.93747945728},{"$f":"EXP(Computations!$F$16)*EXP(Computations!$E$16)^Computations!D496","v":2247.610853879698},{"$f":"Computations!$F$17+Computations!$E$17*LN(Computations!D496)","v":2543.1351944095222},{"$f":"Computations!$F$18+Computations!$E$18*Computations!D496+Computations!$D$18*Computations!D496^2","v":2517.8208638985675},{"$f":"Computations!$F$19+Computations!$E$19*Computations!D496+Computations!$D$19*Computations!D496^2+Computations!$C$19*Computations!D496^3","v":2517.8208638985675},{"$f":"Computations!$J$15+Computations!$I$15*D496","v":450000},{"$f":"EXP(Computations!$J$16)*EXP(Computations!$I$16)^Computations!D496","v":450000.00000000035},{"$f":"Computations!$J$17+Computations!$I$17*LN(Computations!D496)","v":450000},{"$f":"Computations!$J$18+Computations!$I$18*Computations!D496+Computations!$H$18*Computations!D496^2","v":450000},{"$f":"Computations!$J$19+Computations!$I$19*Computations!D496+Computations!$H$19*Computations!D496^2+Computations!$G$19*Computations!D496^3","v":450000}]
[443,0.14008517206722154,0.14037701932415803,0.14023109569568978,0.84538894725821689,1.4133482223420701E-3,2397.7775749432867,450000,{"$f":"G497-H497/User_entry!$E$18","v":897.77757494328671},897.77757494328671,null,{"$f":"HLOOKUP(User_entry!$B$56,Computations!$N$54:$R$1054,Computations!A497+1,FALSE)","v":2397.7775749432867},{"$f":"HLOOKUP(User_entry!$E$56,Computations!$S$54:$W$1054,Computations!A497+1,FALSE)","v":450000},{"$f":"Computations!$F$15+Computations!$E$15*D497","v":2397.7775749432867},{"$f":"EXP(Computations!$F$16)*EXP(Computations!$E$16)^Computations!D497","v":2252.2740014930046},{"$f":"Computations!$F$17+Computations!$E$17*LN(Computations!D497)","v":2545.7819754054321},{"$f":"Computations!$F$18+Computations!$E$18*Computations!D497+Computations!$D$18*Computations!D497^2","v":2521.1698614978986},{"$f":"Computations!$F$19+Computations!$E$19*Computations!D497+Computations!$D$19*Computations!D497^2+Computations!$C$19*Computations!D497^3","v":2521.1698614978986},{"$f":"Computations!$J$15+Computations!$I$15*D497","v":450000},{"$f":"EXP(Computations!$J$16)*EXP(Computations!$I$16)^Computations!D497","v":450000.00000000035},{"$f":"Computations!$J$17+Computations!$I$17*LN(Computations!D497)","v":450000},{"$f":"Computations!$J$18+Computations!$I$18*Computations!D497+Computations!$H$18*Computations!D497^2","v":450000},{"$f":"Computations!$J$19+Computations!$I$19*Computations!D497+Computations!$H$19*Computations!D497^2+Computations!$G$19*Computations!D497^3","v":450000}]
[444,0.14037701932415803,0.14066886658109451,0.14052294295262627,0.84679224737212588,1.4033001139089896E-3,2401.617670429293,450000,{"$f":"G498-H498/User_entry!$E$18","v":901.61767042929296},901.61767042929296,null,{"$f":"HLOOKUP(User_entry!$B$56,Computations!$N$54:$R$1054,Computations!A498+1,FALSE)","v":2401.617670429293},{"$f":"HLOOKUP(User_entry!$E$56,Computations!$S$54:$W$1054,Computations!A498+1,FALSE)","v":450000},{"$f":"Computations!$F$15+Computations!$E$15*D498","v":2401.617670429293},{"$f":"EXP(Computations!$F$16)*EXP(Computations!$E$16)^Computations!D498","v":2256.9468237996089},{"$f":"Computations!$F$17+Computations!$E$17*LN(Computations!D498)","v":2548.42325367494},{"$f":"Computations!$F$18+Computations!$E$18*Computations!D498+Computations!$D$18*Computations!D498^2","v":2524.5125498512016},{"$f":"Computations!$F$19+Computations!$E$19*Computations!D498+Computations!$D$19*Computations!D498^2+Computations!$C$19*Computations!D498^3","v":2524.5125498512016},{"$f":"Computations!$J$15+Computations!$I$15*D498","v":450000},{"$f":"EXP(Computations!$J$16)*EXP(Computations!$I$16)^Computations!D498","v":450000.00000000035},{"$f":"Computations!$J$17+Computations!$I$17*LN(Computations!D498)","v":450000},{"$f":"Computations!$J$18+Computations!$I$18*Computations!D498+Computations!$H$18*Computations!D498^2","v":450000},{"$f":"Computations!$J$19+Computations!$I$19*Computations!D498+Computations!$H$19*Computations!D498^2+Computations!$G$19*Computations!D498^3","v":450000}]
[445,0.14066886658109451,0.14096071383803099,0.14081479020956275,0.84818553579153422,1.3932884194083339E-3,2405.4577659152992,450000,{"$f":"G499-H499/User_entry!$E$18","v":905.45776591529921},905.45776591529921,null,{"$f":"HLOOKUP(User_entry!$B$56,Computations!$N$54:$R$1054,Computations!A499+1,FALSE)","v":2405.4577659152992},{"$f":"HLOOKUP(User_entry!$E$56,Computations!$S$54:$W$1054,Computations!A499+1,FALSE)","v":450000},{"$f":"Computations!$F$15+Computations!$E$15*D499","v":2405.4577659152992},{"$f":"EXP(Computations!$F$16)*EXP(Computations!$E$16)^Computations!D499","v":2261.6293408717229},{"$f":"Computations!$F$17+Computations!$E$17*LN(Computations!D499)","v":2551.0590520512064},{"$f":"Computations!$F$18+Computations!$E$18*Computations!D499+Computations!$D$18*Computations!D499^2","v":2527.8489289584759},{"$f":"Computations!$F$19+Computations!$E$19*Computations!D499+Computations!$D$19*Computations!D499^2+Computations!$C$19*Computations!D499^3","v":2527.8489289584759},{"$f":"Computations!$J$15+Computations!$I$15*D499","v":450000},{"$f":"EXP(Computations!$J$16)*EXP(Computations!$I$16)^Computations!D499","v":450000.00000000035},{"$f":"Computations!$J$17+Computations!$I$17*LN(Computations!D499)","v":450000},{"$f":"Computations!$J$18+Computations!$I$18*Computations!D499+Computations!$H$18*Computations!D499^2","v":450000},{"$f":"Computations!$J$19+Computations!$I$19*Computations!D499+Computations!$H$19*Computations!D499^2+Computations!$G$19*Computations!D499^3","v":450000}]
[446,0.14096071383803099,0.14125256109496748,0.14110663746649924,0.84956884927861354,1.3833134870793184E-3,2409.2978614013055,450000,{"$f":"G500-H500/User_entry!$E$18","v":909.29786140130545},909.29786140130545,null,{"$f":"HLOOKUP(User_entry!$B$56,Computations!$N$54:$R$1054,Computations!A500+1,FALSE)","v":2409.2978614013055},{"$f":"HLOOKUP(User_entry!$E$56,Computations!$S$54:$W$1054,Computations!A500+1,FALSE)","v":450000},{"$f":"Computations!$F$15+Computations!$E$15*D500","v":2409.2978614013055},{"$f":"EXP(Computations!$F$16)*EXP(Computations!$E$16)^Computations!D500","v":2266.3215728232044},{"$f":"Computations!$F$17+Computations!$E$17*LN(Computations!D500)","v":2553.6893932255671},{"$f":"Computations!$F$18+Computations!$E$18*Computations!D500+Computations!$D$18*Computations!D500^2","v":2531.1789988197224},{"$f":"Computations!$F$19+Computations!$E$19*Computations!D500+Computations!$D$19*Computations!D500^2+Computations!$C$19*Computations!D500^3","v":2531.1789988197224},{"$f":"Computations!$J$15+Computations!$I$15*D500","v":450000},{"$f":"EXP(Computations!$J$16)*EXP(Computations!$I$16)^Computations!D500","v":450000.00000000035},{"$f":"Computations!$J$17+Computations!$I$17*LN(Computations!D500)","v":450000},{"$f":"Computations!$J$18+Computations!$I$18*Computations!D500+Computations!$H$18*Computations!D500^2","v":450000},{"$f":"Computations!$J$19+Computations!$I$19*Computations!D500+Computations!$H$19*Computations!D500^2+Computations!$G$19*Computations!D500^3","v":450000}]
[447,0.14125256109496748,0.14154440835190396,0.14139848472343572,0.8509422249355395,1.3733756569259681E-3,2413.1379568873117,450000,{"$f":"G501-H501/User_entry!$E$18","v":913.1379568873117},913.1379568873117,null,{"$f":"HLOOKUP(User_entry!$B$56,Computations!$N$54:$R$1054,Computations!A501+1,FALSE)","v":2413.1379568873117},{"$f":"HLOOKUP(User_entry!$E$56,Computations!$S$54:$W$1054,Computations!A501+1,FALSE)","v":450000},{"$f":"Computations!$F$15+Computations!$E$15*D501","v":2413.1379568873117},{"$f":"EXP(Computations!$F$16)*EXP(Computations!$E$16)^Computations!D501","v":2271.0235398096393},{"$f":"Computations!$F$17+Computations!$E$17*LN(Computations!D501)","v":2556.3142997487098},{"$f":"Computations!$F$18+Computations!$E$18*Computations!D501+Computations!$D$18*Computations!D501^2","v":2534.5027594349403},{"$f":"Computations!$F$19+Computations!$E$19*Computations!D501+Computations!$D$19*Computations!D501^2+Computations!$C$19*Computations!D501^3","v":2534.5027594349403},{"$f":"Computations!$J$15+Computations!$I$15*D501","v":450000},{"$f":"EXP(Computations!$J$16)*EXP(Computations!$I$16)^Computations!D501","v":450000.00000000035},{"$f":"Computations!$J$17+Computations!$I$17*LN(Computations!D501)","v":450000},{"$f":"Computations!$J$18+Computations!$I$18*Computations!D501+Computations!$H$18*Computations!D501^2","v":450000},{"$f":"Computations!$J$19+Computations!$I$19*Computations!D501+Computations!$H$19*Computations!D501^2+Computations!$G$19*Computations!D501^3","v":450000}]
[448,0.14154440835190396,0.14183625560884044,0.1416903319803722,0.85230570019632212,1.3634752607826206E-3,2416.978052373318,450000,{"$f":"G502-H502/User_entry!$E$18","v":916.97805237331795},916.97805237331795,null,{"$f":"HLOOKUP(User_entry!$B$56,Computations!$N$54:$R$1054,Computations!A502+1,FALSE)","v":2416.978052373318},{"$f":"HLOOKUP(User_entry!$E$56,Computations!$S$54:$W$1054,Computations!A502+1,FALSE)","v":450000},{"$f":"Computations!$F$15+Computations!$E$15*D502","v":2416.978052373318},{"$f":"EXP(Computations!$F$16)*EXP(Computations!$E$16)^Computations!D502","v":2275.7352620284328},{"$f":"Computations!$F$17+Computations!$E$17*LN(Computations!D502)","v":2558.9337940318292},{"$f":"Computations!$F$18+Computations!$E$18*Computations!D502+Computations!$D$18*Computations!D502^2","v":2537.8202108041301},{"$f":"Computations!$F$19+Computations!$E$19*Computations!D502+Computations!$D$19*Computations!D502^2+Computations!$C$19*Computations!D502^3","v":2537.8202108041301},{"$f":"Computations!$J$15+Computations!$I$15*D502","v":450000},{"$f":"EXP(Computations!$J$16)*EXP(Computations!$I$16)^Computations!D502","v":450000.00000000035},{"$f":"Computations!$J$17+Computations!$I$17*LN(Computations!D502)","v":450000},{"$f":"Computations!$J$18+Computations!$I$18*Computations!D502+Computations!$H$18*Computations!D502^2","v":450000},{"$f":"Computations!$J$19+Computations!$I$19*Computations!D502+Computations!$H$19*Computations!D502^2+Computations!$G$19*Computations!D502^3","v":450000}]
[449,0.14183625560884044,0.14212810286577693,0.14198217923730869,0.853659312818706,1.3536126223838707E-3,2420.8181478593247,450000,{"$f":"G503-H503/User_entry!$E$18","v":920.81814785932465},920.81814785932465,null,{"$f":"HLOOKUP(User_entry!$B$56,Computations!$N$54:$R$1054,Computations!A503+1,FALSE)","v":2420.8181478593247},{"$f":"HLOOKUP(User_entry!$E$56,Computations!$S$54:$W$1054,Computations!A503+1,FALSE)","v":450000},{"$f":"Computations!$F$15+Computations!$E$15*D503","v":2420.8181478593247},{"$f":"EXP(Computations!$F$16)*EXP(Computations!$E$16)^Computations!D503","v":2280.456759718893},{"$f":"Computations!$F$17+Computations!$E$17*LN(Computations!D503)","v":2561.5478983477801},{"$f":"Computations!$F$18+Computations!$E$18*Computations!D503+Computations!$D$18*Computations!D503^2","v":2541.1313529272916},{"$f":"Computations!$F$19+Computations!$E$19*Computations!D503+Computations!$D$19*Computations!D503^2+Computations!$C$19*Computations!D503^3","v":2541.1313529272916},{"$f":"Computations!$J$15+Computations!$I$15*D503","v":450000},{"$f":"EXP(Computations!$J$16)*EXP(Computations!$I$16)^Computations!D503","v":450000.00000000035},{"$f":"Computations!$J$17+Computations!$I$17*LN(Computations!D503)","v":450000},{"$f":"Computations!$J$18+Computations!$I$18*Computations!D503+Computations!$H$18*Computations!D503^2","v":450000},{"$f":"Computations!$J$19+Computations!$I$19*Computations!D503+Computations!$H$19*Computations!D503^2+Computations!$G$19*Computations!D503^3","v":450000}]
[450,0.14212810286577693,{"$f":"B504+$D$11","v":0.14241995012271341},{"$f":"AVERAGE(B504:C504)","v":0.14227402649424517},{"$f":"IF($D$3=\"Beta\",_xlfn.BETA.DIST(C504,$D$4,$D$5,TRUE),IF($D$3=\"Gamma\",_xlfn.GAMMA.DIST(C504,$D$4,$D$5,TRUE),IF($D$3=\"Lognorm\",_xlfn.LOGNORM.DIST(C504,$D$4,$D$5,TRUE),_xlfn.NORM.DIST(C504,$D$4,$D$5,TRUE))))","v":0.85500310087613729},{"$f":"E504-E503","v":1.3437880574312944E-3},{"$f":"L504","v":2424.6582433453309},{"$f":"M504","v":450000},{"$f":"G504-H504/User_entry!$E$18","v":924.6582433453309},{"$f":"MAX(I504,0)","v":924.6582433453309},null,{"$f":"HLOOKUP(User_entry!$B$56,Computations!$N$54:$R$1054,Computations!A504+1,FALSE)","v":2424.6582433453309},{"$f":"HLOOKUP(User_entry!$E$56,Computations!$S$54:$W$1054,Computations!A504+1,FALSE)","v":450000},{"$f":"Computations!$F$15+Computations!$E$15*D504","v":2424.6582433453309},{"$f":"EXP(Computations!$F$16)*EXP(Computations!$E$16)^Computations!D504","v":2285.1880531623178},{"$f":"Computations!$F$17+Computations!$E$17*LN(Computations!D504)","v":2564.1566348322094},{"$f":"Computations!$F$18+Computations!$E$18*Computations!D504+Computations!$D$18*Computations!D504^2","v":2544.4361858044244},{"$f":"Computations!$F$19+Computations!$E$19*Computations!D504+Computations!$D$19*Computations!D504^2+Computations!$C$19*Computations!D504^3","v":2544.4361858044244},{"$f":"Computations!$J$15+Computations!$I$15*D504","v":450000},{"$f":"EXP(Computations!$J$16)*EXP(Computations!$I$16)^Computations!D504","v":450000.00000000035},{"$f":"Computations!$J$17+Computations!$I$17*LN(Computations!D504)","v":450000},{"$f":"Computations!$J$18+Computations!$I$18*Computations!D504+Computations!$H$18*Computations!D504^2","v":450000},{"$f":"Computations!$J$19+Computations!$I$19*Computations!D504+Computations!$H$19*Computations!D504^2+Computations!$G$19*Computations!D504^3","v":450000}]
[451,{"$f":"C504","v":0.14241995012271341},0.1427117973796499,0.14256587375118165,0.85633710274980168,1.3340018736643922E-3,2428.4983388313376,450000,{"$f":"G505-H505/User_entry!$E$18","v":928.49833883133761},928.49833883133761,null,{"$f":"HLOOKUP(User_entry!$B$56,Computations!$N$54:$R$1054,Computations!A505+1,FALSE)","v":2428.4983388313376},{"$f":"HLOOKUP(User_entry!$E$56,Computations!$S$54:$W$1054,Computations!A505+1,FALSE)","v":450000},{"$f":"Computations!$F$15+Computations!$E$15*D505","v":2428.4983388313376},{"$f":"EXP(Computations!$F$16)*EXP(Computations!$E$16)^Computations!D505","v":2289.929162682085},{"$f":"Computations!$F$17+Computations!$E$17*LN(Computations!D505)","v":2566.7600254846834},{"$f":"Computations!$F$18+Computations!$E$18*Computations!D505+Computations!$D$18*Computations!D505^2","v":2547.73470943553},{"$f":"Computations!$F$19+Computations!$E$19*Computations!D505+Computations!$D$19*Computations!D505^2+Computations!$C$19*Computations!D505^3","v":2547.73470943553},{"$f":"Computations!$J$15+Computations!$I$15*D505","v":450000},{"$f":"EXP(Computations!$J$16)*EXP(Computations!$I$16)^Computations!D505","v":450000.00000000035},{"$f":"Computations!$J$17+Computations!$I$17*LN(Computations!D505)","v":450000},{"$f":"Computations!$J$18+Computations!$I$18*Computations!D505+Computations!$H$18*Computations!D505^2","v":450000},{"$f":"Computations!$J$19+Computations!$I$19*Computations!D505+Computations!$H$19*Computations!D505^2+Computations!$G$19*Computations!D505^3","v":450000}]
[452,0.1427117973796499,0.14300364463658638,0.14285772100811814,0.85766135712072766,1.3242543709259813E-3,2432.3384343173439,450000,{"$f":"G506-H506/User_entry!$E$18","v":932.33843431734385},932.33843431734385,null,{"$f":"HLOOKUP(User_entry!$B$56,Computations!$N$54:$R$1054,Computations!A506+1,FALSE)","v":2432.3384343173439},{"$f":"HLOOKUP(User_entry!$E$56,Computations!$S$54:$W$1054,Computations!A506+1,FALSE)","v":450000},{"$f":"Computations!$F$15+Computations!$E$15*D506","v":2432.3384343173439},{"$f":"EXP(Computations!$F$16)*EXP(Computations!$E$16)^Computations!D506","v":2294.6801086437358},{"$f":"Computations!$F$17+Computations!$E$17*LN(Computations!D506)","v":2569.3580921697994},{"$f":"Computations!$F$18+Computations!$E$18*Computations!D506+Computations!$D$18*Computations!D506^2","v":2551.0269238206065},{"$f":"Computations!$F$19+Computations!$E$19*Computations!D506+Computations!$D$19*Computations!D506^2+Computations!$C$19*Computations!D506^3","v":2551.0269238206065},{"$f":"Computations!$J$15+Computations!$I$15*D506","v":450000},{"$f":"EXP(Computations!$J$16)*EXP(Computations!$I$16)^Computations!D506","v":450000.00000000035},{"$f":"Computations!$J$17+Computations!$I$17*LN(Computations!D506)","v":450000},{"$f":"Computations!$J$18+Computations!$I$18*Computations!D506+Computations!$H$18*Computations!D506^2","v":450000},{"$f":"Computations!$J$19+Computations!$I$19*Computations!D506+Computations!$H$19*Computations!D506^2+Computations!$G$19*Computations!D506^3","v":450000}]
[453,0.14300364463658638,0.14329549189352286,0.14314956826505462,0.85897590296196247,1.3145458412348043E-3,2436.1785298033501,450000,{"$f":"G507-H507/User_entry!$E$18","v":936.1785298033501},936.1785298033501,null,{"$f":"HLOOKUP(User_entry!$B$56,Computations!$N$54:$R$1054,Computations!A507+1,FALSE)","v":2436.1785298033501},{"$f":"HLOOKUP(User_entry!$E$56,Computations!$S$54:$W$1054,Computations!A507+1,FALSE)","v":450000},{"$f":"Computations!$F$15+Computations!$E$15*D507","v":2436.1785298033501},{"$f":"EXP(Computations!$F$16)*EXP(Computations!$E$16)^Computations!D507","v":2299.4409114550645},{"$f":"Computations!$F$17+Computations!$E$17*LN(Computations!D507)","v":2571.9508566182894},{"$f":"Computations!$F$18+Computations!$E$18*Computations!D507+Computations!$D$18*Computations!D507^2","v":2554.3128289596552},{"$f":"Computations!$F$19+Computations!$E$19*Computations!D507+Computations!$D$19*Computations!D507^2+Computations!$C$19*Computations!D507^3","v":2554.3128289596552},{"$f":"Computations!$J$15+Computations!$I$15*D507","v":450000},{"$f":"EXP(Computations!$J$16)*EXP(Computations!$I$16)^Computations!D507","v":450000.00000000035},{"$f":"Computations!$J$17+Computations!$I$17*LN(Computations!D507)","v":450000},{"$f":"Computations!$J$18+Computations!$I$18*Computations!D507+Computations!$H$18*Computations!D507^2","v":450000},{"$f":"Computations!$J$19+Computations!$I$19*Computations!D507+Computations!$H$19*Computations!D507^2+Computations!$G$19*Computations!D507^3","v":450000}]
[454,0.14329549189352286,0.14358733915045935,0.14344141552199111,0.86028077953081461,1.3048765688521424E-3,2440.0186252893564,450000,{"$f":"G508-H508/User_entry!$E$18","v":940.01862528935635},940.01862528935635,null,{"$f":"HLOOKUP(User_entry!$B$56,Computations!$N$54:$R$1054,Computations!A508+1,FALSE)","v":2440.0186252893564},{"$f":"HLOOKUP(User_entry!$E$56,Computations!$S$54:$W$1054,Computations!A508+1,FALSE)","v":450000},{"$f":"Computations!$F$15+Computations!$E$15*D508","v":2440.0186252893564},{"$f":"EXP(Computations!$F$16)*EXP(Computations!$E$16)^Computations!D508","v":2304.2115915662071},{"$f":"Computations!$F$17+Computations!$E$17*LN(Computations!D508)","v":2574.5383404281092},{"$f":"Computations!$F$18+Computations!$E$18*Computations!D508+Computations!$D$18*Computations!D508^2","v":2557.5924248526753},{"$f":"Computations!$F$19+Computations!$E$19*Computations!D508+Computations!$D$19*Computations!D508^2+Computations!$C$19*Computations!D508^3","v":2557.5924248526753},{"$f":"Computations!$J$15+Computations!$I$15*D508","v":450000},{"$f":"EXP(Computations!$J$16)*EXP(Computations!$I$16)^Computations!D508","v":450000.00000000035},{"$f":"Computations!$J$17+Computations!$I$17*LN(Computations!D508)","v":450000},{"$f":"Computations!$J$18+Computations!$I$18*Computations!D508+Computations!$H$18*Computations!D508^2","v":450000},{"$f":"Computations!$J$19+Computations!$I$19*Computations!D508+Computations!$H$19*Computations!D508^2+Computations!$G$19*Computations!D508^3","v":450000}]
[455,0.14358733915045935,0.14387918640739583,0.14373326277892759,0.86157602636116859,1.2952468303539799E-3,2443.8587207753626,450000,{"$f":"G509-H509/User_entry!$E$18","v":943.8587207753626},943.8587207753626,null,{"$f":"HLOOKUP(User_entry!$B$56,Computations!$N$54:$R$1054,Computations!A509+1,FALSE)","v":2443.8587207753626},{"$f":"HLOOKUP(User_entry!$E$56,Computations!$S$54:$W$1054,Computations!A509+1,FALSE)","v":450000},{"$f":"Computations!$F$15+Computations!$E$15*D509","v":2443.8587207753626},{"$f":"EXP(Computations!$F$16)*EXP(Computations!$E$16)^Computations!D509","v":2308.9921694697259},{"$f":"Computations!$F$17+Computations!$E$17*LN(Computations!D509)","v":2577.1205650655165},{"$f":"Computations!$F$18+Computations!$E$18*Computations!D509+Computations!$D$18*Computations!D509^2","v":2560.8657114996672},{"$f":"Computations!$F$19+Computations!$E$19*Computations!D509+Computations!$D$19*Computations!D509^2+Computations!$C$19*Computations!D509^3","v":2560.8657114996672},{"$f":"Computations!$J$15+Computations!$I$15*D509","v":450000},{"$f":"EXP(Computations!$J$16)*EXP(Computations!$I$16)^Computations!D509","v":450000.00000000035},{"$f":"Computations!$J$17+Computations!$I$17*LN(Computations!D509)","v":450000},{"$f":"Computations!$J$18+Computations!$I$18*Computations!D509+Computations!$H$18*Computations!D509^2","v":450000},{"$f":"Computations!$J$19+Computations!$I$19*Computations!D509+Computations!$H$19*Computations!D509^2+Computations!$G$19*Computations!D509^3","v":450000}]
[456,0.14387918640739583,0.14417103366433232,0.14402511003586407,0.86286168325586776,1.285656894699172E-3,2447.6988162613688,450000,{"$f":"G510-H510/User_entry!$E$18","v":947.69881626136885},947.69881626136885,null,{"$f":"HLOOKUP(User_entry!$B$56,Computations!$N$54:$R$1054,Computations!A510+1,FALSE)","v":2447.6988162613688},{"$f":"HLOOKUP(User_entry!$E$56,Computations!$S$54:$W$1054,Computations!A510+1,FALSE)","v":450000},{"$f":"Computations!$F$15+Computations!$E$15*D510","v":2447.6988162613688},{"$f":"EXP(Computations!$F$16)*EXP(Computations!$E$16)^Computations!D510","v":2313.7826657006995},{"$f":"Computations!$F$17+Computations!$E$17*LN(Computations!D510)","v":2579.6975518661434},{"$f":"Computations!$F$18+Computations!$E$18*Computations!D510+Computations!$D$18*Computations!D510^2","v":2564.1326889006309},{"$f":"Computations!$F$19+Computations!$E$19*Computations!D510+Computations!$D$19*Computations!D510^2+Computations!$C$19*Computations!D510^3","v":2564.1326889006309},{"$f":"Computations!$J$15+Computations!$I$15*D510","v":450000},{"$f":"EXP(Computations!$J$16)*EXP(Computations!$I$16)^Computations!D510","v":450000.00000000035},{"$f":"Computations!$J$17+Computations!$I$17*LN(Computations!D510)","v":450000},{"$f":"Computations!$J$18+Computations!$I$18*Computations!D510+Computations!$H$18*Computations!D510^2","v":450000},{"$f":"Computations!$J$19+Computations!$I$19*Computations!D510+Computations!$H$19*Computations!D510^2+Computations!$G$19*Computations!D510^3","v":450000}]
[457,0.14417103366433232,0.1444628809212688,0.14431695729280056,0.86413779027916715,1.2761070232993887E-3,2451.5389117473756,450000,{"$f":"G511-H511/User_entry!$E$18","v":951.53891174737555},951.53891174737555,null,{"$f":"HLOOKUP(User_entry!$B$56,Computations!$N$54:$R$1054,Computations!A511+1,FALSE)","v":2451.5389117473756},{"$f":"HLOOKUP(User_entry!$E$56,Computations!$S$54:$W$1054,Computations!A511+1,FALSE)","v":450000},{"$f":"Computations!$F$15+Computations!$E$15*D511","v":2451.5389117473756},{"$f":"EXP(Computations!$F$16)*EXP(Computations!$E$16)^Computations!D511","v":2318.5831008368123},{"$f":"Computations!$F$17+Computations!$E$17*LN(Computations!D511)","v":2582.2693220360507},{"$f":"Computations!$F$18+Computations!$E$18*Computations!D511+Computations!$D$18*Computations!D511^2","v":2567.3933570555669},{"$f":"Computations!$F$19+Computations!$E$19*Computations!D511+Computations!$D$19*Computations!D511^2+Computations!$C$19*Computations!D511^3","v":2567.3933570555669},{"$f":"Computations!$J$15+Computations!$I$15*D511","v":450000},{"$f":"EXP(Computations!$J$16)*EXP(Computations!$I$16)^Computations!D511","v":450000.00000000035},{"$f":"Computations!$J$17+Computations!$I$17*LN(Computations!D511)","v":450000},{"$f":"Computations!$J$18+Computations!$I$18*Computations!D511+Computations!$H$18*Computations!D511^2","v":450000},{"$f":"Computations!$J$19+Computations!$I$19*Computations!D511+Computations!$H$19*Computations!D511^2+Computations!$G$19*Computations!D511^3","v":450000}]
[458,0.1444628809212688,0.14475472817820528,0.14460880454973704,0.8654043877492571,1.2665974700899474E-3,2455.3790072333818,450000,{"$f":"G512-H512/User_entry!$E$18","v":955.3790072333818},955.3790072333818,null,{"$f":"HLOOKUP(User_entry!$B$56,Computations!$N$54:$R$1054,Computations!A512+1,FALSE)","v":2455.3790072333818},{"$f":"HLOOKUP(User_entry!$E$56,Computations!$S$54:$W$1054,Computations!A512+1,FALSE)","v":450000},{"$f":"Computations!$F$15+Computations!$E$15*D512","v":2455.3790072333818},{"$f":"EXP(Computations!$F$16)*EXP(Computations!$E$16)^Computations!D512","v":2323.3934954984402},{"$f":"Computations!$F$17+Computations!$E$17*LN(Computations!D512)","v":2584.8358966527762},{"$f":"Computations!$F$18+Computations!$E$18*Computations!D512+Computations!$D$18*Computations!D512^2","v":2570.6477159644737},{"$f":"Computations!$F$19+Computations!$E$19*Computations!D512+Computations!$D$19*Computations!D512^2+Computations!$C$19*Computations!D512^3","v":2570.6477159644737},{"$f":"Computations!$J$15+Computations!$I$15*D512","v":450000},{"$f":"EXP(Computations!$J$16)*EXP(Computations!$I$16)^Computations!D512","v":450000.00000000035},{"$f":"Computations!$J$17+Computations!$I$17*LN(Computations!D512)","v":450000},{"$f":"Computations!$J$18+Computations!$I$18*Computations!D512+Computations!$H$18*Computations!D512^2","v":450000},{"$f":"Computations!$J$19+Computations!$I$19*Computations!D512+Computations!$H$19*Computations!D512^2+Computations!$G$19*Computations!D512^3","v":450000}]
[459,0.14475472817820528,0.14504657543514177,0.14490065180667352,0.86666151623085697,1.2571284815998673E-3,2459.2191027193885,450000,{"$f":"G513-H513/User_entry!$E$18","v":959.2191027193885},959.2191027193885,null,{"$f":"HLOOKUP(User_entry!$B$56,Computations!$N$54:$R$1054,Computations!A513+1,FALSE)","v":2459.2191027193885},{"$f":"HLOOKUP(User_entry!$E$56,Computations!$S$54:$W$1054,Computations!A513+1,FALSE)","v":450000},{"$f":"Computations!$F$15+Computations!$E$15*D513","v":2459.2191027193885},{"$f":"EXP(Computations!$F$16)*EXP(Computations!$E$16)^Computations!D513","v":2328.2138703487412},{"$f":"Computations!$F$17+Computations!$E$17*LN(Computations!D513)","v":2587.3972966663709},{"$f":"Computations!$F$18+Computations!$E$18*Computations!D513+Computations!$D$18*Computations!D513^2","v":2573.8957656273533},{"$f":"Computations!$F$19+Computations!$E$19*Computations!D513+Computations!$D$19*Computations!D513^2+Computations!$C$19*Computations!D513^3","v":2573.8957656273533},{"$f":"Computations!$J$15+Computations!$I$15*D513","v":450000},{"$f":"EXP(Computations!$J$16)*EXP(Computations!$I$16)^Computations!D513","v":450000.00000000035},{"$f":"Computations!$J$17+Computations!$I$17*LN(Computations!D513)","v":450000},{"$f":"Computations!$J$18+Computations!$I$18*Computations!D513+Computations!$H$18*Computations!D513^2","v":450000},{"$f":"Computations!$J$19+Computations!$I$19*Computations!D513+Computations!$H$19*Computations!D513^2+Computations!$G$19*Computations!D513^3","v":450000}]
[460,0.14504657543514177,0.14533842269207825,0.14519249906361001,0.86790921652788089,1.2477002970239237E-3,2463.0591982053948,450000,{"$f":"G514-H514/User_entry!$E$18","v":963.05919820539475},963.05919820539475,null,{"$f":"HLOOKUP(User_entry!$B$56,Computations!$N$54:$R$1054,Computations!A514+1,FALSE)","v":2463.0591982053948},{"$f":"HLOOKUP(User_entry!$E$56,Computations!$S$54:$W$1054,Computations!A514+1,FALSE)","v":450000},{"$f":"Computations!$F$15+Computations!$E$15*D514","v":2463.0591982053948},{"$f":"EXP(Computations!$F$16)*EXP(Computations!$E$16)^Computations!D514","v":2333.0442460937434},{"$f":"Computations!$F$17+Computations!$E$17*LN(Computations!D514)","v":2589.9535429004263},{"$f":"Computations!$F$18+Computations!$E$18*Computations!D514+Computations!$D$18*Computations!D514^2","v":2577.1375060442037},{"$f":"Computations!$F$19+Computations!$E$19*Computations!D514+Computations!$D$19*Computations!D514^2+Computations!$C$19*Computations!D514^3","v":2577.1375060442037},{"$f":"Computations!$J$15+Computations!$I$15*D514","v":450000},{"$f":"EXP(Computations!$J$16)*EXP(Computations!$I$16)^Computations!D514","v":450000.00000000035},{"$f":"Computations!$J$17+Computations!$I$17*LN(Computations!D514)","v":450000},{"$f":"Computations!$J$18+Computations!$I$18*Computations!D514+Computations!$H$18*Computations!D514^2","v":450000},{"$f":"Computations!$J$19+Computations!$I$19*Computations!D514+Computations!$H$19*Computations!D514^2+Computations!$G$19*Computations!D514^3","v":450000}]
[461,0.14533842269207825,0.14563026994901473,0.14548434632054649,0.86914752967617004,1.2383131482891496E-3,2466.899293691401,450000,{"$f":"G515-H515/User_entry!$E$18","v":966.899293691401},966.899293691401,null,{"$f":"HLOOKUP(User_entry!$B$56,Computations!$N$54:$R$1054,Computations!A515+1,FALSE)","v":2466.899293691401},{"$f":"HLOOKUP(User_entry!$E$56,Computations!$S$54:$W$1054,Computations!A515+1,FALSE)","v":450000},{"$f":"Computations!$F$15+Computations!$E$15*D515","v":2466.899293691401},{"$f":"EXP(Computations!$F$16)*EXP(Computations!$E$16)^Computations!D515","v":2337.8846434824336},{"$f":"Computations!$F$17+Computations!$E$17*LN(Computations!D515)","v":2592.5046560530873},{"$f":"Computations!$F$18+Computations!$E$18*Computations!D515+Computations!$D$18*Computations!D515^2","v":2580.3729372150265},{"$f":"Computations!$F$19+Computations!$E$19*Computations!D515+Computations!$D$19*Computations!D515^2+Computations!$C$19*Computations!D515^3","v":2580.3729372150265},{"$f":"Computations!$J$15+Computations!$I$15*D515","v":450000},{"$f":"EXP(Computations!$J$16)*EXP(Computations!$I$16)^Computations!D515","v":450000.00000000035},{"$f":"Computations!$J$17+Computations!$I$17*LN(Computations!D515)","v":450000},{"$f":"Computations!$J$18+Computations!$I$18*Computations!D515+Computations!$H$18*Computations!D515^2","v":450000},{"$f":"Computations!$J$19+Computations!$I$19*Computations!D515+Computations!$H$19*Computations!D515^2+Computations!$G$19*Computations!D515^3","v":450000}]
[462,0.14563026994901473,0.14592211720595122,0.14577619357748298,0.87037649693630037,1.2289672601303314E-3,2470.7393891774072,450000,{"$f":"G516-H516/User_entry!$E$18","v":970.73938917740725},970.73938917740725,null,{"$f":"HLOOKUP(User_entry!$B$56,Computations!$N$54:$R$1054,Computations!A516+1,FALSE)","v":2470.7393891774072},{"$f":"HLOOKUP(User_entry!$E$56,Computations!$S$54:$W$1054,Computations!A516+1,FALSE)","v":450000},{"$f":"Computations!$F$15+Computations!$E$15*D516","v":2470.7393891774072},{"$f":"EXP(Computations!$F$16)*EXP(Computations!$E$16)^Computations!D516","v":2342.7350833068467},{"$f":"Computations!$F$17+Computations!$E$17*LN(Computations!D516)","v":2595.0506566980612},{"$f":"Computations!$F$18+Computations!$E$18*Computations!D516+Computations!$D$18*Computations!D516^2","v":2583.6020591398205},{"$f":"Computations!$F$19+Computations!$E$19*Computations!D516+Computations!$D$19*Computations!D516^2+Computations!$C$19*Computations!D516^3","v":2583.6020591398205},{"$f":"Computations!$J$15+Computations!$I$15*D516","v":450000},{"$f":"EXP(Computations!$J$16)*EXP(Computations!$I$16)^Computations!D516","v":450000.00000000035},{"$f":"Computations!$J$17+Computations!$I$17*LN(Computations!D516)","v":450000},{"$f":"Computations!$J$18+Computations!$I$18*Computations!D516+Computations!$H$18*Computations!D516^2","v":450000},{"$f":"Computations!$J$19+Computations!$I$19*Computations!D516+Computations!$H$19*Computations!D516^2+Computations!$G$19*Computations!D516^3","v":450000}]
[463,0.14592211720595122,0.1462139644628877,0.14606804083441946,0.87159615978645877,1.2196628501583984E-3,2474.5794846634135,450000,{"$f":"G517-H517/User_entry!$E$18","v":974.5794846634135},974.5794846634135,null,{"$f":"HLOOKUP(User_entry!$B$56,Computations!$N$54:$R$1054,Computations!A517+1,FALSE)","v":2474.5794846634135},{"$f":"HLOOKUP(User_entry!$E$56,Computations!$S$54:$W$1054,Computations!A517+1,FALSE)","v":450000},{"$f":"Computations!$F$15+Computations!$E$15*D517","v":2474.5794846634135},{"$f":"EXP(Computations!$F$16)*EXP(Computations!$E$16)^Computations!D517","v":2347.5955864021553},{"$f":"Computations!$F$17+Computations!$E$17*LN(Computations!D517)","v":2597.5915652856111},{"$f":"Computations!$F$18+Computations!$E$18*Computations!D517+Computations!$D$18*Computations!D517^2","v":2586.8248718185869},{"$f":"Computations!$F$19+Computations!$E$19*Computations!D517+Computations!$D$19*Computations!D517^2+Computations!$C$19*Computations!D517^3","v":2586.8248718185869},{"$f":"Computations!$J$15+Computations!$I$15*D517","v":450000},{"$f":"EXP(Computations!$J$16)*EXP(Computations!$I$16)^Computations!D517","v":450000.00000000035},{"$f":"Computations!$J$17+Computations!$I$17*LN(Computations!D517)","v":450000},{"$f":"Computations!$J$18+Computations!$I$18*Computations!D517+Computations!$H$18*Computations!D517^2","v":450000},{"$f":"Computations!$J$19+Computations!$I$19*Computations!D517+Computations!$H$19*Computations!D517^2+Computations!$G$19*Computations!D517^3","v":450000}]
[464,0.1462139644628877,0.14650581171982419,0.14635988809135594,0.87280655991538925,1.2104001289304778E-3,2478.4195801494197,450000,{"$f":"G518-H518/User_entry!$E$18","v":978.41958014941974},978.41958014941974,null,{"$f":"HLOOKUP(User_entry!$B$56,Computations!$N$54:$R$1054,Computations!A518+1,FALSE)","v":2478.4195801494197},{"$f":"HLOOKUP(User_entry!$E$56,Computations!$S$54:$W$1054,Computations!A518+1,FALSE)","v":450000},{"$f":"Computations!$F$15+Computations!$E$15*D518","v":2478.4195801494197},{"$f":"EXP(Computations!$F$16)*EXP(Computations!$E$16)^Computations!D518","v":2352.4661736467601},{"$f":"Computations!$F$17+Computations!$E$17*LN(Computations!D518)","v":2600.127402143542},{"$f":"Computations!$F$18+Computations!$E$18*Computations!D518+Computations!$D$18*Computations!D518^2","v":2590.0413752513246},{"$f":"Computations!$F$19+Computations!$E$19*Computations!D518+Computations!$D$19*Computations!D518^2+Computations!$C$19*Computations!D518^3","v":2590.0413752513246},{"$f":"Computations!$J$15+Computations!$I$15*D518","v":450000},{"$f":"EXP(Computations!$J$16)*EXP(Computations!$I$16)^Computations!D518","v":450000.00000000035},{"$f":"Computations!$J$17+Computations!$I$17*LN(Computations!D518)","v":450000},{"$f":"Computations!$J$18+Computations!$I$18*Computations!D518+Computations!$H$18*Computations!D518^2","v":450000},{"$f":"Computations!$J$19+Computations!$I$19*Computations!D518+Computations!$H$19*Computations!D518^2+Computations!$G$19*Computations!D518^3","v":450000}]
[465,0.14650581171982419,0.14679765897676067,0.14665173534829243,0.87400773921541264,1.2011793000233917E-3,2482.2596756354264,450000,{"$f":"G519-H519/User_entry!$E$18","v":982.25967563542645},982.25967563542645,null,{"$f":"HLOOKUP(User_entry!$B$56,Computations!$N$54:$R$1054,Computations!A519+1,FALSE)","v":2482.2596756354264},{"$f":"HLOOKUP(User_entry!$E$56,Computations!$S$54:$W$1054,Computations!A519+1,FALSE)","v":450000},{"$f":"Computations!$F$15+Computations!$E$15*D519","v":2482.2596756354264},{"$f":"EXP(Computations!$F$16)*EXP(Computations!$E$16)^Computations!D519","v":2357.3468659623754},{"$f":"Computations!$F$17+Computations!$E$17*LN(Computations!D519)","v":2602.6581874781759},{"$f":"Computations!$F$18+Computations!$E$18*Computations!D519+Computations!$D$18*Computations!D519^2","v":2593.2515694380345},{"$f":"Computations!$F$19+Computations!$E$19*Computations!D519+Computations!$D$19*Computations!D519^2+Computations!$C$19*Computations!D519^3","v":2593.2515694380345},{"$f":"Computations!$J$15+Computations!$I$15*D519","v":450000},{"$f":"EXP(Computations!$J$16)*EXP(Computations!$I$16)^Computations!D519","v":450000.00000000035},{"$f":"Computations!$J$17+Computations!$I$17*LN(Computations!D519)","v":450000},{"$f":"Computations!$J$18+Computations!$I$18*Computations!D519+Computations!$H$18*Computations!D519^2","v":450000},{"$f":"Computations!$J$19+Computations!$I$19*Computations!D519+Computations!$H$19*Computations!D519^2+Computations!$G$19*Computations!D519^3","v":450000}]
[466,0.14679765897676067,0.14708950623369715,0.14694358260522891,0.87519973977551513,1.1920005601024908E-3,2486.0997711214327,450000,{"$f":"G520-H520/User_entry!$E$18","v":986.0997711214327},986.0997711214327,null,{"$f":"HLOOKUP(User_entry!$B$56,Computations!$N$54:$R$1054,Computations!A520+1,FALSE)","v":2486.0997711214327},{"$f":"HLOOKUP(User_entry!$E$56,Computations!$S$54:$W$1054,Computations!A520+1,FALSE)","v":450000},{"$f":"Computations!$F$15+Computations!$E$15*D520","v":2486.0997711214327},{"$f":"EXP(Computations!$F$16)*EXP(Computations!$E$16)^Computations!D520","v":2362.237684314126},{"$f":"Computations!$F$17+Computations!$E$17*LN(Computations!D520)","v":2605.18394137532},{"$f":"Computations!$F$18+Computations!$E$18*Computations!D520+Computations!$D$18*Computations!D520^2","v":2596.4554543787153},{"$f":"Computations!$F$19+Computations!$E$19*Computations!D520+Computations!$D$19*Computations!D520^2+Computations!$C$19*Computations!D520^3","v":2596.4554543787153},{"$f":"Computations!$J$15+Computations!$I$15*D520","v":450000},{"$f":"EXP(Computations!$J$16)*EXP(Computations!$I$16)^Computations!D520","v":450000.00000000035},{"$f":"Computations!$J$17+Computations!$I$17*LN(Computations!D520)","v":450000},{"$f":"Computations!$J$18+Computations!$I$18*Computations!D520+Computations!$H$18*Computations!D520^2","v":450000},{"$f":"Computations!$J$19+Computations!$I$19*Computations!D520+Computations!$H$19*Computations!D520^2+Computations!$G$19*Computations!D520^3","v":450000}]
[467,0.14708950623369715,0.14738135349063364,0.1472354298621654,0.87638260387450861,1.1828640989934858E-3,2489.9398666074394,450000,{"$f":"G521-H521/User_entry!$E$18","v":989.9398666074394},989.9398666074394,null,{"$f":"HLOOKUP(User_entry!$B$56,Computations!$N$54:$R$1054,Computations!A521+1,FALSE)","v":2489.9398666074394},{"$f":"HLOOKUP(User_entry!$E$56,Computations!$S$54:$W$1054,Computations!A521+1,FALSE)","v":450000},{"$f":"Computations!$F$15+Computations!$E$15*D521","v":2489.9398666074394},{"$f":"EXP(Computations!$F$16)*EXP(Computations!$E$16)^Computations!D521","v":2367.1386497106305},{"$f":"Computations!$F$17+Computations!$E$17*LN(Computations!D521)","v":2607.7046838012202},{"$f":"Computations!$F$18+Computations!$E$18*Computations!D521+Computations!$D$18*Computations!D521^2","v":2599.6530300733684},{"$f":"Computations!$F$19+Computations!$E$19*Computations!D521+Computations!$D$19*Computations!D521^2+Computations!$C$19*Computations!D521^3","v":2599.6530300733684},{"$f":"Computations!$J$15+Computations!$I$15*D521","v":450000},{"$f":"EXP(Computations!$J$16)*EXP(Computations!$I$16)^Computations!D521","v":450000.00000000035},{"$f":"Computations!$J$17+Computations!$I$17*LN(Computations!D521)","v":450000},{"$f":"Computations!$J$18+Computations!$I$18*Computations!D521+Computations!$H$18*Computations!D521^2","v":450000},{"$f":"Computations!$J$19+Computations!$I$19*Computations!D521+Computations!$H$19*Computations!D521^2+Computations!$G$19*Computations!D521^3","v":450000}]
[468,0.14738135349063364,0.14767320074757012,0.14752727711910188,0.87755637397426267,1.1737700997540568E-3,2493.7799620934456,450000,{"$f":"G522-H522/User_entry!$E$18","v":993.77996209344565},993.77996209344565,null,{"$f":"HLOOKUP(User_entry!$B$56,Computations!$N$54:$R$1054,Computations!A522+1,FALSE)","v":2493.7799620934456},{"$f":"HLOOKUP(User_entry!$E$56,Computations!$S$54:$W$1054,Computations!A522+1,FALSE)","v":450000},{"$f":"Computations!$F$15+Computations!$E$15*D522","v":2493.7799620934456},{"$f":"EXP(Computations!$F$16)*EXP(Computations!$E$16)^Computations!D522","v":2372.0497832040955},{"$f":"Computations!$F$17+Computations!$E$17*LN(Computations!D522)","v":2610.220434603511},{"$f":"Computations!$F$18+Computations!$E$18*Computations!D522+Computations!$D$18*Computations!D522^2","v":2602.8442965219933},{"$f":"Computations!$F$19+Computations!$E$19*Computations!D522+Computations!$D$19*Computations!D522^2+Computations!$C$19*Computations!D522^3","v":2602.8442965219933},{"$f":"Computations!$J$15+Computations!$I$15*D522","v":450000},{"$f":"EXP(Computations!$J$16)*EXP(Computations!$I$16)^Computations!D522","v":450000.00000000035},{"$f":"Computations!$J$17+Computations!$I$17*LN(Computations!D522)","v":450000},{"$f":"Computations!$J$18+Computations!$I$18*Computations!D522+Computations!$H$18*Computations!D522^2","v":450000},{"$f":"Computations!$J$19+Computations!$I$19*Computations!D522+Computations!$H$19*Computations!D522^2+Computations!$G$19*Computations!D522^3","v":450000}]
[469,0.14767320074757012,0.14796504800450661,0.14781912437603836,0.87872109271300558,1.1647187387429092E-3,2497.6200575794519,450000,{"$f":"G523-H523/User_entry!$E$18","v":997.6200575794519},997.6200575794519,null,{"$f":"HLOOKUP(User_entry!$B$56,Computations!$N$54:$R$1054,Computations!A523+1,FALSE)","v":2497.6200575794519},{"$f":"HLOOKUP(User_entry!$E$56,Computations!$S$54:$W$1054,Computations!A523+1,FALSE)","v":450000},{"$f":"Computations!$F$15+Computations!$E$15*D523","v":2497.6200575794519},{"$f":"EXP(Computations!$F$16)*EXP(Computations!$E$16)^Computations!D523","v":2376.9711058904045},{"$f":"Computations!$F$17+Computations!$E$17*LN(Computations!D523)","v":2612.7312135121506},{"$f":"Computations!$F$18+Computations!$E$18*Computations!D523+Computations!$D$18*Computations!D523^2","v":2606.02925372459},{"$f":"Computations!$F$19+Computations!$E$19*Computations!D523+Computations!$D$19*Computations!D523^2+Computations!$C$19*Computations!D523^3","v":2606.02925372459},{"$f":"Computations!$J$15+Computations!$I$15*D523","v":450000},{"$f":"EXP(Computations!$J$16)*EXP(Computations!$I$16)^Computations!D523","v":450000.00000000035},{"$f":"Computations!$J$17+Computations!$I$17*LN(Computations!D523)","v":450000},{"$f":"Computations!$J$18+Computations!$I$18*Computations!D523+Computations!$H$18*Computations!D523^2","v":450000},{"$f":"Computations!$J$19+Computations!$I$19*Computations!D523+Computations!$H$19*Computations!D523^2+Computations!$G$19*Computations!D523^3","v":450000}]
[470,0.14796504800450661,0.14825689526144309,0.14811097163297485,0.87987680289869918,1.1557101856936036E-3,2501.4601530654581,450000,{"$f":"G524-H524/User_entry!$E$18","v":1001.4601530654581},1001.4601530654581,null,{"$f":"HLOOKUP(User_entry!$B$56,Computations!$N$54:$R$1054,Computations!A524+1,FALSE)","v":2501.4601530654581},{"$f":"HLOOKUP(User_entry!$E$56,Computations!$S$54:$W$1054,Computations!A524+1,FALSE)","v":450000},{"$f":"Computations!$F$15+Computations!$E$15*D524","v":2501.4601530654581},{"$f":"EXP(Computations!$F$16)*EXP(Computations!$E$16)^Computations!D524","v":2381.9026389092091},{"$f":"Computations!$F$17+Computations!$E$17*LN(Computations!D524)","v":2615.2370401403518},{"$f":"Computations!$F$18+Computations!$E$18*Computations!D524+Computations!$D$18*Computations!D524^2","v":2609.2079016811581},{"$f":"Computations!$F$19+Computations!$E$19*Computations!D524+Computations!$D$19*Computations!D524^2+Computations!$C$19*Computations!D524^3","v":2609.2079016811581},{"$f":"Computations!$J$15+Computations!$I$15*D524","v":450000},{"$f":"EXP(Computations!$J$16)*EXP(Computations!$I$16)^Computations!D524","v":450000.00000000035},{"$f":"Computations!$J$17+Computations!$I$17*LN(Computations!D524)","v":450000},{"$f":"Computations!$J$18+Computations!$I$18*Computations!D524+Computations!$H$18*Computations!D524^2","v":450000},{"$f":"Computations!$J$19+Computations!$I$19*Computations!D524+Computations!$H$19*Computations!D524^2+Computations!$G$19*Computations!D524^3","v":450000}]
[471,0.14825689526144309,0.14854874251837957,0.14840281888991133,0.88102354750248291,1.1467446037837226E-3,2505.3002485514644,450000,{"$f":"G525-H525/User_entry!$E$18","v":1005.3002485514644},1005.3002485514644,null,{"$f":"HLOOKUP(User_entry!$B$56,Computations!$N$54:$R$1054,Computations!A525+1,FALSE)","v":2505.3002485514644},{"$f":"HLOOKUP(User_entry!$E$56,Computations!$S$54:$W$1054,Computations!A525+1,FALSE)","v":450000},{"$f":"Computations!$F$15+Computations!$E$15*D525","v":2505.3002485514644},{"$f":"EXP(Computations!$F$16)*EXP(Computations!$E$16)^Computations!D525","v":2386.8444034440199},{"$f":"Computations!$F$17+Computations!$E$17*LN(Computations!D525)","v":2617.7379339854988},{"$f":"Computations!$F$18+Computations!$E$18*Computations!D525+Computations!$D$18*Computations!D525^2","v":2612.3802403916984},{"$f":"Computations!$F$19+Computations!$E$19*Computations!D525+Computations!$D$19*Computations!D525^2+Computations!$C$19*Computations!D525^3","v":2612.3802403916984},{"$f":"Computations!$J$15+Computations!$I$15*D525","v":450000},{"$f":"EXP(Computations!$J$16)*EXP(Computations!$I$16)^Computations!D525","v":450000.00000000035},{"$f":"Computations!$J$17+Computations!$I$17*LN(Computations!D525)","v":450000},{"$f":"Computations!$J$18+Computations!$I$18*Computations!D525+Computations!$H$18*Computations!D525^2","v":450000},{"$f":"Computations!$J$19+Computations!$I$19*Computations!D525+Computations!$H$19*Computations!D525^2+Computations!$G$19*Computations!D525^3","v":450000}]
[472,0.14854874251837957,0.14884058977531606,0.14869466614684781,0.88216136965218883,1.1378221497059249E-3,2509.1403440374706,450000,{"$f":"G526-H526/User_entry!$E$18","v":1009.1403440374706},1009.1403440374706,null,{"$f":"HLOOKUP(User_entry!$B$56,Computations!$N$54:$R$1054,Computations!A526+1,FALSE)","v":2509.1403440374706},{"$f":"HLOOKUP(User_entry!$E$56,Computations!$S$54:$W$1054,Computations!A526+1,FALSE)","v":450000},{"$f":"Computations!$F$15+Computations!$E$15*D526","v":2509.1403440374706},{"$f":"EXP(Computations!$F$16)*EXP(Computations!$E$16)^Computations!D526","v":2391.7964207222967},{"$f":"Computations!$F$17+Computations!$E$17*LN(Computations!D526)","v":2620.233914430059},{"$f":"Computations!$F$18+Computations!$E$18*Computations!D526+Computations!$D$18*Computations!D526^2","v":2615.5462698562101},{"$f":"Computations!$F$19+Computations!$E$19*Computations!D526+Computations!$D$19*Computations!D526^2+Computations!$C$19*Computations!D526^3","v":2615.5462698562101},{"$f":"Computations!$J$15+Computations!$I$15*D526","v":450000},{"$f":"EXP(Computations!$J$16)*EXP(Computations!$I$16)^Computations!D526","v":450000.00000000035},{"$f":"Computations!$J$17+Computations!$I$17*LN(Computations!D526)","v":450000},{"$f":"Computations!$J$18+Computations!$I$18*Computations!D526+Computations!$H$18*Computations!D526^2","v":450000},{"$f":"Computations!$J$19+Computations!$I$19*Computations!D526+Computations!$H$19*Computations!D526^2+Computations!$G$19*Computations!D526^3","v":450000}]
[473,0.14884058977531606,0.14913243703225254,0.1489865134037843,0.88329031262592839,1.1289429737395551E-3,2512.9804395234773,450000,{"$f":"G527-H527/User_entry!$E$18","v":1012.9804395234773},1012.9804395234773,null,{"$f":"HLOOKUP(User_entry!$B$56,Computations!$N$54:$R$1054,Computations!A527+1,FALSE)","v":2512.9804395234773},{"$f":"HLOOKUP(User_entry!$E$56,Computations!$S$54:$W$1054,Computations!A527+1,FALSE)","v":450000},{"$f":"Computations!$F$15+Computations!$E$15*D527","v":2512.9804395234773},{"$f":"EXP(Computations!$F$16)*EXP(Computations!$E$16)^Computations!D527","v":2396.7587120155399},{"$f":"Computations!$F$17+Computations!$E$17*LN(Computations!D527)","v":2622.7250007424855},{"$f":"Computations!$F$18+Computations!$E$18*Computations!D527+Computations!$D$18*Computations!D527^2","v":2618.705990074694},{"$f":"Computations!$F$19+Computations!$E$19*Computations!D527+Computations!$D$19*Computations!D527^2+Computations!$C$19*Computations!D527^3","v":2618.705990074694},{"$f":"Computations!$J$15+Computations!$I$15*D527","v":450000},{"$f":"EXP(Computations!$J$16)*EXP(Computations!$I$16)^Computations!D527","v":450000.00000000035},{"$f":"Computations!$J$17+Computations!$I$17*LN(Computations!D527)","v":450000},{"$f":"Computations!$J$18+Computations!$I$18*Computations!D527+Computations!$H$18*Computations!D527^2","v":450000},{"$f":"Computations!$J$19+Computations!$I$19*Computations!D527+Computations!$H$19*Computations!D527^2+Computations!$G$19*Computations!D527^3","v":450000}]
[474,0.14913243703225254,0.14942428428918902,0.14927836066072078,0.88441041984574986,1.1201072198214757E-3,2516.820535009484,450000,{"$f":"G528-H528/User_entry!$E$18","v":1016.820535009484},1016.820535009484,null,{"$f":"HLOOKUP(User_entry!$B$56,Computations!$N$54:$R$1054,Computations!A528+1,FALSE)","v":2516.820535009484},{"$f":"HLOOKUP(User_entry!$E$56,Computations!$S$54:$W$1054,Computations!A528+1,FALSE)","v":450000},{"$f":"Computations!$F$15+Computations!$E$15*D528","v":2516.820535009484},{"$f":"EXP(Computations!$F$16)*EXP(Computations!$E$16)^Computations!D528","v":2401.7312986393831},{"$f":"Computations!$F$17+Computations!$E$17*LN(Computations!D528)","v":2625.2112120781048},{"$f":"Computations!$F$18+Computations!$E$18*Computations!D528+Computations!$D$18*Computations!D528^2","v":2621.8594010471488},{"$f":"Computations!$F$19+Computations!$E$19*Computations!D528+Computations!$D$19*Computations!D528^2+Computations!$C$19*Computations!D528^3","v":2621.8594010471488},{"$f":"Computations!$J$15+Computations!$I$15*D528","v":450000},{"$f":"EXP(Computations!$J$16)*EXP(Computations!$I$16)^Computations!D528","v":450000.00000000035},{"$f":"Computations!$J$17+Computations!$I$17*LN(Computations!D528)","v":450000},{"$f":"Computations!$J$18+Computations!$I$18*Computations!D528+Computations!$H$18*Computations!D528^2","v":450000},{"$f":"Computations!$J$19+Computations!$I$19*Computations!D528+Computations!$H$19*Computations!D528^2+Computations!$G$19*Computations!D528^3","v":450000}]
[475,0.14942428428918902,0.14971613154612551,0.14957020791765727,0.88552173487136487,1.1113150256150117E-3,2520.6606304954903,450000,{"$f":"G529-H529/User_entry!$E$18","v":1020.6606304954903},1020.6606304954903,null,{"$f":"HLOOKUP(User_entry!$B$56,Computations!$N$54:$R$1054,Computations!A529+1,FALSE)","v":2520.6606304954903},{"$f":"HLOOKUP(User_entry!$E$56,Computations!$S$54:$W$1054,Computations!A529+1,FALSE)","v":450000},{"$f":"Computations!$F$15+Computations!$E$15*D529","v":2520.6606304954903},{"$f":"EXP(Computations!$F$16)*EXP(Computations!$E$16)^Computations!D529","v":2406.7142019536836},{"$f":"Computations!$F$17+Computations!$E$17*LN(Computations!D529)","v":2627.6925674800077},{"$f":"Computations!$F$18+Computations!$E$18*Computations!D529+Computations!$D$18*Computations!D529^2","v":2625.0065027735764},{"$f":"Computations!$F$19+Computations!$E$19*Computations!D529+Computations!$D$19*Computations!D529^2+Computations!$C$19*Computations!D529^3","v":2625.0065027735764},{"$f":"Computations!$J$15+Computations!$I$15*D529","v":450000},{"$f":"EXP(Computations!$J$16)*EXP(Computations!$I$16)^Computations!D529","v":450000.00000000035},{"$f":"Computations!$J$17+Computations!$I$17*LN(Computations!D529)","v":450000},{"$f":"Computations!$J$18+Computations!$I$18*Computations!D529+Computations!$H$18*Computations!D529^2","v":450000},{"$f":"Computations!$J$19+Computations!$I$19*Computations!D529+Computations!$H$19*Computations!D529^2+Computations!$G$19*Computations!D529^3","v":450000}]
[476,0.14971613154612551,0.15000797880306199,0.14986205517459375,0.88662430139394921,1.1025665225843362E-3,2524.5007259814965,450000,{"$f":"G530-H530/User_entry!$E$18","v":1024.5007259814965},1024.5007259814965,null,{"$f":"HLOOKUP(User_entry!$B$56,Computations!$N$54:$R$1054,Computations!A530+1,FALSE)","v":2524.5007259814965},{"$f":"HLOOKUP(User_entry!$E$56,Computations!$S$54:$W$1054,Computations!A530+1,FALSE)","v":450000},{"$f":"Computations!$F$15+Computations!$E$15*D530","v":2524.5007259814965},{"$f":"EXP(Computations!$F$16)*EXP(Computations!$E$16)^Computations!D530","v":2411.707443362613},{"$f":"Computations!$F$17+Computations!$E$17*LN(Computations!D530)","v":2630.1690858799179},{"$f":"Computations!$F$18+Computations!$E$18*Computations!D530+Computations!$D$18*Computations!D530^2","v":2628.1472952539752},{"$f":"Computations!$F$19+Computations!$E$19*Computations!D530+Computations!$D$19*Computations!D530^2+Computations!$C$19*Computations!D530^3","v":2628.1472952539752},{"$f":"Computations!$J$15+Computations!$I$15*D530","v":450000},{"$f":"EXP(Computations!$J$16)*EXP(Computations!$I$16)^Computations!D530","v":450000.00000000035},{"$f":"Computations!$J$17+Computations!$I$17*LN(Computations!D530)","v":450000},{"$f":"Computations!$J$18+Computations!$I$18*Computations!D530+Computations!$H$18*Computations!D530^2","v":450000},{"$f":"Computations!$J$19+Computations!$I$19*Computations!D530+Computations!$H$19*Computations!D530^2+Computations!$G$19*Computations!D530^3","v":450000}]
[477,0.15000797880306199,0.15029982605999848,0.15015390243153023,0.88771816323001085,1.0938618360616381E-3,2528.3408214675028,450000,{"$f":"G531-H531/User_entry!$E$18","v":1028.3408214675028},1028.3408214675028,null,{"$f":"HLOOKUP(User_entry!$B$56,Computations!$N$54:$R$1054,Computations!A531+1,FALSE)","v":2528.3408214675028},{"$f":"HLOOKUP(User_entry!$E$56,Computations!$S$54:$W$1054,Computations!A531+1,FALSE)","v":450000},{"$f":"Computations!$F$15+Computations!$E$15*D531","v":2528.3408214675028},{"$f":"EXP(Computations!$F$16)*EXP(Computations!$E$16)^Computations!D531","v":2416.7110443147517},{"$f":"Computations!$F$17+Computations!$E$17*LN(Computations!D531)","v":2632.6407860990621},{"$f":"Computations!$F$18+Computations!$E$18*Computations!D531+Computations!$D$18*Computations!D531^2","v":2631.2817784883459},{"$f":"Computations!$F$19+Computations!$E$19*Computations!D531+Computations!$D$19*Computations!D531^2+Computations!$C$19*Computations!D531^3","v":2631.2817784883459},{"$f":"Computations!$J$15+Computations!$I$15*D531","v":450000},{"$f":"EXP(Computations!$J$16)*EXP(Computations!$I$16)^Computations!D531","v":450000.00000000035},{"$f":"Computations!$J$17+Computations!$I$17*LN(Computations!D531)","v":450000},{"$f":"Computations!$J$18+Computations!$I$18*Computations!D531+Computations!$H$18*Computations!D531^2","v":450000},{"$f":"Computations!$J$19+Computations!$I$19*Computations!D531+Computations!$H$19*Computations!D531^2+Computations!$G$19*Computations!D531^3","v":450000}]
[478,0.15029982605999848,0.15059167331693496,0.15044574968846672,0.88880336431532958,1.0852010853187322E-3,2532.180916953509,450000,{"$f":"G532-H532/User_entry!$E$18","v":1032.180916953509},1032.180916953509,null,{"$f":"HLOOKUP(User_entry!$B$56,Computations!$N$54:$R$1054,Computations!A532+1,FALSE)","v":2532.180916953509},{"$f":"HLOOKUP(User_entry!$E$56,Computations!$S$54:$W$1054,Computations!A532+1,FALSE)","v":450000},{"$f":"Computations!$F$15+Computations!$E$15*D532","v":2532.180916953509},{"$f":"EXP(Computations!$F$16)*EXP(Computations!$E$16)^Computations!D532","v":2421.7250263031797},{"$f":"Computations!$F$17+Computations!$E$17*LN(Computations!D532)","v":2635.1076868490281},{"$f":"Computations!$F$18+Computations!$E$18*Computations!D532+Computations!$D$18*Computations!D532^2","v":2634.409952476688},{"$f":"Computations!$F$19+Computations!$E$19*Computations!D532+Computations!$D$19*Computations!D532^2+Computations!$C$19*Computations!D532^3","v":2634.409952476688},{"$f":"Computations!$J$15+Computations!$I$15*D532","v":450000},{"$f":"EXP(Computations!$J$16)*EXP(Computations!$I$16)^Computations!D532","v":450000.00000000035},{"$f":"Computations!$J$17+Computations!$I$17*LN(Computations!D532)","v":450000},{"$f":"Computations!$J$18+Computations!$I$18*Computations!D532+Computations!$H$18*Computations!D532^2","v":450000},{"$f":"Computations!$J$19+Computations!$I$19*Computations!D532+Computations!$H$19*Computations!D532^2+Computations!$G$19*Computations!D532^3","v":450000}]
[479,0.15059167331693496,0.15088352057387144,0.1507375969454032,0.88987994869896714,1.0765843836375577E-3,2536.0210124395153,450000,{"$f":"G533-H533/User_entry!$E$18","v":1036.0210124395153},1036.0210124395153,null,{"$f":"HLOOKUP(User_entry!$B$56,Computations!$N$54:$R$1054,Computations!A533+1,FALSE)","v":2536.0210124395153},{"$f":"HLOOKUP(User_entry!$E$56,Computations!$S$54:$W$1054,Computations!A533+1,FALSE)","v":450000},{"$f":"Computations!$F$15+Computations!$E$15*D533","v":2536.0210124395153},{"$f":"EXP(Computations!$F$16)*EXP(Computations!$E$16)^Computations!D533","v":2426.7494108655687},{"$f":"Computations!$F$17+Computations!$E$17*LN(Computations!D533)","v":2637.5698067326139},{"$f":"Computations!$F$18+Computations!$E$18*Computations!D533+Computations!$D$18*Computations!D533^2","v":2637.5318172190023},{"$f":"Computations!$F$19+Computations!$E$19*Computations!D533+Computations!$D$19*Computations!D533^2+Computations!$C$19*Computations!D533^3","v":2637.5318172190023},{"$f":"Computations!$J$15+Computations!$I$15*D533","v":450000},{"$f":"EXP(Computations!$J$16)*EXP(Computations!$I$16)^Computations!D533","v":450000.00000000035},{"$f":"Computations!$J$17+Computations!$I$17*LN(Computations!D533)","v":450000},{"$f":"Computations!$J$18+Computations!$I$18*Computations!D533+Computations!$H$18*Computations!D533^2","v":450000},{"$f":"Computations!$J$19+Computations!$I$19*Computations!D533+Computations!$H$19*Computations!D533^2+Computations!$G$19*Computations!D533^3","v":450000}]
[480,0.15088352057387144,0.15117536783080793,0.15102944420233969,0.8909479605373487,1.0680118383815662E-3,2539.861107925522,450000,{"$f":"G534-H534/User_entry!$E$18","v":1039.861107925522},1039.861107925522,null,{"$f":"HLOOKUP(User_entry!$B$56,Computations!$N$54:$R$1054,Computations!A534+1,FALSE)","v":2539.861107925522},{"$f":"HLOOKUP(User_entry!$E$56,Computations!$S$54:$W$1054,Computations!A534+1,FALSE)","v":450000},{"$f":"Computations!$F$15+Computations!$E$15*D534","v":2539.861107925522},{"$f":"EXP(Computations!$F$16)*EXP(Computations!$E$16)^Computations!D534","v":2431.7842195842741},{"$f":"Computations!$F$17+Computations!$E$17*LN(Computations!D534)","v":2640.0271642446692},{"$f":"Computations!$F$18+Computations!$E$18*Computations!D534+Computations!$D$18*Computations!D534^2","v":2640.6473727152879},{"$f":"Computations!$F$19+Computations!$E$19*Computations!D534+Computations!$D$19*Computations!D534^2+Computations!$C$19*Computations!D534^3","v":2640.6473727152879},{"$f":"Computations!$J$15+Computations!$I$15*D534","v":450000},{"$f":"EXP(Computations!$J$16)*EXP(Computations!$I$16)^Computations!D534","v":450000.00000000035},{"$f":"Computations!$J$17+Computations!$I$17*LN(Computations!D534)","v":450000},{"$f":"Computations!$J$18+Computations!$I$18*Computations!D534+Computations!$H$18*Computations!D534^2","v":450000},{"$f":"Computations!$J$19+Computations!$I$19*Computations!D534+Computations!$H$19*Computations!D534^2+Computations!$G$19*Computations!D534^3","v":450000}]
[481,0.15117536783080793,0.15146721508774441,0.15132129145927617,0.89200744408841171,1.0594835510630007E-3,2543.7012034115282,450000,{"$f":"G535-H535/User_entry!$E$18","v":1043.7012034115282},1043.7012034115282,null,{"$f":"HLOOKUP(User_entry!$B$56,Computations!$N$54:$R$1054,Computations!A535+1,FALSE)","v":2543.7012034115282},{"$f":"HLOOKUP(User_entry!$E$56,Computations!$S$54:$W$1054,Computations!A535+1,FALSE)","v":450000},{"$f":"Computations!$F$15+Computations!$E$15*D535","v":2543.7012034115282},{"$f":"EXP(Computations!$F$16)*EXP(Computations!$E$16)^Computations!D535","v":2436.8294740864303},{"$f":"Computations!$F$17+Computations!$E$17*LN(Computations!D535)","v":2642.47977777293},{"$f":"Computations!$F$18+Computations!$E$18*Computations!D535+Computations!$D$18*Computations!D535^2","v":2643.7566189655454},{"$f":"Computations!$F$19+Computations!$E$19*Computations!D535+Computations!$D$19*Computations!D535^2+Computations!$C$19*Computations!D535^3","v":2643.7566189655454},{"$f":"Computations!$J$15+Computations!$I$15*D535","v":450000},{"$f":"EXP(Computations!$J$16)*EXP(Computations!$I$16)^Computations!D535","v":450000.00000000035},{"$f":"Computations!$J$17+Computations!$I$17*LN(Computations!D535)","v":450000},{"$f":"Computations!$J$18+Computations!$I$18*Computations!D535+Computations!$H$18*Computations!D535^2","v":450000},{"$f":"Computations!$J$19+Computations!$I$19*Computations!D535+Computations!$H$19*Computations!D535^2+Computations!$G$19*Computations!D535^3","v":450000}]
[482,0.15146721508774441,0.1517590623446809,0.15161313871621265,0.89305844370582677,1.0509996174150604E-3,2547.5412988975349,450000,{"$f":"G536-H536/User_entry!$E$18","v":1047.5412988975349},1047.5412988975349,null,{"$f":"HLOOKUP(User_entry!$B$56,Computations!$N$54:$R$1054,Computations!A536+1,FALSE)","v":2547.5412988975349},{"$f":"HLOOKUP(User_entry!$E$56,Computations!$S$54:$W$1054,Computations!A536+1,FALSE)","v":450000},{"$f":"Computations!$F$15+Computations!$E$15*D536","v":2547.5412988975349},{"$f":"EXP(Computations!$F$16)*EXP(Computations!$E$16)^Computations!D536","v":2441.8851960440402},{"$f":"Computations!$F$17+Computations!$E$17*LN(Computations!D536)","v":2644.9276655988438},{"$f":"Computations!$F$18+Computations!$E$18*Computations!D536+Computations!$D$18*Computations!D536^2","v":2646.8595559697746},{"$f":"Computations!$F$19+Computations!$E$19*Computations!D536+Computations!$D$19*Computations!D536^2+Computations!$C$19*Computations!D536^3","v":2646.8595559697746},{"$f":"Computations!$J$15+Computations!$I$15*D536","v":450000},{"$f":"EXP(Computations!$J$16)*EXP(Computations!$I$16)^Computations!D536","v":450000.00000000035},{"$f":"Computations!$J$17+Computations!$I$17*LN(Computations!D536)","v":450000},{"$f":"Computations!$J$18+Computations!$I$18*Computations!D536+Computations!$H$18*Computations!D536^2","v":450000},{"$f":"Computations!$J$19+Computations!$I$19*Computations!D536+Computations!$H$19*Computations!D536^2+Computations!$G$19*Computations!D536^3","v":450000}]
[483,0.1517590623446809,0.15205090960161738,0.15190498597314914,0.89410100383328794,1.0425601274611784E-3,2551.3813943835412,450000,{"$f":"G537-H537/User_entry!$E$18","v":1051.3813943835412},1051.3813943835412,null,{"$f":"HLOOKUP(User_entry!$B$56,Computations!$N$54:$R$1054,Computations!A537+1,FALSE)","v":2551.3813943835412},{"$f":"HLOOKUP(User_entry!$E$56,Computations!$S$54:$W$1054,Computations!A537+1,FALSE)","v":450000},{"$f":"Computations!$F$15+Computations!$E$15*D537","v":2551.3813943835412},{"$f":"EXP(Computations!$F$16)*EXP(Computations!$E$16)^Computations!D537","v":2446.9514071740696},{"$f":"Computations!$F$17+Computations!$E$17*LN(Computations!D537)","v":2647.3708458983861},{"$f":"Computations!$F$18+Computations!$E$18*Computations!D537+Computations!$D$18*Computations!D537^2","v":2649.9561837279757},{"$f":"Computations!$F$19+Computations!$E$19*Computations!D537+Computations!$D$19*Computations!D537^2+Computations!$C$19*Computations!D537^3","v":2649.9561837279757},{"$f":"Computations!$J$15+Computations!$I$15*D537","v":450000},{"$f":"EXP(Computations!$J$16)*EXP(Computations!$I$16)^Computations!D537","v":450000.00000000035},{"$f":"Computations!$J$17+Computations!$I$17*LN(Computations!D537)","v":450000},{"$f":"Computations!$J$18+Computations!$I$18*Computations!D537+Computations!$H$18*Computations!D537^2","v":450000},{"$f":"Computations!$J$19+Computations!$I$19*Computations!D537+Computations!$H$19*Computations!D537^2+Computations!$G$19*Computations!D537^3","v":450000}]
[484,0.15205090960161738,0.15234275685855386,0.15219683323008562,0.89513516899887247,1.0341651655845219E-3,2555.2214898695474,450000,{"$f":"G538-H538/User_entry!$E$18","v":1055.2214898695474},1055.2214898695474,null,{"$f":"HLOOKUP(User_entry!$B$56,Computations!$N$54:$R$1054,Computations!A538+1,FALSE)","v":2555.2214898695474},{"$f":"HLOOKUP(User_entry!$E$56,Computations!$S$54:$W$1054,Computations!A538+1,FALSE)","v":450000},{"$f":"Computations!$F$15+Computations!$E$15*D538","v":2555.2214898695474},{"$f":"EXP(Computations!$F$16)*EXP(Computations!$E$16)^Computations!D538","v":2452.028129238543},{"$f":"Computations!$F$17+Computations!$E$17*LN(Computations!D538)","v":2649.8093367428723},{"$f":"Computations!$F$18+Computations!$E$18*Computations!D538+Computations!$D$18*Computations!D538^2","v":2653.0465022401486},{"$f":"Computations!$F$19+Computations!$E$19*Computations!D538+Computations!$D$19*Computations!D538^2+Computations!$C$19*Computations!D538^3","v":2653.0465022401486},{"$f":"Computations!$J$15+Computations!$I$15*D538","v":450000},{"$f":"EXP(Computations!$J$16)*EXP(Computations!$I$16)^Computations!D538","v":450000.00000000035},{"$f":"Computations!$J$17+Computations!$I$17*LN(Computations!D538)","v":450000},{"$f":"Computations!$J$18+Computations!$I$18*Computations!D538+Computations!$H$18*Computations!D538^2","v":450000},{"$f":"Computations!$J$19+Computations!$I$19*Computations!D538+Computations!$H$19*Computations!D538^2+Computations!$G$19*Computations!D538^3","v":450000}]
[485,0.15234275685855386,0.15263460411549035,0.1524886804870221,0.8961609838094684,1.0258148105959375E-3,2559.0615853555537,450000,{"$f":"G539-H539/User_entry!$E$18","v":1059.0615853555537},1059.0615853555537,null,{"$f":"HLOOKUP(User_entry!$B$56,Computations!$N$54:$R$1054,Computations!A539+1,FALSE)","v":2559.0615853555537},{"$f":"HLOOKUP(User_entry!$E$56,Computations!$S$54:$W$1054,Computations!A539+1,FALSE)","v":450000},{"$f":"Computations!$F$15+Computations!$E$15*D539","v":2559.0615853555537},{"$f":"EXP(Computations!$F$16)*EXP(Computations!$E$16)^Computations!D539","v":2457.1153840446332},{"$f":"Computations!$F$17+Computations!$E$17*LN(Computations!D539)","v":2652.2431560997575},{"$f":"Computations!$F$18+Computations!$E$18*Computations!D539+Computations!$D$18*Computations!D539^2","v":2656.1305115062933},{"$f":"Computations!$F$19+Computations!$E$19*Computations!D539+Computations!$D$19*Computations!D539^2+Computations!$C$19*Computations!D539^3","v":2656.1305115062933},{"$f":"Computations!$J$15+Computations!$I$15*D539","v":450000},{"$f":"EXP(Computations!$J$16)*EXP(Computations!$I$16)^Computations!D539","v":450000.00000000035},{"$f":"Computations!$J$17+Computations!$I$17*LN(Computations!D539)","v":450000},{"$f":"Computations!$J$18+Computations!$I$18*Computations!D539+Computations!$H$18*Computations!D539^2","v":450000},{"$f":"Computations!$J$19+Computations!$I$19*Computations!D539+Computations!$H$19*Computations!D539^2+Computations!$G$19*Computations!D539^3","v":450000}]
[486,0.15263460411549035,0.15292645137242683,0.15278052774395859,0.8971784929452753,1.0175091358068933E-3,2562.9016808415599,450000,{"$f":"G540-H540/User_entry!$E$18","v":1062.9016808415599},1062.9016808415599,null,{"$f":"HLOOKUP(User_entry!$B$56,Computations!$N$54:$R$1054,Computations!A540+1,FALSE)","v":2562.9016808415599},{"$f":"HLOOKUP(User_entry!$E$56,Computations!$S$54:$W$1054,Computations!A540+1,FALSE)","v":450000},{"$f":"Computations!$F$15+Computations!$E$15*D540","v":2562.9016808415599},{"$f":"EXP(Computations!$F$16)*EXP(Computations!$E$16)^Computations!D540","v":2462.2131934447561},{"$f":"Computations!$F$17+Computations!$E$17*LN(Computations!D540)","v":2654.6723218334323},{"$f":"Computations!$F$18+Computations!$E$18*Computations!D540+Computations!$D$18*Computations!D540^2","v":2659.2082115264097},{"$f":"Computations!$F$19+Computations!$E$19*Computations!D540+Computations!$D$19*Computations!D540^2+Computations!$C$19*Computations!D540^3","v":2659.2082115264097},{"$f":"Computations!$J$15+Computations!$I$15*D540","v":450000},{"$f":"EXP(Computations!$J$16)*EXP(Computations!$I$16)^Computations!D540","v":450000.00000000035},{"$f":"Computations!$J$17+Computations!$I$17*LN(Computations!D540)","v":450000},{"$f":"Computations!$J$18+Computations!$I$18*Computations!D540+Computations!$H$18*Computations!D540^2","v":450000},{"$f":"Computations!$J$19+Computations!$I$19*Computations!D540+Computations!$H$19*Computations!D540^2+Computations!$G$19*Computations!D540^3","v":450000}]
[487,0.15292645137242683,0.15321829862936331,0.15307237500089507,0.89818774115436817,1.0092482090928723E-3,2566.7417763275662,450000,{"$f":"G541-H541/User_entry!$E$18","v":1066.7417763275662},1066.7417763275662,null,{"$f":"HLOOKUP(User_entry!$B$56,Computations!$N$54:$R$1054,Computations!A541+1,FALSE)","v":2566.7417763275662},{"$f":"HLOOKUP(User_entry!$E$56,Computations!$S$54:$W$1054,Computations!A541+1,FALSE)","v":450000},{"$f":"Computations!$F$15+Computations!$E$15*D541","v":2566.7417763275662},{"$f":"EXP(Computations!$F$16)*EXP(Computations!$E$16)^Computations!D541","v":2467.3215793366667},{"$f":"Computations!$F$17+Computations!$E$17*LN(Computations!D541)","v":2657.0968517060091},{"$f":"Computations!$F$18+Computations!$E$18*Computations!D541+Computations!$D$18*Computations!D541^2","v":2662.2796023004976},{"$f":"Computations!$F$19+Computations!$E$19*Computations!D541+Computations!$D$19*Computations!D541^2+Computations!$C$19*Computations!D541^3","v":2662.2796023004976},{"$f":"Computations!$J$15+Computations!$I$15*D541","v":450000},{"$f":"EXP(Computations!$J$16)*EXP(Computations!$I$16)^Computations!D541","v":450000.00000000035},{"$f":"Computations!$J$17+Computations!$I$17*LN(Computations!D541)","v":450000},{"$f":"Computations!$J$18+Computations!$I$18*Computations!D541+Computations!$H$18*Computations!D541^2","v":450000},{"$f":"Computations!$J$19+Computations!$I$19*Computations!D541+Computations!$H$19*Computations!D541^2+Computations!$G$19*Computations!D541^3","v":450000}]
[488,0.15321829862936331,0.1535101458862998,0.15336422225783156,0.8991887732473367,1.0010320929685346E-3,2570.5818718135729,450000,{"$f":"G542-H542/User_entry!$E$18","v":1070.5818718135729},1070.5818718135729,null,{"$f":"HLOOKUP(User_entry!$B$56,Computations!$N$54:$R$1054,Computations!A542+1,FALSE)","v":2570.5818718135729},{"$f":"HLOOKUP(User_entry!$E$56,Computations!$S$54:$W$1054,Computations!A542+1,FALSE)","v":450000},{"$f":"Computations!$F$15+Computations!$E$15*D542","v":2570.5818718135729},{"$f":"EXP(Computations!$F$16)*EXP(Computations!$E$16)^Computations!D542","v":2472.4405636635506},{"$f":"Computations!$F$17+Computations!$E$17*LN(Computations!D542)","v":2659.5167633781016},{"$f":"Computations!$F$18+Computations!$E$18*Computations!D542+Computations!$D$18*Computations!D542^2","v":2665.3446838285577},{"$f":"Computations!$F$19+Computations!$E$19*Computations!D542+Computations!$D$19*Computations!D542^2+Computations!$C$19*Computations!D542^3","v":2665.3446838285577},{"$f":"Computations!$J$15+Computations!$I$15*D542","v":450000},{"$f":"EXP(Computations!$J$16)*EXP(Computations!$I$16)^Computations!D542","v":450000.00000000035},{"$f":"Computations!$J$17+Computations!$I$17*LN(Computations!D542)","v":450000},{"$f":"Computations!$J$18+Computations!$I$18*Computations!D542+Computations!$H$18*Computations!D542^2","v":450000},{"$f":"Computations!$J$19+Computations!$I$19*Computations!D542+Computations!$H$19*Computations!D542^2+Computations!$G$19*Computations!D542^3","v":450000}]
[489,0.1535101458862998,0.15380199314323628,0.15365606951476804,0.90018163409198682,9.9286084465011193E-4,2574.4219672995791,450000,{"$f":"G543-H543/User_entry!$E$18","v":1074.4219672995791},1074.4219672995791,null,{"$f":"HLOOKUP(User_entry!$B$56,Computations!$N$54:$R$1054,Computations!A543+1,FALSE)","v":2574.4219672995791},{"$f":"HLOOKUP(User_entry!$E$56,Computations!$S$54:$W$1054,Computations!A543+1,FALSE)","v":450000},{"$f":"Computations!$F$15+Computations!$E$15*D543","v":2574.4219672995791},{"$f":"EXP(Computations!$F$16)*EXP(Computations!$E$16)^Computations!D543","v":2477.5701684141186},{"$f":"Computations!$F$17+Computations!$E$17*LN(Computations!D543)","v":2661.9320744095958},{"$f":"Computations!$F$18+Computations!$E$18*Computations!D543+Computations!$D$18*Computations!D543^2","v":2668.4034561105891},{"$f":"Computations!$F$19+Computations!$E$19*Computations!D543+Computations!$D$19*Computations!D543^2+Computations!$C$19*Computations!D543^3","v":2668.4034561105891},{"$f":"Computations!$J$15+Computations!$I$15*D543","v":450000},{"$f":"EXP(Computations!$J$16)*EXP(Computations!$I$16)^Computations!D543","v":450000.00000000035},{"$f":"Computations!$J$17+Computations!$I$17*LN(Computations!D543)","v":450000},{"$f":"Computations!$J$18+Computations!$I$18*Computations!D543+Computations!$H$18*Computations!D543^2","v":450000},{"$f":"Computations!$J$19+Computations!$I$19*Computations!D543+Computations!$H$19*Computations!D543^2+Computations!$G$19*Computations!D543^3","v":450000}]
[490,0.15380199314323628,0.15409384040017277,0.15394791677170452,0.90116636860811528,9.8473451612846041E-4,2578.2620627855858,450000,{"$f":"G544-H544/User_entry!$E$18","v":1078.2620627855858},1078.2620627855858,null,{"$f":"HLOOKUP(User_entry!$B$56,Computations!$N$54:$R$1054,Computations!A544+1,FALSE)","v":2578.2620627855858},{"$f":"HLOOKUP(User_entry!$E$56,Computations!$S$54:$W$1054,Computations!A544+1,FALSE)","v":450000},{"$f":"Computations!$F$15+Computations!$E$15*D544","v":2578.2620627855858},{"$f":"EXP(Computations!$F$16)*EXP(Computations!$E$16)^Computations!D544","v":2482.7104156227033},{"$f":"Computations!$F$17+Computations!$E$17*LN(Computations!D544)","v":2664.3428022604157},{"$f":"Computations!$F$18+Computations!$E$18*Computations!D544+Computations!$D$18*Computations!D544^2","v":2671.4559191465924},{"$f":"Computations!$F$19+Computations!$E$19*Computations!D544+Computations!$D$19*Computations!D544^2+Computations!$C$19*Computations!D544^3","v":2671.4559191465924},{"$f":"Computations!$J$15+Computations!$I$15*D544","v":450000},{"$f":"EXP(Computations!$J$16)*EXP(Computations!$I$16)^Computations!D544","v":450000.00000000035},{"$f":"Computations!$J$17+Computations!$I$17*LN(Computations!D544)","v":450000},{"$f":"Computations!$J$18+Computations!$I$18*Computations!D544+Computations!$H$18*Computations!D544^2","v":450000},{"$f":"Computations!$J$19+Computations!$I$19*Computations!D544+Computations!$H$19*Computations!D544^2+Computations!$G$19*Computations!D544^3","v":450000}]
[491,0.15409384040017277,0.15438568765710925,0.15423976402864101,0.90214302176234917,9.7665315423389742E-4,2582.1021582715921,450000,{"$f":"G545-H545/User_entry!$E$18","v":1082.1021582715921},1082.1021582715921,null,{"$f":"HLOOKUP(User_entry!$B$56,Computations!$N$54:$R$1054,Computations!A545+1,FALSE)","v":2582.1021582715921},{"$f":"HLOOKUP(User_entry!$E$56,Computations!$S$54:$W$1054,Computations!A545+1,FALSE)","v":450000},{"$f":"Computations!$F$15+Computations!$E$15*D545","v":2582.1021582715921},{"$f":"EXP(Computations!$F$16)*EXP(Computations!$E$16)^Computations!D545","v":2487.8613273693518},{"$f":"Computations!$F$17+Computations!$E$17*LN(Computations!D545)","v":2666.7489642912806},{"$f":"Computations!$F$18+Computations!$E$18*Computations!D545+Computations!$D$18*Computations!D545^2","v":2674.5020729365674},{"$f":"Computations!$F$19+Computations!$E$19*Computations!D545+Computations!$D$19*Computations!D545^2+Computations!$C$19*Computations!D545^3","v":2674.5020729365674},{"$f":"Computations!$J$15+Computations!$I$15*D545","v":450000},{"$f":"EXP(Computations!$J$16)*EXP(Computations!$I$16)^Computations!D545","v":450000.00000000035},{"$f":"Computations!$J$17+Computations!$I$17*LN(Computations!D545)","v":450000},{"$f":"Computations!$J$18+Computations!$I$18*Computations!D545+Computations!$H$18*Computations!D545^2","v":450000},{"$f":"Computations!$J$19+Computations!$I$19*Computations!D545+Computations!$H$19*Computations!D545^2+Computations!$G$19*Computations!D545^3","v":450000}]
[492,0.15438568765710925,0.15467753491404573,0.15453161128557749,0.90311163856305565,9.6861680070647882E-4,2585.9422537575983,450000,{"$f":"G546-H546/User_entry!$E$18","v":1085.9422537575983},1085.9422537575983,null,{"$f":"HLOOKUP(User_entry!$B$56,Computations!$N$54:$R$1054,Computations!A546+1,FALSE)","v":2585.9422537575983},{"$f":"HLOOKUP(User_entry!$E$56,Computations!$S$54:$W$1054,Computations!A546+1,FALSE)","v":450000},{"$f":"Computations!$F$15+Computations!$E$15*D546","v":2585.9422537575983},{"$f":"EXP(Computations!$F$16)*EXP(Computations!$E$16)^Computations!D546","v":2493.0229257799192},{"$f":"Computations!$F$17+Computations!$E$17*LN(Computations!D546)","v":2669.1505777644538},{"$f":"Computations!$F$18+Computations!$E$18*Computations!D546+Computations!$D$18*Computations!D546^2","v":2677.5419174805147},{"$f":"Computations!$F$19+Computations!$E$19*Computations!D546+Computations!$D$19*Computations!D546^2+Computations!$C$19*Computations!D546^3","v":2677.5419174805147},{"$f":"Computations!$J$15+Computations!$I$15*D546","v":450000},{"$f":"EXP(Computations!$J$16)*EXP(Computations!$I$16)^Computations!D546","v":450000.00000000035},{"$f":"Computations!$J$17+Computations!$I$17*LN(Computations!D546)","v":450000},{"$f":"Computations!$J$18+Computations!$I$18*Computations!D546+Computations!$H$18*Computations!D546^2","v":450000},{"$f":"Computations!$J$19+Computations!$I$19*Computations!D546+Computations!$H$19*Computations!D546^2+Computations!$G$19*Computations!D546^3","v":450000}]
[493,0.15467753491404573,0.15496938217098222,0.15482345854251398,0.90407226405531693,9.6062549226128002E-4,2589.7823492436046,450000,{"$f":"G547-H547/User_entry!$E$18","v":1089.7823492436046},1089.7823492436046,null,{"$f":"HLOOKUP(User_entry!$B$56,Computations!$N$54:$R$1054,Computations!A547+1,FALSE)","v":2589.7823492436046},{"$f":"HLOOKUP(User_entry!$E$56,Computations!$S$54:$W$1054,Computations!A547+1,FALSE)","v":450000},{"$f":"Computations!$F$15+Computations!$E$15*D547","v":2589.7823492436046},{"$f":"EXP(Computations!$F$16)*EXP(Computations!$E$16)^Computations!D547","v":2498.1952330261684},{"$f":"Computations!$F$17+Computations!$E$17*LN(Computations!D547)","v":2671.5476598444866},{"$f":"Computations!$F$18+Computations!$E$18*Computations!D547+Computations!$D$18*Computations!D547^2","v":2680.5754527784329},{"$f":"Computations!$F$19+Computations!$E$19*Computations!D547+Computations!$D$19*Computations!D547^2+Computations!$C$19*Computations!D547^3","v":2680.5754527784329},{"$f":"Computations!$J$15+Computations!$I$15*D547","v":450000},{"$f":"EXP(Computations!$J$16)*EXP(Computations!$I$16)^Computations!D547","v":450000.00000000035},{"$f":"Computations!$J$17+Computations!$I$17*LN(Computations!D547)","v":450000},{"$f":"Computations!$J$18+Computations!$I$18*Computations!D547+Computations!$H$18*Computations!D547^2","v":450000},{"$f":"Computations!$J$19+Computations!$I$19*Computations!D547+Computations!$H$19*Computations!D547^2+Computations!$G$19*Computations!D547^3","v":450000}]
[494,0.15496938217098222,0.1552612294279187,0.15511530579945046,0.90502494331597449,9.5267926065756292E-4,2593.6224447296108,450000,{"$f":"G548-H548/User_entry!$E$18","v":1093.6224447296108},1093.6224447296108,null,{"$f":"HLOOKUP(User_entry!$B$56,Computations!$N$54:$R$1054,Computations!A548+1,FALSE)","v":2593.6224447296108},{"$f":"HLOOKUP(User_entry!$E$56,Computations!$S$54:$W$1054,Computations!A548+1,FALSE)","v":450000},{"$f":"Computations!$F$15+Computations!$E$15*D548","v":2593.6224447296108},{"$f":"EXP(Computations!$F$16)*EXP(Computations!$E$16)^Computations!D548","v":2503.3782713258593},{"$f":"Computations!$F$17+Computations!$E$17*LN(Computations!D548)","v":2673.9402275989551},{"$f":"Computations!$F$18+Computations!$E$18*Computations!D548+Computations!$D$18*Computations!D548^2","v":2683.6026788303234},{"$f":"Computations!$F$19+Computations!$E$19*Computations!D548+Computations!$D$19*Computations!D548^2+Computations!$C$19*Computations!D548^3","v":2683.6026788303234},{"$f":"Computations!$J$15+Computations!$I$15*D548","v":450000},{"$f":"EXP(Computations!$J$16)*EXP(Computations!$I$16)^Computations!D548","v":450000.00000000035},{"$f":"Computations!$J$17+Computations!$I$17*LN(Computations!D548)","v":450000},{"$f":"Computations!$J$18+Computations!$I$18*Computations!D548+Computations!$H$18*Computations!D548^2","v":450000},{"$f":"Computations!$J$19+Computations!$I$19*Computations!D548+Computations!$H$19*Computations!D548^2+Computations!$G$19*Computations!D548^3","v":450000}]
[495,0.1552612294279187,0.15555307668485518,0.15540715305638694,0.90596972144873855,9.4477813276405698E-4,2597.4625402156171,450000,{"$f":"G549-H549/User_entry!$E$18","v":1097.4625402156171},1097.4625402156171,null,{"$f":"HLOOKUP(User_entry!$B$56,Computations!$N$54:$R$1054,Computations!A549+1,FALSE)","v":2597.4625402156171},{"$f":"HLOOKUP(User_entry!$E$56,Computations!$S$54:$W$1054,Computations!A549+1,FALSE)","v":450000},{"$f":"Computations!$F$15+Computations!$E$15*D549","v":2597.4625402156171},{"$f":"EXP(Computations!$F$16)*EXP(Computations!$E$16)^Computations!D549","v":2508.5720629428492},{"$f":"Computations!$F$17+Computations!$E$17*LN(Computations!D549)","v":2676.3282979991886},{"$f":"Computations!$F$18+Computations!$E$18*Computations!D549+Computations!$D$18*Computations!D549^2","v":2686.6235956361852},{"$f":"Computations!$F$19+Computations!$E$19*Computations!D549+Computations!$D$19*Computations!D549^2+Computations!$C$19*Computations!D549^3","v":2686.6235956361852},{"$f":"Computations!$J$15+Computations!$I$15*D549","v":450000},{"$f":"EXP(Computations!$J$16)*EXP(Computations!$I$16)^Computations!D549","v":450000.00000000035},{"$f":"Computations!$J$17+Computations!$I$17*LN(Computations!D549)","v":450000},{"$f":"Computations!$J$18+Computations!$I$18*Computations!D549+Computations!$H$18*Computations!D549^2","v":450000},{"$f":"Computations!$J$19+Computations!$I$19*Computations!D549+Computations!$H$19*Computations!D549^2+Computations!$G$19*Computations!D549^3","v":450000}]
[496,0.15555307668485518,0.15584492394179167,0.15569900031332343,0.90690664357936535,9.3692213062679386E-4,2601.3026357016233,450000,{"$f":"G550-H550/User_entry!$E$18","v":1101.3026357016233},1101.3026357016233,null,{"$f":"HLOOKUP(User_entry!$B$56,Computations!$N$54:$R$1054,Computations!A550+1,FALSE)","v":2601.3026357016233},{"$f":"HLOOKUP(User_entry!$E$56,Computations!$S$54:$W$1054,Computations!A550+1,FALSE)","v":450000},{"$f":"Computations!$F$15+Computations!$E$15*D550","v":2601.3026357016233},{"$f":"EXP(Computations!$F$16)*EXP(Computations!$E$16)^Computations!D550","v":2513.776630187187},{"$f":"Computations!$F$17+Computations!$E$17*LN(Computations!D550)","v":2678.7118879209906},{"$f":"Computations!$F$18+Computations!$E$18*Computations!D550+Computations!$D$18*Computations!D550^2","v":2689.6382031960197},{"$f":"Computations!$F$19+Computations!$E$19*Computations!D550+Computations!$D$19*Computations!D550^2+Computations!$C$19*Computations!D550^3","v":2689.6382031960197},{"$f":"Computations!$J$15+Computations!$I$15*D550","v":450000},{"$f":"EXP(Computations!$J$16)*EXP(Computations!$I$16)^Computations!D550","v":450000.00000000035},{"$f":"Computations!$J$17+Computations!$I$17*LN(Computations!D550)","v":450000},{"$f":"Computations!$J$18+Computations!$I$18*Computations!D550+Computations!$H$18*Computations!D550^2","v":450000},{"$f":"Computations!$J$19+Computations!$I$19*Computations!D550+Computations!$H$19*Computations!D550^2+Computations!$G$19*Computations!D550^3","v":450000}]
[497,0.15584492394179167,0.15613677119872815,0.15599084757025991,0.90783575485090173,9.2911127153638695E-4,2605.1427311876305,450000,{"$f":"G551-H551/User_entry!$E$18","v":1105.1427311876305},1105.1427311876305,null,{"$f":"HLOOKUP(User_entry!$B$56,Computations!$N$54:$R$1054,Computations!A551+1,FALSE)","v":2605.1427311876305},{"$f":"HLOOKUP(User_entry!$E$56,Computations!$S$54:$W$1054,Computations!A551+1,FALSE)","v":450000},{"$f":"Computations!$F$15+Computations!$E$15*D551","v":2605.1427311876305},{"$f":"EXP(Computations!$F$16)*EXP(Computations!$E$16)^Computations!D551","v":2518.9919954152065},{"$f":"Computations!$F$17+Computations!$E$17*LN(Computations!D551)","v":2681.0910141453573},{"$f":"Computations!$F$18+Computations!$E$18*Computations!D551+Computations!$D$18*Computations!D551^2","v":2692.6465015098252},{"$f":"Computations!$F$19+Computations!$E$19*Computations!D551+Computations!$D$19*Computations!D551^2+Computations!$C$19*Computations!D551^3","v":2692.6465015098252},{"$f":"Computations!$J$15+Computations!$I$15*D551","v":450000},{"$f":"EXP(Computations!$J$16)*EXP(Computations!$I$16)^Computations!D551","v":450000.00000000035},{"$f":"Computations!$J$17+Computations!$I$17*LN(Computations!D551)","v":450000},{"$f":"Computations!$J$18+Computations!$I$18*Computations!D551+Computations!$H$18*Computations!D551^2","v":450000},{"$f":"Computations!$J$19+Computations!$I$19*Computations!D551+Computations!$H$19*Computations!D551^2+Computations!$G$19*Computations!D551^3","v":450000}]
[498,0.15613677119872815,0.15642861845566464,0.15628269482719639,0.90875710041899238,9.2134556809064794E-4,2608.9828266736367,450000,{"$f":"G552-H552/User_entry!$E$18","v":1108.9828266736367},1108.9828266736367,null,{"$f":"HLOOKUP(User_entry!$B$56,Computations!$N$54:$R$1054,Computations!A552+1,FALSE)","v":2608.9828266736367},{"$f":"HLOOKUP(User_entry!$E$56,Computations!$S$54:$W$1054,Computations!A552+1,FALSE)","v":450000},{"$f":"Computations!$F$15+Computations!$E$15*D552","v":2608.9828266736367},{"$f":"EXP(Computations!$F$16)*EXP(Computations!$E$16)^Computations!D552","v":2524.2181810296256},{"$f":"Computations!$F$17+Computations!$E$17*LN(Computations!D552)","v":2683.4656933591841},{"$f":"Computations!$F$18+Computations!$E$18*Computations!D552+Computations!$D$18*Computations!D552^2","v":2695.6484905776028},{"$f":"Computations!$F$19+Computations!$E$19*Computations!D552+Computations!$D$19*Computations!D552^2+Computations!$C$19*Computations!D552^3","v":2695.6484905776028},{"$f":"Computations!$J$15+Computations!$I$15*D552","v":450000},{"$f":"EXP(Computations!$J$16)*EXP(Computations!$I$16)^Computations!D552","v":450000.00000000035},{"$f":"Computations!$J$17+Computations!$I$17*LN(Computations!D552)","v":450000},{"$f":"Computations!$J$18+Computations!$I$18*Computations!D552+Computations!$H$18*Computations!D552^2","v":450000},{"$f":"Computations!$J$19+Computations!$I$19*Computations!D552+Computations!$H$19*Computations!D552^2+Computations!$G$19*Computations!D552^3","v":450000}]
[499,0.15642861845566464,0.15672046571260112,0.15657454208413288,0.90967072544725702,9.1362502826464187E-4,2612.822922159643,450000,{"$f":"G553-H553/User_entry!$E$18","v":1112.822922159643},1112.822922159643,null,{"$f":"HLOOKUP(User_entry!$B$56,Computations!$N$54:$R$1054,Computations!A553+1,FALSE)","v":2612.822922159643},{"$f":"HLOOKUP(User_entry!$E$56,Computations!$S$54:$W$1054,Computations!A553+1,FALSE)","v":450000},{"$f":"Computations!$F$15+Computations!$E$15*D553","v":2612.822922159643},{"$f":"EXP(Computations!$F$16)*EXP(Computations!$E$16)^Computations!D553","v":2529.4552094796418},{"$f":"Computations!$F$17+Computations!$E$17*LN(Computations!D553)","v":2685.8359421559694},{"$f":"Computations!$F$18+Computations!$E$18*Computations!D553+Computations!$D$18*Computations!D553^2","v":2698.6441703993514},{"$f":"Computations!$F$19+Computations!$E$19*Computations!D553+Computations!$D$19*Computations!D553^2+Computations!$C$19*Computations!D553^3","v":2698.6441703993514},{"$f":"Computations!$J$15+Computations!$I$15*D553","v":450000},{"$f":"EXP(Computations!$J$16)*EXP(Computations!$I$16)^Computations!D553","v":450000.00000000035},{"$f":"Computations!$J$17+Computations!$I$17*LN(Computations!D553)","v":450000},{"$f":"Computations!$J$18+Computations!$I$18*Computations!D553+Computations!$H$18*Computations!D553^2","v":450000},{"$f":"Computations!$J$19+Computations!$I$19*Computations!D553+Computations!$H$19*Computations!D553^2+Computations!$G$19*Computations!D553^3","v":450000}]
[500,0.15672046571260112,0.1570123129695376,0.15686638934106936,0.91057667510273133,9.0594965547430295E-4,2616.6630176456492,450000,{"$f":"G554-H554/User_entry!$E$18","v":1116.6630176456492},1116.6630176456492,null,{"$f":"HLOOKUP(User_entry!$B$56,Computations!$N$54:$R$1054,Computations!A554+1,FALSE)","v":2616.6630176456492},{"$f":"HLOOKUP(User_entry!$E$56,Computations!$S$54:$W$1054,Computations!A554+1,FALSE)","v":450000},{"$f":"Computations!$F$15+Computations!$E$15*D554","v":2616.6630176456492},{"$f":"EXP(Computations!$F$16)*EXP(Computations!$E$16)^Computations!D554","v":2534.7031032610284},{"$f":"Computations!$F$17+Computations!$E$17*LN(Computations!D554)","v":2688.2017770365073},{"$f":"Computations!$F$18+Computations!$E$18*Computations!D554+Computations!$D$18*Computations!D554^2","v":2701.6335409750727},{"$f":"Computations!$F$19+Computations!$E$19*Computations!D554+Computations!$D$19*Computations!D554^2+Computations!$C$19*Computations!D554^3","v":2701.6335409750727},{"$f":"Computations!$J$15+Computations!$I$15*D554","v":450000},{"$f":"EXP(Computations!$J$16)*EXP(Computations!$I$16)^Computations!D554","v":450000.00000000035},{"$f":"Computations!$J$17+Computations!$I$17*LN(Computations!D554)","v":450000},{"$f":"Computations!$J$18+Computations!$I$18*Computations!D554+Computations!$H$18*Computations!D554^2","v":450000},{"$f":"Computations!$J$19+Computations!$I$19*Computations!D554+Computations!$H$19*Computations!D554^2+Computations!$G$19*Computations!D554^3","v":450000}]
[501,0.1570123129695376,0.15730416022647409,0.15715823659800585,0.91147499455137071,8.9831944863938418E-4,2620.5031131316555,450000,{"$f":"G555-H555/User_entry!$E$18","v":1120.5031131316555},1120.5031131316555,null,{"$f":"HLOOKUP(User_entry!$B$56,Computations!$N$54:$R$1054,Computations!A555+1,FALSE)","v":2620.5031131316555},{"$f":"HLOOKUP(User_entry!$E$56,Computations!$S$54:$W$1054,Computations!A555+1,FALSE)","v":450000},{"$f":"Computations!$F$15+Computations!$E$15*D555","v":2620.5031131316555},{"$f":"EXP(Computations!$F$16)*EXP(Computations!$E$16)^Computations!D555","v":2539.9618849162289},{"$f":"Computations!$F$17+Computations!$E$17*LN(Computations!D555)","v":2690.5632144095812},{"$f":"Computations!$F$18+Computations!$E$18*Computations!D555+Computations!$D$18*Computations!D555^2","v":2704.6166023047654},{"$f":"Computations!$F$19+Computations!$E$19*Computations!D555+Computations!$D$19*Computations!D555^2+Computations!$C$19*Computations!D555^3","v":2704.6166023047654},{"$f":"Computations!$J$15+Computations!$I$15*D555","v":450000},{"$f":"EXP(Computations!$J$16)*EXP(Computations!$I$16)^Computations!D555","v":450000.00000000035},{"$f":"Computations!$J$17+Computations!$I$17*LN(Computations!D555)","v":450000},{"$f":"Computations!$J$18+Computations!$I$18*Computations!D555+Computations!$H$18*Computations!D555^2","v":450000},{"$f":"Computations!$J$19+Computations!$I$19*Computations!D555+Computations!$H$19*Computations!D555^2+Computations!$G$19*Computations!D555^3","v":450000}]
[502,0.15730416022647409,0.15759600748341057,0.15745008385494233,0.91236572895362367,8.907344022529573E-4,2624.3432086176617,450000,{"$f":"G556-H556/User_entry!$E$18","v":1124.3432086176617},1124.3432086176617,null,{"$f":"HLOOKUP(User_entry!$B$56,Computations!$N$54:$R$1054,Computations!A556+1,FALSE)","v":2624.3432086176617},{"$f":"HLOOKUP(User_entry!$E$56,Computations!$S$54:$W$1054,Computations!A556+1,FALSE)","v":450000},{"$f":"Computations!$F$15+Computations!$E$15*D556","v":2624.3432086176617},{"$f":"EXP(Computations!$F$16)*EXP(Computations!$E$16)^Computations!D556","v":2545.231577034458},{"$f":"Computations!$F$17+Computations!$E$17*LN(Computations!D556)","v":2692.9202705926446},{"$f":"Computations!$F$18+Computations!$E$18*Computations!D556+Computations!$D$18*Computations!D556^2","v":2707.5933543884298},{"$f":"Computations!$F$19+Computations!$E$19*Computations!D556+Computations!$D$19*Computations!D556^2+Computations!$C$19*Computations!D556^3","v":2707.5933543884298},{"$f":"Computations!$J$15+Computations!$I$15*D556","v":450000},{"$f":"EXP(Computations!$J$16)*EXP(Computations!$I$16)^Computations!D556","v":450000.00000000035},{"$f":"Computations!$J$17+Computations!$I$17*LN(Computations!D556)","v":450000},{"$f":"Computations!$J$18+Computations!$I$18*Computations!D556+Computations!$H$18*Computations!D556^2","v":450000},{"$f":"Computations!$J$19+Computations!$I$19*Computations!D556+Computations!$H$19*Computations!D556^2+Computations!$G$19*Computations!D556^3","v":450000}]
[503,0.15759600748341057,0.15788785474034706,0.15774193111187881,0.91324892346006581,8.8319450644214204E-4,2628.183304103668,450000,{"$f":"G557-H557/User_entry!$E$18","v":1128.183304103668},1128.183304103668,null,{"$f":"HLOOKUP(User_entry!$B$56,Computations!$N$54:$R$1054,Computations!A557+1,FALSE)","v":2628.183304103668},{"$f":"HLOOKUP(User_entry!$E$56,Computations!$S$54:$W$1054,Computations!A557+1,FALSE)","v":450000},{"$f":"Computations!$F$15+Computations!$E$15*D557","v":2628.183304103668},{"$f":"EXP(Computations!$F$16)*EXP(Computations!$E$16)^Computations!D557","v":2550.5122022517971},{"$f":"Computations!$F$17+Computations!$E$17*LN(Computations!D557)","v":2695.2729618124959},{"$f":"Computations!$F$18+Computations!$E$18*Computations!D557+Computations!$D$18*Computations!D557^2","v":2710.5637972260656},{"$f":"Computations!$F$19+Computations!$E$19*Computations!D557+Computations!$D$19*Computations!D557^2+Computations!$C$19*Computations!D557^3","v":2710.5637972260656},{"$f":"Computations!$J$15+Computations!$I$15*D557","v":450000},{"$f":"EXP(Computations!$J$16)*EXP(Computations!$I$16)^Computations!D557","v":450000.00000000035},{"$f":"Computations!$J$17+Computations!$I$17*LN(Computations!D557)","v":450000},{"$f":"Computations!$J$18+Computations!$I$18*Computations!D557+Computations!$H$18*Computations!D557^2","v":450000},{"$f":"Computations!$J$19+Computations!$I$19*Computations!D557+Computations!$H$19*Computations!D557^2+Computations!$G$19*Computations!D557^3","v":450000}]
[504,0.15788785474034706,0.15817970199728354,0.1580337783688153,0.9141246232070992,8.7569974703338715E-4,2632.0233995896742,450000,{"$f":"G558-H558/User_entry!$E$18","v":1132.0233995896742},1132.0233995896742,null,{"$f":"HLOOKUP(User_entry!$B$56,Computations!$N$54:$R$1054,Computations!A558+1,FALSE)","v":2632.0233995896742},{"$f":"HLOOKUP(User_entry!$E$56,Computations!$S$54:$W$1054,Computations!A558+1,FALSE)","v":450000},{"$f":"Computations!$F$15+Computations!$E$15*D558","v":2632.0233995896742},{"$f":"EXP(Computations!$F$16)*EXP(Computations!$E$16)^Computations!D558","v":2555.8037832512882},{"$f":"Computations!$F$17+Computations!$E$17*LN(Computations!D558)","v":2697.6213042059503},{"$f":"Computations!$F$18+Computations!$E$18*Computations!D558+Computations!$D$18*Computations!D558^2","v":2713.5279308176737},{"$f":"Computations!$F$19+Computations!$E$19*Computations!D558+Computations!$D$19*Computations!D558^2+Computations!$C$19*Computations!D558^3","v":2713.5279308176737},{"$f":"Computations!$J$15+Computations!$I$15*D558","v":450000},{"$f":"EXP(Computations!$J$16)*EXP(Computations!$I$16)^Computations!D558","v":450000.00000000035},{"$f":"Computations!$J$17+Computations!$I$17*LN(Computations!D558)","v":450000},{"$f":"Computations!$J$18+Computations!$I$18*Computations!D558+Computations!$H$18*Computations!D558^2","v":450000},{"$f":"Computations!$J$19+Computations!$I$19*Computations!D558+Computations!$H$19*Computations!D558^2+Computations!$G$19*Computations!D558^3","v":450000}]
[505,0.15817970199728354,0.15847154925422002,0.15832562562575178,0.91499287331271661,8.6825010561741855E-4,2635.8634950756814,450000,{"$f":"G559-H559/User_entry!$E$18","v":1135.8634950756814},1135.8634950756814,null,{"$f":"HLOOKUP(User_entry!$B$56,Computations!$N$54:$R$1054,Computations!A559+1,FALSE)","v":2635.8634950756814},{"$f":"HLOOKUP(User_entry!$E$56,Computations!$S$54:$W$1054,Computations!A559+1,FALSE)","v":450000},{"$f":"Computations!$F$15+Computations!$E$15*D559","v":2635.8634950756814},{"$f":"EXP(Computations!$F$16)*EXP(Computations!$E$16)^Computations!D559","v":2561.1063427630365},{"$f":"Computations!$F$17+Computations!$E$17*LN(Computations!D559)","v":2699.9653138205067},{"$f":"Computations!$F$18+Computations!$E$18*Computations!D559+Computations!$D$18*Computations!D559^2","v":2716.4857551632531},{"$f":"Computations!$F$19+Computations!$E$19*Computations!D559+Computations!$D$19*Computations!D559^2+Computations!$C$19*Computations!D559^3","v":2716.4857551632531},{"$f":"Computations!$J$15+Computations!$I$15*D559","v":450000},{"$f":"EXP(Computations!$J$16)*EXP(Computations!$I$16)^Computations!D559","v":450000.00000000035},{"$f":"Computations!$J$17+Computations!$I$17*LN(Computations!D559)","v":450000},{"$f":"Computations!$J$18+Computations!$I$18*Computations!D559+Computations!$H$18*Computations!D559^2","v":450000},{"$f":"Computations!$J$19+Computations!$I$19*Computations!D559+Computations!$H$19*Computations!D559^2+Computations!$G$19*Computations!D559^3","v":450000}]
[506,0.15847154925422002,0.15876339651115651,0.15861747288268827,0.91585371887232725,8.6084555961063458E-4,2639.7035905616876,450000,{"$f":"G560-H560/User_entry!$E$18","v":1139.7035905616876},1139.7035905616876,null,{"$f":"HLOOKUP(User_entry!$B$56,Computations!$N$54:$R$1054,Computations!A560+1,FALSE)","v":2639.7035905616876},{"$f":"HLOOKUP(User_entry!$E$56,Computations!$S$54:$W$1054,Computations!A560+1,FALSE)","v":450000},{"$f":"Computations!$F$15+Computations!$E$15*D560","v":2639.7035905616876},{"$f":"EXP(Computations!$F$16)*EXP(Computations!$E$16)^Computations!D560","v":2566.4199035643046},{"$f":"Computations!$F$17+Computations!$E$17*LN(Computations!D560)","v":2702.3050066149995},{"$f":"Computations!$F$18+Computations!$E$18*Computations!D560+Computations!$D$18*Computations!D560^2","v":2719.4372702628048},{"$f":"Computations!$F$19+Computations!$E$19*Computations!D560+Computations!$D$19*Computations!D560^2+Computations!$C$19*Computations!D560^3","v":2719.4372702628048},{"$f":"Computations!$J$15+Computations!$I$15*D560","v":450000},{"$f":"EXP(Computations!$J$16)*EXP(Computations!$I$16)^Computations!D560","v":450000.00000000035},{"$f":"Computations!$J$17+Computations!$I$17*LN(Computations!D560)","v":450000},{"$f":"Computations!$J$18+Computations!$I$18*Computations!D560+Computations!$H$18*Computations!D560^2","v":450000},{"$f":"Computations!$J$19+Computations!$I$19*Computations!D560+Computations!$H$19*Computations!D560^2+Computations!$G$19*Computations!D560^3","v":450000}]
[507,0.15876339651115651,0.15905524376809299,0.15890932013962475,0.91670720495464697,8.5348608231972101E-4,2643.5436860476939,450000,{"$f":"G561-H561/User_entry!$E$18","v":1143.5436860476939},1143.5436860476939,null,{"$f":"HLOOKUP(User_entry!$B$56,Computations!$N$54:$R$1054,Computations!A561+1,FALSE)","v":2643.5436860476939},{"$f":"HLOOKUP(User_entry!$E$56,Computations!$S$54:$W$1054,Computations!A561+1,FALSE)","v":450000},{"$f":"Computations!$F$15+Computations!$E$15*D561","v":2643.5436860476939},{"$f":"EXP(Computations!$F$16)*EXP(Computations!$E$16)^Computations!D561","v":2571.7444884796114},{"$f":"Computations!$F$17+Computations!$E$17*LN(Computations!D561)","v":2704.6403984602548},{"$f":"Computations!$F$18+Computations!$E$18*Computations!D561+Computations!$D$18*Computations!D561^2","v":2722.3824761163278},{"$f":"Computations!$F$19+Computations!$E$19*Computations!D561+Computations!$D$19*Computations!D561^2+Computations!$C$19*Computations!D561^3","v":2722.3824761163278},{"$f":"Computations!$J$15+Computations!$I$15*D561","v":450000},{"$f":"EXP(Computations!$J$16)*EXP(Computations!$I$16)^Computations!D561","v":450000.00000000035},{"$f":"Computations!$J$17+Computations!$I$17*LN(Computations!D561)","v":450000},{"$f":"Computations!$J$18+Computations!$I$18*Computations!D561+Computations!$H$18*Computations!D561^2","v":450000},{"$f":"Computations!$J$19+Computations!$I$19*Computations!D561+Computations!$H$19*Computations!D561^2+Computations!$G$19*Computations!D561^3","v":450000}]
[508,0.15905524376809299,0.15934709102502947,0.15920116739656123,0.91755337659765102,8.4617164300404557E-4,2647.3837815337001,450000,{"$f":"G562-H562/User_entry!$E$18","v":1147.3837815337001},1147.3837815337001,null,{"$f":"HLOOKUP(User_entry!$B$56,Computations!$N$54:$R$1054,Computations!A562+1,FALSE)","v":2647.3837815337001},{"$f":"HLOOKUP(User_entry!$E$56,Computations!$S$54:$W$1054,Computations!A562+1,FALSE)","v":450000},{"$f":"Computations!$F$15+Computations!$E$15*D562","v":2647.3837815337001},{"$f":"EXP(Computations!$F$16)*EXP(Computations!$E$16)^Computations!D562","v":2577.0801203808314},{"$f":"Computations!$F$17+Computations!$E$17*LN(Computations!D562)","v":2706.9715051397366},{"$f":"Computations!$F$18+Computations!$E$18*Computations!D562+Computations!$D$18*Computations!D562^2","v":2725.3213727238226},{"$f":"Computations!$F$19+Computations!$E$19*Computations!D562+Computations!$D$19*Computations!D562^2+Computations!$C$19*Computations!D562^3","v":2725.3213727238226},{"$f":"Computations!$J$15+Computations!$I$15*D562","v":450000},{"$f":"EXP(Computations!$J$16)*EXP(Computations!$I$16)^Computations!D562","v":450000.00000000035},{"$f":"Computations!$J$17+Computations!$I$17*LN(Computations!D562)","v":450000},{"$f":"Computations!$J$18+Computations!$I$18*Computations!D562+Computations!$H$18*Computations!D562^2","v":450000},{"$f":"Computations!$J$19+Computations!$I$19*Computations!D562+Computations!$H$19*Computations!D562^2+Computations!$G$19*Computations!D562^3","v":450000}]
[509,0.15934709102502947,0.15963893828196596,0.15949301465349772,0.91839227880458907,8.3890220693805251E-4,2651.2238770197064,450000,{"$f":"G563-H563/User_entry!$E$18","v":1151.2238770197064},1151.2238770197064,null,{"$f":"HLOOKUP(User_entry!$B$56,Computations!$N$54:$R$1054,Computations!A563+1,FALSE)","v":2651.2238770197064},{"$f":"HLOOKUP(User_entry!$E$56,Computations!$S$54:$W$1054,Computations!A563+1,FALSE)","v":450000},{"$f":"Computations!$F$15+Computations!$E$15*D563","v":2651.2238770197064},{"$f":"EXP(Computations!$F$16)*EXP(Computations!$E$16)^Computations!D563","v":2582.4268221872894},{"$f":"Computations!$F$17+Computations!$E$17*LN(Computations!D563)","v":2709.2983423501855},{"$f":"Computations!$F$18+Computations!$E$18*Computations!D563+Computations!$D$18*Computations!D563^2","v":2728.2539600852892},{"$f":"Computations!$F$19+Computations!$E$19*Computations!D563+Computations!$D$19*Computations!D563^2+Computations!$C$19*Computations!D563^3","v":2728.2539600852892},{"$f":"Computations!$J$15+Computations!$I$15*D563","v":450000},{"$f":"EXP(Computations!$J$16)*EXP(Computations!$I$16)^Computations!D563","v":450000.00000000035},{"$f":"Computations!$J$17+Computations!$I$17*LN(Computations!D563)","v":450000},{"$f":"Computations!$J$18+Computations!$I$18*Computations!D563+Computations!$H$18*Computations!D563^2","v":450000},{"$f":"Computations!$J$19+Computations!$I$19*Computations!D563+Computations!$H$19*Computations!D563^2+Computations!$G$19*Computations!D563^3","v":450000}]
[510,0.15963893828196596,0.15993078553890244,0.1597848619104342,0.91922395654006195,8.3167773547287993E-4,2655.0639725057126,450000,{"$f":"G564-H564/User_entry!$E$18","v":1155.0639725057126},1155.0639725057126,null,{"$f":"HLOOKUP(User_entry!$B$56,Computations!$N$54:$R$1054,Computations!A564+1,FALSE)","v":2655.0639725057126},{"$f":"HLOOKUP(User_entry!$E$56,Computations!$S$54:$W$1054,Computations!A564+1,FALSE)","v":450000},{"$f":"Computations!$F$15+Computations!$E$15*D564","v":2655.0639725057126},{"$f":"EXP(Computations!$F$16)*EXP(Computations!$E$16)^Computations!D564","v":2587.784616865863},{"$f":"Computations!$F$17+Computations!$E$17*LN(Computations!D564)","v":2711.6209257022506},{"$f":"Computations!$F$18+Computations!$E$18*Computations!D564+Computations!$D$18*Computations!D564^2","v":2731.1802382007281},{"$f":"Computations!$F$19+Computations!$E$19*Computations!D564+Computations!$D$19*Computations!D564^2+Computations!$C$19*Computations!D564^3","v":2731.1802382007281},{"$f":"Computations!$J$15+Computations!$I$15*D564","v":450000},{"$f":"EXP(Computations!$J$16)*EXP(Computations!$I$16)^Computations!D564","v":450000.00000000035},{"$f":"Computations!$J$17+Computations!$I$17*LN(Computations!D564)","v":450000},{"$f":"Computations!$J$18+Computations!$I$18*Computations!D564+Computations!$H$18*Computations!D564^2","v":450000},{"$f":"Computations!$J$19+Computations!$I$19*Computations!D564+Computations!$H$19*Computations!D564^2+Computations!$G$19*Computations!D564^3","v":450000}]
[511,0.15993078553890244,0.16022263279583893,0.16007670916737068,0.92004845472616059,8.2449818609864334E-4,2658.9040679917189,450000,{"$f":"G565-H565/User_entry!$E$18","v":1158.9040679917189},1158.9040679917189,null,{"$f":"HLOOKUP(User_entry!$B$56,Computations!$N$54:$R$1054,Computations!A565+1,FALSE)","v":2658.9040679917189},{"$f":"HLOOKUP(User_entry!$E$56,Computations!$S$54:$W$1054,Computations!A565+1,FALSE)","v":450000},{"$f":"Computations!$F$15+Computations!$E$15*D565","v":2658.9040679917189},{"$f":"EXP(Computations!$F$16)*EXP(Computations!$E$16)^Computations!D565","v":2593.1535274310795},{"$f":"Computations!$F$17+Computations!$E$17*LN(Computations!D565)","v":2713.9392707211241},{"$f":"Computations!$F$18+Computations!$E$18*Computations!D565+Computations!$D$18*Computations!D565^2","v":2734.1002070701379},{"$f":"Computations!$F$19+Computations!$E$19*Computations!D565+Computations!$D$19*Computations!D565^2+Computations!$C$19*Computations!D565^3","v":2734.1002070701379},{"$f":"Computations!$J$15+Computations!$I$15*D565","v":450000},{"$f":"EXP(Computations!$J$16)*EXP(Computations!$I$16)^Computations!D565","v":450000.00000000035},{"$f":"Computations!$J$17+Computations!$I$17*LN(Computations!D565)","v":450000},{"$f":"Computations!$J$18+Computations!$I$18*Computations!D565+Computations!$H$18*Computations!D565^2","v":450000},{"$f":"Computations!$J$19+Computations!$I$19*Computations!D565+Computations!$H$19*Computations!D565^2+Computations!$G$19*Computations!D565^3","v":450000}]
[512,0.16022263279583893,0.16051448005277541,0.16036855642430717,0.92086581823866565,8.1736351250505379E-4,2662.7441634777251,450000,{"$f":"G566-H566/User_entry!$E$18","v":1162.7441634777251},1162.7441634777251,null,{"$f":"HLOOKUP(User_entry!$B$56,Computations!$N$54:$R$1054,Computations!A566+1,FALSE)","v":2662.7441634777251},{"$f":"HLOOKUP(User_entry!$E$56,Computations!$S$54:$W$1054,Computations!A566+1,FALSE)","v":450000},{"$f":"Computations!$F$15+Computations!$E$15*D566","v":2662.7441634777251},{"$f":"EXP(Computations!$F$16)*EXP(Computations!$E$16)^Computations!D566","v":2598.533576945214},{"$f":"Computations!$F$17+Computations!$E$17*LN(Computations!D566)","v":2716.2533928471566},{"$f":"Computations!$F$18+Computations!$E$18*Computations!D566+Computations!$D$18*Computations!D566^2","v":2737.01386669352},{"$f":"Computations!$F$19+Computations!$E$19*Computations!D566+Computations!$D$19*Computations!D566^2+Computations!$C$19*Computations!D566^3","v":2737.01386669352},{"$f":"Computations!$J$15+Computations!$I$15*D566","v":450000},{"$f":"EXP(Computations!$J$16)*EXP(Computations!$I$16)^Computations!D566","v":450000.00000000035},{"$f":"Computations!$J$17+Computations!$I$17*LN(Computations!D566)","v":450000},{"$f":"Computations!$J$18+Computations!$I$18*Computations!D566+Computations!$H$18*Computations!D566^2","v":450000},{"$f":"Computations!$J$19+Computations!$I$19*Computations!D566+Computations!$H$19*Computations!D566^2+Computations!$G$19*Computations!D566^3","v":450000}]
[513,0.16051448005277541,0.16080632730971189,0.16066040368124365,0.92167609190330801,8.1027366464236916E-4,2666.5842589637323,450000,{"$f":"G567-H567/User_entry!$E$18","v":1166.5842589637323},1166.5842589637323,null,{"$f":"HLOOKUP(User_entry!$B$56,Computations!$N$54:$R$1054,Computations!A567+1,FALSE)","v":2666.5842589637323},{"$f":"HLOOKUP(User_entry!$E$56,Computations!$S$54:$W$1054,Computations!A567+1,FALSE)","v":450000},{"$f":"Computations!$F$15+Computations!$E$15*D567","v":2666.5842589637323},{"$f":"EXP(Computations!$F$16)*EXP(Computations!$E$16)^Computations!D567","v":2603.9247885183881},{"$f":"Computations!$F$17+Computations!$E$17*LN(Computations!D567)","v":2718.5633074364805},{"$f":"Computations!$F$18+Computations!$E$18*Computations!D567+Computations!$D$18*Computations!D567^2","v":2739.9212170708734},{"$f":"Computations!$F$19+Computations!$E$19*Computations!D567+Computations!$D$19*Computations!D567^2+Computations!$C$19*Computations!D567^3","v":2739.9212170708734},{"$f":"Computations!$J$15+Computations!$I$15*D567","v":450000},{"$f":"EXP(Computations!$J$16)*EXP(Computations!$I$16)^Computations!D567","v":450000.00000000035},{"$f":"Computations!$J$17+Computations!$I$17*LN(Computations!D567)","v":450000},{"$f":"Computations!$J$18+Computations!$I$18*Computations!D567+Computations!$H$18*Computations!D567^2","v":450000},{"$f":"Computations!$J$19+Computations!$I$19*Computations!D567+Computations!$H$19*Computations!D567^2+Computations!$G$19*Computations!D567^3","v":450000}]
[514,0.16080632730971189,{"$f":"B568+$D$11","v":0.16109817456664838},{"$f":"AVERAGE(B568:C568)","v":0.16095225093818014},{"$f":"IF($D$3=\"Beta\",_xlfn.BETA.DIST(C568,$D$4,$D$5,TRUE),IF($D$3=\"Gamma\",_xlfn.GAMMA.DIST(C568,$D$4,$D$5,TRUE),IF($D$3=\"Lognorm\",_xlfn.LOGNORM.DIST(C568,$D$4,$D$5,TRUE),_xlfn.NORM.DIST(C568,$D$4,$D$5,TRUE))))","v":0.92247932049209058},{"$f":"E568-E567","v":8.0322858878256742E-4},{"$f":"L568","v":2670.4243544497385},{"$f":"M568","v":450000},{"$f":"G568-H568/User_entry!$E$18","v":1170.4243544497385},{"$f":"MAX(I568,0)","v":1170.4243544497385},null,{"$f":"HLOOKUP(User_entry!$B$56,Computations!$N$54:$R$1054,Computations!A568+1,FALSE)","v":2670.4243544497385},{"$f":"HLOOKUP(User_entry!$E$56,Computations!$S$54:$W$1054,Computations!A568+1,FALSE)","v":450000},{"$f":"Computations!$F$15+Computations!$E$15*D568","v":2670.4243544497385},{"$f":"EXP(Computations!$F$16)*EXP(Computations!$E$16)^Computations!D568","v":2609.3271853086735},{"$f":"Computations!$F$17+Computations!$E$17*LN(Computations!D568)","v":2720.8690297616172},{"$f":"Computations!$F$18+Computations!$E$18*Computations!D568+Computations!$D$18*Computations!D568^2","v":2742.8222582021986},{"$f":"Computations!$F$19+Computations!$E$19*Computations!D568+Computations!$D$19*Computations!D568^2+Computations!$C$19*Computations!D568^3","v":2742.8222582021986},{"$f":"Computations!$J$15+Computations!$I$15*D568","v":450000},{"$f":"EXP(Computations!$J$16)*EXP(Computations!$I$16)^Computations!D568","v":450000.00000000035},{"$f":"Computations!$J$17+Computations!$I$17*LN(Computations!D568)","v":450000},{"$f":"Computations!$J$18+Computations!$I$18*Computations!D568+Computations!$H$18*Computations!D568^2","v":450000},{"$f":"Computations!$J$19+Computations!$I$19*Computations!D568+Computations!$H$19*Computations!D568^2+Computations!$G$19*Computations!D568^3","v":450000}]
[515,{"$f":"C568","v":0.16109817456664838},0.16139002182358486,0.16124409819511662,0.92327554871966977,7.9622822757918765E-4,2674.2644499357448,450000,{"$f":"G569-H569/User_entry!$E$18","v":1174.2644499357448},1174.2644499357448,null,{"$f":"HLOOKUP(User_entry!$B$56,Computations!$N$54:$R$1054,Computations!A569+1,FALSE)","v":2674.2644499357448},{"$f":"HLOOKUP(User_entry!$E$56,Computations!$S$54:$W$1054,Computations!A569+1,FALSE)","v":450000},{"$f":"Computations!$F$15+Computations!$E$15*D569","v":2674.2644499357448},{"$f":"EXP(Computations!$F$16)*EXP(Computations!$E$16)^Computations!D569","v":2614.7407905221853},{"$f":"Computations!$F$17+Computations!$E$17*LN(Computations!D569)","v":2723.1705750120841},{"$f":"Computations!$F$18+Computations!$E$18*Computations!D569+Computations!$D$18*Computations!D569^2","v":2745.716990087496},{"$f":"Computations!$F$19+Computations!$E$19*Computations!D569+Computations!$D$19*Computations!D569^2+Computations!$C$19*Computations!D569^3","v":2745.716990087496},{"$f":"Computations!$J$15+Computations!$I$15*D569","v":450000},{"$f":"EXP(Computations!$J$16)*EXP(Computations!$I$16)^Computations!D569","v":450000.00000000035},{"$f":"Computations!$J$17+Computations!$I$17*LN(Computations!D569)","v":450000},{"$f":"Computations!$J$18+Computations!$I$18*Computations!D569+Computations!$H$18*Computations!D569^2","v":450000},{"$f":"Computations!$J$19+Computations!$I$19*Computations!D569+Computations!$H$19*Computations!D569^2+Computations!$G$19*Computations!D569^3","v":450000}]
[516,0.16139002182358486,0.16168186908052135,0.1615359454520531,0.92406482123979461,7.8927252012483962E-4,2678.104545421751,450000,{"$f":"G570-H570/User_entry!$E$18","v":1178.104545421751},1178.104545421751,null,{"$f":"HLOOKUP(User_entry!$B$56,Computations!$N$54:$R$1054,Computations!A570+1,FALSE)","v":2678.104545421751},{"$f":"HLOOKUP(User_entry!$E$56,Computations!$S$54:$W$1054,Computations!A570+1,FALSE)","v":450000},{"$f":"Computations!$F$15+Computations!$E$15*D570","v":2678.104545421751},{"$f":"EXP(Computations!$F$16)*EXP(Computations!$E$16)^Computations!D570","v":2620.1656274131851},{"$f":"Computations!$F$17+Computations!$E$17*LN(Computations!D570)","v":2725.4679582949966},{"$f":"Computations!$F$18+Computations!$E$18*Computations!D570+Computations!$D$18*Computations!D570^2","v":2748.6054127267648},{"$f":"Computations!$F$19+Computations!$E$19*Computations!D570+Computations!$D$19*Computations!D570^2+Computations!$C$19*Computations!D570^3","v":2748.6054127267648},{"$f":"Computations!$J$15+Computations!$I$15*D570","v":450000},{"$f":"EXP(Computations!$J$16)*EXP(Computations!$I$16)^Computations!D570","v":450000.00000000035},{"$f":"Computations!$J$17+Computations!$I$17*LN(Computations!D570)","v":450000},{"$f":"Computations!$J$18+Computations!$I$18*Computations!D570+Computations!$H$18*Computations!D570^2","v":450000},{"$f":"Computations!$J$19+Computations!$I$19*Computations!D570+Computations!$H$19*Computations!D570^2+Computations!$G$19*Computations!D570^3","v":450000}]
[517,0.16168186908052135,0.16197371633745783,0.16182779270898959,0.92484718264180987,7.8236140201526361E-4,2681.9446409077573,450000,{"$f":"G571-H571/User_entry!$E$18","v":1181.9446409077573},1181.9446409077573,null,{"$f":"HLOOKUP(User_entry!$B$56,Computations!$N$54:$R$1054,Computations!A571+1,FALSE)","v":2681.9446409077573},{"$f":"HLOOKUP(User_entry!$E$56,Computations!$S$54:$W$1054,Computations!A571+1,FALSE)","v":450000},{"$f":"Computations!$F$15+Computations!$E$15*D571","v":2681.9446409077573},{"$f":"EXP(Computations!$F$16)*EXP(Computations!$E$16)^Computations!D571","v":2625.6017192841823},{"$f":"Computations!$F$17+Computations!$E$17*LN(Computations!D571)","v":2727.7611946356606},{"$f":"Computations!$F$18+Computations!$E$18*Computations!D571+Computations!$D$18*Computations!D571^2","v":2751.4875261200054},{"$f":"Computations!$F$19+Computations!$E$19*Computations!D571+Computations!$D$19*Computations!D571^2+Computations!$C$19*Computations!D571^3","v":2751.4875261200054},{"$f":"Computations!$J$15+Computations!$I$15*D571","v":450000},{"$f":"EXP(Computations!$J$16)*EXP(Computations!$I$16)^Computations!D571","v":450000.00000000035},{"$f":"Computations!$J$17+Computations!$I$17*LN(Computations!D571)","v":450000},{"$f":"Computations!$J$18+Computations!$I$18*Computations!D571+Computations!$H$18*Computations!D571^2","v":450000},{"$f":"Computations!$J$19+Computations!$I$19*Computations!D571+Computations!$H$19*Computations!D571^2+Computations!$G$19*Computations!D571^3","v":450000}]
[518,0.16197371633745783,0.16226556359439431,0.16211963996592607,0.92562267744721227,7.7549480540239912E-4,2685.7847363937635,450000,{"$f":"G572-H572/User_entry!$E$18","v":1185.7847363937635},1185.7847363937635,null,{"$f":"HLOOKUP(User_entry!$B$56,Computations!$N$54:$R$1054,Computations!A572+1,FALSE)","v":2685.7847363937635},{"$f":"HLOOKUP(User_entry!$E$56,Computations!$S$54:$W$1054,Computations!A572+1,FALSE)","v":450000},{"$f":"Computations!$F$15+Computations!$E$15*D572","v":2685.7847363937635},{"$f":"EXP(Computations!$F$16)*EXP(Computations!$E$16)^Computations!D572","v":2631.04908948603},{"$f":"Computations!$F$17+Computations!$E$17*LN(Computations!D572)","v":2730.0502989781639},{"$f":"Computations!$F$18+Computations!$E$18*Computations!D572+Computations!$D$18*Computations!D572^2","v":2754.3633302672179},{"$f":"Computations!$F$19+Computations!$E$19*Computations!D572+Computations!$D$19*Computations!D572^2+Computations!$C$19*Computations!D572^3","v":2754.3633302672179},{"$f":"Computations!$J$15+Computations!$I$15*D572","v":450000},{"$f":"EXP(Computations!$J$16)*EXP(Computations!$I$16)^Computations!D572","v":450000.00000000035},{"$f":"Computations!$J$17+Computations!$I$17*LN(Computations!D572)","v":450000},{"$f":"Computations!$J$18+Computations!$I$18*Computations!D572+Computations!$H$18*Computations!D572^2","v":450000},{"$f":"Computations!$J$19+Computations!$I$19*Computations!D572+Computations!$H$19*Computations!D572^2+Computations!$G$19*Computations!D572^3","v":450000}]
[519,0.16226556359439431,0.1625574108513308,0.16241148722286256,0.92639135010627049,7.6867265905822268E-4,2689.6248318797698,450000,{"$f":"G573-H573/User_entry!$E$18","v":1189.6248318797698},1189.6248318797698,null,{"$f":"HLOOKUP(User_entry!$B$56,Computations!$N$54:$R$1054,Computations!A573+1,FALSE)","v":2689.6248318797698},{"$f":"HLOOKUP(User_entry!$E$56,Computations!$S$54:$W$1054,Computations!A573+1,FALSE)","v":450000},{"$f":"Computations!$F$15+Computations!$E$15*D573","v":2689.6248318797698},{"$f":"EXP(Computations!$F$16)*EXP(Computations!$E$16)^Computations!D573","v":2636.5077614180286},{"$f":"Computations!$F$17+Computations!$E$17*LN(Computations!D573)","v":2732.3352861859598},{"$f":"Computations!$F$18+Computations!$E$18*Computations!D573+Computations!$D$18*Computations!D573^2","v":2757.2328251684021},{"$f":"Computations!$F$19+Computations!$E$19*Computations!D573+Computations!$D$19*Computations!D573^2+Computations!$C$19*Computations!D573^3","v":2757.2328251684021},{"$f":"Computations!$J$15+Computations!$I$15*D573","v":450000},{"$f":"EXP(Computations!$J$16)*EXP(Computations!$I$16)^Computations!D573","v":450000.00000000035},{"$f":"Computations!$J$17+Computations!$I$17*LN(Computations!D573)","v":450000},{"$f":"Computations!$J$18+Computations!$I$18*Computations!D573+Computations!$H$18*Computations!D573^2","v":450000},{"$f":"Computations!$J$19+Computations!$I$19*Computations!D573+Computations!$H$19*Computations!D573^2+Computations!$G$19*Computations!D573^3","v":450000}]
[520,0.1625574108513308,0.16284925810826728,0.16270333447979904,0.92715324499469887,7.6189488842837161E-4,2693.4649273657769,450000,{"$f":"G574-H574/User_entry!$E$18","v":1193.4649273657769},1193.4649273657769,null,{"$f":"HLOOKUP(User_entry!$B$56,Computations!$N$54:$R$1054,Computations!A574+1,FALSE)","v":2693.4649273657769},{"$f":"HLOOKUP(User_entry!$E$56,Computations!$S$54:$W$1054,Computations!A574+1,FALSE)","v":450000},{"$f":"Computations!$F$15+Computations!$E$15*D574","v":2693.4649273657769},{"$f":"EXP(Computations!$F$16)*EXP(Computations!$E$16)^Computations!D574","v":2641.9777585280262},{"$f":"Computations!$F$17+Computations!$E$17*LN(Computations!D574)","v":2734.6161710424458},{"$f":"Computations!$F$18+Computations!$E$18*Computations!D574+Computations!$D$18*Computations!D574^2","v":2760.0960108235577},{"$f":"Computations!$F$19+Computations!$E$19*Computations!D574+Computations!$D$19*Computations!D574^2+Computations!$C$19*Computations!D574^3","v":2760.0960108235577},{"$f":"Computations!$J$15+Computations!$I$15*D574","v":450000},{"$f":"EXP(Computations!$J$16)*EXP(Computations!$I$16)^Computations!D574","v":450000.00000000035},{"$f":"Computations!$J$17+Computations!$I$17*LN(Computations!D574)","v":450000},{"$f":"Computations!$J$18+Computations!$I$18*Computations!D574+Computations!$H$18*Computations!D574^2","v":450000},{"$f":"Computations!$J$19+Computations!$I$19*Computations!D574+Computations!$H$19*Computations!D574^2+Computations!$G$19*Computations!D574^3","v":450000}]
[521,0.16284925810826728,0.16314110536520376,0.16299518173673552,0.92790840641039163,7.5516141569276218E-4,2697.3050228517832,450000,{"$f":"G575-H575/User_entry!$E$18","v":1197.3050228517832},1197.3050228517832,null,{"$f":"HLOOKUP(User_entry!$B$56,Computations!$N$54:$R$1054,Computations!A575+1,FALSE)","v":2697.3050228517832},{"$f":"HLOOKUP(User_entry!$E$56,Computations!$S$54:$W$1054,Computations!A575+1,FALSE)","v":450000},{"$f":"Computations!$F$15+Computations!$E$15*D575","v":2697.3050228517832},{"$f":"EXP(Computations!$F$16)*EXP(Computations!$E$16)^Computations!D575","v":2647.4591043125174},{"$f":"Computations!$F$17+Computations!$E$17*LN(Computations!D575)","v":2736.8929682515386},{"$f":"Computations!$F$18+Computations!$E$18*Computations!D575+Computations!$D$18*Computations!D575^2","v":2762.9528872326855},{"$f":"Computations!$F$19+Computations!$E$19*Computations!D575+Computations!$D$19*Computations!D575^2+Computations!$C$19*Computations!D575^3","v":2762.9528872326855},{"$f":"Computations!$J$15+Computations!$I$15*D575","v":450000},{"$f":"EXP(Computations!$J$16)*EXP(Computations!$I$16)^Computations!D575","v":450000.00000000035},{"$f":"Computations!$J$17+Computations!$I$17*LN(Computations!D575)","v":450000},{"$f":"Computations!$J$18+Computations!$I$18*Computations!D575+Computations!$H$18*Computations!D575^2","v":450000},{"$f":"Computations!$J$19+Computations!$I$19*Computations!D575+Computations!$H$19*Computations!D575^2+Computations!$G$19*Computations!D575^3","v":450000}]
[522,0.16314110536520376,0.16343295262214025,0.16328702899367201,0.92865687857021317,7.4847215982154491E-4,2701.1451183377894,450000,{"$f":"G576-H576/User_entry!$E$18","v":1201.1451183377894},1201.1451183377894,null,{"$f":"HLOOKUP(User_entry!$B$56,Computations!$N$54:$R$1054,Computations!A576+1,FALSE)","v":2701.1451183377894},{"$f":"HLOOKUP(User_entry!$E$56,Computations!$S$54:$W$1054,Computations!A576+1,FALSE)","v":450000},{"$f":"Computations!$F$15+Computations!$E$15*D576","v":2701.1451183377894},{"$f":"EXP(Computations!$F$16)*EXP(Computations!$E$16)^Computations!D576","v":2652.9518223167443},{"$f":"Computations!$F$17+Computations!$E$17*LN(Computations!D576)","v":2739.1656924382419},{"$f":"Computations!$F$18+Computations!$E$18*Computations!D576+Computations!$D$18*Computations!D576^2","v":2765.8034543957847},{"$f":"Computations!$F$19+Computations!$E$19*Computations!D576+Computations!$D$19*Computations!D576^2+Computations!$C$19*Computations!D576^3","v":2765.8034543957847},{"$f":"Computations!$J$15+Computations!$I$15*D576","v":450000},{"$f":"EXP(Computations!$J$16)*EXP(Computations!$I$16)^Computations!D576","v":450000.00000000035},{"$f":"Computations!$J$17+Computations!$I$17*LN(Computations!D576)","v":450000},{"$f":"Computations!$J$18+Computations!$I$18*Computations!D576+Computations!$H$18*Computations!D576^2","v":450000},{"$f":"Computations!$J$19+Computations!$I$19*Computations!D576+Computations!$H$19*Computations!D576^2+Computations!$G$19*Computations!D576^3","v":450000}]
[523,0.16343295262214025,0.16372479987907673,0.16357887625060849,0.92939870560684512,7.4182703663194793E-4,2704.9852138237957,450000,{"$f":"G577-H577/User_entry!$E$18","v":1204.9852138237957},1204.9852138237957,null,{"$f":"HLOOKUP(User_entry!$B$56,Computations!$N$54:$R$1054,Computations!A577+1,FALSE)","v":2704.9852138237957},{"$f":"HLOOKUP(User_entry!$E$56,Computations!$S$54:$W$1054,Computations!A577+1,FALSE)","v":450000},{"$f":"Computations!$F$15+Computations!$E$15*D577","v":2704.9852138237957},{"$f":"EXP(Computations!$F$16)*EXP(Computations!$E$16)^Computations!D577","v":2658.455936134801},{"$f":"Computations!$F$17+Computations!$E$17*LN(Computations!D577)","v":2741.4343581492103},{"$f":"Computations!$F$18+Computations!$E$18*Computations!D577+Computations!$D$18*Computations!D577^2","v":2768.6477123128561},{"$f":"Computations!$F$19+Computations!$E$19*Computations!D577+Computations!$D$19*Computations!D577^2+Computations!$C$19*Computations!D577^3","v":2768.6477123128561},{"$f":"Computations!$J$15+Computations!$I$15*D577","v":450000},{"$f":"EXP(Computations!$J$16)*EXP(Computations!$I$16)^Computations!D577","v":450000.00000000035},{"$f":"Computations!$J$17+Computations!$I$17*LN(Computations!D577)","v":450000},{"$f":"Computations!$J$18+Computations!$I$18*Computations!D577+Computations!$H$18*Computations!D577^2","v":450000},{"$f":"Computations!$J$19+Computations!$I$19*Computations!D577+Computations!$H$19*Computations!D577^2+Computations!$G$19*Computations!D577^3","v":450000}]
[524,0.16372479987907673,0.16401664713601322,0.16387072350754497,0.9301339315656898,7.3522595884467634E-4,2708.8253093098019,450000,{"$f":"G578-H578/User_entry!$E$18","v":1208.8253093098019},1208.8253093098019,null,{"$f":"HLOOKUP(User_entry!$B$56,Computations!$N$54:$R$1054,Computations!A578+1,FALSE)","v":2708.8253093098019},{"$f":"HLOOKUP(User_entry!$E$56,Computations!$S$54:$W$1054,Computations!A578+1,FALSE)","v":450000},{"$f":"Computations!$F$15+Computations!$E$15*D578","v":2708.8253093098019},{"$f":"EXP(Computations!$F$16)*EXP(Computations!$E$16)^Computations!D578","v":2663.9714694097315},{"$f":"Computations!$F$17+Computations!$E$17*LN(Computations!D578)","v":2743.6989798533082},{"$f":"Computations!$F$18+Computations!$E$18*Computations!D578+Computations!$D$18*Computations!D578^2","v":2771.4856609838989},{"$f":"Computations!$F$19+Computations!$E$19*Computations!D578+Computations!$D$19*Computations!D578^2+Computations!$C$19*Computations!D578^3","v":2771.4856609838989},{"$f":"Computations!$J$15+Computations!$I$15*D578","v":450000},{"$f":"EXP(Computations!$J$16)*EXP(Computations!$I$16)^Computations!D578","v":450000.00000000035},{"$f":"Computations!$J$17+Computations!$I$17*LN(Computations!D578)","v":450000},{"$f":"Computations!$J$18+Computations!$I$18*Computations!D578+Computations!$H$18*Computations!D578^2","v":450000},{"$f":"Computations!$J$19+Computations!$I$19*Computations!D578+Computations!$H$19*Computations!D578^2+Computations!$G$19*Computations!D578^3","v":450000}]
[525,0.16401664713601322,0.1643084943929497,0.16416257076448146,0.93086260040182989,7.2866883614008948E-4,2712.6654047958082,450000,{"$f":"G579-H579/User_entry!$E$18","v":1212.6654047958082},1212.6654047958082,null,{"$f":"HLOOKUP(User_entry!$B$56,Computations!$N$54:$R$1054,Computations!A579+1,FALSE)","v":2712.6654047958082},{"$f":"HLOOKUP(User_entry!$E$56,Computations!$S$54:$W$1054,Computations!A579+1,FALSE)","v":450000},{"$f":"Computations!$F$15+Computations!$E$15*D579","v":2712.6654047958082},{"$f":"EXP(Computations!$F$16)*EXP(Computations!$E$16)^Computations!D579","v":2669.4984458336312},{"$f":"Computations!$F$17+Computations!$E$17*LN(Computations!D579)","v":2745.9595719421627},{"$f":"Computations!$F$18+Computations!$E$18*Computations!D579+Computations!$D$18*Computations!D579^2","v":2774.317300408914},{"$f":"Computations!$F$19+Computations!$E$19*Computations!D579+Computations!$D$19*Computations!D579^2+Computations!$C$19*Computations!D579^3","v":2774.317300408914},{"$f":"Computations!$J$15+Computations!$I$15*D579","v":450000},{"$f":"EXP(Computations!$J$16)*EXP(Computations!$I$16)^Computations!D579","v":450000.00000000035},{"$f":"Computations!$J$17+Computations!$I$17*LN(Computations!D579)","v":450000},{"$f":"Computations!$J$18+Computations!$I$18*Computations!D579+Computations!$H$18*Computations!D579^2","v":450000},{"$f":"Computations!$J$19+Computations!$I$19*Computations!D579+Computations!$H$19*Computations!D579^2+Computations!$G$19*Computations!D579^3","v":450000}]
[526,0.1643084943929497,0.16460034164988618,0.16445441802141794,0.93158475597704349,7.2215557521360108E-4,2716.5055002818144,450000,{"$f":"G580-H580/User_entry!$E$18","v":1216.5055002818144},1216.5055002818144,null,{"$f":"HLOOKUP(User_entry!$B$56,Computations!$N$54:$R$1054,Computations!A580+1,FALSE)","v":2716.5055002818144},{"$f":"HLOOKUP(User_entry!$E$56,Computations!$S$54:$W$1054,Computations!A580+1,FALSE)","v":450000},{"$f":"Computations!$F$15+Computations!$E$15*D580","v":2716.5055002818144},{"$f":"EXP(Computations!$F$16)*EXP(Computations!$E$16)^Computations!D580","v":2675.0368891477519},{"$f":"Computations!$F$17+Computations!$E$17*LN(Computations!D580)","v":2748.2161487307144},{"$f":"Computations!$F$18+Computations!$E$18*Computations!D580+Computations!$D$18*Computations!D580^2","v":2777.1426305878999},{"$f":"Computations!$F$19+Computations!$E$19*Computations!D580+Computations!$D$19*Computations!D580^2+Computations!$C$19*Computations!D580^3","v":2777.1426305878999},{"$f":"Computations!$J$15+Computations!$I$15*D580","v":450000},{"$f":"EXP(Computations!$J$16)*EXP(Computations!$I$16)^Computations!D580","v":450000.00000000035},{"$f":"Computations!$J$17+Computations!$I$17*LN(Computations!D580)","v":450000},{"$f":"Computations!$J$18+Computations!$I$18*Computations!D580+Computations!$H$18*Computations!D580^2","v":450000},{"$f":"Computations!$J$19+Computations!$I$19*Computations!D580+Computations!$H$19*Computations!D580^2+Computations!$G$19*Computations!D580^3","v":450000}]
[527,0.16460034164988618,0.16489218890682267,0.16474626527835443,0.93230044205687412,7.1568607983063526E-4,2720.3455957678207,450000,{"$f":"G581-H581/User_entry!$E$18","v":1220.3455957678207},1220.3455957678207,null,{"$f":"HLOOKUP(User_entry!$B$56,Computations!$N$54:$R$1054,Computations!A581+1,FALSE)","v":2720.3455957678207},{"$f":"HLOOKUP(User_entry!$E$56,Computations!$S$54:$W$1054,Computations!A581+1,FALSE)","v":450000},{"$f":"Computations!$F$15+Computations!$E$15*D581","v":2720.3455957678207},{"$f":"EXP(Computations!$F$16)*EXP(Computations!$E$16)^Computations!D581","v":2680.5868231426002},{"$f":"Computations!$F$17+Computations!$E$17*LN(Computations!D581)","v":2750.4687244577576},{"$f":"Computations!$F$18+Computations!$E$18*Computations!D581+Computations!$D$18*Computations!D581^2","v":2779.9616515208586},{"$f":"Computations!$F$19+Computations!$E$19*Computations!D581+Computations!$D$19*Computations!D581^2+Computations!$C$19*Computations!D581^3","v":2779.9616515208586},{"$f":"Computations!$J$15+Computations!$I$15*D581","v":450000},{"$f":"EXP(Computations!$J$16)*EXP(Computations!$I$16)^Computations!D581","v":450000.00000000035},{"$f":"Computations!$J$17+Computations!$I$17*LN(Computations!D581)","v":450000},{"$f":"Computations!$J$18+Computations!$I$18*Computations!D581+Computations!$H$18*Computations!D581^2","v":450000},{"$f":"Computations!$J$19+Computations!$I$19*Computations!D581+Computations!$H$19*Computations!D581^2+Computations!$G$19*Computations!D581^3","v":450000}]
[528,0.16489218890682267,0.16518403616375915,0.16503811253529091,0.93300970230775482,7.0926025088069444E-4,2724.1856912538278,450000,{"$f":"G582-H582/User_entry!$E$18","v":1224.1856912538278},1224.1856912538278,null,{"$f":"HLOOKUP(User_entry!$B$56,Computations!$N$54:$R$1054,Computations!A582+1,FALSE)","v":2724.1856912538278},{"$f":"HLOOKUP(User_entry!$E$56,Computations!$S$54:$W$1054,Computations!A582+1,FALSE)","v":450000},{"$f":"Computations!$F$15+Computations!$E$15*D582","v":2724.1856912538278},{"$f":"EXP(Computations!$F$16)*EXP(Computations!$E$16)^Computations!D582","v":2686.1482716580408},{"$f":"Computations!$F$17+Computations!$E$17*LN(Computations!D582)","v":2752.7173132864832},{"$f":"Computations!$F$18+Computations!$E$18*Computations!D582+Computations!$D$18*Computations!D582^2","v":2782.7743632077882},{"$f":"Computations!$F$19+Computations!$E$19*Computations!D582+Computations!$D$19*Computations!D582^2+Computations!$C$19*Computations!D582^3","v":2782.7743632077882},{"$f":"Computations!$J$15+Computations!$I$15*D582","v":450000},{"$f":"EXP(Computations!$J$16)*EXP(Computations!$I$16)^Computations!D582","v":450000.00000000035},{"$f":"Computations!$J$17+Computations!$I$17*LN(Computations!D582)","v":450000},{"$f":"Computations!$J$18+Computations!$I$18*Computations!D582+Computations!$H$18*Computations!D582^2","v":450000},{"$f":"Computations!$J$19+Computations!$I$19*Computations!D582+Computations!$H$19*Computations!D582^2+Computations!$G$19*Computations!D582^3","v":450000}]
[529,0.16518403616375915,0.16547588342069564,0.16532995979222739,0.93371258029418813,7.0287798643331456E-4,2728.0257867398341,450000,{"$f":"G583-H583/User_entry!$E$18","v":1228.0257867398341},1228.0257867398341,null,{"$f":"HLOOKUP(User_entry!$B$56,Computations!$N$54:$R$1054,Computations!A583+1,FALSE)","v":2728.0257867398341},{"$f":"HLOOKUP(User_entry!$E$56,Computations!$S$54:$W$1054,Computations!A583+1,FALSE)","v":450000},{"$f":"Computations!$F$15+Computations!$E$15*D583","v":2728.0257867398341},{"$f":"EXP(Computations!$F$16)*EXP(Computations!$E$16)^Computations!D583","v":2691.7212585834018},{"$f":"Computations!$F$17+Computations!$E$17*LN(Computations!D583)","v":2754.9619293050114},{"$f":"Computations!$F$18+Computations!$E$18*Computations!D583+Computations!$D$18*Computations!D583^2","v":2785.5807656486904},{"$f":"Computations!$F$19+Computations!$E$19*Computations!D583+Computations!$D$19*Computations!D583^2+Computations!$C$19*Computations!D583^3","v":2785.5807656486904},{"$f":"Computations!$J$15+Computations!$I$15*D583","v":450000},{"$f":"EXP(Computations!$J$16)*EXP(Computations!$I$16)^Computations!D583","v":450000.00000000035},{"$f":"Computations!$J$17+Computations!$I$17*LN(Computations!D583)","v":450000},{"$f":"Computations!$J$18+Computations!$I$18*Computations!D583+Computations!$H$18*Computations!D583^2","v":450000},{"$f":"Computations!$J$19+Computations!$I$19*Computations!D583+Computations!$H$19*Computations!D583^2+Computations!$G$19*Computations!D583^3","v":450000}]
[530,0.16547588342069564,0.16576773067763212,0.16562180704916388,0.93440911947597804,6.9653918178991248E-4,2731.8658822258403,450000,{"$f":"G584-H584/User_entry!$E$18","v":1231.8658822258403},1231.8658822258403,null,{"$f":"HLOOKUP(User_entry!$B$56,Computations!$N$54:$R$1054,Computations!A584+1,FALSE)","v":2731.8658822258403},{"$f":"HLOOKUP(User_entry!$E$56,Computations!$S$54:$W$1054,Computations!A584+1,FALSE)","v":450000},{"$f":"Computations!$F$15+Computations!$E$15*D584","v":2731.8658822258403},{"$f":"EXP(Computations!$F$16)*EXP(Computations!$E$16)^Computations!D584","v":2697.3058078575718},{"$f":"Computations!$F$17+Computations!$E$17*LN(Computations!D584)","v":2757.2025865269202},{"$f":"Computations!$F$18+Computations!$E$18*Computations!D584+Computations!$D$18*Computations!D584^2","v":2788.3808588435631},{"$f":"Computations!$F$19+Computations!$E$19*Computations!D584+Computations!$D$19*Computations!D584^2+Computations!$C$19*Computations!D584^3","v":2788.3808588435631},{"$f":"Computations!$J$15+Computations!$I$15*D584","v":450000},{"$f":"EXP(Computations!$J$16)*EXP(Computations!$I$16)^Computations!D584","v":450000.00000000035},{"$f":"Computations!$J$17+Computations!$I$17*LN(Computations!D584)","v":450000},{"$f":"Computations!$J$18+Computations!$I$18*Computations!D584+Computations!$H$18*Computations!D584^2","v":450000},{"$f":"Computations!$J$19+Computations!$I$19*Computations!D584+Computations!$H$19*Computations!D584^2+Computations!$G$19*Computations!D584^3","v":450000}]
[531,0.16576773067763212,0.1660595779345686,0.16591365430610036,0.93509936320551523,6.9024372953718771E-4,2735.7059777118466,450000,{"$f":"G585-H585/User_entry!$E$18","v":1235.7059777118466},1235.7059777118466,null,{"$f":"HLOOKUP(User_entry!$B$56,Computations!$N$54:$R$1054,Computations!A585+1,FALSE)","v":2735.7059777118466},{"$f":"HLOOKUP(User_entry!$E$56,Computations!$S$54:$W$1054,Computations!A585+1,FALSE)","v":450000},{"$f":"Computations!$F$15+Computations!$E$15*D585","v":2735.7059777118466},{"$f":"EXP(Computations!$F$16)*EXP(Computations!$E$16)^Computations!D585","v":2702.9019434691063},{"$f":"Computations!$F$17+Computations!$E$17*LN(Computations!D585)","v":2759.439298891773},{"$f":"Computations!$F$18+Computations!$E$18*Computations!D585+Computations!$D$18*Computations!D585^2","v":2791.174642792409},{"$f":"Computations!$F$19+Computations!$E$19*Computations!D585+Computations!$D$19*Computations!D585^2+Computations!$C$19*Computations!D585^3","v":2791.174642792409},{"$f":"Computations!$J$15+Computations!$I$15*D585","v":450000},{"$f":"EXP(Computations!$J$16)*EXP(Computations!$I$16)^Computations!D585","v":450000.00000000035},{"$f":"Computations!$J$17+Computations!$I$17*LN(Computations!D585)","v":450000},{"$f":"Computations!$J$18+Computations!$I$18*Computations!D585+Computations!$H$18*Computations!D585^2","v":450000},{"$f":"Computations!$J$19+Computations!$I$19*Computations!D585+Computations!$H$19*Computations!D585^2+Computations!$G$19*Computations!D585^3","v":450000}]
[532,0.1660595779345686,0.16635142519150509,0.16620550156303684,0.93578335472511764,6.8399151960241156E-4,2739.5460731978528,450000,{"$f":"G586-H586/User_entry!$E$18","v":1239.5460731978528},1239.5460731978528,null,{"$f":"HLOOKUP(User_entry!$B$56,Computations!$N$54:$R$1054,Computations!A586+1,FALSE)","v":2739.5460731978528},{"$f":"HLOOKUP(User_entry!$E$56,Computations!$S$54:$W$1054,Computations!A586+1,FALSE)","v":450000},{"$f":"Computations!$F$15+Computations!$E$15*D586","v":2739.5460731978528},{"$f":"EXP(Computations!$F$16)*EXP(Computations!$E$16)^Computations!D586","v":2708.5096894563326},{"$f":"Computations!$F$17+Computations!$E$17*LN(Computations!D586)","v":2761.6720802656364},{"$f":"Computations!$F$18+Computations!$E$18*Computations!D586+Computations!$D$18*Computations!D586^2","v":2793.9621174952254},{"$f":"Computations!$F$19+Computations!$E$19*Computations!D586+Computations!$D$19*Computations!D586^2+Computations!$C$19*Computations!D586^3","v":2793.9621174952254},{"$f":"Computations!$J$15+Computations!$I$15*D586","v":450000},{"$f":"EXP(Computations!$J$16)*EXP(Computations!$I$16)^Computations!D586","v":450000.00000000035},{"$f":"Computations!$J$17+Computations!$I$17*LN(Computations!D586)","v":450000},{"$f":"Computations!$J$18+Computations!$I$18*Computations!D586+Computations!$H$18*Computations!D586^2","v":450000},{"$f":"Computations!$J$19+Computations!$I$19*Computations!D586+Computations!$H$19*Computations!D586^2+Computations!$G$19*Computations!D586^3","v":450000}]
[533,0.16635142519150509,0.16664327244844157,0.16649734881997333,0.93646113716441981,6.7778243930216586E-4,2743.3861686838591,450000,{"$f":"G587-H587/User_entry!$E$18","v":1243.3861686838591},1243.3861686838591,null,{"$f":"HLOOKUP(User_entry!$B$56,Computations!$N$54:$R$1054,Computations!A587+1,FALSE)","v":2743.3861686838591},{"$f":"HLOOKUP(User_entry!$E$56,Computations!$S$54:$W$1054,Computations!A587+1,FALSE)","v":450000},{"$f":"Computations!$F$15+Computations!$E$15*D587","v":2743.3861686838591},{"$f":"EXP(Computations!$F$16)*EXP(Computations!$E$16)^Computations!D587","v":2714.1290699074484},{"$f":"Computations!$F$17+Computations!$E$17*LN(Computations!D587)","v":2763.9009444415974},{"$f":"Computations!$F$18+Computations!$E$18*Computations!D587+Computations!$D$18*Computations!D587^2","v":2796.7432829520144},{"$f":"Computations!$F$19+Computations!$E$19*Computations!D587+Computations!$D$19*Computations!D587^2+Computations!$C$19*Computations!D587^3","v":2796.7432829520144},{"$f":"Computations!$J$15+Computations!$I$15*D587","v":450000},{"$f":"EXP(Computations!$J$16)*EXP(Computations!$I$16)^Computations!D587","v":450000.00000000035},{"$f":"Computations!$J$17+Computations!$I$17*LN(Computations!D587)","v":450000},{"$f":"Computations!$J$18+Computations!$I$18*Computations!D587+Computations!$H$18*Computations!D587^2","v":450000},{"$f":"Computations!$J$19+Computations!$I$19*Computations!D587+Computations!$H$19*Computations!D587^2+Computations!$G$19*Computations!D587^3","v":450000}]
[534,0.16664327244844157,0.16693511970537805,0.16678919607690981,0.93713275353781733,6.7161637339752112E-4,2747.2262641698653,450000,{"$f":"G588-H588/User_entry!$E$18","v":1247.2262641698653},1247.2262641698653,null,{"$f":"HLOOKUP(User_entry!$B$56,Computations!$N$54:$R$1054,Computations!A588+1,FALSE)","v":2747.2262641698653},{"$f":"HLOOKUP(User_entry!$E$56,Computations!$S$54:$W$1054,Computations!A588+1,FALSE)","v":450000},{"$f":"Computations!$F$15+Computations!$E$15*D588","v":2747.2262641698653},{"$f":"EXP(Computations!$F$16)*EXP(Computations!$E$16)^Computations!D588","v":2719.7601089606269},{"$f":"Computations!$F$17+Computations!$E$17*LN(Computations!D588)","v":2766.1259051402731},{"$f":"Computations!$F$18+Computations!$E$18*Computations!D588+Computations!$D$18*Computations!D588^2","v":2799.5181391627748},{"$f":"Computations!$F$19+Computations!$E$19*Computations!D588+Computations!$D$19*Computations!D588^2+Computations!$C$19*Computations!D588^3","v":2799.5181391627748},{"$f":"Computations!$J$15+Computations!$I$15*D588","v":450000},{"$f":"EXP(Computations!$J$16)*EXP(Computations!$I$16)^Computations!D588","v":450000.00000000035},{"$f":"Computations!$J$17+Computations!$I$17*LN(Computations!D588)","v":450000},{"$f":"Computations!$J$18+Computations!$I$18*Computations!D588+Computations!$H$18*Computations!D588^2","v":450000},{"$f":"Computations!$J$19+Computations!$I$19*Computations!D588+Computations!$H$19*Computations!D588^2+Computations!$G$19*Computations!D588^3","v":450000}]
[535,0.16693511970537805,0.16722696696231454,0.1670810433338463,0.93779824674196077,6.6549320414344137E-4,2751.0663596558716,450000,{"$f":"G589-H589/User_entry!$E$18","v":1251.0663596558716},1251.0663596558716,null,{"$f":"HLOOKUP(User_entry!$B$56,Computations!$N$54:$R$1054,Computations!A589+1,FALSE)","v":2751.0663596558716},{"$f":"HLOOKUP(User_entry!$E$56,Computations!$S$54:$W$1054,Computations!A589+1,FALSE)","v":450000},{"$f":"Computations!$F$15+Computations!$E$15*D589","v":2751.0663596558716},{"$f":"EXP(Computations!$F$16)*EXP(Computations!$E$16)^Computations!D589","v":2725.4028308041234},{"$f":"Computations!$F$17+Computations!$E$17*LN(Computations!D589)","v":2768.3469760103198},{"$f":"Computations!$F$18+Computations!$E$18*Computations!D589+Computations!$D$18*Computations!D589^2","v":2802.286686127507},{"$f":"Computations!$F$19+Computations!$E$19*Computations!D589+Computations!$D$19*Computations!D589^2+Computations!$C$19*Computations!D589^3","v":2802.286686127507},{"$f":"Computations!$J$15+Computations!$I$15*D589","v":450000},{"$f":"EXP(Computations!$J$16)*EXP(Computations!$I$16)^Computations!D589","v":450000.00000000035},{"$f":"Computations!$J$17+Computations!$I$17*LN(Computations!D589)","v":450000},{"$f":"Computations!$J$18+Computations!$I$18*Computations!D589+Computations!$H$18*Computations!D589^2","v":450000},{"$f":"Computations!$J$19+Computations!$I$19*Computations!D589+Computations!$H$19*Computations!D589^2+Computations!$G$19*Computations!D589^3","v":450000}]
[536,0.16722696696231454,0.16751881421925102,0.16737289059078278,0.93845765955330207,6.5941281134129781E-4,2754.9064551418787,450000,{"$f":"G590-H590/User_entry!$E$18","v":1254.9064551418787},1254.9064551418787,null,{"$f":"HLOOKUP(User_entry!$B$56,Computations!$N$54:$R$1054,Computations!A590+1,FALSE)","v":2754.9064551418787},{"$f":"HLOOKUP(User_entry!$E$56,Computations!$S$54:$W$1054,Computations!A590+1,FALSE)","v":450000},{"$f":"Computations!$F$15+Computations!$E$15*D590","v":2754.9064551418787},{"$f":"EXP(Computations!$F$16)*EXP(Computations!$E$16)^Computations!D590","v":2731.057259676375},{"$f":"Computations!$F$17+Computations!$E$17*LN(Computations!D590)","v":2770.5641706289348},{"$f":"Computations!$F$18+Computations!$E$18*Computations!D590+Computations!$D$18*Computations!D590^2","v":2805.0489238462105},{"$f":"Computations!$F$19+Computations!$E$19*Computations!D590+Computations!$D$19*Computations!D590^2+Computations!$C$19*Computations!D590^3","v":2805.0489238462105},{"$f":"Computations!$J$15+Computations!$I$15*D590","v":450000},{"$f":"EXP(Computations!$J$16)*EXP(Computations!$I$16)^Computations!D590","v":450000.00000000035},{"$f":"Computations!$J$17+Computations!$I$17*LN(Computations!D590)","v":450000},{"$f":"Computations!$J$18+Computations!$I$18*Computations!D590+Computations!$H$18*Computations!D590^2","v":450000},{"$f":"Computations!$J$19+Computations!$I$19*Computations!D590+Computations!$H$19*Computations!D590^2+Computations!$G$19*Computations!D590^3","v":450000}]
[537,0.16751881421925102,0.16781066147618751,0.16766473784771926,0.93911103462569057,6.5337507238849568E-4,2758.746550627885,450000,{"$f":"G591-H591/User_entry!$E$18","v":1258.746550627885},1258.746550627885,null,{"$f":"HLOOKUP(User_entry!$B$56,Computations!$N$54:$R$1054,Computations!A591+1,FALSE)","v":2758.746550627885},{"$f":"HLOOKUP(User_entry!$E$56,Computations!$S$54:$W$1054,Computations!A591+1,FALSE)","v":450000},{"$f":"Computations!$F$15+Computations!$E$15*D591","v":2758.746550627885},{"$f":"EXP(Computations!$F$16)*EXP(Computations!$E$16)^Computations!D591","v":2736.7234198661072},{"$f":"Computations!$F$17+Computations!$E$17*LN(Computations!D591)","v":2772.777502502352},{"$f":"Computations!$F$18+Computations!$E$18*Computations!D591+Computations!$D$18*Computations!D591^2","v":2807.8048523188868},{"$f":"Computations!$F$19+Computations!$E$19*Computations!D591+Computations!$D$19*Computations!D591^2+Computations!$C$19*Computations!D591^3","v":2807.8048523188868},{"$f":"Computations!$J$15+Computations!$I$15*D591","v":450000},{"$f":"EXP(Computations!$J$16)*EXP(Computations!$I$16)^Computations!D591","v":450000.00000000035},{"$f":"Computations!$J$17+Computations!$I$17*LN(Computations!D591)","v":450000},{"$f":"Computations!$J$18+Computations!$I$18*Computations!D591+Computations!$H$18*Computations!D591^2","v":450000},{"$f":"Computations!$J$19+Computations!$I$19*Computations!D591+Computations!$H$19*Computations!D591^2+Computations!$G$19*Computations!D591^3","v":450000}]
[538,0.16781066147618751,0.16810250873312399,0.16795658510465575,0.93975841448801956,6.4737986232898947E-4,2762.5866461138912,450000,{"$f":"G592-H592/User_entry!$E$18","v":1262.5866461138912},1262.5866461138912,null,{"$f":"HLOOKUP(User_entry!$B$56,Computations!$N$54:$R$1054,Computations!A592+1,FALSE)","v":2762.5866461138912},{"$f":"HLOOKUP(User_entry!$E$56,Computations!$S$54:$W$1054,Computations!A592+1,FALSE)","v":450000},{"$f":"Computations!$F$15+Computations!$E$15*D592","v":2762.5866461138912},{"$f":"EXP(Computations!$F$16)*EXP(Computations!$E$16)^Computations!D592","v":2742.4013357124381},{"$f":"Computations!$F$17+Computations!$E$17*LN(Computations!D592)","v":2774.9869850663376},{"$f":"Computations!$F$18+Computations!$E$18*Computations!D592+Computations!$D$18*Computations!D592^2","v":2810.5544715455339},{"$f":"Computations!$F$19+Computations!$E$19*Computations!D592+Computations!$D$19*Computations!D592^2+Computations!$C$19*Computations!D592^3","v":2810.5544715455339},{"$f":"Computations!$J$15+Computations!$I$15*D592","v":450000},{"$f":"EXP(Computations!$J$16)*EXP(Computations!$I$16)^Computations!D592","v":450000.00000000035},{"$f":"Computations!$J$17+Computations!$I$17*LN(Computations!D592)","v":450000},{"$f":"Computations!$J$18+Computations!$I$18*Computations!D592+Computations!$H$18*Computations!D592^2","v":450000},{"$f":"Computations!$J$19+Computations!$I$19*Computations!D592+Computations!$H$19*Computations!D592^2+Computations!$G$19*Computations!D592^3","v":450000}]
[539,0.16810250873312399,0.16839435599006047,0.16824843236159223,0.94039984154192247,6.4142705390290988E-4,2766.4267415998975,450000,{"$f":"G593-H593/User_entry!$E$18","v":1266.4267415998975},1266.4267415998975,null,{"$f":"HLOOKUP(User_entry!$B$56,Computations!$N$54:$R$1054,Computations!A593+1,FALSE)","v":2766.4267415998975},{"$f":"HLOOKUP(User_entry!$E$56,Computations!$S$54:$W$1054,Computations!A593+1,FALSE)","v":450000},{"$f":"Computations!$F$15+Computations!$E$15*D593","v":2766.4267415998975},{"$f":"EXP(Computations!$F$16)*EXP(Computations!$E$16)^Computations!D593","v":2748.0910316049822},{"$f":"Computations!$F$17+Computations!$E$17*LN(Computations!D593)","v":2777.1926316866807},{"$f":"Computations!$F$18+Computations!$E$18*Computations!D593+Computations!$D$18*Computations!D593^2","v":2813.2977815261534},{"$f":"Computations!$F$19+Computations!$E$19*Computations!D593+Computations!$D$19*Computations!D593^2+Computations!$C$19*Computations!D593^3","v":2813.2977815261534},{"$f":"Computations!$J$15+Computations!$I$15*D593","v":450000},{"$f":"EXP(Computations!$J$16)*EXP(Computations!$I$16)^Computations!D593","v":450000.00000000035},{"$f":"Computations!$J$17+Computations!$I$17*LN(Computations!D593)","v":450000},{"$f":"Computations!$J$18+Computations!$I$18*Computations!D593+Computations!$H$18*Computations!D593^2","v":450000},{"$f":"Computations!$J$19+Computations!$I$19*Computations!D593+Computations!$H$19*Computations!D593^2+Computations!$G$19*Computations!D593^3","v":450000}]
[540,0.16839435599006047,0.16868620324699696,0.16854027961852872,0.94103535805951899,6.3551651759652383E-4,2770.2668370859037,450000,{"$f":"G594-H594/User_entry!$E$18","v":1270.2668370859037},1270.2668370859037,null,{"$f":"HLOOKUP(User_entry!$B$56,Computations!$N$54:$R$1054,Computations!A594+1,FALSE)","v":2770.2668370859037},{"$f":"HLOOKUP(User_entry!$E$56,Computations!$S$54:$W$1054,Computations!A594+1,FALSE)","v":450000},{"$f":"Computations!$F$15+Computations!$E$15*D594","v":2770.2668370859037},{"$f":"EXP(Computations!$F$16)*EXP(Computations!$E$16)^Computations!D594","v":2753.7925319839542},{"$f":"Computations!$F$17+Computations!$E$17*LN(Computations!D594)","v":2779.3944556596748},{"$f":"Computations!$F$18+Computations!$E$18*Computations!D594+Computations!$D$18*Computations!D594^2","v":2816.0347822607441},{"$f":"Computations!$F$19+Computations!$E$19*Computations!D594+Computations!$D$19*Computations!D594^2+Computations!$C$19*Computations!D594^3","v":2816.0347822607441},{"$f":"Computations!$J$15+Computations!$I$15*D594","v":450000},{"$f":"EXP(Computations!$J$16)*EXP(Computations!$I$16)^Computations!D594","v":450000.00000000035},{"$f":"Computations!$J$17+Computations!$I$17*LN(Computations!D594)","v":450000},{"$f":"Computations!$J$18+Computations!$I$18*Computations!D594+Computations!$H$18*Computations!D594^2","v":450000},{"$f":"Computations!$J$19+Computations!$I$19*Computations!D594+Computations!$H$19*Computations!D594^2+Computations!$G$19*Computations!D594^3","v":450000}]
[541,0.16868620324699696,0.16897805050393344,0.1688321268754652,0.94166500618120885,6.2964812168986306E-4,2774.10693257191,450000,{"$f":"G595-H595/User_entry!$E$18","v":1274.10693257191},1274.10693257191,null,{"$f":"HLOOKUP(User_entry!$B$56,Computations!$N$54:$R$1054,Computations!A595+1,FALSE)","v":2774.10693257191},{"$f":"HLOOKUP(User_entry!$E$56,Computations!$S$54:$W$1054,Computations!A595+1,FALSE)","v":450000},{"$f":"Computations!$F$15+Computations!$E$15*D595","v":2774.10693257191},{"$f":"EXP(Computations!$F$16)*EXP(Computations!$E$16)^Computations!D595","v":2759.5058613402784},{"$f":"Computations!$F$17+Computations!$E$17*LN(Computations!D595)","v":2781.5924702126022},{"$f":"Computations!$F$18+Computations!$E$18*Computations!D595+Computations!$D$18*Computations!D595^2","v":2818.7654737493071},{"$f":"Computations!$F$19+Computations!$E$19*Computations!D595+Computations!$D$19*Computations!D595^2+Computations!$C$19*Computations!D595^3","v":2818.7654737493071},{"$f":"Computations!$J$15+Computations!$I$15*D595","v":450000},{"$f":"EXP(Computations!$J$16)*EXP(Computations!$I$16)^Computations!D595","v":450000.00000000035},{"$f":"Computations!$J$17+Computations!$I$17*LN(Computations!D595)","v":450000},{"$f":"Computations!$J$18+Computations!$I$18*Computations!D595+Computations!$H$18*Computations!D595^2","v":450000},{"$f":"Computations!$J$19+Computations!$I$19*Computations!D595+Computations!$H$19*Computations!D595^2+Computations!$G$19*Computations!D595^3","v":450000}]
[542,0.16897805050393344,0.16926989776086993,0.16912397413240168,0.94228882791351487,6.2382173230601801E-4,2777.9470280579162,450000,{"$f":"G596-H596/User_entry!$E$18","v":1277.9470280579162},1277.9470280579162,null,{"$f":"HLOOKUP(User_entry!$B$56,Computations!$N$54:$R$1054,Computations!A596+1,FALSE)","v":2777.9470280579162},{"$f":"HLOOKUP(User_entry!$E$56,Computations!$S$54:$W$1054,Computations!A596+1,FALSE)","v":450000},{"$f":"Computations!$F$15+Computations!$E$15*D596","v":2777.9470280579162},{"$f":"EXP(Computations!$F$16)*EXP(Computations!$E$16)^Computations!D596","v":2765.2310442156872},{"$f":"Computations!$F$17+Computations!$E$17*LN(Computations!D596)","v":2783.7866885042085},{"$f":"Computations!$F$18+Computations!$E$18*Computations!D596+Computations!$D$18*Computations!D596^2","v":2821.4898559918411},{"$f":"Computations!$F$19+Computations!$E$19*Computations!D596+Computations!$D$19*Computations!D596^2+Computations!$C$19*Computations!D596^3","v":2821.4898559918411},{"$f":"Computations!$J$15+Computations!$I$15*D596","v":450000},{"$f":"EXP(Computations!$J$16)*EXP(Computations!$I$16)^Computations!D596","v":450000.00000000035},{"$f":"Computations!$J$17+Computations!$I$17*LN(Computations!D596)","v":450000},{"$f":"Computations!$J$18+Computations!$I$18*Computations!D596+Computations!$H$18*Computations!D596^2","v":450000},{"$f":"Computations!$J$19+Computations!$I$19*Computations!D596+Computations!$H$19*Computations!D596^2+Computations!$G$19*Computations!D596^3","v":450000}]
[543,0.16926989776086993,0.16956174501780641,0.16941582138933817,0.94290686512697319,6.180372134583223E-4,2781.7871235439225,450000,{"$f":"G597-H597/User_entry!$E$18","v":1281.7871235439225},1281.7871235439225,null,{"$f":"HLOOKUP(User_entry!$B$56,Computations!$N$54:$R$1054,Computations!A597+1,FALSE)","v":2781.7871235439225},{"$f":"HLOOKUP(User_entry!$E$56,Computations!$S$54:$W$1054,Computations!A597+1,FALSE)","v":450000},{"$f":"Computations!$F$15+Computations!$E$15*D597","v":2781.7871235439225},{"$f":"EXP(Computations!$F$16)*EXP(Computations!$E$16)^Computations!D597","v":2770.9681052028313},{"$f":"Computations!$F$17+Computations!$E$17*LN(Computations!D597)","v":2785.9771236251772},{"$f":"Computations!$F$18+Computations!$E$18*Computations!D597+Computations!$D$18*Computations!D597^2","v":2824.2079289883477},{"$f":"Computations!$F$19+Computations!$E$19*Computations!D597+Computations!$D$19*Computations!D597^2+Computations!$C$19*Computations!D597^3","v":2824.2079289883477},{"$f":"Computations!$J$15+Computations!$I$15*D597","v":450000},{"$f":"EXP(Computations!$J$16)*EXP(Computations!$I$16)^Computations!D597","v":450000.00000000035},{"$f":"Computations!$J$17+Computations!$I$17*LN(Computations!D597)","v":450000},{"$f":"Computations!$J$18+Computations!$I$18*Computations!D597+Computations!$H$18*Computations!D597^2","v":450000},{"$f":"Computations!$J$19+Computations!$I$19*Computations!D597+Computations!$H$19*Computations!D597^2+Computations!$G$19*Computations!D597^3","v":450000}]
[544,0.16956174501780641,0.16985359227474289,0.16970766864627465,0.94351915955407217,6.1229442709898052E-4,2785.6272190299296,450000,{"$f":"G598-H598/User_entry!$E$18","v":1285.6272190299296},1285.6272190299296,null,{"$f":"HLOOKUP(User_entry!$B$56,Computations!$N$54:$R$1054,Computations!A598+1,FALSE)","v":2785.6272190299296},{"$f":"HLOOKUP(User_entry!$E$56,Computations!$S$54:$W$1054,Computations!A598+1,FALSE)","v":450000},{"$f":"Computations!$F$15+Computations!$E$15*D598","v":2785.6272190299296},{"$f":"EXP(Computations!$F$16)*EXP(Computations!$E$16)^Computations!D598","v":2776.7170689453856},{"$f":"Computations!$F$17+Computations!$E$17*LN(Computations!D598)","v":2788.163788598597},{"$f":"Computations!$F$18+Computations!$E$18*Computations!D598+Computations!$D$18*Computations!D598^2","v":2826.9196927388257},{"$f":"Computations!$F$19+Computations!$E$19*Computations!D598+Computations!$D$19*Computations!D598^2+Computations!$C$19*Computations!D598^3","v":2826.9196927388257},{"$f":"Computations!$J$15+Computations!$I$15*D598","v":450000},{"$f":"EXP(Computations!$J$16)*EXP(Computations!$I$16)^Computations!D598","v":450000.00000000035},{"$f":"Computations!$J$17+Computations!$I$17*LN(Computations!D598)","v":450000},{"$f":"Computations!$J$18+Computations!$I$18*Computations!D598+Computations!$H$18*Computations!D598^2","v":450000},{"$f":"Computations!$J$19+Computations!$I$19*Computations!D598+Computations!$H$19*Computations!D598^2+Computations!$G$19*Computations!D598^3","v":450000}]
[545,0.16985359227474289,0.17014543953167938,0.16999951590321113,0.94412575278723643,6.0659323316425429E-4,2789.4673145159359,450000,{"$f":"G599-H599/User_entry!$E$18","v":1289.4673145159359},1289.4673145159359,null,{"$f":"HLOOKUP(User_entry!$B$56,Computations!$N$54:$R$1054,Computations!A599+1,FALSE)","v":2789.4673145159359},{"$f":"HLOOKUP(User_entry!$E$56,Computations!$S$54:$W$1054,Computations!A599+1,FALSE)","v":450000},{"$f":"Computations!$F$15+Computations!$E$15*D599","v":2789.4673145159359},{"$f":"EXP(Computations!$F$16)*EXP(Computations!$E$16)^Computations!D599","v":2782.4779601381515},{"$f":"Computations!$F$17+Computations!$E$17*LN(Computations!D599)","v":2790.3466963804249},{"$f":"Computations!$F$18+Computations!$E$18*Computations!D599+Computations!$D$18*Computations!D599^2","v":2829.6251472432755},{"$f":"Computations!$F$19+Computations!$E$19*Computations!D599+Computations!$D$19*Computations!D599^2+Computations!$C$19*Computations!D599^3","v":2829.6251472432755},{"$f":"Computations!$J$15+Computations!$I$15*D599","v":450000},{"$f":"EXP(Computations!$J$16)*EXP(Computations!$I$16)^Computations!D599","v":450000.00000000035},{"$f":"Computations!$J$17+Computations!$I$17*LN(Computations!D599)","v":450000},{"$f":"Computations!$J$18+Computations!$I$18*Computations!D599+Computations!$H$18*Computations!D599^2","v":450000},{"$f":"Computations!$J$19+Computations!$I$19*Computations!D599+Computations!$H$19*Computations!D599^2+Computations!$G$19*Computations!D599^3","v":450000}]
[546,0.17014543953167938,0.17043728678861586,0.17029136316014762,0.94472668627685918,6.0093348962275694E-4,2793.3074100019421,450000,{"$f":"G600-H600/User_entry!$E$18","v":1293.3074100019421},1293.3074100019421,null,{"$f":"HLOOKUP(User_entry!$B$56,Computations!$N$54:$R$1054,Computations!A600+1,FALSE)","v":2793.3074100019421},{"$f":"HLOOKUP(User_entry!$E$56,Computations!$S$54:$W$1054,Computations!A600+1,FALSE)","v":450000},{"$f":"Computations!$F$15+Computations!$E$15*D600","v":2793.3074100019421},{"$f":"EXP(Computations!$F$16)*EXP(Computations!$E$16)^Computations!D600","v":2788.2508035271658},{"$f":"Computations!$F$17+Computations!$E$17*LN(Computations!D600)","v":2792.5258598599512},{"$f":"Computations!$F$18+Computations!$E$18*Computations!D600+Computations!$D$18*Computations!D600^2","v":2832.3242925016966},{"$f":"Computations!$F$19+Computations!$E$19*Computations!D600+Computations!$D$19*Computations!D600^2+Computations!$C$19*Computations!D600^3","v":2832.3242925016966},{"$f":"Computations!$J$15+Computations!$I$15*D600","v":450000},{"$f":"EXP(Computations!$J$16)*EXP(Computations!$I$16)^Computations!D600","v":450000.00000000035},{"$f":"Computations!$J$17+Computations!$I$17*LN(Computations!D600)","v":450000},{"$f":"Computations!$J$18+Computations!$I$18*Computations!D600+Computations!$H$18*Computations!D600^2","v":450000},{"$f":"Computations!$J$19+Computations!$I$19*Computations!D600+Computations!$H$19*Computations!D600^2+Computations!$G$19*Computations!D600^3","v":450000}]
[547,0.17043728678861586,0.17072913404555234,0.1705832104170841,0.94532200132937949,5.9531505252030659E-4,2797.1475054879484,450000,{"$f":"G601-H601/User_entry!$E$18","v":1297.1475054879484},1297.1475054879484,null,{"$f":"HLOOKUP(User_entry!$B$56,Computations!$N$54:$R$1054,Computations!A601+1,FALSE)","v":2797.1475054879484},{"$f":"HLOOKUP(User_entry!$E$56,Computations!$S$54:$W$1054,Computations!A601+1,FALSE)","v":450000},{"$f":"Computations!$F$15+Computations!$E$15*D601","v":2797.1475054879484},{"$f":"EXP(Computations!$F$16)*EXP(Computations!$E$16)^Computations!D601","v":2794.0356239098064},{"$f":"Computations!$F$17+Computations!$E$17*LN(Computations!D601)","v":2794.7012918602513},{"$f":"Computations!$F$18+Computations!$E$18*Computations!D601+Computations!$D$18*Computations!D601^2","v":2835.0171285140896},{"$f":"Computations!$F$19+Computations!$E$19*Computations!D601+Computations!$D$19*Computations!D601^2+Computations!$C$19*Computations!D601^3","v":2835.0171285140896},{"$f":"Computations!$J$15+Computations!$I$15*D601","v":450000},{"$f":"EXP(Computations!$J$16)*EXP(Computations!$I$16)^Computations!D601","v":450000.00000000035},{"$f":"Computations!$J$17+Computations!$I$17*LN(Computations!D601)","v":450000},{"$f":"Computations!$J$18+Computations!$I$18*Computations!D601+Computations!$H$18*Computations!D601^2","v":450000},{"$f":"Computations!$J$19+Computations!$I$19*Computations!D601+Computations!$H$19*Computations!D601^2+Computations!$G$19*Computations!D601^3","v":450000}]
[548,0.17072913404555234,0.17102098130248883,0.17087505767402059,0.94591173910540571,5.8973777602622235E-4,2800.9876009739546,450000,{"$f":"G602-H602/User_entry!$E$18","v":1300.9876009739546},1300.9876009739546,null,{"$f":"HLOOKUP(User_entry!$B$56,Computations!$N$54:$R$1054,Computations!A602+1,FALSE)","v":2800.9876009739546},{"$f":"HLOOKUP(User_entry!$E$56,Computations!$S$54:$W$1054,Computations!A602+1,FALSE)","v":450000},{"$f":"Computations!$F$15+Computations!$E$15*D602","v":2800.9876009739546},{"$f":"EXP(Computations!$F$16)*EXP(Computations!$E$16)^Computations!D602","v":2799.8324461348993},{"$f":"Computations!$F$17+Computations!$E$17*LN(Computations!D602)","v":2796.8730051386419},{"$f":"Computations!$F$18+Computations!$E$18*Computations!D602+Computations!$D$18*Computations!D602^2","v":2837.7036552804548},{"$f":"Computations!$F$19+Computations!$E$19*Computations!D602+Computations!$D$19*Computations!D602^2+Computations!$C$19*Computations!D602^3","v":2837.7036552804548},{"$f":"Computations!$J$15+Computations!$I$15*D602","v":450000},{"$f":"EXP(Computations!$J$16)*EXP(Computations!$I$16)^Computations!D602","v":450000.00000000035},{"$f":"Computations!$J$17+Computations!$I$17*LN(Computations!D602)","v":450000},{"$f":"Computations!$J$18+Computations!$I$18*Computations!D602+Computations!$H$18*Computations!D602^2","v":450000},{"$f":"Computations!$J$19+Computations!$I$19*Computations!D602+Computations!$H$19*Computations!D602^2+Computations!$G$19*Computations!D602^3","v":450000}]
[549,0.17102098130248883,0.17131282855942531,0.17116690493095707,0.94649594061788456,5.8420151247884355E-4,2804.8276964599609,450000,{"$f":"G603-H603/User_entry!$E$18","v":1304.8276964599609},1304.8276964599609,null,{"$f":"HLOOKUP(User_entry!$B$56,Computations!$N$54:$R$1054,Computations!A603+1,FALSE)","v":2804.8276964599609},{"$f":"HLOOKUP(User_entry!$E$56,Computations!$S$54:$W$1054,Computations!A603+1,FALSE)","v":450000},{"$f":"Computations!$F$15+Computations!$E$15*D603","v":2804.8276964599609},{"$f":"EXP(Computations!$F$16)*EXP(Computations!$E$16)^Computations!D603","v":2805.6412951028219},{"$f":"Computations!$F$17+Computations!$E$17*LN(Computations!D603)","v":2799.0410123871275},{"$f":"Computations!$F$18+Computations!$E$18*Computations!D603+Computations!$D$18*Computations!D603^2","v":2840.3838728007913},{"$f":"Computations!$F$19+Computations!$E$19*Computations!D603+Computations!$D$19*Computations!D603^2+Computations!$C$19*Computations!D603^3","v":2840.3838728007913},{"$f":"Computations!$J$15+Computations!$I$15*D603","v":450000},{"$f":"EXP(Computations!$J$16)*EXP(Computations!$I$16)^Computations!D603","v":450000.00000000035},{"$f":"Computations!$J$17+Computations!$I$17*LN(Computations!D603)","v":450000},{"$f":"Computations!$J$18+Computations!$I$18*Computations!D603+Computations!$H$18*Computations!D603^2","v":450000},{"$f":"Computations!$J$19+Computations!$I$19*Computations!D603+Computations!$H$19*Computations!D603^2+Computations!$G$19*Computations!D603^3","v":450000}]
[550,0.17131282855942531,0.1716046758163618,0.17145875218789355,0.9470746467303125,5.7870611242794023E-4,2808.6677919459671,450000,{"$f":"G604-H604/User_entry!$E$18","v":1308.6677919459671},1308.6677919459671,null,{"$f":"HLOOKUP(User_entry!$B$56,Computations!$N$54:$R$1054,Computations!A604+1,FALSE)","v":2808.6677919459671},{"$f":"HLOOKUP(User_entry!$E$56,Computations!$S$54:$W$1054,Computations!A604+1,FALSE)","v":450000},{"$f":"Computations!$F$15+Computations!$E$15*D604","v":2808.6677919459671},{"$f":"EXP(Computations!$F$16)*EXP(Computations!$E$16)^Computations!D604","v":2811.4621957656173},{"$f":"Computations!$F$17+Computations!$E$17*LN(Computations!D604)","v":2801.2053262328473},{"$f":"Computations!$F$18+Computations!$E$18*Computations!D604+Computations!$D$18*Computations!D604^2","v":2843.0577810751001},{"$f":"Computations!$F$19+Computations!$E$19*Computations!D604+Computations!$D$19*Computations!D604^2+Computations!$C$19*Computations!D604^3","v":2843.0577810751001},{"$f":"Computations!$J$15+Computations!$I$15*D604","v":450000},{"$f":"EXP(Computations!$J$16)*EXP(Computations!$I$16)^Computations!D604","v":450000.00000000035},{"$f":"Computations!$J$17+Computations!$I$17*LN(Computations!D604)","v":450000},{"$f":"Computations!$J$18+Computations!$I$18*Computations!D604+Computations!$H$18*Computations!D604^2","v":450000},{"$f":"Computations!$J$19+Computations!$I$19*Computations!D604+Computations!$H$19*Computations!D604^2+Computations!$G$19*Computations!D604^3","v":450000}]
[551,0.1716046758163618,0.17189652307329828,0.17175059944483004,0.9476478981549955,5.7325142468300783E-4,2812.5078874319734,450000,{"$f":"G605-H605/User_entry!$E$18","v":1312.5078874319734},1312.5078874319734,null,{"$f":"HLOOKUP(User_entry!$B$56,Computations!$N$54:$R$1054,Computations!A605+1,FALSE)","v":2812.5078874319734},{"$f":"HLOOKUP(User_entry!$E$56,Computations!$S$54:$W$1054,Computations!A605+1,FALSE)","v":450000},{"$f":"Computations!$F$15+Computations!$E$15*D605","v":2812.5078874319734},{"$f":"EXP(Computations!$F$16)*EXP(Computations!$E$16)^Computations!D605","v":2817.2951731270928},{"$f":"Computations!$F$17+Computations!$E$17*LN(Computations!D605)","v":2803.3659592385161},{"$f":"Computations!$F$18+Computations!$E$18*Computations!D605+Computations!$D$18*Computations!D605^2","v":2845.7253801033803},{"$f":"Computations!$F$19+Computations!$E$19*Computations!D605+Computations!$D$19*Computations!D605^2+Computations!$C$19*Computations!D605^3","v":2845.7253801033803},{"$f":"Computations!$J$15+Computations!$I$15*D605","v":450000},{"$f":"EXP(Computations!$J$16)*EXP(Computations!$I$16)^Computations!D605","v":450000.00000000035},{"$f":"Computations!$J$17+Computations!$I$17*LN(Computations!D605)","v":450000},{"$f":"Computations!$J$18+Computations!$I$18*Computations!D605+Computations!$H$18*Computations!D605^2","v":450000},{"$f":"Computations!$J$19+Computations!$I$19*Computations!D605+Computations!$H$19*Computations!D605^2+Computations!$G$19*Computations!D605^3","v":450000}]
[552,0.17189652307329828,0.17218837033023476,0.17204244670176652,0.94821573545134852,5.6783729635301317E-4,2816.3479829179805,450000,{"$f":"G606-H606/User_entry!$E$18","v":1316.3479829179805},1316.3479829179805,null,{"$f":"HLOOKUP(User_entry!$B$56,Computations!$N$54:$R$1054,Computations!A606+1,FALSE)","v":2816.3479829179805},{"$f":"HLOOKUP(User_entry!$E$56,Computations!$S$54:$W$1054,Computations!A606+1,FALSE)","v":450000},{"$f":"Computations!$F$15+Computations!$E$15*D606","v":2816.3479829179805},{"$f":"EXP(Computations!$F$16)*EXP(Computations!$E$16)^Computations!D606","v":2823.1402522429321},{"$f":"Computations!$F$17+Computations!$E$17*LN(Computations!D606)","v":2805.5229239028599},{"$f":"Computations!$F$18+Computations!$E$18*Computations!D606+Computations!$D$18*Computations!D606^2","v":2848.3866698856323},{"$f":"Computations!$F$19+Computations!$E$19*Computations!D606+Computations!$D$19*Computations!D606^2+Computations!$C$19*Computations!D606^3","v":2848.3866698856323},{"$f":"Computations!$J$15+Computations!$I$15*D606","v":450000},{"$f":"EXP(Computations!$J$16)*EXP(Computations!$I$16)^Computations!D606","v":450000.00000000035},{"$f":"Computations!$J$17+Computations!$I$17*LN(Computations!D606)","v":450000},{"$f":"Computations!$J$18+Computations!$I$18*Computations!D606+Computations!$H$18*Computations!D606^2","v":450000},{"$f":"Computations!$J$19+Computations!$I$19*Computations!D606+Computations!$H$19*Computations!D606^2+Computations!$G$19*Computations!D606^3","v":450000}]
[553,0.17218837033023476,0.17248021758717125,0.17233429395870301,0.94877819902424054,5.6246357289202464E-4,2820.1880784039868,450000,{"$f":"G607-H607/User_entry!$E$18","v":1320.1880784039868},1320.1880784039868,null,{"$f":"HLOOKUP(User_entry!$B$56,Computations!$N$54:$R$1054,Computations!A607+1,FALSE)","v":2820.1880784039868},{"$f":"HLOOKUP(User_entry!$E$56,Computations!$S$54:$W$1054,Computations!A607+1,FALSE)","v":450000},{"$f":"Computations!$F$15+Computations!$E$15*D607","v":2820.1880784039868},{"$f":"EXP(Computations!$F$16)*EXP(Computations!$E$16)^Computations!D607","v":2828.9974582208056},{"$f":"Computations!$F$17+Computations!$E$17*LN(Computations!D607)","v":2807.6762326610524},{"$f":"Computations!$F$18+Computations!$E$18*Computations!D607+Computations!$D$18*Computations!D607^2","v":2851.0416504218556},{"$f":"Computations!$F$19+Computations!$E$19*Computations!D607+Computations!$D$19*Computations!D607^2+Computations!$C$19*Computations!D607^3","v":2851.0416504218556},{"$f":"Computations!$J$15+Computations!$I$15*D607","v":450000},{"$f":"EXP(Computations!$J$16)*EXP(Computations!$I$16)^Computations!D607","v":450000.00000000035},{"$f":"Computations!$J$17+Computations!$I$17*LN(Computations!D607)","v":450000},{"$f":"Computations!$J$18+Computations!$I$18*Computations!D607+Computations!$H$18*Computations!D607^2","v":450000},{"$f":"Computations!$J$19+Computations!$I$19*Computations!D607+Computations!$H$19*Computations!D607^2+Computations!$G$19*Computations!D607^3","v":450000}]
[554,0.17248021758717125,0.17277206484410773,0.17262614121563949,0.94933532912238261,5.5713009814206682E-4,2824.028173889993,450000,{"$f":"G608-H608/User_entry!$E$18","v":1324.028173889993},1324.028173889993,null,{"$f":"HLOOKUP(User_entry!$B$56,Computations!$N$54:$R$1054,Computations!A608+1,FALSE)","v":2824.028173889993},{"$f":"HLOOKUP(User_entry!$E$56,Computations!$S$54:$W$1054,Computations!A608+1,FALSE)","v":450000},{"$f":"Computations!$F$15+Computations!$E$15*D608","v":2824.028173889993},{"$f":"EXP(Computations!$F$16)*EXP(Computations!$E$16)^Computations!D608","v":2834.8668162204708},{"$f":"Computations!$F$17+Computations!$E$17*LN(Computations!D608)","v":2809.8258978851441},{"$f":"Computations!$F$18+Computations!$E$18*Computations!D608+Computations!$D$18*Computations!D608^2","v":2853.6903217120516},{"$f":"Computations!$F$19+Computations!$E$19*Computations!D608+Computations!$D$19*Computations!D608^2+Computations!$C$19*Computations!D608^3","v":2853.6903217120516},{"$f":"Computations!$J$15+Computations!$I$15*D608","v":450000},{"$f":"EXP(Computations!$J$16)*EXP(Computations!$I$16)^Computations!D608","v":450000.00000000035},{"$f":"Computations!$J$17+Computations!$I$17*LN(Computations!D608)","v":450000},{"$f":"Computations!$J$18+Computations!$I$18*Computations!D608+Computations!$H$18*Computations!D608^2","v":450000},{"$f":"Computations!$J$19+Computations!$I$19*Computations!D608+Computations!$H$19*Computations!D608^2+Computations!$G$19*Computations!D608^3","v":450000}]
[555,0.17277206484410773,0.17306391210104421,0.17291798847257597,0.94988716583675648,5.5183671437386561E-4,2827.8682693759993,450000,{"$f":"G609-H609/User_entry!$E$18","v":1327.8682693759993},1327.8682693759993,null,{"$f":"HLOOKUP(User_entry!$B$56,Computations!$N$54:$R$1054,Computations!A609+1,FALSE)","v":2827.8682693759993},{"$f":"HLOOKUP(User_entry!$E$56,Computations!$S$54:$W$1054,Computations!A609+1,FALSE)","v":450000},{"$f":"Computations!$F$15+Computations!$E$15*D609","v":2827.8682693759993},{"$f":"EXP(Computations!$F$16)*EXP(Computations!$E$16)^Computations!D609","v":2840.7483514538858},{"$f":"Computations!$F$17+Computations!$E$17*LN(Computations!D609)","v":2811.9719318844873},{"$f":"Computations!$F$18+Computations!$E$18*Computations!D609+Computations!$D$18*Computations!D609^2","v":2856.3326837562186},{"$f":"Computations!$F$19+Computations!$E$19*Computations!D609+Computations!$D$19*Computations!D609^2+Computations!$C$19*Computations!D609^3","v":2856.3326837562186},{"$f":"Computations!$J$15+Computations!$I$15*D609","v":450000},{"$f":"EXP(Computations!$J$16)*EXP(Computations!$I$16)^Computations!D609","v":450000.00000000035},{"$f":"Computations!$J$17+Computations!$I$17*LN(Computations!D609)","v":450000},{"$f":"Computations!$J$18+Computations!$I$18*Computations!D609+Computations!$H$18*Computations!D609^2","v":450000},{"$f":"Computations!$J$19+Computations!$I$19*Computations!D609+Computations!$H$19*Computations!D609^2+Computations!$G$19*Computations!D609^3","v":450000}]
[556,0.17306391210104421,0.1733557593579807,0.17320983572951246,0.95043374909908795,5.4658326233147925E-4,2831.7083648620055,450000,{"$f":"G610-H610/User_entry!$E$18","v":1331.7083648620055},1331.7083648620055,null,{"$f":"HLOOKUP(User_entry!$B$56,Computations!$N$54:$R$1054,Computations!A610+1,FALSE)","v":2831.7083648620055},{"$f":"HLOOKUP(User_entry!$E$56,Computations!$S$54:$W$1054,Computations!A610+1,FALSE)","v":450000},{"$f":"Computations!$F$15+Computations!$E$15*D610","v":2831.7083648620055},{"$f":"EXP(Computations!$F$16)*EXP(Computations!$E$16)^Computations!D610","v":2846.6420891853181},{"$f":"Computations!$F$17+Computations!$E$17*LN(Computations!D610)","v":2814.1143469061626},{"$f":"Computations!$F$18+Computations!$E$18*Computations!D610+Computations!$D$18*Computations!D610^2","v":2858.9687365543577},{"$f":"Computations!$F$19+Computations!$E$19*Computations!D610+Computations!$D$19*Computations!D610^2+Computations!$C$19*Computations!D610^3","v":2858.9687365543577},{"$f":"Computations!$J$15+Computations!$I$15*D610","v":450000},{"$f":"EXP(Computations!$J$16)*EXP(Computations!$I$16)^Computations!D610","v":450000.00000000035},{"$f":"Computations!$J$17+Computations!$I$17*LN(Computations!D610)","v":450000},{"$f":"Computations!$J$18+Computations!$I$18*Computations!D610+Computations!$H$18*Computations!D610^2","v":450000},{"$f":"Computations!$J$19+Computations!$I$19*Computations!D610+Computations!$H$19*Computations!D610^2+Computations!$G$19*Computations!D610^3","v":450000}]
[557,0.1733557593579807,0.17364760661491718,0.17350168298644894,0.95097511868035878,5.4136958127082302E-4,2835.5484603480118,450000,{"$f":"G611-H611/User_entry!$E$18","v":1335.5484603480118},1335.5484603480118,null,{"$f":"HLOOKUP(User_entry!$B$56,Computations!$N$54:$R$1054,Computations!A611+1,FALSE)","v":2835.5484603480118},{"$f":"HLOOKUP(User_entry!$E$56,Computations!$S$54:$W$1054,Computations!A611+1,FALSE)","v":450000},{"$f":"Computations!$F$15+Computations!$E$15*D611","v":2835.5484603480118},{"$f":"EXP(Computations!$F$16)*EXP(Computations!$E$16)^Computations!D611","v":2852.5480547314487},{"$f":"Computations!$F$17+Computations!$E$17*LN(Computations!D611)","v":2816.2531551353945},{"$f":"Computations!$F$18+Computations!$E$18*Computations!D611+Computations!$D$18*Computations!D611^2","v":2861.5984801064683},{"$f":"Computations!$F$19+Computations!$E$19*Computations!D611+Computations!$D$19*Computations!D611^2+Computations!$C$19*Computations!D611^3","v":2861.5984801064683},{"$f":"Computations!$J$15+Computations!$I$15*D611","v":450000},{"$f":"EXP(Computations!$J$16)*EXP(Computations!$I$16)^Computations!D611","v":450000.00000000035},{"$f":"Computations!$J$17+Computations!$I$17*LN(Computations!D611)","v":450000},{"$f":"Computations!$J$18+Computations!$I$18*Computations!D611+Computations!$H$18*Computations!D611^2","v":450000},{"$f":"Computations!$J$19+Computations!$I$19*Computations!D611+Computations!$H$19*Computations!D611^2+Computations!$G$19*Computations!D611^3","v":450000}]
[558,0.17364760661491718,0.17393945387185367,0.17379353024338542,0.95151131418936208,5.3619550900330104E-4,2839.388555834018,450000,{"$f":"G612-H612/User_entry!$E$18","v":1339.388555834018},1339.388555834018,null,{"$f":"HLOOKUP(User_entry!$B$56,Computations!$N$54:$R$1054,Computations!A612+1,FALSE)","v":2839.388555834018},{"$f":"HLOOKUP(User_entry!$E$56,Computations!$S$54:$W$1054,Computations!A612+1,FALSE)","v":450000},{"$f":"Computations!$F$15+Computations!$E$15*D612","v":2839.388555834018},{"$f":"EXP(Computations!$F$16)*EXP(Computations!$E$16)^Computations!D612","v":2858.4662734614849},{"$f":"Computations!$F$17+Computations!$E$17*LN(Computations!D612)","v":2818.3883686959689},{"$f":"Computations!$F$18+Computations!$E$18*Computations!D612+Computations!$D$18*Computations!D612^2","v":2864.2219144125511},{"$f":"Computations!$F$19+Computations!$E$19*Computations!D612+Computations!$D$19*Computations!D612^2+Computations!$C$19*Computations!D612^3","v":2864.2219144125511},{"$f":"Computations!$J$15+Computations!$I$15*D612","v":450000},{"$f":"EXP(Computations!$J$16)*EXP(Computations!$I$16)^Computations!D612","v":450000.00000000035},{"$f":"Computations!$J$17+Computations!$I$17*LN(Computations!D612)","v":450000},{"$f":"Computations!$J$18+Computations!$I$18*Computations!D612+Computations!$H$18*Computations!D612^2","v":450000},{"$f":"Computations!$J$19+Computations!$I$19*Computations!D612+Computations!$H$19*Computations!D612^2+Computations!$G$19*Computations!D612^3","v":450000}]
[559,0.17393945387185367,0.17423130112879015,0.17408537750032191,0.95204237507129719,5.3106088193510814E-4,2843.2286513200243,450000,{"$f":"G613-H613/User_entry!$E$18","v":1343.2286513200243},1343.2286513200243,null,{"$f":"HLOOKUP(User_entry!$B$56,Computations!$N$54:$R$1054,Computations!A613+1,FALSE)","v":2843.2286513200243},{"$f":"HLOOKUP(User_entry!$E$56,Computations!$S$54:$W$1054,Computations!A613+1,FALSE)","v":450000},{"$f":"Computations!$F$15+Computations!$E$15*D613","v":2843.2286513200243},{"$f":"EXP(Computations!$F$16)*EXP(Computations!$E$16)^Computations!D613","v":2864.3967707972674},{"$f":"Computations!$F$17+Computations!$E$17*LN(Computations!D613)","v":2820.5199996506453},{"$f":"Computations!$F$18+Computations!$E$18*Computations!D613+Computations!$D$18*Computations!D613^2","v":2866.8390394726048},{"$f":"Computations!$F$19+Computations!$E$19*Computations!D613+Computations!$D$19*Computations!D613^2+Computations!$C$19*Computations!D613^3","v":2866.8390394726048},{"$f":"Computations!$J$15+Computations!$I$15*D613","v":450000},{"$f":"EXP(Computations!$J$16)*EXP(Computations!$I$16)^Computations!D613","v":450000.00000000035},{"$f":"Computations!$J$17+Computations!$I$17*LN(Computations!D613)","v":450000},{"$f":"Computations!$J$18+Computations!$I$18*Computations!D613+Computations!$H$18*Computations!D613^2","v":450000},{"$f":"Computations!$J$19+Computations!$I$19*Computations!D613+Computations!$H$19*Computations!D613^2+Computations!$G$19*Computations!D613^3","v":450000}]
[560,0.17423130112879015,0.17452314838572663,0.17437722475725839,0.9525683406064045,5.2596553510730892E-4,2847.0687468060314,450000,{"$f":"G614-H614/User_entry!$E$18","v":1347.0687468060314},1347.0687468060314,null,{"$f":"HLOOKUP(User_entry!$B$56,Computations!$N$54:$R$1054,Computations!A614+1,FALSE)","v":2847.0687468060314},{"$f":"HLOOKUP(User_entry!$E$56,Computations!$S$54:$W$1054,Computations!A614+1,FALSE)","v":450000},{"$f":"Computations!$F$15+Computations!$E$15*D614","v":2847.0687468060314},{"$f":"EXP(Computations!$F$16)*EXP(Computations!$E$16)^Computations!D614","v":2870.3395722133805},{"$f":"Computations!$F$17+Computations!$E$17*LN(Computations!D614)","v":2822.648060001567},{"$f":"Computations!$F$18+Computations!$E$18*Computations!D614+Computations!$D$18*Computations!D614^2","v":2869.4498552866312},{"$f":"Computations!$F$19+Computations!$E$19*Computations!D614+Computations!$D$19*Computations!D614^2+Computations!$C$19*Computations!D614^3","v":2869.4498552866312},{"$f":"Computations!$J$15+Computations!$I$15*D614","v":450000},{"$f":"EXP(Computations!$J$16)*EXP(Computations!$I$16)^Computations!D614","v":450000.00000000035},{"$f":"Computations!$J$17+Computations!$I$17*LN(Computations!D614)","v":450000},{"$f":"Computations!$J$18+Computations!$I$18*Computations!D614+Computations!$H$18*Computations!D614^2","v":450000},{"$f":"Computations!$J$19+Computations!$I$19*Computations!D614+Computations!$H$19*Computations!D614^2+Computations!$G$19*Computations!D614^3","v":450000}]
[561,0.17452314838572663,0.17481499564266312,0.17466907201419488,0.95308924990864119,5.2090930223669396E-4,2850.9088422920377,450000,{"$f":"G615-H615/User_entry!$E$18","v":1350.9088422920377},1350.9088422920377,null,{"$f":"HLOOKUP(User_entry!$B$56,Computations!$N$54:$R$1054,Computations!A615+1,FALSE)","v":2850.9088422920377},{"$f":"HLOOKUP(User_entry!$E$56,Computations!$S$54:$W$1054,Computations!A615+1,FALSE)","v":450000},{"$f":"Computations!$F$15+Computations!$E$15*D615","v":2850.9088422920377},{"$f":"EXP(Computations!$F$16)*EXP(Computations!$E$16)^Computations!D615","v":2876.294703237259},{"$f":"Computations!$F$17+Computations!$E$17*LN(Computations!D615)","v":2824.7725616906637},{"$f":"Computations!$F$18+Computations!$E$18*Computations!D615+Computations!$D$18*Computations!D615^2","v":2872.054361854629},{"$f":"Computations!$F$19+Computations!$E$19*Computations!D615+Computations!$D$19*Computations!D615^2+Computations!$C$19*Computations!D615^3","v":2872.054361854629},{"$f":"Computations!$J$15+Computations!$I$15*D615","v":450000},{"$f":"EXP(Computations!$J$16)*EXP(Computations!$I$16)^Computations!D615","v":450000.00000000035},{"$f":"Computations!$J$17+Computations!$I$17*LN(Computations!D615)","v":450000},{"$f":"Computations!$J$18+Computations!$I$18*Computations!D615+Computations!$H$18*Computations!D615^2","v":450000},{"$f":"Computations!$J$19+Computations!$I$19*Computations!D615+Computations!$H$19*Computations!D615^2+Computations!$G$19*Computations!D615^3","v":450000}]
[562,0.17481499564266312,0.1751068428995996,0.17496091927113136,0.95360514192439461,5.1589201575341637E-4,2854.7489377780439,450000,{"$f":"G616-H616/User_entry!$E$18","v":1354.7489377780439},1354.7489377780439,null,{"$f":"HLOOKUP(User_entry!$B$56,Computations!$N$54:$R$1054,Computations!A616+1,FALSE)","v":2854.7489377780439},{"$f":"HLOOKUP(User_entry!$E$56,Computations!$S$54:$W$1054,Computations!A616+1,FALSE)","v":450000},{"$f":"Computations!$F$15+Computations!$E$15*D616","v":2854.7489377780439},{"$f":"EXP(Computations!$F$16)*EXP(Computations!$E$16)^Computations!D616","v":2882.2621894493032},{"$f":"Computations!$F$17+Computations!$E$17*LN(Computations!D616)","v":2826.8935166000556},{"$f":"Computations!$F$18+Computations!$E$18*Computations!D616+Computations!$D$18*Computations!D616^2","v":2874.6525591765985},{"$f":"Computations!$F$19+Computations!$E$19*Computations!D616+Computations!$D$19*Computations!D616^2+Computations!$C$19*Computations!D616^3","v":2874.6525591765985},{"$f":"Computations!$J$15+Computations!$I$15*D616","v":450000},{"$f":"EXP(Computations!$J$16)*EXP(Computations!$I$16)^Computations!D616","v":450000.00000000035},{"$f":"Computations!$J$17+Computations!$I$17*LN(Computations!D616)","v":450000},{"$f":"Computations!$J$18+Computations!$I$18*Computations!D616+Computations!$H$18*Computations!D616^2","v":450000},{"$f":"Computations!$J$19+Computations!$I$19*Computations!D616+Computations!$H$19*Computations!D616^2+Computations!$G$19*Computations!D616^3","v":450000}]
[563,0.1751068428995996,0.17539869015653609,0.17525276652806784,0.95411605543123579,5.1091350684118186E-4,2858.5890332640502,450000,{"$f":"G617-H617/User_entry!$E$18","v":1358.5890332640502},1358.5890332640502,null,{"$f":"HLOOKUP(User_entry!$B$56,Computations!$N$54:$R$1054,Computations!A617+1,FALSE)","v":2858.5890332640502},{"$f":"HLOOKUP(User_entry!$E$56,Computations!$S$54:$W$1054,Computations!A617+1,FALSE)","v":450000},{"$f":"Computations!$F$15+Computations!$E$15*D617","v":2858.5890332640502},{"$f":"EXP(Computations!$F$16)*EXP(Computations!$E$16)^Computations!D617","v":2888.2420564829827},{"$f":"Computations!$F$17+Computations!$E$17*LN(Computations!D617)","v":2829.0109365524527},{"$f":"Computations!$F$18+Computations!$E$18*Computations!D617+Computations!$D$18*Computations!D617^2","v":2877.2444472525394},{"$f":"Computations!$F$19+Computations!$E$19*Computations!D617+Computations!$D$19*Computations!D617^2+Computations!$C$19*Computations!D617^3","v":2877.2444472525394},{"$f":"Computations!$J$15+Computations!$I$15*D617","v":450000},{"$f":"EXP(Computations!$J$16)*EXP(Computations!$I$16)^Computations!D617","v":450000.00000000035},{"$f":"Computations!$J$17+Computations!$I$17*LN(Computations!D617)","v":450000},{"$f":"Computations!$J$18+Computations!$I$18*Computations!D617+Computations!$H$18*Computations!D617^2","v":450000},{"$f":"Computations!$J$19+Computations!$I$19*Computations!D617+Computations!$H$19*Computations!D617^2+Computations!$G$19*Computations!D617^3","v":450000}]
[564,0.17539869015653609,0.17569053741347257,0.17554461378500433,0.95462202903671067,5.0597360547488535E-4,2862.4291287500564,450000,{"$f":"G618-H618/User_entry!$E$18","v":1362.4291287500564},1362.4291287500564,null,{"$f":"HLOOKUP(User_entry!$B$56,Computations!$N$54:$R$1054,Computations!A618+1,FALSE)","v":2862.4291287500564},{"$f":"HLOOKUP(User_entry!$E$56,Computations!$S$54:$W$1054,Computations!A618+1,FALSE)","v":450000},{"$f":"Computations!$F$15+Computations!$E$15*D618","v":2862.4291287500564},{"$f":"EXP(Computations!$F$16)*EXP(Computations!$E$16)^Computations!D618","v":2894.2343300249486},{"$f":"Computations!$F$17+Computations!$E$17*LN(Computations!D618)","v":2831.1248333115482},{"$f":"Computations!$F$18+Computations!$E$18*Computations!D618+Computations!$D$18*Computations!D618^2","v":2879.8300260824526},{"$f":"Computations!$F$19+Computations!$E$19*Computations!D618+Computations!$D$19*Computations!D618^2+Computations!$C$19*Computations!D618^3","v":2879.8300260824526},{"$f":"Computations!$J$15+Computations!$I$15*D618","v":450000},{"$f":"EXP(Computations!$J$16)*EXP(Computations!$I$16)^Computations!D618","v":450000.00000000035},{"$f":"Computations!$J$17+Computations!$I$17*LN(Computations!D618)","v":450000},{"$f":"Computations!$J$18+Computations!$I$18*Computations!D618+Computations!$H$18*Computations!D618^2","v":450000},{"$f":"Computations!$J$19+Computations!$I$19*Computations!D618+Computations!$H$19*Computations!D618^2+Computations!$G$19*Computations!D618^3","v":450000}]
[565,0.17569053741347257,0.17598238467040905,0.17583646104194081,0.95512310117717014,5.0107214045946868E-4,2866.2692242360627,450000,{"$f":"G619-H619/User_entry!$E$18","v":1366.2692242360627},1366.2692242360627,null,{"$f":"HLOOKUP(User_entry!$B$56,Computations!$N$54:$R$1054,Computations!A619+1,FALSE)","v":2866.2692242360627},{"$f":"HLOOKUP(User_entry!$E$56,Computations!$S$54:$W$1054,Computations!A619+1,FALSE)","v":450000},{"$f":"Computations!$F$15+Computations!$E$15*D619","v":2866.2692242360627},{"$f":"EXP(Computations!$F$16)*EXP(Computations!$E$16)^Computations!D619","v":2900.2390358151483},{"$f":"Computations!$F$17+Computations!$E$17*LN(Computations!D619)","v":2833.235218582412},{"$f":"Computations!$F$18+Computations!$E$18*Computations!D619+Computations!$D$18*Computations!D619^2","v":2882.4092956663371},{"$f":"Computations!$F$19+Computations!$E$19*Computations!D619+Computations!$D$19*Computations!D619^2+Computations!$C$19*Computations!D619^3","v":2882.4092956663371},{"$f":"Computations!$J$15+Computations!$I$15*D619","v":450000},{"$f":"EXP(Computations!$J$16)*EXP(Computations!$I$16)^Computations!D619","v":450000.00000000035},{"$f":"Computations!$J$17+Computations!$I$17*LN(Computations!D619)","v":450000},{"$f":"Computations!$J$18+Computations!$I$18*Computations!D619+Computations!$H$18*Computations!D619^2","v":450000},{"$f":"Computations!$J$19+Computations!$I$19*Computations!D619+Computations!$H$19*Computations!D619^2+Computations!$G$19*Computations!D619^3","v":450000}]
[566,0.17598238467040905,0.17627423192734554,0.1761283082988773,0.95561931011663537,4.9620893946522582E-4,2870.1093197220689,450000,{"$f":"G620-H620/User_entry!$E$18","v":1370.1093197220689},1370.1093197220689,null,{"$f":"HLOOKUP(User_entry!$B$56,Computations!$N$54:$R$1054,Computations!A620+1,FALSE)","v":2870.1093197220689},{"$f":"HLOOKUP(User_entry!$E$56,Computations!$S$54:$W$1054,Computations!A620+1,FALSE)","v":450000},{"$f":"Computations!$F$15+Computations!$E$15*D620","v":2870.1093197220689},{"$f":"EXP(Computations!$F$16)*EXP(Computations!$E$16)^Computations!D620","v":2906.2561996469276},{"$f":"Computations!$F$17+Computations!$E$17*LN(Computations!D620)","v":2835.3421040118787},{"$f":"Computations!$F$18+Computations!$E$18*Computations!D620+Computations!$D$18*Computations!D620^2","v":2884.9822560041939},{"$f":"Computations!$F$19+Computations!$E$19*Computations!D620+Computations!$D$19*Computations!D620^2+Computations!$C$19*Computations!D620^3","v":2884.9822560041939},{"$f":"Computations!$J$15+Computations!$I$15*D620","v":450000},{"$f":"EXP(Computations!$J$16)*EXP(Computations!$I$16)^Computations!D620","v":450000.00000000035},{"$f":"Computations!$J$17+Computations!$I$17*LN(Computations!D620)","v":450000},{"$f":"Computations!$J$18+Computations!$I$18*Computations!D620+Computations!$H$18*Computations!D620^2","v":450000},{"$f":"Computations!$J$19+Computations!$I$19*Computations!D620+Computations!$H$19*Computations!D620^2+Computations!$G$19*Computations!D620^3","v":450000}]
[567,0.17627423192734554,0.17656607918428202,0.17642015555581378,0.95611069394570336,4.9138382906799283E-4,2873.9494152080761,450000,{"$f":"G621-H621/User_entry!$E$18","v":1373.9494152080761},1373.9494152080761,null,{"$f":"HLOOKUP(User_entry!$B$56,Computations!$N$54:$R$1054,Computations!A621+1,FALSE)","v":2873.9494152080761},{"$f":"HLOOKUP(User_entry!$E$56,Computations!$S$54:$W$1054,Computations!A621+1,FALSE)","v":450000},{"$f":"Computations!$F$15+Computations!$E$15*D621","v":2873.9494152080761},{"$f":"EXP(Computations!$F$16)*EXP(Computations!$E$16)^Computations!D621","v":2912.285847367149},{"$f":"Computations!$F$17+Computations!$E$17*LN(Computations!D621)","v":2837.4455011889354},{"$f":"Computations!$F$18+Computations!$E$18*Computations!D621+Computations!$D$18*Computations!D621^2","v":2887.548907096022},{"$f":"Computations!$F$19+Computations!$E$19*Computations!D621+Computations!$D$19*Computations!D621^2+Computations!$C$19*Computations!D621^3","v":2887.548907096022},{"$f":"Computations!$J$15+Computations!$I$15*D621","v":450000},{"$f":"EXP(Computations!$J$16)*EXP(Computations!$I$16)^Computations!D621","v":450000.00000000035},{"$f":"Computations!$J$17+Computations!$I$17*LN(Computations!D621)","v":450000},{"$f":"Computations!$J$18+Computations!$I$18*Computations!D621+Computations!$H$18*Computations!D621^2","v":450000},{"$f":"Computations!$J$19+Computations!$I$19*Computations!D621+Computations!$H$19*Computations!D621^2+Computations!$G$19*Computations!D621^3","v":450000}]
[568,0.17656607918428202,0.1768579264412185,0.17671200281275026,0.9565972905804867,4.8659663478334281E-4,2877.7895106940823,450000,{"$f":"G622-H622/User_entry!$E$18","v":1377.7895106940823},1377.7895106940823,null,{"$f":"HLOOKUP(User_entry!$B$56,Computations!$N$54:$R$1054,Computations!A622+1,FALSE)","v":2877.7895106940823},{"$f":"HLOOKUP(User_entry!$E$56,Computations!$S$54:$W$1054,Computations!A622+1,FALSE)","v":450000},{"$f":"Computations!$F$15+Computations!$E$15*D622","v":2877.7895106940823},{"$f":"EXP(Computations!$F$16)*EXP(Computations!$E$16)^Computations!D622","v":2918.3280048762995},{"$f":"Computations!$F$17+Computations!$E$17*LN(Computations!D622)","v":2839.5454216451012},{"$f":"Computations!$F$18+Computations!$E$18*Computations!D622+Computations!$D$18*Computations!D622^2","v":2890.1092489418224},{"$f":"Computations!$F$19+Computations!$E$19*Computations!D622+Computations!$D$19*Computations!D622^2+Computations!$C$19*Computations!D622^3","v":2890.1092489418224},{"$f":"Computations!$J$15+Computations!$I$15*D622","v":450000},{"$f":"EXP(Computations!$J$16)*EXP(Computations!$I$16)^Computations!D622","v":450000.00000000035},{"$f":"Computations!$J$17+Computations!$I$17*LN(Computations!D622)","v":450000},{"$f":"Computations!$J$18+Computations!$I$18*Computations!D622+Computations!$H$18*Computations!D622^2","v":450000},{"$f":"Computations!$J$19+Computations!$I$19*Computations!D622+Computations!$H$19*Computations!D622^2+Computations!$G$19*Computations!D622^3","v":450000}]
[569,0.1768579264412185,0.17714977369815499,0.17700385006968675,0.95707913776158993,4.8184718110322322E-4,2881.6296061800886,450000,{"$f":"G623-H623/User_entry!$E$18","v":1381.6296061800886},1381.6296061800886,null,{"$f":"HLOOKUP(User_entry!$B$56,Computations!$N$54:$R$1054,Computations!A623+1,FALSE)","v":2881.6296061800886},{"$f":"HLOOKUP(User_entry!$E$56,Computations!$S$54:$W$1054,Computations!A623+1,FALSE)","v":450000},{"$f":"Computations!$F$15+Computations!$E$15*D623","v":2881.6296061800886},{"$f":"EXP(Computations!$F$16)*EXP(Computations!$E$16)^Computations!D623","v":2924.3826981286011},{"$f":"Computations!$F$17+Computations!$E$17*LN(Computations!D623)","v":2841.6418768548083},{"$f":"Computations!$F$18+Computations!$E$18*Computations!D623+Computations!$D$18*Computations!D623^2","v":2892.6632815415937},{"$f":"Computations!$F$19+Computations!$E$19*Computations!D623+Computations!$D$19*Computations!D623^2+Computations!$C$19*Computations!D623^3","v":2892.6632815415937},{"$f":"Computations!$J$15+Computations!$I$15*D623","v":450000},{"$f":"EXP(Computations!$J$16)*EXP(Computations!$I$16)^Computations!D623","v":450000.00000000035},{"$f":"Computations!$J$17+Computations!$I$17*LN(Computations!D623)","v":450000},{"$f":"Computations!$J$18+Computations!$I$18*Computations!D623+Computations!$H$18*Computations!D623^2","v":450000},{"$f":"Computations!$J$19+Computations!$I$19*Computations!D623+Computations!$H$19*Computations!D623^2+Computations!$G$19*Computations!D623^3","v":450000}]
[570,0.17714977369815499,0.17744162095509147,0.17729569732662323,0.95755627305312263,4.7713529153270429E-4,2885.4697016660948,450000,{"$f":"G624-H624/User_entry!$E$18","v":1385.4697016660948},1385.4697016660948,null,{"$f":"HLOOKUP(User_entry!$B$56,Computations!$N$54:$R$1054,Computations!A624+1,FALSE)","v":2885.4697016660948},{"$f":"HLOOKUP(User_entry!$E$56,Computations!$S$54:$W$1054,Computations!A624+1,FALSE)","v":450000},{"$f":"Computations!$F$15+Computations!$E$15*D624","v":2885.4697016660948},{"$f":"EXP(Computations!$F$16)*EXP(Computations!$E$16)^Computations!D624","v":2930.4499531321235},{"$f":"Computations!$F$17+Computations!$E$17*LN(Computations!D624)","v":2843.7348782357781},{"$f":"Computations!$F$18+Computations!$E$18*Computations!D624+Computations!$D$18*Computations!D624^2","v":2895.2110048953377},{"$f":"Computations!$F$19+Computations!$E$19*Computations!D624+Computations!$D$19*Computations!D624^2+Computations!$C$19*Computations!D624^3","v":2895.2110048953377},{"$f":"Computations!$J$15+Computations!$I$15*D624","v":450000},{"$f":"EXP(Computations!$J$16)*EXP(Computations!$I$16)^Computations!D624","v":450000.00000000035},{"$f":"Computations!$J$17+Computations!$I$17*LN(Computations!D624)","v":450000},{"$f":"Computations!$J$18+Computations!$I$18*Computations!D624+Computations!$H$18*Computations!D624^2","v":450000},{"$f":"Computations!$J$19+Computations!$I$19*Computations!D624+Computations!$H$19*Computations!D624^2+Computations!$G$19*Computations!D624^3","v":450000}]
[571,0.17744162095509147,0.17773346821202796,0.17758754458355971,0.95802873384174658,4.724607886239518E-4,2889.3097971521011,450000,{"$f":"G625-H625/User_entry!$E$18","v":1389.3097971521011},1389.3097971521011,null,{"$f":"HLOOKUP(User_entry!$B$56,Computations!$N$54:$R$1054,Computations!A625+1,FALSE)","v":2889.3097971521011},{"$f":"HLOOKUP(User_entry!$E$56,Computations!$S$54:$W$1054,Computations!A625+1,FALSE)","v":450000},{"$f":"Computations!$F$15+Computations!$E$15*D625","v":2889.3097971521011},{"$f":"EXP(Computations!$F$16)*EXP(Computations!$E$16)^Computations!D625","v":2936.5297959488971},{"$f":"Computations!$F$17+Computations!$E$17*LN(Computations!D625)","v":2845.8244371493929},{"$f":"Computations!$F$18+Computations!$E$18*Computations!D625+Computations!$D$18*Computations!D625^2","v":2897.7524190030526},{"$f":"Computations!$F$19+Computations!$E$19*Computations!D625+Computations!$D$19*Computations!D625^2+Computations!$C$19*Computations!D625^3","v":2897.7524190030526},{"$f":"Computations!$J$15+Computations!$I$15*D625","v":450000},{"$f":"EXP(Computations!$J$16)*EXP(Computations!$I$16)^Computations!D625","v":450000.00000000035},{"$f":"Computations!$J$17+Computations!$I$17*LN(Computations!D625)","v":450000},{"$f":"Computations!$J$18+Computations!$I$18*Computations!D625+Computations!$H$18*Computations!D625^2","v":450000},{"$f":"Computations!$J$19+Computations!$I$19*Computations!D625+Computations!$H$19*Computations!D625^2+Computations!$G$19*Computations!D625^3","v":450000}]
[572,0.17773346821202796,0.17802531546896444,0.1778793918404962,0.95849655733575889,4.6782349401230938E-4,2893.1498926381073,450000,{"$f":"G626-H626/User_entry!$E$18","v":1393.1498926381073},1393.1498926381073,null,{"$f":"HLOOKUP(User_entry!$B$56,Computations!$N$54:$R$1054,Computations!A626+1,FALSE)","v":2893.1498926381073},{"$f":"HLOOKUP(User_entry!$E$56,Computations!$S$54:$W$1054,Computations!A626+1,FALSE)","v":450000},{"$f":"Computations!$F$15+Computations!$E$15*D626","v":2893.1498926381073},{"$f":"EXP(Computations!$F$16)*EXP(Computations!$E$16)^Computations!D626","v":2942.6222526950223},{"$f":"Computations!$F$17+Computations!$E$17*LN(Computations!D626)","v":2847.9105649010694},{"$f":"Computations!$F$18+Computations!$E$18*Computations!D626+Computations!$D$18*Computations!D626^2","v":2900.2875238647398},{"$f":"Computations!$F$19+Computations!$E$19*Computations!D626+Computations!$D$19*Computations!D626^2+Computations!$C$19*Computations!D626^3","v":2900.2875238647398},{"$f":"Computations!$J$15+Computations!$I$15*D626","v":450000},{"$f":"EXP(Computations!$J$16)*EXP(Computations!$I$16)^Computations!D626","v":450000.00000000035},{"$f":"Computations!$J$17+Computations!$I$17*LN(Computations!D626)","v":450000},{"$f":"Computations!$J$18+Computations!$I$18*Computations!D626+Computations!$H$18*Computations!D626^2","v":450000},{"$f":"Computations!$J$19+Computations!$I$19*Computations!D626+Computations!$H$19*Computations!D626^2+Computations!$G$19*Computations!D626^3","v":450000}]
[573,0.17802531546896444,0.17831716272590092,0.17817123909743268,0.9589597805642085,4.6322322844960517E-4,2896.9899881241136,450000,{"$f":"G627-H627/User_entry!$E$18","v":1396.9899881241136},1396.9899881241136,null,{"$f":"HLOOKUP(User_entry!$B$56,Computations!$N$54:$R$1054,Computations!A627+1,FALSE)","v":2896.9899881241136},{"$f":"HLOOKUP(User_entry!$E$56,Computations!$S$54:$W$1054,Computations!A627+1,FALSE)","v":450000},{"$f":"Computations!$F$15+Computations!$E$15*D627","v":2896.9899881241136},{"$f":"EXP(Computations!$F$16)*EXP(Computations!$E$16)^Computations!D627","v":2948.7273495407821},{"$f":"Computations!$F$17+Computations!$E$17*LN(Computations!D627)","v":2849.9932727406208},{"$f":"Computations!$F$18+Computations!$E$18*Computations!D627+Computations!$D$18*Computations!D627^2","v":2902.8163194803983},{"$f":"Computations!$F$19+Computations!$E$19*Computations!D627+Computations!$D$19*Computations!D627^2+Computations!$C$19*Computations!D627^3","v":2902.8163194803983},{"$f":"Computations!$J$15+Computations!$I$15*D627","v":450000},{"$f":"EXP(Computations!$J$16)*EXP(Computations!$I$16)^Computations!D627","v":450000.00000000035},{"$f":"Computations!$J$17+Computations!$I$17*LN(Computations!D627)","v":450000},{"$f":"Computations!$J$18+Computations!$I$18*Computations!D627+Computations!$H$18*Computations!D627^2","v":450000},{"$f":"Computations!$J$19+Computations!$I$19*Computations!D627+Computations!$H$19*Computations!D627^2+Computations!$G$19*Computations!D627^3","v":450000}]
[574,0.17831716272590092,0.17860900998283741,0.17846308635436917,0.95941844037604718,4.5865981183867977E-4,2900.8300836101198,450000,{"$f":"G628-H628/User_entry!$E$18","v":1400.8300836101198},1400.8300836101198,null,{"$f":"HLOOKUP(User_entry!$B$56,Computations!$N$54:$R$1054,Computations!A628+1,FALSE)","v":2900.8300836101198},{"$f":"HLOOKUP(User_entry!$E$56,Computations!$S$54:$W$1054,Computations!A628+1,FALSE)","v":450000},{"$f":"Computations!$F$15+Computations!$E$15*D628","v":2900.8300836101198},{"$f":"EXP(Computations!$F$16)*EXP(Computations!$E$16)^Computations!D628","v":2954.8451127107583},{"$f":"Computations!$F$17+Computations!$E$17*LN(Computations!D628)","v":2852.072571862625},{"$f":"Computations!$F$18+Computations!$E$18*Computations!D628+Computations!$D$18*Computations!D628^2","v":2905.3388058500291},{"$f":"Computations!$F$19+Computations!$E$19*Computations!D628+Computations!$D$19*Computations!D628^2+Computations!$C$19*Computations!D628^3","v":2905.3388058500291},{"$f":"Computations!$J$15+Computations!$I$15*D628","v":450000},{"$f":"EXP(Computations!$J$16)*EXP(Computations!$I$16)^Computations!D628","v":450000.00000000035},{"$f":"Computations!$J$17+Computations!$I$17*LN(Computations!D628)","v":450000},{"$f":"Computations!$J$18+Computations!$I$18*Computations!D628+Computations!$H$18*Computations!D628^2","v":450000},{"$f":"Computations!$J$19+Computations!$I$19*Computations!D628+Computations!$H$19*Computations!D628^2+Computations!$G$19*Computations!D628^3","v":450000}]
[575,0.17860900998283741,0.17890085723977389,0.17875493361130565,0.9598725734393142,4.5413306326702596E-4,2904.670179096127,450000,{"$f":"G629-H629/User_entry!$E$18","v":1404.670179096127},1404.670179096127,null,{"$f":"HLOOKUP(User_entry!$B$56,Computations!$N$54:$R$1054,Computations!A629+1,FALSE)","v":2904.670179096127},{"$f":"HLOOKUP(User_entry!$E$56,Computations!$S$54:$W$1054,Computations!A629+1,FALSE)","v":450000},{"$f":"Computations!$F$15+Computations!$E$15*D629","v":2904.670179096127},{"$f":"EXP(Computations!$F$16)*EXP(Computations!$E$16)^Computations!D629","v":2960.9755684839379},{"$f":"Computations!$F$17+Computations!$E$17*LN(Computations!D629)","v":2854.1484734067835},{"$f":"Computations!$F$18+Computations!$E$18*Computations!D629+Computations!$D$18*Computations!D629^2","v":2907.8549829736312},{"$f":"Computations!$F$19+Computations!$E$19*Computations!D629+Computations!$D$19*Computations!D629^2+Computations!$C$19*Computations!D629^3","v":2907.8549829736312},{"$f":"Computations!$J$15+Computations!$I$15*D629","v":450000},{"$f":"EXP(Computations!$J$16)*EXP(Computations!$I$16)^Computations!D629","v":450000.00000000035},{"$f":"Computations!$J$17+Computations!$I$17*LN(Computations!D629)","v":450000},{"$f":"Computations!$J$18+Computations!$I$18*Computations!D629+Computations!$H$18*Computations!D629^2","v":450000},{"$f":"Computations!$J$19+Computations!$I$19*Computations!D629+Computations!$H$19*Computations!D629^2+Computations!$G$19*Computations!D629^3","v":450000}]
[576,0.17890085723977389,0.17919270449671038,0.17904678086824213,0.96032221624035441,4.4964280104020649E-4,2908.5102745821332,450000,{"$f":"G630-H630/User_entry!$E$18","v":1408.5102745821332},1408.5102745821332,null,{"$f":"HLOOKUP(User_entry!$B$56,Computations!$N$54:$R$1054,Computations!A630+1,FALSE)","v":2908.5102745821332},{"$f":"HLOOKUP(User_entry!$E$56,Computations!$S$54:$W$1054,Computations!A630+1,FALSE)","v":450000},{"$f":"Computations!$F$15+Computations!$E$15*D630","v":2908.5102745821332},{"$f":"EXP(Computations!$F$16)*EXP(Computations!$E$16)^Computations!D630","v":2967.1187431938306},{"$f":"Computations!$F$17+Computations!$E$17*LN(Computations!D630)","v":2856.2209884582799},{"$f":"Computations!$F$18+Computations!$E$18*Computations!D630+Computations!$D$18*Computations!D630^2","v":2910.3648508512051},{"$f":"Computations!$F$19+Computations!$E$19*Computations!D630+Computations!$D$19*Computations!D630^2+Computations!$C$19*Computations!D630^3","v":2910.3648508512051},{"$f":"Computations!$J$15+Computations!$I$15*D630","v":450000},{"$f":"EXP(Computations!$J$16)*EXP(Computations!$I$16)^Computations!D630","v":450000.00000000035},{"$f":"Computations!$J$17+Computations!$I$17*LN(Computations!D630)","v":450000},{"$f":"Computations!$J$18+Computations!$I$18*Computations!D630+Computations!$H$18*Computations!D630^2","v":450000},{"$f":"Computations!$J$19+Computations!$I$19*Computations!D630+Computations!$H$19*Computations!D630^2+Computations!$G$19*Computations!D630^3","v":450000}]
[577,0.17919270449671038,0.17948455175364686,0.17933862812517862,0.96076740508306802,4.4518884271360637E-4,2912.3503700681395,450000,{"$f":"G631-H631/User_entry!$E$18","v":1412.3503700681395},1412.3503700681395,null,{"$f":"HLOOKUP(User_entry!$B$56,Computations!$N$54:$R$1054,Computations!A631+1,FALSE)","v":2912.3503700681395},{"$f":"HLOOKUP(User_entry!$E$56,Computations!$S$54:$W$1054,Computations!A631+1,FALSE)","v":450000},{"$f":"Computations!$F$15+Computations!$E$15*D631","v":2912.3503700681395},{"$f":"EXP(Computations!$F$16)*EXP(Computations!$E$16)^Computations!D631","v":2973.2746632285821},{"$f":"Computations!$F$17+Computations!$E$17*LN(Computations!D631)","v":2858.2901280481356},{"$f":"Computations!$F$18+Computations!$E$18*Computations!D631+Computations!$D$18*Computations!D631^2","v":2912.8684094827508},{"$f":"Computations!$F$19+Computations!$E$19*Computations!D631+Computations!$D$19*Computations!D631^2+Computations!$C$19*Computations!D631^3","v":2912.8684094827508},{"$f":"Computations!$J$15+Computations!$I$15*D631","v":450000},{"$f":"EXP(Computations!$J$16)*EXP(Computations!$I$16)^Computations!D631","v":450000.00000000035},{"$f":"Computations!$J$17+Computations!$I$17*LN(Computations!D631)","v":450000},{"$f":"Computations!$J$18+Computations!$I$18*Computations!D631+Computations!$H$18*Computations!D631^2","v":450000},{"$f":"Computations!$J$19+Computations!$I$19*Computations!D631+Computations!$H$19*Computations!D631^2+Computations!$G$19*Computations!D631^3","v":450000}]
[578,0.17948455175364686,{"$f":"B632+$D$11","v":0.17977639901058334},{"$f":"AVERAGE(B632:C632)","v":0.1796304753821151},{"$f":"IF($D$3=\"Beta\",_xlfn.BETA.DIST(C632,$D$4,$D$5,TRUE),IF($D$3=\"Gamma\",_xlfn.GAMMA.DIST(C632,$D$4,$D$5,TRUE),IF($D$3=\"Lognorm\",_xlfn.LOGNORM.DIST(C632,$D$4,$D$5,TRUE),_xlfn.NORM.DIST(C632,$D$4,$D$5,TRUE))))","v":0.96120817608819387},{"$f":"E632-E631","v":4.4077100512585066E-4},{"$f":"L632","v":2916.1904655541457},{"$f":"M632","v":450000},{"$f":"G632-H632/User_entry!$E$18","v":1416.1904655541457},{"$f":"MAX(I632,0)","v":1416.1904655541457},null,{"$f":"HLOOKUP(User_entry!$B$56,Computations!$N$54:$R$1054,Computations!A632+1,FALSE)","v":2916.1904655541457},{"$f":"HLOOKUP(User_entry!$E$56,Computations!$S$54:$W$1054,Computations!A632+1,FALSE)","v":450000},{"$f":"Computations!$F$15+Computations!$E$15*D632","v":2916.1904655541457},{"$f":"EXP(Computations!$F$16)*EXP(Computations!$E$16)^Computations!D632","v":2979.4433550310828},{"$f":"Computations!$F$17+Computations!$E$17*LN(Computations!D632)","v":2860.355903153561},{"$f":"Computations!$F$18+Computations!$E$18*Computations!D632+Computations!$D$18*Computations!D632^2","v":2915.3656588682679},{"$f":"Computations!$F$19+Computations!$E$19*Computations!D632+Computations!$D$19*Computations!D632^2+Computations!$C$19*Computations!D632^3","v":2915.3656588682679},{"$f":"Computations!$J$15+Computations!$I$15*D632","v":450000},{"$f":"EXP(Computations!$J$16)*EXP(Computations!$I$16)^Computations!D632","v":450000.00000000035},{"$f":"Computations!$J$17+Computations!$I$17*LN(Computations!D632)","v":450000},{"$f":"Computations!$J$18+Computations!$I$18*Computations!D632+Computations!$H$18*Computations!D632^2","v":450000},{"$f":"Computations!$J$19+Computations!$I$19*Computations!D632+Computations!$H$19*Computations!D632^2+Computations!$G$19*Computations!D632^3","v":450000}]
[579,{"$f":"C632","v":0.17977639901058334},0.18006824626751983,0.17992232263905159,0.96164456519262331,4.3638910442944656E-4,2920.030561040152,450000,{"$f":"G633-H633/User_entry!$E$18","v":1420.030561040152},1420.030561040152,null,{"$f":"HLOOKUP(User_entry!$B$56,Computations!$N$54:$R$1054,Computations!A633+1,FALSE)","v":2920.030561040152},{"$f":"HLOOKUP(User_entry!$E$56,Computations!$S$54:$W$1054,Computations!A633+1,FALSE)","v":450000},{"$f":"Computations!$F$15+Computations!$E$15*D633","v":2920.030561040152},{"$f":"EXP(Computations!$F$16)*EXP(Computations!$E$16)^Computations!D633","v":2985.6248450990865},{"$f":"Computations!$F$17+Computations!$E$17*LN(Computations!D633)","v":2862.4183246983057},{"$f":"Computations!$F$18+Computations!$E$18*Computations!D633+Computations!$D$18*Computations!D633^2","v":2917.8565990077573},{"$f":"Computations!$F$19+Computations!$E$19*Computations!D633+Computations!$D$19*Computations!D633^2+Computations!$C$19*Computations!D633^3","v":2917.8565990077573},{"$f":"Computations!$J$15+Computations!$I$15*D633","v":450000},{"$f":"EXP(Computations!$J$16)*EXP(Computations!$I$16)^Computations!D633","v":450000.00000000035},{"$f":"Computations!$J$17+Computations!$I$17*LN(Computations!D633)","v":450000},{"$f":"Computations!$J$18+Computations!$I$18*Computations!D633+Computations!$H$18*Computations!D633^2","v":450000},{"$f":"Computations!$J$19+Computations!$I$19*Computations!D633+Computations!$H$19*Computations!D633^2+Computations!$G$19*Computations!D633^3","v":450000}]
[580,0.18006824626751983,0.18036009352445631,0.18021416989598807,0.96207660814874707,4.3204295612375709E-4,2923.8706565261582,450000,{"$f":"G634-H634/User_entry!$E$18","v":1423.8706565261582},1423.8706565261582,null,{"$f":"HLOOKUP(User_entry!$B$56,Computations!$N$54:$R$1054,Computations!A634+1,FALSE)","v":2923.8706565261582},{"$f":"HLOOKUP(User_entry!$E$56,Computations!$S$54:$W$1054,Computations!A634+1,FALSE)","v":450000},{"$f":"Computations!$F$15+Computations!$E$15*D634","v":2923.8706565261582},{"$f":"EXP(Computations!$F$16)*EXP(Computations!$E$16)^Computations!D634","v":2991.8191599853226},{"$f":"Computations!$F$17+Computations!$E$17*LN(Computations!D634)","v":2864.4774035530058},{"$f":"Computations!$F$18+Computations!$E$18*Computations!D634+Computations!$D$18*Computations!D634^2","v":2920.3412299012189},{"$f":"Computations!$F$19+Computations!$E$19*Computations!D634+Computations!$D$19*Computations!D634^2+Computations!$C$19*Computations!D634^3","v":2920.3412299012189},{"$f":"Computations!$J$15+Computations!$I$15*D634","v":450000},{"$f":"EXP(Computations!$J$16)*EXP(Computations!$I$16)^Computations!D634","v":450000.00000000035},{"$f":"Computations!$J$17+Computations!$I$17*LN(Computations!D634)","v":450000},{"$f":"Computations!$J$18+Computations!$I$18*Computations!D634+Computations!$H$18*Computations!D634^2","v":450000},{"$f":"Computations!$J$19+Computations!$I$19*Computations!D634+Computations!$H$19*Computations!D634^2+Computations!$G$19*Computations!D634^3","v":450000}]
[581,0.18036009352445631,0.18065194078139279,0.18050601715292455,0.96250434052383194,4.2773237508486606E-4,2927.7107520121644,450000,{"$f":"G635-H635/User_entry!$E$18","v":1427.7107520121644},1427.7107520121644,null,{"$f":"HLOOKUP(User_entry!$B$56,Computations!$N$54:$R$1054,Computations!A635+1,FALSE)","v":2927.7107520121644},{"$f":"HLOOKUP(User_entry!$E$56,Computations!$S$54:$W$1054,Computations!A635+1,FALSE)","v":450000},{"$f":"Computations!$F$15+Computations!$E$15*D635","v":2927.7107520121644},{"$f":"EXP(Computations!$F$16)*EXP(Computations!$E$16)^Computations!D635","v":2998.0263262976091},{"$f":"Computations!$F$17+Computations!$E$17*LN(Computations!D635)","v":2866.5331505355257},{"$f":"Computations!$F$18+Computations!$E$18*Computations!D635+Computations!$D$18*Computations!D635^2","v":2922.8195515486514},{"$f":"Computations!$F$19+Computations!$E$19*Computations!D635+Computations!$D$19*Computations!D635^2+Computations!$C$19*Computations!D635^3","v":2922.8195515486514},{"$f":"Computations!$J$15+Computations!$I$15*D635","v":450000},{"$f":"EXP(Computations!$J$16)*EXP(Computations!$I$16)^Computations!D635","v":450000.00000000035},{"$f":"Computations!$J$17+Computations!$I$17*LN(Computations!D635)","v":450000},{"$f":"Computations!$J$18+Computations!$I$18*Computations!D635+Computations!$H$18*Computations!D635^2","v":450000},{"$f":"Computations!$J$19+Computations!$I$19*Computations!D635+Computations!$H$19*Computations!D635^2+Computations!$G$19*Computations!D635^3","v":450000}]
[582,0.18065194078139279,0.18094378803832928,0.18079786440986104,0.96292779769942805,4.2345717559610918E-4,2931.5508474981707,450000,{"$f":"G636-H636/User_entry!$E$18","v":1431.5508474981707},1431.5508474981707,null,{"$f":"HLOOKUP(User_entry!$B$56,Computations!$N$54:$R$1054,Computations!A636+1,FALSE)","v":2931.5508474981707},{"$f":"HLOOKUP(User_entry!$E$56,Computations!$S$54:$W$1054,Computations!A636+1,FALSE)","v":450000},{"$f":"Computations!$F$15+Computations!$E$15*D636","v":2931.5508474981707},{"$f":"EXP(Computations!$F$16)*EXP(Computations!$E$16)^Computations!D636","v":3004.2463706989665},{"$f":"Computations!$F$17+Computations!$E$17*LN(Computations!D636)","v":2868.5855764113003},{"$f":"Computations!$F$18+Computations!$E$18*Computations!D636+Computations!$D$18*Computations!D636^2","v":2925.2915639500552},{"$f":"Computations!$F$19+Computations!$E$19*Computations!D636+Computations!$D$19*Computations!D636^2+Computations!$C$19*Computations!D636^3","v":2925.2915639500552},{"$f":"Computations!$J$15+Computations!$I$15*D636","v":450000},{"$f":"EXP(Computations!$J$16)*EXP(Computations!$I$16)^Computations!D636","v":450000.00000000035},{"$f":"Computations!$J$17+Computations!$I$17*LN(Computations!D636)","v":450000},{"$f":"Computations!$J$18+Computations!$I$18*Computations!D636+Computations!$H$18*Computations!D636^2","v":450000},{"$f":"Computations!$J$19+Computations!$I$19*Computations!D636+Computations!$H$19*Computations!D636^2+Computations!$G$19*Computations!D636^3","v":450000}]
[583,0.18094378803832928,0.18123563529526576,0.18108971166679752,0.96334701487080776,4.1921717137971548E-4,2935.3909429841779,450000,{"$f":"G637-H637/User_entry!$E$18","v":1435.3909429841779},1435.3909429841779,null,{"$f":"HLOOKUP(User_entry!$B$56,Computations!$N$54:$R$1054,Computations!A637+1,FALSE)","v":2935.3909429841779},{"$f":"HLOOKUP(User_entry!$E$56,Computations!$S$54:$W$1054,Computations!A637+1,FALSE)","v":450000},{"$f":"Computations!$F$15+Computations!$E$15*D637","v":2935.3909429841779},{"$f":"EXP(Computations!$F$16)*EXP(Computations!$E$16)^Computations!D637","v":3010.4793199077353},{"$f":"Computations!$F$17+Computations!$E$17*LN(Computations!D637)","v":2870.6346918936747},{"$f":"Computations!$F$18+Computations!$E$18*Computations!D637+Computations!$D$18*Computations!D637^2","v":2927.7572671054318},{"$f":"Computations!$F$19+Computations!$E$19*Computations!D637+Computations!$D$19*Computations!D637^2+Computations!$C$19*Computations!D637^3","v":2927.7572671054318},{"$f":"Computations!$J$15+Computations!$I$15*D637","v":450000},{"$f":"EXP(Computations!$J$16)*EXP(Computations!$I$16)^Computations!D637","v":450000.00000000035},{"$f":"Computations!$J$17+Computations!$I$17*LN(Computations!D637)","v":450000},{"$f":"Computations!$J$18+Computations!$I$18*Computations!D637+Computations!$H$18*Computations!D637^2","v":450000},{"$f":"Computations!$J$19+Computations!$I$19*Computations!D637+Computations!$H$19*Computations!D637^2+Computations!$G$19*Computations!D637^3","v":450000}]
[584,0.18123563529526576,0.18152748255220225,0.181381558923734,0.96376202704643232,4.1501217562456283E-4,2939.2310384701841,450000,{"$f":"G638-H638/User_entry!$E$18","v":1439.2310384701841},1439.2310384701841,null,{"$f":"HLOOKUP(User_entry!$B$56,Computations!$N$54:$R$1054,Computations!A638+1,FALSE)","v":2939.2310384701841},{"$f":"HLOOKUP(User_entry!$E$56,Computations!$S$54:$W$1054,Computations!A638+1,FALSE)","v":450000},{"$f":"Computations!$F$15+Computations!$E$15*D638","v":2939.2310384701841},{"$f":"EXP(Computations!$F$16)*EXP(Computations!$E$16)^Computations!D638","v":3016.7252006976887},{"$f":"Computations!$F$17+Computations!$E$17*LN(Computations!D638)","v":2872.6805076442365},{"$f":"Computations!$F$18+Computations!$E$18*Computations!D638+Computations!$D$18*Computations!D638^2","v":2930.2166610147806},{"$f":"Computations!$F$19+Computations!$E$19*Computations!D638+Computations!$D$19*Computations!D638^2+Computations!$C$19*Computations!D638^3","v":2930.2166610147806},{"$f":"Computations!$J$15+Computations!$I$15*D638","v":450000},{"$f":"EXP(Computations!$J$16)*EXP(Computations!$I$16)^Computations!D638","v":450000.00000000035},{"$f":"Computations!$J$17+Computations!$I$17*LN(Computations!D638)","v":450000},{"$f":"Computations!$J$18+Computations!$I$18*Computations!D638+Computations!$H$18*Computations!D638^2","v":450000},{"$f":"Computations!$J$19+Computations!$I$19*Computations!D638+Computations!$H$19*Computations!D638^2+Computations!$G$19*Computations!D638^3","v":450000}]
[585,0.18152748255220225,0.18181932980913873,0.18167340618067049,0.9641728690474497,4.1084200101737522E-4,2943.0711339561904,450000,{"$f":"G639-H639/User_entry!$E$18","v":1443.0711339561904},1443.0711339561904,null,{"$f":"HLOOKUP(User_entry!$B$56,Computations!$N$54:$R$1054,Computations!A639+1,FALSE)","v":2943.0711339561904},{"$f":"HLOOKUP(User_entry!$E$56,Computations!$S$54:$W$1054,Computations!A639+1,FALSE)","v":450000},{"$f":"Computations!$F$15+Computations!$E$15*D639","v":2943.0711339561904},{"$f":"EXP(Computations!$F$16)*EXP(Computations!$E$16)^Computations!D639","v":3022.9840398981455},{"$f":"Computations!$F$17+Computations!$E$17*LN(Computations!D639)","v":2874.7230342731505},{"$f":"Computations!$F$18+Computations!$E$18*Computations!D639+Computations!$D$18*Computations!D639^2","v":2932.6697456781003},{"$f":"Computations!$F$19+Computations!$E$19*Computations!D639+Computations!$D$19*Computations!D639^2+Computations!$C$19*Computations!D639^3","v":2932.6697456781003},{"$f":"Computations!$J$15+Computations!$I$15*D639","v":450000},{"$f":"EXP(Computations!$J$16)*EXP(Computations!$I$16)^Computations!D639","v":450000.00000000035},{"$f":"Computations!$J$17+Computations!$I$17*LN(Computations!D639)","v":450000},{"$f":"Computations!$J$18+Computations!$I$18*Computations!D639+Computations!$H$18*Computations!D639^2","v":450000},{"$f":"Computations!$J$19+Computations!$I$19*Computations!D639+Computations!$H$19*Computations!D639^2+Computations!$G$19*Computations!D639^3","v":450000}]
[586,0.18181932980913873,0.18211117706607521,0.18196525343760697,0.9645795755072204,4.0670645977070041E-4,2946.9112294421966,450000,{"$f":"G640-H640/User_entry!$E$18","v":1446.9112294421966},1446.9112294421966,null,{"$f":"HLOOKUP(User_entry!$B$56,Computations!$N$54:$R$1054,Computations!A640+1,FALSE)","v":2946.9112294421966},{"$f":"HLOOKUP(User_entry!$E$56,Computations!$S$54:$W$1054,Computations!A640+1,FALSE)","v":450000},{"$f":"Computations!$F$15+Computations!$E$15*D640","v":2946.9112294421966},{"$f":"EXP(Computations!$F$16)*EXP(Computations!$E$16)^Computations!D640","v":3029.2558643940906},{"$f":"Computations!$F$17+Computations!$E$17*LN(Computations!D640)","v":2876.7622823394904},{"$f":"Computations!$F$18+Computations!$E$18*Computations!D640+Computations!$D$18*Computations!D640^2","v":2935.1165210953914},{"$f":"Computations!$F$19+Computations!$E$19*Computations!D640+Computations!$D$19*Computations!D640^2+Computations!$C$19*Computations!D640^3","v":2935.1165210953914},{"$f":"Computations!$J$15+Computations!$I$15*D640","v":450000},{"$f":"EXP(Computations!$J$16)*EXP(Computations!$I$16)^Computations!D640","v":450000.00000000035},{"$f":"Computations!$J$17+Computations!$I$17*LN(Computations!D640)","v":450000},{"$f":"Computations!$J$18+Computations!$I$18*Computations!D640+Computations!$H$18*Computations!D640^2","v":450000},{"$f":"Computations!$J$19+Computations!$I$19*Computations!D640+Computations!$H$19*Computations!D640^2+Computations!$G$19*Computations!D640^3","v":450000}]
[587,0.18211117706607521,0.1824030243230117,0.18225710069454346,0.96498218087087162,4.0260536365122057E-4,2950.7513249282028,450000,{"$f":"G641-H641/User_entry!$E$18","v":1450.7513249282028},1450.7513249282028,null,{"$f":"HLOOKUP(User_entry!$B$56,Computations!$N$54:$R$1054,Computations!A641+1,FALSE)","v":2950.7513249282028},{"$f":"HLOOKUP(User_entry!$E$56,Computations!$S$54:$W$1054,Computations!A641+1,FALSE)","v":450000},{"$f":"Computations!$F$15+Computations!$E$15*D641","v":2950.7513249282028},{"$f":"EXP(Computations!$F$16)*EXP(Computations!$E$16)^Computations!D641","v":3035.5407011262864},{"$f":"Computations!$F$17+Computations!$E$17*LN(Computations!D641)","v":2878.7982623515632},{"$f":"Computations!$F$18+Computations!$E$18*Computations!D641+Computations!$D$18*Computations!D641^2","v":2937.5569872666547},{"$f":"Computations!$F$19+Computations!$E$19*Computations!D641+Computations!$D$19*Computations!D641^2+Computations!$C$19*Computations!D641^3","v":2937.5569872666547},{"$f":"Computations!$J$15+Computations!$I$15*D641","v":450000},{"$f":"EXP(Computations!$J$16)*EXP(Computations!$I$16)^Computations!D641","v":450000.00000000035},{"$f":"Computations!$J$17+Computations!$I$17*LN(Computations!D641)","v":450000},{"$f":"Computations!$J$18+Computations!$I$18*Computations!D641+Computations!$H$18*Computations!D641^2","v":450000},{"$f":"Computations!$J$19+Computations!$I$19*Computations!D641+Computations!$H$19*Computations!D641^2+Computations!$G$19*Computations!D641^3","v":450000}]
[588,0.1824030243230117,0.18269487157994818,0.18254894795147994,0.96538071939488135,3.9853852400972833E-4,2954.5914204142091,450000,{"$f":"G642-H642/User_entry!$E$18","v":1454.5914204142091},1454.5914204142091,null,{"$f":"HLOOKUP(User_entry!$B$56,Computations!$N$54:$R$1054,Computations!A642+1,FALSE)","v":2954.5914204142091},{"$f":"HLOOKUP(User_entry!$E$56,Computations!$S$54:$W$1054,Computations!A642+1,FALSE)","v":450000},{"$f":"Computations!$F$15+Computations!$E$15*D642","v":2954.5914204142091},{"$f":"EXP(Computations!$F$16)*EXP(Computations!$E$16)^Computations!D642","v":3041.8385770913883},{"$f":"Computations!$F$17+Computations!$E$17*LN(Computations!D642)","v":2880.8309847672358},{"$f":"Computations!$F$18+Computations!$E$18*Computations!D642+Computations!$D$18*Computations!D642^2","v":2939.9911441918903},{"$f":"Computations!$F$19+Computations!$E$19*Computations!D642+Computations!$D$19*Computations!D642^2+Computations!$C$19*Computations!D642^3","v":2939.9911441918903},{"$f":"Computations!$J$15+Computations!$I$15*D642","v":450000},{"$f":"EXP(Computations!$J$16)*EXP(Computations!$I$16)^Computations!D642","v":450000.00000000035},{"$f":"Computations!$J$17+Computations!$I$17*LN(Computations!D642)","v":450000},{"$f":"Computations!$J$18+Computations!$I$18*Computations!D642+Computations!$H$18*Computations!D642^2","v":450000},{"$f":"Computations!$J$19+Computations!$I$19*Computations!D642+Computations!$H$19*Computations!D642^2+Computations!$G$19*Computations!D642^3","v":450000}]
[589,0.18269487157994818,0.18298671883688467,0.18284079520841642,0.96577522514668757,3.9450575180621783E-4,2958.4315159002153,450000,{"$f":"G643-H643/User_entry!$E$18","v":1458.4315159002153},1458.4315159002153,null,{"$f":"HLOOKUP(User_entry!$B$56,Computations!$N$54:$R$1054,Computations!A643+1,FALSE)","v":2958.4315159002153},{"$f":"HLOOKUP(User_entry!$E$56,Computations!$S$54:$W$1054,Computations!A643+1,FALSE)","v":450000},{"$f":"Computations!$F$15+Computations!$E$15*D643","v":2958.4315159002153},{"$f":"EXP(Computations!$F$16)*EXP(Computations!$E$16)^Computations!D643","v":3048.1495193420647},{"$f":"Computations!$F$17+Computations!$E$17*LN(Computations!D643)","v":2882.8604599942569},{"$f":"Computations!$F$18+Computations!$E$18*Computations!D643+Computations!$D$18*Computations!D643^2","v":2942.4189918710972},{"$f":"Computations!$F$19+Computations!$E$19*Computations!D643+Computations!$D$19*Computations!D643^2+Computations!$C$19*Computations!D643^3","v":2942.4189918710972},{"$f":"Computations!$J$15+Computations!$I$15*D643","v":450000},{"$f":"EXP(Computations!$J$16)*EXP(Computations!$I$16)^Computations!D643","v":450000.00000000035},{"$f":"Computations!$J$17+Computations!$I$17*LN(Computations!D643)","v":450000},{"$f":"Computations!$J$18+Computations!$I$18*Computations!D643+Computations!$H$18*Computations!D643^2","v":450000},{"$f":"Computations!$J$19+Computations!$I$19*Computations!D643+Computations!$H$19*Computations!D643^2+Computations!$G$19*Computations!D643^3","v":450000}]
[590,0.18298671883688467,0.18327856609382115,0.18313264246535291,0.96616573200432709,3.9050685763952764E-4,2962.2716113862216,450000,{"$f":"G644-H644/User_entry!$E$18","v":1462.2716113862216},1462.2716113862216,null,{"$f":"HLOOKUP(User_entry!$B$56,Computations!$N$54:$R$1054,Computations!A644+1,FALSE)","v":2962.2716113862216},{"$f":"HLOOKUP(User_entry!$E$56,Computations!$S$54:$W$1054,Computations!A644+1,FALSE)","v":450000},{"$f":"Computations!$F$15+Computations!$E$15*D644","v":2962.2716113862216},{"$f":"EXP(Computations!$F$16)*EXP(Computations!$E$16)^Computations!D644","v":3054.4735549871084},{"$f":"Computations!$F$17+Computations!$E$17*LN(Computations!D644)","v":2884.8866983905773},{"$f":"Computations!$F$18+Computations!$E$18*Computations!D644+Computations!$D$18*Computations!D644^2","v":2944.8405303042746},{"$f":"Computations!$F$19+Computations!$E$19*Computations!D644+Computations!$D$19*Computations!D644^2+Computations!$C$19*Computations!D644^3","v":2944.8405303042746},{"$f":"Computations!$J$15+Computations!$I$15*D644","v":450000},{"$f":"EXP(Computations!$J$16)*EXP(Computations!$I$16)^Computations!D644","v":450000.00000000035},{"$f":"Computations!$J$17+Computations!$I$17*LN(Computations!D644)","v":450000},{"$f":"Computations!$J$18+Computations!$I$18*Computations!D644+Computations!$H$18*Computations!D644^2","v":450000},{"$f":"Computations!$J$19+Computations!$I$19*Computations!D644+Computations!$H$19*Computations!D644^2+Computations!$G$19*Computations!D644^3","v":450000}]
[591,0.18327856609382115,0.18357041335075763,0.18342448972228939,0.9665522736561003,3.8654165177320898E-4,2966.1117068722288,450000,{"$f":"G645-H645/User_entry!$E$18","v":1466.1117068722288},1466.1117068722288,null,{"$f":"HLOOKUP(User_entry!$B$56,Computations!$N$54:$R$1054,Computations!A645+1,FALSE)","v":2966.1117068722288},{"$f":"HLOOKUP(User_entry!$E$56,Computations!$S$54:$W$1054,Computations!A645+1,FALSE)","v":450000},{"$f":"Computations!$F$15+Computations!$E$15*D645","v":2966.1117068722288},{"$f":"EXP(Computations!$F$16)*EXP(Computations!$E$16)^Computations!D645","v":3060.8107111915547},{"$f":"Computations!$F$17+Computations!$E$17*LN(Computations!D645)","v":2886.9097102646665},{"$f":"Computations!$F$18+Computations!$E$18*Computations!D645+Computations!$D$18*Computations!D645^2","v":2947.2557594914251},{"$f":"Computations!$F$19+Computations!$E$19*Computations!D645+Computations!$D$19*Computations!D645^2+Computations!$C$19*Computations!D645^3","v":2947.2557594914251},{"$f":"Computations!$J$15+Computations!$I$15*D645","v":450000},{"$f":"EXP(Computations!$J$16)*EXP(Computations!$I$16)^Computations!D645","v":450000.00000000035},{"$f":"Computations!$J$17+Computations!$I$17*LN(Computations!D645)","v":450000},{"$f":"Computations!$J$18+Computations!$I$18*Computations!D645+Computations!$H$18*Computations!D645^2","v":450000},{"$f":"Computations!$J$19+Computations!$I$19*Computations!D645+Computations!$H$19*Computations!D645^2+Computations!$G$19*Computations!D645^3","v":450000}]
[592,0.18357041335075763,0.18386226060769412,0.18371633697922587,0.9669348836002627,3.8260994416239313E-4,2969.951802358235,450000,{"$f":"G646-H646/User_entry!$E$18","v":1469.951802358235},1469.951802358235,null,{"$f":"HLOOKUP(User_entry!$B$56,Computations!$N$54:$R$1054,Computations!A646+1,FALSE)","v":2969.951802358235},{"$f":"HLOOKUP(User_entry!$E$56,Computations!$S$54:$W$1054,Computations!A646+1,FALSE)","v":450000},{"$f":"Computations!$F$15+Computations!$E$15*D646","v":2969.951802358235},{"$f":"EXP(Computations!$F$16)*EXP(Computations!$E$16)^Computations!D646","v":3067.1610151768018},{"$f":"Computations!$F$17+Computations!$E$17*LN(Computations!D646)","v":2888.929505875828},{"$f":"Computations!$F$18+Computations!$E$18*Computations!D646+Computations!$D$18*Computations!D646^2","v":2949.6646794325479},{"$f":"Computations!$F$19+Computations!$E$19*Computations!D646+Computations!$D$19*Computations!D646^2+Computations!$C$19*Computations!D646^3","v":2949.6646794325479},{"$f":"Computations!$J$15+Computations!$I$15*D646","v":450000},{"$f":"EXP(Computations!$J$16)*EXP(Computations!$I$16)^Computations!D646","v":450000.00000000035},{"$f":"Computations!$J$17+Computations!$I$17*LN(Computations!D646)","v":450000},{"$f":"Computations!$J$18+Computations!$I$18*Computations!D646+Computations!$H$18*Computations!D646^2","v":450000},{"$f":"Computations!$J$19+Computations!$I$19*Computations!D646+Computations!$H$19*Computations!D646^2+Computations!$G$19*Computations!D646^3","v":450000}]
[593,0.18386226060769412,0.1841541078646306,0.18400818423616236,0.96731359514474291,3.7871154448021471E-4,2973.7918978442412,450000,{"$f":"G647-H647/User_entry!$E$18","v":1473.7918978442412},1473.7918978442412,null,{"$f":"HLOOKUP(User_entry!$B$56,Computations!$N$54:$R$1054,Computations!A647+1,FALSE)","v":2973.7918978442412},{"$f":"HLOOKUP(User_entry!$E$56,Computations!$S$54:$W$1054,Computations!A647+1,FALSE)","v":450000},{"$f":"Computations!$F$15+Computations!$E$15*D647","v":2973.7918978442412},{"$f":"EXP(Computations!$F$16)*EXP(Computations!$E$16)^Computations!D647","v":3073.5244942207214},{"$f":"Computations!$F$17+Computations!$E$17*LN(Computations!D647)","v":2890.9460954345104},{"$f":"Computations!$F$18+Computations!$E$18*Computations!D647+Computations!$D$18*Computations!D647^2","v":2952.0672901276416},{"$f":"Computations!$F$19+Computations!$E$19*Computations!D647+Computations!$D$19*Computations!D647^2+Computations!$C$19*Computations!D647^3","v":2952.0672901276416},{"$f":"Computations!$J$15+Computations!$I$15*D647","v":450000},{"$f":"EXP(Computations!$J$16)*EXP(Computations!$I$16)^Computations!D647","v":450000.00000000035},{"$f":"Computations!$J$17+Computations!$I$17*LN(Computations!D647)","v":450000},{"$f":"Computations!$J$18+Computations!$I$18*Computations!D647+Computations!$H$18*Computations!D647^2","v":450000},{"$f":"Computations!$J$19+Computations!$I$19*Computations!D647+Computations!$H$19*Computations!D647^2+Computations!$G$19*Computations!D647^3","v":450000}]
[594,0.1841541078646306,0.18444595512156708,0.18430003149309884,0.96768844140688615,3.748462621432358E-4,2977.6319933302475,450000,{"$f":"G648-H648/User_entry!$E$18","v":1477.6319933302475},1477.6319933302475,null,{"$f":"HLOOKUP(User_entry!$B$56,Computations!$N$54:$R$1054,Computations!A648+1,FALSE)","v":2977.6319933302475},{"$f":"HLOOKUP(User_entry!$E$56,Computations!$S$54:$W$1054,Computations!A648+1,FALSE)","v":450000},{"$f":"Computations!$F$15+Computations!$E$15*D648","v":2977.6319933302475},{"$f":"EXP(Computations!$F$16)*EXP(Computations!$E$16)^Computations!D648","v":3079.9011756577793},{"$f":"Computations!$F$17+Computations!$E$17*LN(Computations!D648)","v":2892.9594891026181},{"$f":"Computations!$F$18+Computations!$E$18*Computations!D648+Computations!$D$18*Computations!D648^2","v":2954.4635915767067},{"$f":"Computations!$F$19+Computations!$E$19*Computations!D648+Computations!$D$19*Computations!D648^2+Computations!$C$19*Computations!D648^3","v":2954.4635915767067},{"$f":"Computations!$J$15+Computations!$I$15*D648","v":450000},{"$f":"EXP(Computations!$J$16)*EXP(Computations!$I$16)^Computations!D648","v":450000.00000000035},{"$f":"Computations!$J$17+Computations!$I$17*LN(Computations!D648)","v":450000},{"$f":"Computations!$J$18+Computations!$I$18*Computations!D648+Computations!$H$18*Computations!D648^2","v":450000},{"$f":"Computations!$J$19+Computations!$I$19*Computations!D648+Computations!$H$19*Computations!D648^2+Computations!$G$19*Computations!D648^3","v":450000}]
[595,0.18444595512156708,0.18473780237850357,0.18459187875003533,0.96805945531322279,3.7101390633664799E-4,2981.4720888162537,450000,{"$f":"G649-H649/User_entry!$E$18","v":1481.4720888162537},1481.4720888162537,null,{"$f":"HLOOKUP(User_entry!$B$56,Computations!$N$54:$R$1054,Computations!A649+1,FALSE)","v":2981.4720888162537},{"$f":"HLOOKUP(User_entry!$E$56,Computations!$S$54:$W$1054,Computations!A649+1,FALSE)","v":450000},{"$f":"Computations!$F$15+Computations!$E$15*D649","v":2981.4720888162537},{"$f":"EXP(Computations!$F$16)*EXP(Computations!$E$16)^Computations!D649","v":3086.2910868791537},{"$f":"Computations!$F$17+Computations!$E$17*LN(Computations!D649)","v":2894.9696969938182},{"$f":"Computations!$F$18+Computations!$E$18*Computations!D649+Computations!$D$18*Computations!D649^2","v":2956.853583779744},{"$f":"Computations!$F$19+Computations!$E$19*Computations!D649+Computations!$D$19*Computations!D649^2+Computations!$C$19*Computations!D649^3","v":2956.853583779744},{"$f":"Computations!$J$15+Computations!$I$15*D649","v":450000},{"$f":"EXP(Computations!$J$16)*EXP(Computations!$I$16)^Computations!D649","v":450000.00000000035},{"$f":"Computations!$J$17+Computations!$I$17*LN(Computations!D649)","v":450000},{"$f":"Computations!$J$18+Computations!$I$18*Computations!D649+Computations!$H$18*Computations!D649^2","v":450000},{"$f":"Computations!$J$19+Computations!$I$19*Computations!D649+Computations!$H$19*Computations!D649^2+Computations!$G$19*Computations!D649^3","v":450000}]
[596,0.18473780237850357,0.18502964963544005,0.18488372600697181,0.96842666959926349,3.6721428604069573E-4,2985.31218430226,450000,{"$f":"G650-H650/User_entry!$E$18","v":1485.31218430226},1485.31218430226,null,{"$f":"HLOOKUP(User_entry!$B$56,Computations!$N$54:$R$1054,Computations!A650+1,FALSE)","v":2985.31218430226},{"$f":"HLOOKUP(User_entry!$E$56,Computations!$S$54:$W$1054,Computations!A650+1,FALSE)","v":450000},{"$f":"Computations!$F$15+Computations!$E$15*D650","v":2985.31218430226},{"$f":"EXP(Computations!$F$16)*EXP(Computations!$E$16)^Computations!D650","v":3092.6942553328513},{"$f":"Computations!$F$17+Computations!$E$17*LN(Computations!D650)","v":2896.9767291738449},{"$f":"Computations!$F$18+Computations!$E$18*Computations!D650+Computations!$D$18*Computations!D650^2","v":2959.2372667367536},{"$f":"Computations!$F$19+Computations!$E$19*Computations!D650+Computations!$D$19*Computations!D650^2+Computations!$C$19*Computations!D650^3","v":2959.2372667367536},{"$f":"Computations!$J$15+Computations!$I$15*D650","v":450000},{"$f":"EXP(Computations!$J$16)*EXP(Computations!$I$16)^Computations!D650","v":450000.00000000035},{"$f":"Computations!$J$17+Computations!$I$17*LN(Computations!D650)","v":450000},{"$f":"Computations!$J$18+Computations!$I$18*Computations!D650+Computations!$H$18*Computations!D650^2","v":450000},{"$f":"Computations!$J$19+Computations!$I$19*Computations!D650+Computations!$H$19*Computations!D650^2+Computations!$G$19*Computations!D650^3","v":450000}]
[597,0.18502964963544005,0.18532149689237654,0.18517557326390829,0.96879011680931704,3.6344721005354685E-4,2989.1522797882662,450000,{"$f":"G651-H651/User_entry!$E$18","v":1489.1522797882662},1489.1522797882662,null,{"$f":"HLOOKUP(User_entry!$B$56,Computations!$N$54:$R$1054,Computations!A651+1,FALSE)","v":2989.1522797882662},{"$f":"HLOOKUP(User_entry!$E$56,Computations!$S$54:$W$1054,Computations!A651+1,FALSE)","v":450000},{"$f":"Computations!$F$15+Computations!$E$15*D651","v":2989.1522797882662},{"$f":"EXP(Computations!$F$16)*EXP(Computations!$E$16)^Computations!D651","v":3099.1107085238241},{"$f":"Computations!$F$17+Computations!$E$17*LN(Computations!D651)","v":2898.9805956608029},{"$f":"Computations!$F$18+Computations!$E$18*Computations!D651+Computations!$D$18*Computations!D651^2","v":2961.6146404477345},{"$f":"Computations!$F$19+Computations!$E$19*Computations!D651+Computations!$D$19*Computations!D651^2+Computations!$C$19*Computations!D651^3","v":2961.6146404477345},{"$f":"Computations!$J$15+Computations!$I$15*D651","v":450000},{"$f":"EXP(Computations!$J$16)*EXP(Computations!$I$16)^Computations!D651","v":450000.00000000035},{"$f":"Computations!$J$17+Computations!$I$17*LN(Computations!D651)","v":450000},{"$f":"Computations!$J$18+Computations!$I$18*Computations!D651+Computations!$H$18*Computations!D651^2","v":450000},{"$f":"Computations!$J$19+Computations!$I$19*Computations!D651+Computations!$H$19*Computations!D651^2+Computations!$G$19*Computations!D651^3","v":450000}]
[598,0.18532149689237654,0.18561334414931302,0.18546742052084478,0.96914982929633409,3.5971248701704983E-4,2992.9923752742725,450000,{"$f":"G652-H652/User_entry!$E$18","v":1492.9923752742725},1492.9923752742725,null,{"$f":"HLOOKUP(User_entry!$B$56,Computations!$N$54:$R$1054,Computations!A652+1,FALSE)","v":2992.9923752742725},{"$f":"HLOOKUP(User_entry!$E$56,Computations!$S$54:$W$1054,Computations!A652+1,FALSE)","v":450000},{"$f":"Computations!$F$15+Computations!$E$15*D652","v":2992.9923752742725},{"$f":"EXP(Computations!$F$16)*EXP(Computations!$E$16)^Computations!D652","v":3105.5404740140916},{"$f":"Computations!$F$17+Computations!$E$17*LN(Computations!D652)","v":2900.9813064254658},{"$f":"Computations!$F$18+Computations!$E$18*Computations!D652+Computations!$D$18*Computations!D652^2","v":2963.9857049126863},{"$f":"Computations!$F$19+Computations!$E$19*Computations!D652+Computations!$D$19*Computations!D652^2+Computations!$C$19*Computations!D652^3","v":2963.9857049126863},{"$f":"Computations!$J$15+Computations!$I$15*D652","v":450000},{"$f":"EXP(Computations!$J$16)*EXP(Computations!$I$16)^Computations!D652","v":450000.00000000035},{"$f":"Computations!$J$17+Computations!$I$17*LN(Computations!D652)","v":450000},{"$f":"Computations!$J$18+Computations!$I$18*Computations!D652+Computations!$H$18*Computations!D652^2","v":450000},{"$f":"Computations!$J$19+Computations!$I$19*Computations!D652+Computations!$H$19*Computations!D652^2+Computations!$G$19*Computations!D652^3","v":450000}]
[599,0.18561334414931302,0.1859051914062495,0.18575926777778126,0.96950583922177347,3.5600992543938226E-4,2996.8324707602796,450000,{"$f":"G653-H653/User_entry!$E$18","v":1496.8324707602796},1496.8324707602796,null,{"$f":"HLOOKUP(User_entry!$B$56,Computations!$N$54:$R$1054,Computations!A653+1,FALSE)","v":2996.8324707602796},{"$f":"HLOOKUP(User_entry!$E$56,Computations!$S$54:$W$1054,Computations!A653+1,FALSE)","v":450000},{"$f":"Computations!$F$15+Computations!$E$15*D653","v":2996.8324707602796},{"$f":"EXP(Computations!$F$16)*EXP(Computations!$E$16)^Computations!D653","v":3111.9835794228543},{"$f":"Computations!$F$17+Computations!$E$17*LN(Computations!D653)","v":2902.9788713915764},{"$f":"Computations!$F$18+Computations!$E$18*Computations!D653+Computations!$D$18*Computations!D653^2","v":2966.3504601316108},{"$f":"Computations!$F$19+Computations!$E$19*Computations!D653+Computations!$D$19*Computations!D653^2+Computations!$C$19*Computations!D653^3","v":2966.3504601316108},{"$f":"Computations!$J$15+Computations!$I$15*D653","v":450000},{"$f":"EXP(Computations!$J$16)*EXP(Computations!$I$16)^Computations!D653","v":450000.00000000035},{"$f":"Computations!$J$17+Computations!$I$17*LN(Computations!D653)","v":450000},{"$f":"Computations!$J$18+Computations!$I$18*Computations!D653+Computations!$H$18*Computations!D653^2","v":450000},{"$f":"Computations!$J$19+Computations!$I$19*Computations!D653+Computations!$H$19*Computations!D653^2+Computations!$G$19*Computations!D653^3","v":450000}]
[600,0.1859051914062495,0.18619703866318599,0.18605111503471775,0.96985817855549361,3.5233933372014192E-4,3000.6725662462859,450000,{"$f":"G654-H654/User_entry!$E$18","v":1500.6725662462859},1500.6725662462859,null,{"$f":"HLOOKUP(User_entry!$B$56,Computations!$N$54:$R$1054,Computations!A654+1,FALSE)","v":3000.6725662462859},{"$f":"HLOOKUP(User_entry!$E$56,Computations!$S$54:$W$1054,Computations!A654+1,FALSE)","v":450000},{"$f":"Computations!$F$15+Computations!$E$15*D654","v":3000.6725662462859},{"$f":"EXP(Computations!$F$16)*EXP(Computations!$E$16)^Computations!D654","v":3118.4400524266152},{"$f":"Computations!$F$17+Computations!$E$17*LN(Computations!D654)","v":2904.9733004361392},{"$f":"Computations!$F$18+Computations!$E$18*Computations!D654+Computations!$D$18*Computations!D654^2","v":2968.7089061045072},{"$f":"Computations!$F$19+Computations!$E$19*Computations!D654+Computations!$D$19*Computations!D654^2+Computations!$C$19*Computations!D654^3","v":2968.7089061045072},{"$f":"Computations!$J$15+Computations!$I$15*D654","v":450000},{"$f":"EXP(Computations!$J$16)*EXP(Computations!$I$16)^Computations!D654","v":450000.00000000035},{"$f":"Computations!$J$17+Computations!$I$17*LN(Computations!D654)","v":450000},{"$f":"Computations!$J$18+Computations!$I$18*Computations!D654+Computations!$H$18*Computations!D654^2","v":450000},{"$f":"Computations!$J$19+Computations!$I$19*Computations!D654+Computations!$H$19*Computations!D654^2+Computations!$G$19*Computations!D654^3","v":450000}]
[601,0.18619703866318599,0.18648888592012247,0.18634296229165423,0.9702068790756655,3.4870052017188513E-4,3004.5126617322921,450000,{"$f":"G655-H655/User_entry!$E$18","v":1504.5126617322921},1504.5126617322921,null,{"$f":"HLOOKUP(User_entry!$B$56,Computations!$N$54:$R$1054,Computations!A655+1,FALSE)","v":3004.5126617322921},{"$f":"HLOOKUP(User_entry!$E$56,Computations!$S$54:$W$1054,Computations!A655+1,FALSE)","v":450000},{"$f":"Computations!$F$15+Computations!$E$15*D655","v":3004.5126617322921},{"$f":"EXP(Computations!$F$16)*EXP(Computations!$E$16)^Computations!D655","v":3124.9099207592994},{"$f":"Computations!$F$17+Computations!$E$17*LN(Computations!D655)","v":2906.9646033897156},{"$f":"Computations!$F$18+Computations!$E$18*Computations!D655+Computations!$D$18*Computations!D655^2","v":2971.0610428313753},{"$f":"Computations!$F$19+Computations!$E$19*Computations!D655+Computations!$D$19*Computations!D655^2+Computations!$C$19*Computations!D655^3","v":2971.0610428313753},{"$f":"Computations!$J$15+Computations!$I$15*D655","v":450000},{"$f":"EXP(Computations!$J$16)*EXP(Computations!$I$16)^Computations!D655","v":450000.00000000035},{"$f":"Computations!$J$17+Computations!$I$17*LN(Computations!D655)","v":450000},{"$f":"Computations!$J$18+Computations!$I$18*Computations!D655+Computations!$H$18*Computations!D655^2","v":450000},{"$f":"Computations!$J$19+Computations!$I$19*Computations!D655+Computations!$H$19*Computations!D655^2+Computations!$G$19*Computations!D655^3","v":450000}]
[602,0.18648888592012247,0.18678073317705896,0.18663480954859071,0.97055197236870971,3.4509329304421854E-4,3008.3527572182984,450000,{"$f":"G656-H656/User_entry!$E$18","v":1508.3527572182984},1508.3527572182984,null,{"$f":"HLOOKUP(User_entry!$B$56,Computations!$N$54:$R$1054,Computations!A656+1,FALSE)","v":3008.3527572182984},{"$f":"HLOOKUP(User_entry!$E$56,Computations!$S$54:$W$1054,Computations!A656+1,FALSE)","v":450000},{"$f":"Computations!$F$15+Computations!$E$15*D656","v":3008.3527572182984},{"$f":"EXP(Computations!$F$16)*EXP(Computations!$E$16)^Computations!D656","v":3131.3932122123701},{"$f":"Computations!$F$17+Computations!$E$17*LN(Computations!D656)","v":2908.9527900367125},{"$f":"Computations!$F$18+Computations!$E$18*Computations!D656+Computations!$D$18*Computations!D656^2","v":2973.4068703122139},{"$f":"Computations!$F$19+Computations!$E$19*Computations!D656+Computations!$D$19*Computations!D656^2+Computations!$C$19*Computations!D656^3","v":2973.4068703122139},{"$f":"Computations!$J$15+Computations!$I$15*D656","v":450000},{"$f":"EXP(Computations!$J$16)*EXP(Computations!$I$16)^Computations!D656","v":450000.00000000035},{"$f":"Computations!$J$17+Computations!$I$17*LN(Computations!D656)","v":450000},{"$f":"Computations!$J$18+Computations!$I$18*Computations!D656+Computations!$H$18*Computations!D656^2","v":450000},{"$f":"Computations!$J$19+Computations!$I$19*Computations!D656+Computations!$H$19*Computations!D656^2+Computations!$G$19*Computations!D656^3","v":450000}]
[603,0.18678073317705896,0.18707258043399544,0.1869266568055272,0.97089348982925539,3.4151746054567056E-4,3012.1928527043046,450000,{"$f":"G657-H657/User_entry!$E$18","v":1512.1928527043046},1512.1928527043046,null,{"$f":"HLOOKUP(User_entry!$B$56,Computations!$N$54:$R$1054,Computations!A657+1,FALSE)","v":3012.1928527043046},{"$f":"HLOOKUP(User_entry!$E$56,Computations!$S$54:$W$1054,Computations!A657+1,FALSE)","v":450000},{"$f":"Computations!$F$15+Computations!$E$15*D657","v":3012.1928527043046},{"$f":"EXP(Computations!$F$16)*EXP(Computations!$E$16)^Computations!D657","v":3137.8899546349503},{"$f":"Computations!$F$17+Computations!$E$17*LN(Computations!D657)","v":2910.9378701156729},{"$f":"Computations!$F$18+Computations!$E$18*Computations!D657+Computations!$D$18*Computations!D657^2","v":2975.7463885470256},{"$f":"Computations!$F$19+Computations!$E$19*Computations!D657+Computations!$D$19*Computations!D657^2+Computations!$C$19*Computations!D657^3","v":2975.7463885470256},{"$f":"Computations!$J$15+Computations!$I$15*D657","v":450000},{"$f":"EXP(Computations!$J$16)*EXP(Computations!$I$16)^Computations!D657","v":450000.00000000035},{"$f":"Computations!$J$17+Computations!$I$17*LN(Computations!D657)","v":450000},{"$f":"Computations!$J$18+Computations!$I$18*Computations!D657+Computations!$H$18*Computations!D657^2","v":450000},{"$f":"Computations!$J$19+Computations!$I$19*Computations!D657+Computations!$H$19*Computations!D657^2+Computations!$G$19*Computations!D657^3","v":450000}]
[604,0.18707258043399544,0.18736442769093192,0.18721850406246368,0.97123146266012106,3.3797283086567376E-4,3016.0329481903109,450000,{"$f":"G658-H658/User_entry!$E$18","v":1516.0329481903109},1516.0329481903109,null,{"$f":"HLOOKUP(User_entry!$B$56,Computations!$N$54:$R$1054,Computations!A658+1,FALSE)","v":3016.0329481903109},{"$f":"HLOOKUP(User_entry!$E$56,Computations!$S$54:$W$1054,Computations!A658+1,FALSE)","v":450000},{"$f":"Computations!$F$15+Computations!$E$15*D658","v":3016.0329481903109},{"$f":"EXP(Computations!$F$16)*EXP(Computations!$E$16)^Computations!D658","v":3144.400175933943},{"$f":"Computations!$F$17+Computations!$E$17*LN(Computations!D658)","v":2912.9198533195613},{"$f":"Computations!$F$18+Computations!$E$18*Computations!D658+Computations!$D$18*Computations!D658^2","v":2978.0795975358087},{"$f":"Computations!$F$19+Computations!$E$19*Computations!D658+Computations!$D$19*Computations!D658^2+Computations!$C$19*Computations!D658^3","v":2978.0795975358087},{"$f":"Computations!$J$15+Computations!$I$15*D658","v":450000},{"$f":"EXP(Computations!$J$16)*EXP(Computations!$I$16)^Computations!D658","v":450000.00000000035},{"$f":"Computations!$J$17+Computations!$I$17*LN(Computations!D658)","v":450000},{"$f":"Computations!$J$18+Computations!$I$18*Computations!D658+Computations!$H$18*Computations!D658^2","v":450000},{"$f":"Computations!$J$19+Computations!$I$19*Computations!D658+Computations!$H$19*Computations!D658^2+Computations!$G$19*Computations!D658^3","v":450000}]
[605,0.18736442769093192,0.18765627494786841,0.18751035131940016,0.97156592187231805,3.3445921219699137E-4,3019.8730436763171,450000,{"$f":"G659-H659/User_entry!$E$18","v":1519.8730436763171},1519.8730436763171,null,{"$f":"HLOOKUP(User_entry!$B$56,Computations!$N$54:$R$1054,Computations!A659+1,FALSE)","v":3019.8730436763171},{"$f":"HLOOKUP(User_entry!$E$56,Computations!$S$54:$W$1054,Computations!A659+1,FALSE)","v":450000},{"$f":"Computations!$F$15+Computations!$E$15*D659","v":3019.8730436763171},{"$f":"EXP(Computations!$F$16)*EXP(Computations!$E$16)^Computations!D659","v":3150.9239040741495},{"$f":"Computations!$F$17+Computations!$E$17*LN(Computations!D659)","v":2914.8987492960468},{"$f":"Computations!$F$18+Computations!$E$18*Computations!D659+Computations!$D$18*Computations!D659^2","v":2980.4064972785632},{"$f":"Computations!$F$19+Computations!$E$19*Computations!D659+Computations!$D$19*Computations!D659^2+Computations!$C$19*Computations!D659^3","v":2980.4064972785632},{"$f":"Computations!$J$15+Computations!$I$15*D659","v":450000},{"$f":"EXP(Computations!$J$16)*EXP(Computations!$I$16)^Computations!D659","v":450000.00000000035},{"$f":"Computations!$J$17+Computations!$I$17*LN(Computations!D659)","v":450000},{"$f":"Computations!$J$18+Computations!$I$18*Computations!D659+Computations!$H$18*Computations!D659^2","v":450000},{"$f":"Computations!$J$19+Computations!$I$19*Computations!D659+Computations!$H$19*Computations!D659^2+Computations!$G$19*Computations!D659^3","v":450000}]
[606,0.18765627494786841,0.18794812220480489,0.18780219857633665,0.97189689828507397,3.3097641275592338E-4,3023.7131391623234,450000,{"$f":"G660-H660/User_entry!$E$18","v":1523.7131391623234},1523.7131391623234,null,{"$f":"HLOOKUP(User_entry!$B$56,Computations!$N$54:$R$1054,Computations!A660+1,FALSE)","v":3023.7131391623234},{"$f":"HLOOKUP(User_entry!$E$56,Computations!$S$54:$W$1054,Computations!A660+1,FALSE)","v":450000},{"$f":"Computations!$F$15+Computations!$E$15*D660","v":3023.7131391623234},{"$f":"EXP(Computations!$F$16)*EXP(Computations!$E$16)^Computations!D660","v":3157.4611670783879},{"$f":"Computations!$F$17+Computations!$E$17*LN(Computations!D660)","v":2916.874567647787},{"$f":"Computations!$F$18+Computations!$E$18*Computations!D660+Computations!$D$18*Computations!D660^2","v":2982.7270877752899},{"$f":"Computations!$F$19+Computations!$E$19*Computations!D660+Computations!$D$19*Computations!D660^2+Computations!$C$19*Computations!D660^3","v":2982.7270877752899},{"$f":"Computations!$J$15+Computations!$I$15*D660","v":450000},{"$f":"EXP(Computations!$J$16)*EXP(Computations!$I$16)^Computations!D660","v":450000.00000000035},{"$f":"Computations!$J$17+Computations!$I$17*LN(Computations!D660)","v":450000},{"$f":"Computations!$J$18+Computations!$I$18*Computations!D660+Computations!$H$18*Computations!D660^2","v":450000},{"$f":"Computations!$J$19+Computations!$I$19*Computations!D660+Computations!$H$19*Computations!D660^2+Computations!$G$19*Computations!D660^3","v":450000}]
[607,0.18794812220480489,0.18823996946174137,0.18809404583327313,0.97222442252587893,3.2752424080495501E-4,3027.5532346483305,450000,{"$f":"G661-H661/User_entry!$E$18","v":1527.5532346483305},1527.5532346483305,null,{"$f":"HLOOKUP(User_entry!$B$56,Computations!$N$54:$R$1054,Computations!A661+1,FALSE)","v":3027.5532346483305},{"$f":"HLOOKUP(User_entry!$E$56,Computations!$S$54:$W$1054,Computations!A661+1,FALSE)","v":450000},{"$f":"Computations!$F$15+Computations!$E$15*D661","v":3027.5532346483305},{"$f":"EXP(Computations!$F$16)*EXP(Computations!$E$16)^Computations!D661","v":3164.0119930276201},{"$f":"Computations!$F$17+Computations!$E$17*LN(Computations!D661)","v":2918.8473179327043},{"$f":"Computations!$F$18+Computations!$E$18*Computations!D661+Computations!$D$18*Computations!D661^2","v":2985.0413690259884},{"$f":"Computations!$F$19+Computations!$E$19*Computations!D661+Computations!$D$19*Computations!D661^2+Computations!$C$19*Computations!D661^3","v":2985.0413690259884},{"$f":"Computations!$J$15+Computations!$I$15*D661","v":450000},{"$f":"EXP(Computations!$J$16)*EXP(Computations!$I$16)^Computations!D661","v":450000.00000000035},{"$f":"Computations!$J$17+Computations!$I$17*LN(Computations!D661)","v":450000},{"$f":"Computations!$J$18+Computations!$I$18*Computations!D661+Computations!$H$18*Computations!D661^2","v":450000},{"$f":"Computations!$J$19+Computations!$I$19*Computations!D661+Computations!$H$19*Computations!D661^2+Computations!$G$19*Computations!D661^3","v":450000}]
[608,0.18823996946174137,0.18853181671867786,0.18838589309020962,0.97254852503055056,3.241025046716306E-4,3031.3933301343368,450000,{"$f":"G662-H662/User_entry!$E$18","v":1531.3933301343368},1531.3933301343368,null,{"$f":"HLOOKUP(User_entry!$B$56,Computations!$N$54:$R$1054,Computations!A662+1,FALSE)","v":3031.3933301343368},{"$f":"HLOOKUP(User_entry!$E$56,Computations!$S$54:$W$1054,Computations!A662+1,FALSE)","v":450000},{"$f":"Computations!$F$15+Computations!$E$15*D662","v":3031.3933301343368},{"$f":"EXP(Computations!$F$16)*EXP(Computations!$E$16)^Computations!D662","v":3170.5764100610636},{"$f":"Computations!$F$17+Computations!$E$17*LN(Computations!D662)","v":2920.8170096642671},{"$f":"Computations!$F$18+Computations!$E$18*Computations!D662+Computations!$D$18*Computations!D662^2","v":2987.3493410306592},{"$f":"Computations!$F$19+Computations!$E$19*Computations!D662+Computations!$D$19*Computations!D662^2+Computations!$C$19*Computations!D662^3","v":2987.3493410306592},{"$f":"Computations!$J$15+Computations!$I$15*D662","v":450000},{"$f":"EXP(Computations!$J$16)*EXP(Computations!$I$16)^Computations!D662","v":450000.00000000035},{"$f":"Computations!$J$17+Computations!$I$17*LN(Computations!D662)","v":450000},{"$f":"Computations!$J$18+Computations!$I$18*Computations!D662+Computations!$H$18*Computations!D662^2","v":450000},{"$f":"Computations!$J$19+Computations!$I$19*Computations!D662+Computations!$H$19*Computations!D662^2+Computations!$G$19*Computations!D662^3","v":450000}]
[609,0.18853181671867786,0.18882366397561434,0.1886777403471461,0.9728692360433211,3.2071101277053593E-4,3035.233425620343,450000,{"$f":"G663-H663/User_entry!$E$18","v":1535.233425620343},1535.233425620343,null,{"$f":"HLOOKUP(User_entry!$B$56,Computations!$N$54:$R$1054,Computations!A663+1,FALSE)","v":3035.233425620343},{"$f":"HLOOKUP(User_entry!$E$56,Computations!$S$54:$W$1054,Computations!A663+1,FALSE)","v":450000},{"$f":"Computations!$F$15+Computations!$E$15*D663","v":3035.233425620343},{"$f":"EXP(Computations!$F$16)*EXP(Computations!$E$16)^Computations!D663","v":3177.1544463763184},{"$f":"Computations!$F$17+Computations!$E$17*LN(Computations!D663)","v":2922.7836523117617},{"$f":"Computations!$F$18+Computations!$E$18*Computations!D663+Computations!$D$18*Computations!D663^2","v":2989.6510037893004},{"$f":"Computations!$F$19+Computations!$E$19*Computations!D663+Computations!$D$19*Computations!D663^2+Computations!$C$19*Computations!D663^3","v":2989.6510037893004},{"$f":"Computations!$J$15+Computations!$I$15*D663","v":450000},{"$f":"EXP(Computations!$J$16)*EXP(Computations!$I$16)^Computations!D663","v":450000.00000000035},{"$f":"Computations!$J$17+Computations!$I$17*LN(Computations!D663)","v":450000},{"$f":"Computations!$J$18+Computations!$I$18*Computations!D663+Computations!$H$18*Computations!D663^2","v":450000},{"$f":"Computations!$J$19+Computations!$I$19*Computations!D663+Computations!$H$19*Computations!D663^2+Computations!$G$19*Computations!D663^3","v":450000}]
[610,0.18882366397561434,0.18911551123255083,0.18896958760408258,0.97318658561694338,3.1734957362228311E-4,3039.0735211063493,450000,{"$f":"G664-H664/User_entry!$E$18","v":1539.0735211063493},1539.0735211063493,null,{"$f":"HLOOKUP(User_entry!$B$56,Computations!$N$54:$R$1054,Computations!A664+1,FALSE)","v":3039.0735211063493},{"$f":"HLOOKUP(User_entry!$E$56,Computations!$S$54:$W$1054,Computations!A664+1,FALSE)","v":450000},{"$f":"Computations!$F$15+Computations!$E$15*D664","v":3039.0735211063493},{"$f":"EXP(Computations!$F$16)*EXP(Computations!$E$16)^Computations!D664","v":3183.7461302294878},{"$f":"Computations!$F$17+Computations!$E$17*LN(Computations!D664)","v":2924.7472553005687},{"$f":"Computations!$F$18+Computations!$E$18*Computations!D664+Computations!$D$18*Computations!D664^2","v":2991.9463573019138},{"$f":"Computations!$F$19+Computations!$E$19*Computations!D664+Computations!$D$19*Computations!D664^2+Computations!$C$19*Computations!D664^3","v":2991.9463573019138},{"$f":"Computations!$J$15+Computations!$I$15*D664","v":450000},{"$f":"EXP(Computations!$J$16)*EXP(Computations!$I$16)^Computations!D664","v":450000.00000000035},{"$f":"Computations!$J$17+Computations!$I$17*LN(Computations!D664)","v":450000},{"$f":"Computations!$J$18+Computations!$I$18*Computations!D664+Computations!$H$18*Computations!D664^2","v":450000},{"$f":"Computations!$J$19+Computations!$I$19*Computations!D664+Computations!$H$19*Computations!D664^2+Computations!$G$19*Computations!D664^3","v":450000}]
[611,0.18911551123255083,0.18940735848948731,0.18926143486101907,0.97350060361281654,3.1401799587316148E-4,3042.9136165923555,450000,{"$f":"G665-H665/User_entry!$E$18","v":1542.9136165923555},1542.9136165923555,null,{"$f":"HLOOKUP(User_entry!$B$56,Computations!$N$54:$R$1054,Computations!A665+1,FALSE)","v":3042.9136165923555},{"$f":"HLOOKUP(User_entry!$E$56,Computations!$S$54:$W$1054,Computations!A665+1,FALSE)","v":450000},{"$f":"Computations!$F$15+Computations!$E$15*D665","v":3042.9136165923555},{"$f":"EXP(Computations!$F$16)*EXP(Computations!$E$16)^Computations!D665","v":3190.3514899352958},{"$f":"Computations!$F$17+Computations!$E$17*LN(Computations!D665)","v":2926.7078280124301},{"$f":"Computations!$F$18+Computations!$E$18*Computations!D665+Computations!$D$18*Computations!D665^2","v":2994.2354015684996},{"$f":"Computations!$F$19+Computations!$E$19*Computations!D665+Computations!$D$19*Computations!D665^2+Computations!$C$19*Computations!D665^3","v":2994.2354015684996},{"$f":"Computations!$J$15+Computations!$I$15*D665","v":450000},{"$f":"EXP(Computations!$J$16)*EXP(Computations!$I$16)^Computations!D665","v":450000.00000000035},{"$f":"Computations!$J$17+Computations!$I$17*LN(Computations!D665)","v":450000},{"$f":"Computations!$J$18+Computations!$I$18*Computations!D665+Computations!$H$18*Computations!D665^2","v":450000},{"$f":"Computations!$J$19+Computations!$I$19*Computations!D665+Computations!$H$19*Computations!D665^2+Computations!$G$19*Computations!D665^3","v":450000}]
[612,0.18940735848948731,0.18969920574642379,0.18955328211795555,0.97381131970113177,3.1071608831523267E-4,3046.7537120783618,450000,{"$f":"G666-H666/User_entry!$E$18","v":1546.7537120783618},1546.7537120783618,null,{"$f":"HLOOKUP(User_entry!$B$56,Computations!$N$54:$R$1054,Computations!A666+1,FALSE)","v":3046.7537120783618},{"$f":"HLOOKUP(User_entry!$E$56,Computations!$S$54:$W$1054,Computations!A666+1,FALSE)","v":450000},{"$f":"Computations!$F$15+Computations!$E$15*D666","v":3046.7537120783618},{"$f":"EXP(Computations!$F$16)*EXP(Computations!$E$16)^Computations!D666","v":3196.9705538672129},{"$f":"Computations!$F$17+Computations!$E$17*LN(Computations!D666)","v":2928.6653797857225},{"$f":"Computations!$F$18+Computations!$E$18*Computations!D666+Computations!$D$18*Computations!D666^2","v":2996.5181365890558},{"$f":"Computations!$F$19+Computations!$E$19*Computations!D666+Computations!$D$19*Computations!D666^2+Computations!$C$19*Computations!D666^3","v":2996.5181365890558},{"$f":"Computations!$J$15+Computations!$I$15*D666","v":450000},{"$f":"EXP(Computations!$J$16)*EXP(Computations!$I$16)^Computations!D666","v":450000.00000000035},{"$f":"Computations!$J$17+Computations!$I$17*LN(Computations!D666)","v":450000},{"$f":"Computations!$J$18+Computations!$I$18*Computations!D666+Computations!$H$18*Computations!D666^2","v":450000},{"$f":"Computations!$J$19+Computations!$I$19*Computations!D666+Computations!$H$19*Computations!D666^2+Computations!$G$19*Computations!D666^3","v":450000}]
[613,0.18969920574642379,0.18999105300336028,0.18984512937489204,0.97411876336103609,3.0744365990431621E-4,3050.593807564368,450000,{"$f":"G667-H667/User_entry!$E$18","v":1550.593807564368},1550.593807564368,null,{"$f":"HLOOKUP(User_entry!$B$56,Computations!$N$54:$R$1054,Computations!A667+1,FALSE)","v":3050.593807564368},{"$f":"HLOOKUP(User_entry!$E$56,Computations!$S$54:$W$1054,Computations!A667+1,FALSE)","v":450000},{"$f":"Computations!$F$15+Computations!$E$15*D667","v":3050.593807564368},{"$f":"EXP(Computations!$F$16)*EXP(Computations!$E$16)^Computations!D667","v":3203.6033504575767},{"$f":"Computations!$F$17+Computations!$E$17*LN(Computations!D667)","v":2930.6199199157209},{"$f":"Computations!$F$18+Computations!$E$18*Computations!D667+Computations!$D$18*Computations!D667^2","v":2998.7945623635851},{"$f":"Computations!$F$19+Computations!$E$19*Computations!D667+Computations!$D$19*Computations!D667^2+Computations!$C$19*Computations!D667^3","v":2998.7945623635851},{"$f":"Computations!$J$15+Computations!$I$15*D667","v":450000},{"$f":"EXP(Computations!$J$16)*EXP(Computations!$I$16)^Computations!D667","v":450000.00000000035},{"$f":"Computations!$J$17+Computations!$I$17*LN(Computations!D667)","v":450000},{"$f":"Computations!$J$18+Computations!$I$18*Computations!D667+Computations!$H$18*Computations!D667^2","v":450000},{"$f":"Computations!$J$19+Computations!$I$19*Computations!D667+Computations!$H$19*Computations!D667^2+Computations!$G$19*Computations!D667^3","v":450000}]
[614,0.18999105300336028,0.19028290026029676,0.19013697663182852,0.97442296388081573,3.0420051977964047E-4,3054.4339030503752,450000,{"$f":"G668-H668/User_entry!$E$18","v":1554.4339030503752},1554.4339030503752,null,{"$f":"HLOOKUP(User_entry!$B$56,Computations!$N$54:$R$1054,Computations!A668+1,FALSE)","v":3054.4339030503752},{"$f":"HLOOKUP(User_entry!$E$56,Computations!$S$54:$W$1054,Computations!A668+1,FALSE)","v":450000},{"$f":"Computations!$F$15+Computations!$E$15*D668","v":3054.4339030503752},{"$f":"EXP(Computations!$F$16)*EXP(Computations!$E$16)^Computations!D668","v":3210.2499081977126},{"$f":"Computations!$F$17+Computations!$E$17*LN(Computations!D668)","v":2932.5714576548644},{"$f":"Computations!$F$18+Computations!$E$18*Computations!D668+Computations!$D$18*Computations!D668^2","v":3001.0646788920858},{"$f":"Computations!$F$19+Computations!$E$19*Computations!D668+Computations!$D$19*Computations!D668^2+Computations!$C$19*Computations!D668^3","v":3001.0646788920858},{"$f":"Computations!$J$15+Computations!$I$15*D668","v":450000},{"$f":"EXP(Computations!$J$16)*EXP(Computations!$I$16)^Computations!D668","v":450000.00000000035},{"$f":"Computations!$J$17+Computations!$I$17*LN(Computations!D668)","v":450000},{"$f":"Computations!$J$18+Computations!$I$18*Computations!D668+Computations!$H$18*Computations!D668^2","v":450000},{"$f":"Computations!$J$19+Computations!$I$19*Computations!D668+Computations!$H$19*Computations!D668^2+Computations!$G$19*Computations!D668^3","v":450000}]
[615,0.19028290026029676,0.19057474751723325,0.190428823888765,0.974723950358097,3.0098647728127315E-4,3058.2739985363814,450000,{"$f":"G669-H669/User_entry!$E$18","v":1558.2739985363814},1558.2739985363814,null,{"$f":"HLOOKUP(User_entry!$B$56,Computations!$N$54:$R$1054,Computations!A669+1,FALSE)","v":3058.2739985363814},{"$f":"HLOOKUP(User_entry!$E$56,Computations!$S$54:$W$1054,Computations!A669+1,FALSE)","v":450000},{"$f":"Computations!$F$15+Computations!$E$15*D669","v":3058.2739985363814},{"$f":"EXP(Computations!$F$16)*EXP(Computations!$E$16)^Computations!D669","v":3216.9102556380576},{"$f":"Computations!$F$17+Computations!$E$17*LN(Computations!D669)","v":2934.5200022130193},{"$f":"Computations!$F$18+Computations!$E$18*Computations!D669+Computations!$D$18*Computations!D669^2","v":3003.3284861745583},{"$f":"Computations!$F$19+Computations!$E$19*Computations!D669+Computations!$D$19*Computations!D669^2+Computations!$C$19*Computations!D669^3","v":3003.3284861745583},{"$f":"Computations!$J$15+Computations!$I$15*D669","v":450000},{"$f":"EXP(Computations!$J$16)*EXP(Computations!$I$16)^Computations!D669","v":450000.00000000035},{"$f":"Computations!$J$17+Computations!$I$17*LN(Computations!D669)","v":450000},{"$f":"Computations!$J$18+Computations!$I$18*Computations!D669+Computations!$H$18*Computations!D669^2","v":450000},{"$f":"Computations!$J$19+Computations!$I$19*Computations!D669+Computations!$H$19*Computations!D669^2+Computations!$G$19*Computations!D669^3","v":450000}]
[616,0.19057474751723325,0.19086659477416973,0.19072067114570149,0.97502175170006544,2.9780134196843999E-4,3062.1140940223877,450000,{"$f":"G670-H670/User_entry!$E$18","v":1562.1140940223877},1562.1140940223877,null,{"$f":"HLOOKUP(User_entry!$B$56,Computations!$N$54:$R$1054,Computations!A670+1,FALSE)","v":3062.1140940223877},{"$f":"HLOOKUP(User_entry!$E$56,Computations!$S$54:$W$1054,Computations!A670+1,FALSE)","v":450000},{"$f":"Computations!$F$15+Computations!$E$15*D670","v":3062.1140940223877},{"$f":"EXP(Computations!$F$16)*EXP(Computations!$E$16)^Computations!D670","v":3223.5844213882842},{"$f":"Computations!$F$17+Computations!$E$17*LN(Computations!D670)","v":2936.4655627577408},{"$f":"Computations!$F$18+Computations!$E$18*Computations!D670+Computations!$D$18*Computations!D670^2","v":3005.5859842110017},{"$f":"Computations!$F$19+Computations!$E$19*Computations!D670+Computations!$D$19*Computations!D670^2+Computations!$C$19*Computations!D670^3","v":3005.5859842110017},{"$f":"Computations!$J$15+Computations!$I$15*D670","v":450000},{"$f":"EXP(Computations!$J$16)*EXP(Computations!$I$16)^Computations!D670","v":450000.00000000035},{"$f":"Computations!$J$17+Computations!$I$17*LN(Computations!D670)","v":450000},{"$f":"Computations!$J$18+Computations!$I$18*Computations!D670+Computations!$H$18*Computations!D670^2","v":450000},{"$f":"Computations!$J$19+Computations!$I$19*Computations!D670+Computations!$H$19*Computations!D670^2+Computations!$G$19*Computations!D670^3","v":450000}]
[617,0.19086659477416973,0.19115844203110621,0.19101251840263797,0.97531639662370317,2.9464492363773243E-4,3065.9541895083939,450000,{"$f":"G671-H671/User_entry!$E$18","v":1565.9541895083939},1565.9541895083939,null,{"$f":"HLOOKUP(User_entry!$B$56,Computations!$N$54:$R$1054,Computations!A671+1,FALSE)","v":3065.9541895083939},{"$f":"HLOOKUP(User_entry!$E$56,Computations!$S$54:$W$1054,Computations!A671+1,FALSE)","v":450000},{"$f":"Computations!$F$15+Computations!$E$15*D671","v":3065.9541895083939},{"$f":"EXP(Computations!$F$16)*EXP(Computations!$E$16)^Computations!D671","v":3230.2724341174194},{"$f":"Computations!$F$17+Computations!$E$17*LN(Computations!D671)","v":2938.408148414529},{"$f":"Computations!$F$18+Computations!$E$18*Computations!D671+Computations!$D$18*Computations!D671^2","v":3007.8371730014178},{"$f":"Computations!$F$19+Computations!$E$19*Computations!D671+Computations!$D$19*Computations!D671^2+Computations!$C$19*Computations!D671^3","v":3007.8371730014178},{"$f":"Computations!$J$15+Computations!$I$15*D671","v":450000},{"$f":"EXP(Computations!$J$16)*EXP(Computations!$I$16)^Computations!D671","v":450000.00000000035},{"$f":"Computations!$J$17+Computations!$I$17*LN(Computations!D671)","v":450000},{"$f":"Computations!$J$18+Computations!$I$18*Computations!D671+Computations!$H$18*Computations!D671^2","v":450000},{"$f":"Computations!$J$19+Computations!$I$19*Computations!D671+Computations!$H$19*Computations!D671^2+Computations!$G$19*Computations!D671^3","v":450000}]
[618,0.19115844203110621,0.1914502892880427,0.19130436565957445,0.97560791365604249,2.9151703233931681E-4,3069.7942849944002,450000,{"$f":"G672-H672/User_entry!$E$18","v":1569.7942849944002},1569.7942849944002,null,{"$f":"HLOOKUP(User_entry!$B$56,Computations!$N$54:$R$1054,Computations!A672+1,FALSE)","v":3069.7942849944002},{"$f":"HLOOKUP(User_entry!$E$56,Computations!$S$54:$W$1054,Computations!A672+1,FALSE)","v":450000},{"$f":"Computations!$F$15+Computations!$E$15*D672","v":3069.7942849944002},{"$f":"EXP(Computations!$F$16)*EXP(Computations!$E$16)^Computations!D672","v":3236.9743225539705},{"$f":"Computations!$F$17+Computations!$E$17*LN(Computations!D672)","v":2940.3477682670887},{"$f":"Computations!$F$18+Computations!$E$18*Computations!D672+Computations!$D$18*Computations!D672^2","v":3010.0820525458057},{"$f":"Computations!$F$19+Computations!$E$19*Computations!D672+Computations!$D$19*Computations!D672^2+Computations!$C$19*Computations!D672^3","v":3010.0820525458057},{"$f":"Computations!$J$15+Computations!$I$15*D672","v":450000},{"$f":"EXP(Computations!$J$16)*EXP(Computations!$I$16)^Computations!D672","v":450000.00000000035},{"$f":"Computations!$J$17+Computations!$I$17*LN(Computations!D672)","v":450000},{"$f":"Computations!$J$18+Computations!$I$18*Computations!D672+Computations!$H$18*Computations!D672^2","v":450000},{"$f":"Computations!$J$19+Computations!$I$19*Computations!D672+Computations!$H$19*Computations!D672^2+Computations!$G$19*Computations!D672^3","v":450000}]
[619,0.1914502892880427,0.19174213654497918,0.19159621291651094,0.97589633113443752,2.8841747839503107E-4,3073.6343804804064,450000,{"$f":"G673-H673/User_entry!$E$18","v":1573.6343804804064},1573.6343804804064,null,{"$f":"HLOOKUP(User_entry!$B$56,Computations!$N$54:$R$1054,Computations!A673+1,FALSE)","v":3073.6343804804064},{"$f":"HLOOKUP(User_entry!$E$56,Computations!$S$54:$W$1054,Computations!A673+1,FALSE)","v":450000},{"$f":"Computations!$F$15+Computations!$E$15*D673","v":3073.6343804804064},{"$f":"EXP(Computations!$F$16)*EXP(Computations!$E$16)^Computations!D673","v":3243.6901154860511},{"$f":"Computations!$F$17+Computations!$E$17*LN(Computations!D673)","v":2942.2844313575824},{"$f":"Computations!$F$18+Computations!$E$18*Computations!D673+Computations!$D$18*Computations!D673^2","v":3012.320622844165},{"$f":"Computations!$F$19+Computations!$E$19*Computations!D673+Computations!$D$19*Computations!D673^2+Computations!$C$19*Computations!D673^3","v":3012.320622844165},{"$f":"Computations!$J$15+Computations!$I$15*D673","v":450000},{"$f":"EXP(Computations!$J$16)*EXP(Computations!$I$16)^Computations!D673","v":450000.00000000035},{"$f":"Computations!$J$17+Computations!$I$17*LN(Computations!D673)","v":450000},{"$f":"Computations!$J$18+Computations!$I$18*Computations!D673+Computations!$H$18*Computations!D673^2","v":450000},{"$f":"Computations!$J$19+Computations!$I$19*Computations!D673+Computations!$H$19*Computations!D673^2+Computations!$G$19*Computations!D673^3","v":450000}]
[620,0.19174213654497918,0.19203398380191566,0.19188806017344742,0.97618167720685212,2.8534607241459398E-4,3077.4744759664127,450000,{"$f":"G674-H674/User_entry!$E$18","v":1577.4744759664127},1577.4744759664127,null,{"$f":"HLOOKUP(User_entry!$B$56,Computations!$N$54:$R$1054,Computations!A674+1,FALSE)","v":3077.4744759664127},{"$f":"HLOOKUP(User_entry!$E$56,Computations!$S$54:$W$1054,Computations!A674+1,FALSE)","v":450000},{"$f":"Computations!$F$15+Computations!$E$15*D674","v":3077.4744759664127},{"$f":"EXP(Computations!$F$16)*EXP(Computations!$E$16)^Computations!D674","v":3250.4198417614984},{"$f":"Computations!$F$17+Computations!$E$17*LN(Computations!D674)","v":2944.2181466868838},{"$f":"Computations!$F$18+Computations!$E$18*Computations!D674+Computations!$D$18*Computations!D674^2","v":3014.5528838964956},{"$f":"Computations!$F$19+Computations!$E$19*Computations!D674+Computations!$D$19*Computations!D674^2+Computations!$C$19*Computations!D674^3","v":3014.5528838964956},{"$f":"Computations!$J$15+Computations!$I$15*D674","v":450000},{"$f":"EXP(Computations!$J$16)*EXP(Computations!$I$16)^Computations!D674","v":450000.00000000035},{"$f":"Computations!$J$17+Computations!$I$17*LN(Computations!D674)","v":450000},{"$f":"Computations!$J$18+Computations!$I$18*Computations!D674+Computations!$H$18*Computations!D674^2","v":450000},{"$f":"Computations!$J$19+Computations!$I$19*Computations!D674+Computations!$H$19*Computations!D674^2+Computations!$G$19*Computations!D674^3","v":450000}]
[621,0.19203398380191566,0.19232583105885215,0.19217990743038391,0.97646397983216437,2.8230262531225847E-4,3081.3145714524189,450000,{"$f":"G675-H675/User_entry!$E$18","v":1581.3145714524189},1581.3145714524189,null,{"$f":"HLOOKUP(User_entry!$B$56,Computations!$N$54:$R$1054,Computations!A675+1,FALSE)","v":3081.3145714524189},{"$f":"HLOOKUP(User_entry!$E$56,Computations!$S$54:$W$1054,Computations!A675+1,FALSE)","v":450000},{"$f":"Computations!$F$15+Computations!$E$15*D675","v":3081.3145714524189},{"$f":"EXP(Computations!$F$16)*EXP(Computations!$E$16)^Computations!D675","v":3257.1635302880027},{"$f":"Computations!$F$17+Computations!$E$17*LN(Computations!D675)","v":2946.1489232148297},{"$f":"Computations!$F$18+Computations!$E$18*Computations!D675+Computations!$D$18*Computations!D675^2","v":3016.7788357027985},{"$f":"Computations!$F$19+Computations!$E$19*Computations!D675+Computations!$D$19*Computations!D675^2+Computations!$C$19*Computations!D675^3","v":3016.7788357027985},{"$f":"Computations!$J$15+Computations!$I$15*D675","v":450000},{"$f":"EXP(Computations!$J$16)*EXP(Computations!$I$16)^Computations!D675","v":450000.00000000035},{"$f":"Computations!$J$17+Computations!$I$17*LN(Computations!D675)","v":450000},{"$f":"Computations!$J$18+Computations!$I$18*Computations!D675+Computations!$H$18*Computations!D675^2","v":450000},{"$f":"Computations!$J$19+Computations!$I$19*Computations!D675+Computations!$H$19*Computations!D675^2+Computations!$G$19*Computations!D675^3","v":450000}]
[622,0.19232583105885215,0.19261767831578863,0.19247175468732039,0.97674326678048651,2.7928694832213274E-4,3085.1546669384261,450000,{"$f":"G676-H676/User_entry!$E$18","v":1585.1546669384261},1585.1546669384261,null,{"$f":"HLOOKUP(User_entry!$B$56,Computations!$N$54:$R$1054,Computations!A676+1,FALSE)","v":3085.1546669384261},{"$f":"HLOOKUP(User_entry!$E$56,Computations!$S$54:$W$1054,Computations!A676+1,FALSE)","v":450000},{"$f":"Computations!$F$15+Computations!$E$15*D676","v":3085.1546669384261},{"$f":"EXP(Computations!$F$16)*EXP(Computations!$E$16)^Computations!D676","v":3263.9212100332284},{"$f":"Computations!$F$17+Computations!$E$17*LN(Computations!D676)","v":2948.0767698604673},{"$f":"Computations!$F$18+Computations!$E$18*Computations!D676+Computations!$D$18*Computations!D676^2","v":3018.9984782630736},{"$f":"Computations!$F$19+Computations!$E$19*Computations!D676+Computations!$D$19*Computations!D676^2+Computations!$C$19*Computations!D676^3","v":3018.9984782630736},{"$f":"Computations!$J$15+Computations!$I$15*D676","v":450000},{"$f":"EXP(Computations!$J$16)*EXP(Computations!$I$16)^Computations!D676","v":450000.00000000035},{"$f":"Computations!$J$17+Computations!$I$17*LN(Computations!D676)","v":450000},{"$f":"Computations!$J$18+Computations!$I$18*Computations!D676+Computations!$H$18*Computations!D676^2","v":450000},{"$f":"Computations!$J$19+Computations!$I$19*Computations!D676+Computations!$H$19*Computations!D676^2+Computations!$G$19*Computations!D676^3","v":450000}]
[623,0.19261767831578863,0.19290952557272512,0.19276360194425687,0.97701956563350179,2.7629885301527768E-4,3088.9947624244323,450000,{"$f":"G677-H677/User_entry!$E$18","v":1588.9947624244323},1588.9947624244323,null,{"$f":"HLOOKUP(User_entry!$B$56,Computations!$N$54:$R$1054,Computations!A677+1,FALSE)","v":3088.9947624244323},{"$f":"HLOOKUP(User_entry!$E$56,Computations!$S$54:$W$1054,Computations!A677+1,FALSE)","v":450000},{"$f":"Computations!$F$15+Computations!$E$15*D677","v":3088.9947624244323},{"$f":"EXP(Computations!$F$16)*EXP(Computations!$E$16)^Computations!D677","v":3270.6929100249395},{"$f":"Computations!$F$17+Computations!$E$17*LN(Computations!D677)","v":2950.0016955023025},{"$f":"Computations!$F$18+Computations!$E$18*Computations!D677+Computations!$D$18*Computations!D677^2","v":3021.2118115773201},{"$f":"Computations!$F$19+Computations!$E$19*Computations!D677+Computations!$D$19*Computations!D677^2+Computations!$C$19*Computations!D677^3","v":3021.2118115773201},{"$f":"Computations!$J$15+Computations!$I$15*D677","v":450000},{"$f":"EXP(Computations!$J$16)*EXP(Computations!$I$16)^Computations!D677","v":450000.00000000035},{"$f":"Computations!$J$17+Computations!$I$17*LN(Computations!D677)","v":450000},{"$f":"Computations!$J$18+Computations!$I$18*Computations!D677+Computations!$H$18*Computations!D677^2","v":450000},{"$f":"Computations!$J$19+Computations!$I$19*Computations!D677+Computations!$H$19*Computations!D677^2+Computations!$G$19*Computations!D677^3","v":450000}]
[624,0.19290952557272512,0.1932013728296616,0.19305544920119336,0.97729290378481593,2.7333815131413974E-4,3092.8348579104386,450000,{"$f":"G678-H678/User_entry!$E$18","v":1592.8348579104386},1592.8348579104386,null,{"$f":"HLOOKUP(User_entry!$B$56,Computations!$N$54:$R$1054,Computations!A678+1,FALSE)","v":3092.8348579104386},{"$f":"HLOOKUP(User_entry!$E$56,Computations!$S$54:$W$1054,Computations!A678+1,FALSE)","v":450000},{"$f":"Computations!$F$15+Computations!$E$15*D678","v":3092.8348579104386},{"$f":"EXP(Computations!$F$16)*EXP(Computations!$E$16)^Computations!D678","v":3277.4786593511249},{"$f":"Computations!$F$17+Computations!$E$17*LN(Computations!D678)","v":2951.9237089785452},{"$f":"Computations!$F$18+Computations!$E$18*Computations!D678+Computations!$D$18*Computations!D678^2","v":3023.4188356455379},{"$f":"Computations!$F$19+Computations!$E$19*Computations!D678+Computations!$D$19*Computations!D678^2+Computations!$C$19*Computations!D678^3","v":3023.4188356455379},{"$f":"Computations!$J$15+Computations!$I$15*D678","v":450000},{"$f":"EXP(Computations!$J$16)*EXP(Computations!$I$16)^Computations!D678","v":450000.00000000035},{"$f":"Computations!$J$17+Computations!$I$17*LN(Computations!D678)","v":450000},{"$f":"Computations!$J$18+Computations!$I$18*Computations!D678+Computations!$H$18*Computations!D678^2","v":450000},{"$f":"Computations!$J$19+Computations!$I$19*Computations!D678+Computations!$H$19*Computations!D678^2+Computations!$G$19*Computations!D678^3","v":450000}]
[625,0.1932013728296616,0.19349322008659808,0.19334729645812984,0.97756330844032402,2.7040465550809412E-4,3096.6749533964448,450000,{"$f":"G679-H679/User_entry!$E$18","v":1596.6749533964448},1596.6749533964448,null,{"$f":"HLOOKUP(User_entry!$B$56,Computations!$N$54:$R$1054,Computations!A679+1,FALSE)","v":3096.6749533964448},{"$f":"HLOOKUP(User_entry!$E$56,Computations!$S$54:$W$1054,Computations!A679+1,FALSE)","v":450000},{"$f":"Computations!$F$15+Computations!$E$15*D679","v":3096.6749533964448},{"$f":"EXP(Computations!$F$16)*EXP(Computations!$E$16)^Computations!D679","v":3284.2784871601225},{"$f":"Computations!$F$17+Computations!$E$17*LN(Computations!D679)","v":2953.8428190873524},{"$f":"Computations!$F$18+Computations!$E$18*Computations!D679+Computations!$D$18*Computations!D679^2","v":3025.6195504677275},{"$f":"Computations!$F$19+Computations!$E$19*Computations!D679+Computations!$D$19*Computations!D679^2+Computations!$C$19*Computations!D679^3","v":3025.6195504677275},{"$f":"Computations!$J$15+Computations!$I$15*D679","v":450000},{"$f":"EXP(Computations!$J$16)*EXP(Computations!$I$16)^Computations!D679","v":450000.00000000035},{"$f":"Computations!$J$17+Computations!$I$17*LN(Computations!D679)","v":450000},{"$f":"Computations!$J$18+Computations!$I$18*Computations!D679+Computations!$H$18*Computations!D679^2","v":450000},{"$f":"Computations!$J$19+Computations!$I$19*Computations!D679+Computations!$H$19*Computations!D679^2+Computations!$G$19*Computations!D679^3","v":450000}]
[626,0.19349322008659808,0.19378506734353457,0.19363914371506633,0.97783080661859234,2.6749817826832167E-4,3100.5150488824511,450000,{"$f":"G680-H680/User_entry!$E$18","v":1600.5150488824511},1600.5150488824511,null,{"$f":"HLOOKUP(User_entry!$B$56,Computations!$N$54:$R$1054,Computations!A680+1,FALSE)","v":3100.5150488824511},{"$f":"HLOOKUP(User_entry!$E$56,Computations!$S$54:$W$1054,Computations!A680+1,FALSE)","v":450000},{"$f":"Computations!$F$15+Computations!$E$15*D680","v":3100.5150488824511},{"$f":"EXP(Computations!$F$16)*EXP(Computations!$E$16)^Computations!D680","v":3291.0924226607453},{"$f":"Computations!$F$17+Computations!$E$17*LN(Computations!D680)","v":2955.7590345870703},{"$f":"Computations!$F$18+Computations!$E$18*Computations!D680+Computations!$D$18*Computations!D680^2","v":3027.8139560438894},{"$f":"Computations!$F$19+Computations!$E$19*Computations!D680+Computations!$D$19*Computations!D680^2+Computations!$C$19*Computations!D680^3","v":3027.8139560438894},{"$f":"Computations!$J$15+Computations!$I$15*D680","v":450000},{"$f":"EXP(Computations!$J$16)*EXP(Computations!$I$16)^Computations!D680","v":450000.00000000035},{"$f":"Computations!$J$17+Computations!$I$17*LN(Computations!D680)","v":450000},{"$f":"Computations!$J$18+Computations!$I$18*Computations!D680+Computations!$H$18*Computations!D680^2","v":450000},{"$f":"Computations!$J$19+Computations!$I$19*Computations!D680+Computations!$H$19*Computations!D680^2+Computations!$G$19*Computations!D680^3","v":450000}]
[627,0.19378506734353457,0.19407691460047105,0.19393099097200281,0.97809542515125458,2.6461853266224189E-4,3104.3551443684573,450000,{"$f":"G681-H681/User_entry!$E$18","v":1604.3551443684573},1604.3551443684573,null,{"$f":"HLOOKUP(User_entry!$B$56,Computations!$N$54:$R$1054,Computations!A681+1,FALSE)","v":3104.3551443684573},{"$f":"HLOOKUP(User_entry!$E$56,Computations!$S$54:$W$1054,Computations!A681+1,FALSE)","v":450000},{"$f":"Computations!$F$15+Computations!$E$15*D681","v":3104.3551443684573},{"$f":"EXP(Computations!$F$16)*EXP(Computations!$E$16)^Computations!D681","v":3297.9204951224042},{"$f":"Computations!$F$17+Computations!$E$17*LN(Computations!D681)","v":2957.6723641964745},{"$f":"Computations!$F$18+Computations!$E$18*Computations!D681+Computations!$D$18*Computations!D681^2","v":3030.0020523740232},{"$f":"Computations!$F$19+Computations!$E$19*Computations!D681+Computations!$D$19*Computations!D681^2+Computations!$C$19*Computations!D681^3","v":3030.0020523740232},{"$f":"Computations!$J$15+Computations!$I$15*D681","v":450000},{"$f":"EXP(Computations!$J$16)*EXP(Computations!$I$16)^Computations!D681","v":450000.00000000035},{"$f":"Computations!$J$17+Computations!$I$17*LN(Computations!D681)","v":450000},{"$f":"Computations!$J$18+Computations!$I$18*Computations!D681+Computations!$H$18*Computations!D681^2","v":450000},{"$f":"Computations!$J$19+Computations!$I$19*Computations!D681+Computations!$H$19*Computations!D681^2+Computations!$G$19*Computations!D681^3","v":450000}]
[628,0.19407691460047105,0.19436876185740753,0.19422283822893929,0.97835719068342308,2.6176553216850085E-4,3108.1952398544636,450000,{"$f":"G682-H682/User_entry!$E$18","v":1608.1952398544636},1608.1952398544636,null,{"$f":"HLOOKUP(User_entry!$B$56,Computations!$N$54:$R$1054,Computations!A682+1,FALSE)","v":3108.1952398544636},{"$f":"HLOOKUP(User_entry!$E$56,Computations!$S$54:$W$1054,Computations!A682+1,FALSE)","v":450000},{"$f":"Computations!$F$15+Computations!$E$15*D682","v":3108.1952398544636},{"$f":"EXP(Computations!$F$16)*EXP(Computations!$E$16)^Computations!D682","v":3304.7627338752377},{"$f":"Computations!$F$17+Computations!$E$17*LN(Computations!D682)","v":2959.5828165950065},{"$f":"Computations!$F$18+Computations!$E$18*Computations!D682+Computations!$D$18*Computations!D682^2","v":3032.1838394581277},{"$f":"Computations!$F$19+Computations!$E$19*Computations!D682+Computations!$D$19*Computations!D682^2+Computations!$C$19*Computations!D682^3","v":3032.1838394581277},{"$f":"Computations!$J$15+Computations!$I$15*D682","v":450000},{"$f":"EXP(Computations!$J$16)*EXP(Computations!$I$16)^Computations!D682","v":450000.00000000035},{"$f":"Computations!$J$17+Computations!$I$17*LN(Computations!D682)","v":450000},{"$f":"Computations!$J$18+Computations!$I$18*Computations!D682+Computations!$H$18*Computations!D682^2","v":450000},{"$f":"Computations!$J$19+Computations!$I$19*Computations!D682+Computations!$H$19*Computations!D682^2+Computations!$G$19*Computations!D682^3","v":450000}]
[629,0.19436876185740753,0.19466060911434402,0.19451468548587578,0.97861612967411271,2.5893899068962778E-4,3112.0353353404698,450000,{"$f":"G683-H683/User_entry!$E$18","v":1612.0353353404698},1612.0353353404698,null,{"$f":"HLOOKUP(User_entry!$B$56,Computations!$N$54:$R$1054,Computations!A683+1,FALSE)","v":3112.0353353404698},{"$f":"HLOOKUP(User_entry!$E$56,Computations!$S$54:$W$1054,Computations!A683+1,FALSE)","v":450000},{"$f":"Computations!$F$15+Computations!$E$15*D683","v":3112.0353353404698},{"$f":"EXP(Computations!$F$16)*EXP(Computations!$E$16)^Computations!D683","v":3311.6191683102356},{"$f":"Computations!$F$17+Computations!$E$17*LN(Computations!D683)","v":2961.4904004230111},{"$f":"Computations!$F$18+Computations!$E$18*Computations!D683+Computations!$D$18*Computations!D683^2","v":3034.3593172962046},{"$f":"Computations!$F$19+Computations!$E$19*Computations!D683+Computations!$D$19*Computations!D683^2+Computations!$C$19*Computations!D683^3","v":3034.3593172962046},{"$f":"Computations!$J$15+Computations!$I$15*D683","v":450000},{"$f":"EXP(Computations!$J$16)*EXP(Computations!$I$16)^Computations!D683","v":450000.00000000035},{"$f":"Computations!$J$17+Computations!$I$17*LN(Computations!D683)","v":450000},{"$f":"Computations!$J$18+Computations!$I$18*Computations!D683+Computations!$H$18*Computations!D683^2","v":450000},{"$f":"Computations!$J$19+Computations!$I$19*Computations!D683+Computations!$H$19*Computations!D683^2+Computations!$G$19*Computations!D683^3","v":450000}]
[630,0.19466060911434402,0.1949524563712805,0.19480653274281226,0.97887226839667951,2.5613872256680104E-4,3115.875430826477,450000,{"$f":"G684-H684/User_entry!$E$18","v":1615.875430826477},1615.875430826477,null,{"$f":"HLOOKUP(User_entry!$B$56,Computations!$N$54:$R$1054,Computations!A684+1,FALSE)","v":3115.875430826477},{"$f":"HLOOKUP(User_entry!$E$56,Computations!$S$54:$W$1054,Computations!A684+1,FALSE)","v":450000},{"$f":"Computations!$F$15+Computations!$E$15*D684","v":3115.875430826477},{"$f":"EXP(Computations!$F$16)*EXP(Computations!$E$16)^Computations!D684","v":3318.4898278793639},{"$f":"Computations!$F$17+Computations!$E$17*LN(Computations!D684)","v":2963.3951242819712},{"$f":"Computations!$F$18+Computations!$E$18*Computations!D684+Computations!$D$18*Computations!D684^2","v":3036.5284858882533},{"$f":"Computations!$F$19+Computations!$E$19*Computations!D684+Computations!$D$19*Computations!D684^2+Computations!$C$19*Computations!D684^3","v":3036.5284858882533},{"$f":"Computations!$J$15+Computations!$I$15*D684","v":450000},{"$f":"EXP(Computations!$J$16)*EXP(Computations!$I$16)^Computations!D684","v":450000.00000000035},{"$f":"Computations!$J$17+Computations!$I$17*LN(Computations!D684)","v":450000},{"$f":"Computations!$J$18+Computations!$I$18*Computations!D684+Computations!$H$18*Computations!D684^2","v":450000},{"$f":"Computations!$J$19+Computations!$I$19*Computations!D684+Computations!$H$19*Computations!D684^2+Computations!$G$19*Computations!D684^3","v":450000}]
[631,0.1949524563712805,0.19524430362821699,0.19509837999974874,0.97912563293927324,2.5336454259372587E-4,3119.7155263124832,450000,{"$f":"G685-H685/User_entry!$E$18","v":1619.7155263124832},1619.7155263124832,null,{"$f":"HLOOKUP(User_entry!$B$56,Computations!$N$54:$R$1054,Computations!A685+1,FALSE)","v":3119.7155263124832},{"$f":"HLOOKUP(User_entry!$E$56,Computations!$S$54:$W$1054,Computations!A685+1,FALSE)","v":450000},{"$f":"Computations!$F$15+Computations!$E$15*D685","v":3119.7155263124832},{"$f":"EXP(Computations!$F$16)*EXP(Computations!$E$16)^Computations!D685","v":3325.3747420956956},{"$f":"Computations!$F$17+Computations!$E$17*LN(Computations!D685)","v":2965.296996734739},{"$f":"Computations!$F$18+Computations!$E$18*Computations!D685+Computations!$D$18*Computations!D685^2","v":3038.6913452342742},{"$f":"Computations!$F$19+Computations!$E$19*Computations!D685+Computations!$D$19*Computations!D685^2+Computations!$C$19*Computations!D685^3","v":3038.6913452342742},{"$f":"Computations!$J$15+Computations!$I$15*D685","v":450000},{"$f":"EXP(Computations!$J$16)*EXP(Computations!$I$16)^Computations!D685","v":450000.00000000035},{"$f":"Computations!$J$17+Computations!$I$17*LN(Computations!D685)","v":450000},{"$f":"Computations!$J$18+Computations!$I$18*Computations!D685+Computations!$H$18*Computations!D685^2","v":450000},{"$f":"Computations!$J$19+Computations!$I$19*Computations!D685+Computations!$H$19*Computations!D685^2+Computations!$G$19*Computations!D685^3","v":450000}]
[632,0.19524430362821699,0.19553615088515347,0.19539022725668523,0.97937624920530153,2.5061626602829179E-4,3123.5556217984895,450000,{"$f":"G686-H686/User_entry!$E$18","v":1623.5556217984895},1623.5556217984895,null,{"$f":"HLOOKUP(User_entry!$B$56,Computations!$N$54:$R$1054,Computations!A686+1,FALSE)","v":3123.5556217984895},{"$f":"HLOOKUP(User_entry!$E$56,Computations!$S$54:$W$1054,Computations!A686+1,FALSE)","v":450000},{"$f":"Computations!$F$15+Computations!$E$15*D686","v":3123.5556217984895},{"$f":"EXP(Computations!$F$16)*EXP(Computations!$E$16)^Computations!D686","v":3332.2739405335342},{"$f":"Computations!$F$17+Computations!$E$17*LN(Computations!D686)","v":2967.196026305769},{"$f":"Computations!$F$18+Computations!$E$18*Computations!D686+Computations!$D$18*Computations!D686^2","v":3040.8478953342656},{"$f":"Computations!$F$19+Computations!$E$19*Computations!D686+Computations!$D$19*Computations!D686^2+Computations!$C$19*Computations!D686^3","v":3040.8478953342656},{"$f":"Computations!$J$15+Computations!$I$15*D686","v":450000},{"$f":"EXP(Computations!$J$16)*EXP(Computations!$I$16)^Computations!D686","v":450000.00000000035},{"$f":"Computations!$J$17+Computations!$I$17*LN(Computations!D686)","v":450000},{"$f":"Computations!$J$18+Computations!$I$18*Computations!D686+Computations!$H$18*Computations!D686^2","v":450000},{"$f":"Computations!$J$19+Computations!$I$19*Computations!D686+Computations!$H$19*Computations!D686^2+Computations!$G$19*Computations!D686^3","v":450000}]
[633,0.19553615088515347,0.19582799814208995,0.19568207451362171,0.97962414291390787,2.478937086063393E-4,3127.3957172844957,450000,{"$f":"G687-H687/User_entry!$E$18","v":1627.3957172844957},1627.3957172844957,null,{"$f":"HLOOKUP(User_entry!$B$56,Computations!$N$54:$R$1054,Computations!A687+1,FALSE)","v":3127.3957172844957},{"$f":"HLOOKUP(User_entry!$E$56,Computations!$S$54:$W$1054,Computations!A687+1,FALSE)","v":450000},{"$f":"Computations!$F$15+Computations!$E$15*D687","v":3127.3957172844957},{"$f":"EXP(Computations!$F$16)*EXP(Computations!$E$16)^Computations!D687","v":3339.187452828538},{"$f":"Computations!$F$17+Computations!$E$17*LN(Computations!D687)","v":2969.0922214813454},{"$f":"Computations!$F$18+Computations!$E$18*Computations!D687+Computations!$D$18*Computations!D687^2","v":3042.9981361882296},{"$f":"Computations!$F$19+Computations!$E$19*Computations!D687+Computations!$D$19*Computations!D687^2+Computations!$C$19*Computations!D687^3","v":3042.9981361882296},{"$f":"Computations!$J$15+Computations!$I$15*D687","v":450000},{"$f":"EXP(Computations!$J$16)*EXP(Computations!$I$16)^Computations!D687","v":450000.00000000035},{"$f":"Computations!$J$17+Computations!$I$17*LN(Computations!D687)","v":450000},{"$f":"Computations!$J$18+Computations!$I$18*Computations!D687+Computations!$H$18*Computations!D687^2","v":450000},{"$f":"Computations!$J$19+Computations!$I$19*Computations!D687+Computations!$H$19*Computations!D687^2+Computations!$G$19*Computations!D687^3","v":450000}]
[634,0.19582799814208995,0.19611984539902644,0.1959739217705582,0.97986933960046241,2.4519668655453852E-4,3131.235812770502,450000,{"$f":"G688-H688/User_entry!$E$18","v":1631.235812770502},1631.235812770502,null,{"$f":"HLOOKUP(User_entry!$B$56,Computations!$N$54:$R$1054,Computations!A688+1,FALSE)","v":3131.235812770502},{"$f":"HLOOKUP(User_entry!$E$56,Computations!$S$54:$W$1054,Computations!A688+1,FALSE)","v":450000},{"$f":"Computations!$F$15+Computations!$E$15*D688","v":3131.235812770502},{"$f":"EXP(Computations!$F$16)*EXP(Computations!$E$16)^Computations!D688","v":3346.1153086778559},{"$f":"Computations!$F$17+Computations!$E$17*LN(Computations!D688)","v":2970.9855907098104},{"$f":"Computations!$F$18+Computations!$E$18*Computations!D688+Computations!$D$18*Computations!D688^2","v":3045.1420677961655},{"$f":"Computations!$F$19+Computations!$E$19*Computations!D688+Computations!$D$19*Computations!D688^2+Computations!$C$19*Computations!D688^3","v":3045.1420677961655},{"$f":"Computations!$J$15+Computations!$I$15*D688","v":450000},{"$f":"EXP(Computations!$J$16)*EXP(Computations!$I$16)^Computations!D688","v":450000.00000000035},{"$f":"Computations!$J$17+Computations!$I$17*LN(Computations!D688)","v":450000},{"$f":"Computations!$J$18+Computations!$I$18*Computations!D688+Computations!$H$18*Computations!D688^2","v":450000},{"$f":"Computations!$J$19+Computations!$I$19*Computations!D688+Computations!$H$19*Computations!D688^2+Computations!$G$19*Computations!D688^3","v":450000}]
[635,0.19611984539902644,0.19641169265596292,0.19626576902749468,0.98011186461706434,2.4252501660193548E-4,3135.0759082565082,450000,{"$f":"G689-H689/User_entry!$E$18","v":1635.0759082565082},1635.0759082565082,null,{"$f":"HLOOKUP(User_entry!$B$56,Computations!$N$54:$R$1054,Computations!A689+1,FALSE)","v":3135.0759082565082},{"$f":"HLOOKUP(User_entry!$E$56,Computations!$S$54:$W$1054,Computations!A689+1,FALSE)","v":450000},{"$f":"Computations!$F$15+Computations!$E$15*D689","v":3135.0759082565082},{"$f":"EXP(Computations!$F$16)*EXP(Computations!$E$16)^Computations!D689","v":3353.0575378402468},{"$f":"Computations!$F$17+Computations!$E$17*LN(Computations!D689)","v":2972.8761424017912},{"$f":"Computations!$F$18+Computations!$E$18*Computations!D689+Computations!$D$18*Computations!D689^2","v":3047.2796901580732},{"$f":"Computations!$F$19+Computations!$E$19*Computations!D689+Computations!$D$19*Computations!D689^2+Computations!$C$19*Computations!D689^3","v":3047.2796901580732},{"$f":"Computations!$J$15+Computations!$I$15*D689","v":450000},{"$f":"EXP(Computations!$J$16)*EXP(Computations!$I$16)^Computations!D689","v":450000.00000000035},{"$f":"Computations!$J$17+Computations!$I$17*LN(Computations!D689)","v":450000},{"$f":"Computations!$J$18+Computations!$I$18*Computations!D689+Computations!$H$18*Computations!D689^2","v":450000},{"$f":"Computations!$J$19+Computations!$I$19*Computations!D689+Computations!$H$19*Computations!D689^2+Computations!$G$19*Computations!D689^3","v":450000}]
[636,0.19641169265596292,0.19670353991289941,0.19655761628443116,0.98035174313305773,2.3987851599338583E-4,3138.9160037425145,450000,{"$f":"G690-H690/User_entry!$E$18","v":1638.9160037425145},1638.9160037425145,null,{"$f":"HLOOKUP(User_entry!$B$56,Computations!$N$54:$R$1054,Computations!A690+1,FALSE)","v":3138.9160037425145},{"$f":"HLOOKUP(User_entry!$E$56,Computations!$S$54:$W$1054,Computations!A690+1,FALSE)","v":450000},{"$f":"Computations!$F$15+Computations!$E$15*D690","v":3138.9160037425145},{"$f":"EXP(Computations!$F$16)*EXP(Computations!$E$16)^Computations!D690","v":3360.0141701362109},{"$f":"Computations!$F$17+Computations!$E$17*LN(Computations!D690)","v":2974.7638849304212},{"$f":"Computations!$F$18+Computations!$E$18*Computations!D690+Computations!$D$18*Computations!D690^2","v":3049.4110032739518},{"$f":"Computations!$F$19+Computations!$E$19*Computations!D690+Computations!$D$19*Computations!D690^2+Computations!$C$19*Computations!D690^3","v":3049.4110032739518},{"$f":"Computations!$J$15+Computations!$I$15*D690","v":450000},{"$f":"EXP(Computations!$J$16)*EXP(Computations!$I$16)^Computations!D690","v":450000.00000000035},{"$f":"Computations!$J$17+Computations!$I$17*LN(Computations!D690)","v":450000},{"$f":"Computations!$J$18+Computations!$I$18*Computations!D690+Computations!$H$18*Computations!D690^2","v":450000},{"$f":"Computations!$J$19+Computations!$I$19*Computations!D690+Computations!$H$19*Computations!D690^2+Computations!$G$19*Computations!D690^3","v":450000}]
[637,0.19670353991289941,0.19699538716983589,0.19684946354136765,0.98058900013555661,2.3725700249888071E-4,3142.7560992285207,450000,{"$f":"G691-H691/User_entry!$E$18","v":1642.7560992285207},1642.7560992285207,null,{"$f":"HLOOKUP(User_entry!$B$56,Computations!$N$54:$R$1054,Computations!A691+1,FALSE)","v":3142.7560992285207},{"$f":"HLOOKUP(User_entry!$E$56,Computations!$S$54:$W$1054,Computations!A691+1,FALSE)","v":450000},{"$f":"Computations!$F$15+Computations!$E$15*D691","v":3142.7560992285207},{"$f":"EXP(Computations!$F$16)*EXP(Computations!$E$16)^Computations!D691","v":3366.9852354481186},{"$f":"Computations!$F$17+Computations!$E$17*LN(Computations!D691)","v":2976.648826631566},{"$f":"Computations!$F$18+Computations!$E$18*Computations!D691+Computations!$D$18*Computations!D691^2","v":3051.5360071438026},{"$f":"Computations!$F$19+Computations!$E$19*Computations!D691+Computations!$D$19*Computations!D691^2+Computations!$C$19*Computations!D691^3","v":3051.5360071438026},{"$f":"Computations!$J$15+Computations!$I$15*D691","v":450000},{"$f":"EXP(Computations!$J$16)*EXP(Computations!$I$16)^Computations!D691","v":450000.00000000035},{"$f":"Computations!$J$17+Computations!$I$17*LN(Computations!D691)","v":450000},{"$f":"Computations!$J$18+Computations!$I$18*Computations!D691+Computations!$H$18*Computations!D691^2","v":450000},{"$f":"Computations!$J$19+Computations!$I$19*Computations!D691+Computations!$H$19*Computations!D691^2+Computations!$G$19*Computations!D691^3","v":450000}]
[638,0.19699538716983589,0.19728723442677237,0.19714131079830413,0.98082366042998448,2.3466029442786862E-4,3146.5961947145279,450000,{"$f":"G692-H692/User_entry!$E$18","v":1646.5961947145279},1646.5961947145279,null,{"$f":"HLOOKUP(User_entry!$B$56,Computations!$N$54:$R$1054,Computations!A692+1,FALSE)","v":3146.5961947145279},{"$f":"HLOOKUP(User_entry!$E$56,Computations!$S$54:$W$1054,Computations!A692+1,FALSE)","v":450000},{"$f":"Computations!$F$15+Computations!$E$15*D692","v":3146.5961947145279},{"$f":"EXP(Computations!$F$16)*EXP(Computations!$E$16)^Computations!D692","v":3373.970763720336},{"$f":"Computations!$F$17+Computations!$E$17*LN(Computations!D692)","v":2978.5309758040416},{"$f":"Computations!$F$18+Computations!$E$18*Computations!D692+Computations!$D$18*Computations!D692^2","v":3053.6547017676257},{"$f":"Computations!$F$19+Computations!$E$19*Computations!D692+Computations!$D$19*Computations!D692^2+Computations!$C$19*Computations!D692^3","v":3053.6547017676257},{"$f":"Computations!$J$15+Computations!$I$15*D692","v":450000},{"$f":"EXP(Computations!$J$16)*EXP(Computations!$I$16)^Computations!D692","v":450000.00000000035},{"$f":"Computations!$J$17+Computations!$I$17*LN(Computations!D692)","v":450000},{"$f":"Computations!$J$18+Computations!$I$18*Computations!D692+Computations!$H$18*Computations!D692^2","v":450000},{"$f":"Computations!$J$19+Computations!$I$19*Computations!D692+Computations!$H$19*Computations!D692^2+Computations!$G$19*Computations!D692^3","v":450000}]
[639,0.19728723442677237,0.19757908168370886,0.19743315805524062,0.9810557486406235,2.3208821063902541E-4,3150.4362902005341,450000,{"$f":"G693-H693/User_entry!$E$18","v":1650.4362902005341},1650.4362902005341,null,{"$f":"HLOOKUP(User_entry!$B$56,Computations!$N$54:$R$1054,Computations!A693+1,FALSE)","v":3150.4362902005341},{"$f":"HLOOKUP(User_entry!$E$56,Computations!$S$54:$W$1054,Computations!A693+1,FALSE)","v":450000},{"$f":"Computations!$F$15+Computations!$E$15*D693","v":3150.4362902005341},{"$f":"EXP(Computations!$F$16)*EXP(Computations!$E$16)^Computations!D693","v":3380.9707849593551},{"$f":"Computations!$F$17+Computations!$E$17*LN(Computations!D693)","v":2980.4103407098351},{"$f":"Computations!$F$18+Computations!$E$18*Computations!D693+Computations!$D$18*Computations!D693^2","v":3055.7670871454202},{"$f":"Computations!$F$19+Computations!$E$19*Computations!D693+Computations!$D$19*Computations!D693^2+Computations!$C$19*Computations!D693^3","v":3055.7670871454202},{"$f":"Computations!$J$15+Computations!$I$15*D693","v":450000},{"$f":"EXP(Computations!$J$16)*EXP(Computations!$I$16)^Computations!D693","v":450000.00000000035},{"$f":"Computations!$J$17+Computations!$I$17*LN(Computations!D693)","v":450000},{"$f":"Computations!$J$18+Computations!$I$18*Computations!D693+Computations!$H$18*Computations!D693^2","v":450000},{"$f":"Computations!$J$19+Computations!$I$19*Computations!D693+Computations!$H$19*Computations!D693^2+Computations!$G$19*Computations!D693^3","v":450000}]
[640,0.19757908168370886,0.19787092894064534,0.1977250053121771,0.98128528921117453,2.2954057055102339E-4,3154.2763856865404,450000,{"$f":"G694-H694/User_entry!$E$18","v":1654.2763856865404},1654.2763856865404,null,{"$f":"HLOOKUP(User_entry!$B$56,Computations!$N$54:$R$1054,Computations!A694+1,FALSE)","v":3154.2763856865404},{"$f":"HLOOKUP(User_entry!$E$56,Computations!$S$54:$W$1054,Computations!A694+1,FALSE)","v":450000},{"$f":"Computations!$F$15+Computations!$E$15*D694","v":3154.2763856865404},{"$f":"EXP(Computations!$F$16)*EXP(Computations!$E$16)^Computations!D694","v":3387.9853292339249},{"$f":"Computations!$F$17+Computations!$E$17*LN(Computations!D694)","v":2982.2869295743221},{"$f":"Computations!$F$18+Computations!$E$18*Computations!D694+Computations!$D$18*Computations!D694^2","v":3057.873163277186},{"$f":"Computations!$F$19+Computations!$E$19*Computations!D694+Computations!$D$19*Computations!D694^2+Computations!$C$19*Computations!D694^3","v":3057.873163277186},{"$f":"Computations!$J$15+Computations!$I$15*D694","v":450000},{"$f":"EXP(Computations!$J$16)*EXP(Computations!$I$16)^Computations!D694","v":450000.00000000035},{"$f":"Computations!$J$17+Computations!$I$17*LN(Computations!D694)","v":450000},{"$f":"Computations!$J$18+Computations!$I$18*Computations!D694+Computations!$H$18*Computations!D694^2","v":450000},{"$f":"Computations!$J$19+Computations!$I$19*Computations!D694+Computations!$H$19*Computations!D694^2+Computations!$G$19*Computations!D694^3","v":450000}]
[641,0.19787092894064534,0.19816277619758182,0.19801685256911358,0.98151230640532861,2.2701719415407773E-4,3158.1164811725466,450000,{"$f":"G695-H695/User_entry!$E$18","v":1658.1164811725466},1658.1164811725466,null,{"$f":"HLOOKUP(User_entry!$B$56,Computations!$N$54:$R$1054,Computations!A695+1,FALSE)","v":3158.1164811725466},{"$f":"HLOOKUP(User_entry!$E$56,Computations!$S$54:$W$1054,Computations!A695+1,FALSE)","v":450000},{"$f":"Computations!$F$15+Computations!$E$15*D695","v":3158.1164811725466},{"$f":"EXP(Computations!$F$16)*EXP(Computations!$E$16)^Computations!D695","v":3395.0144266751768},{"$f":"Computations!$F$17+Computations!$E$17*LN(Computations!D695)","v":2984.1607505864813},{"$f":"Computations!$F$18+Computations!$E$18*Computations!D695+Computations!$D$18*Computations!D695^2","v":3059.9729301629241},{"$f":"Computations!$F$19+Computations!$E$19*Computations!D695+Computations!$D$19*Computations!D695^2+Computations!$C$19*Computations!D695^3","v":3059.9729301629241},{"$f":"Computations!$J$15+Computations!$I$15*D695","v":450000},{"$f":"EXP(Computations!$J$16)*EXP(Computations!$I$16)^Computations!D695","v":450000.00000000035},{"$f":"Computations!$J$17+Computations!$I$17*LN(Computations!D695)","v":450000},{"$f":"Computations!$J$18+Computations!$I$18*Computations!D695+Computations!$H$18*Computations!D695^2","v":450000},{"$f":"Computations!$J$19+Computations!$I$19*Computations!D695+Computations!$H$19*Computations!D695^2+Computations!$G$19*Computations!D695^3","v":450000}]
[642,0.19816277619758182,{"$f":"B696+$D$11","v":0.19845462345451831},{"$f":"AVERAGE(B696:C696)","v":0.19830869982605007},{"$f":"IF($D$3=\"Beta\",_xlfn.BETA.DIST(C696,$D$4,$D$5,TRUE),IF($D$3=\"Gamma\",_xlfn.GAMMA.DIST(C696,$D$4,$D$5,TRUE),IF($D$3=\"Lognorm\",_xlfn.LOGNORM.DIST(C696,$D$4,$D$5,TRUE),_xlfn.NORM.DIST(C696,$D$4,$D$5,TRUE))))","v":0.98173682430734899},{"$f":"E696-E695","v":2.2451790202038246E-4},{"$f":"L696","v":3161.9565766585529},{"$f":"M696","v":450000},{"$f":"G696-H696/User_entry!$E$18","v":1661.9565766585529},{"$f":"MAX(I696,0)","v":1661.9565766585529},null,{"$f":"HLOOKUP(User_entry!$B$56,Computations!$N$54:$R$1054,Computations!A696+1,FALSE)","v":3161.9565766585529},{"$f":"HLOOKUP(User_entry!$E$56,Computations!$S$54:$W$1054,Computations!A696+1,FALSE)","v":450000},{"$f":"Computations!$F$15+Computations!$E$15*D696","v":3161.9565766585529},{"$f":"EXP(Computations!$F$16)*EXP(Computations!$E$16)^Computations!D696","v":3402.0581074767547},{"$f":"Computations!$F$17+Computations!$E$17*LN(Computations!D696)","v":2986.0318118991108},{"$f":"Computations!$F$18+Computations!$E$18*Computations!D696+Computations!$D$18*Computations!D696^2","v":3062.0663878026335},{"$f":"Computations!$F$19+Computations!$E$19*Computations!D696+Computations!$D$19*Computations!D696^2+Computations!$C$19*Computations!D696^3","v":3062.0663878026335},{"$f":"Computations!$J$15+Computations!$I$15*D696","v":450000},{"$f":"EXP(Computations!$J$16)*EXP(Computations!$I$16)^Computations!D696","v":450000.00000000035},{"$f":"Computations!$J$17+Computations!$I$17*LN(Computations!D696)","v":450000},{"$f":"Computations!$J$18+Computations!$I$18*Computations!D696+Computations!$H$18*Computations!D696^2","v":450000},{"$f":"Computations!$J$19+Computations!$I$19*Computations!D696+Computations!$H$19*Computations!D696^2+Computations!$G$19*Computations!D696^3","v":450000}]
[643,{"$f":"C696","v":0.19845462345451831},0.19874647071145479,0.19860054708298655,0.98195886682266309,2.2204251531410257E-4,3165.7966721445591,450000,{"$f":"G697-H697/User_entry!$E$18","v":1665.7966721445591},1665.7966721445591,null,{"$f":"HLOOKUP(User_entry!$B$56,Computations!$N$54:$R$1054,Computations!A697+1,FALSE)","v":3165.7966721445591},{"$f":"HLOOKUP(User_entry!$E$56,Computations!$S$54:$W$1054,Computations!A697+1,FALSE)","v":450000},{"$f":"Computations!$F$15+Computations!$E$15*D697","v":3165.7966721445591},{"$f":"EXP(Computations!$F$16)*EXP(Computations!$E$16)^Computations!D697","v":3409.1164018949489},{"$f":"Computations!$F$17+Computations!$E$17*LN(Computations!D697)","v":2987.9001216290403},{"$f":"Computations!$F$18+Computations!$E$18*Computations!D697+Computations!$D$18*Computations!D697^2","v":3064.1535361963142},{"$f":"Computations!$F$19+Computations!$E$19*Computations!D697+Computations!$D$19*Computations!D697^2+Computations!$C$19*Computations!D697^3","v":3064.1535361963142},{"$f":"Computations!$J$15+Computations!$I$15*D697","v":450000},{"$f":"EXP(Computations!$J$16)*EXP(Computations!$I$16)^Computations!D697","v":450000.00000000035},{"$f":"Computations!$J$17+Computations!$I$17*LN(Computations!D697)","v":450000},{"$f":"Computations!$J$18+Computations!$I$18*Computations!D697+Computations!$H$18*Computations!D697^2","v":450000},{"$f":"Computations!$J$19+Computations!$I$19*Computations!D697+Computations!$H$19*Computations!D697^2+Computations!$G$19*Computations!D697^3","v":450000}]
[644,0.19874647071145479,0.19903831796839128,0.19889239433992303,0.98217845767846379,2.1959085580069981E-4,3169.6367676305654,450000,{"$f":"G698-H698/User_entry!$E$18","v":1669.6367676305654},1669.6367676305654,null,{"$f":"HLOOKUP(User_entry!$B$56,Computations!$N$54:$R$1054,Computations!A698+1,FALSE)","v":3169.6367676305654},{"$f":"HLOOKUP(User_entry!$E$56,Computations!$S$54:$W$1054,Computations!A698+1,FALSE)","v":450000},{"$f":"Computations!$F$15+Computations!$E$15*D698","v":3169.6367676305654},{"$f":"EXP(Computations!$F$16)*EXP(Computations!$E$16)^Computations!D698","v":3416.1893402488195},{"$f":"Computations!$F$17+Computations!$E$17*LN(Computations!D698)","v":2989.7656878573425},{"$f":"Computations!$F$18+Computations!$E$18*Computations!D698+Computations!$D$18*Computations!D698^2","v":3066.2343753439677},{"$f":"Computations!$F$19+Computations!$E$19*Computations!D698+Computations!$D$19*Computations!D698^2+Computations!$C$19*Computations!D698^3","v":3066.2343753439677},{"$f":"Computations!$J$15+Computations!$I$15*D698","v":450000},{"$f":"EXP(Computations!$J$16)*EXP(Computations!$I$16)^Computations!D698","v":450000.00000000035},{"$f":"Computations!$J$17+Computations!$I$17*LN(Computations!D698)","v":450000},{"$f":"Computations!$J$18+Computations!$I$18*Computations!D698+Computations!$H$18*Computations!D698^2","v":450000},{"$f":"Computations!$J$19+Computations!$I$19*Computations!D698+Computations!$H$19*Computations!D698^2+Computations!$G$19*Computations!D698^3","v":450000}]
[645,0.19903831796839128,0.19933016522532776,0.19918424159685952,0.98239562042432216,2.1716274585836803E-4,3173.4768631165716,450000,{"$f":"G699-H699/User_entry!$E$18","v":1673.4768631165716},1673.4768631165716,null,{"$f":"HLOOKUP(User_entry!$B$56,Computations!$N$54:$R$1054,Computations!A699+1,FALSE)","v":3173.4768631165716},{"$f":"HLOOKUP(User_entry!$E$56,Computations!$S$54:$W$1054,Computations!A699+1,FALSE)","v":450000},{"$f":"Computations!$F$15+Computations!$E$15*D699","v":3173.4768631165716},{"$f":"EXP(Computations!$F$16)*EXP(Computations!$E$16)^Computations!D699","v":3423.2769529203301},{"$f":"Computations!$F$17+Computations!$E$17*LN(Computations!D699)","v":2991.6285186295418},{"$f":"Computations!$F$18+Computations!$E$18*Computations!D699+Computations!$D$18*Computations!D699^2","v":3068.308905245593},{"$f":"Computations!$F$19+Computations!$E$19*Computations!D699+Computations!$D$19*Computations!D699^2+Computations!$C$19*Computations!D699^3","v":3068.308905245593},{"$f":"Computations!$J$15+Computations!$I$15*D699","v":450000},{"$f":"EXP(Computations!$J$16)*EXP(Computations!$I$16)^Computations!D699","v":450000.00000000035},{"$f":"Computations!$J$17+Computations!$I$17*LN(Computations!D699)","v":450000},{"$f":"Computations!$J$18+Computations!$I$18*Computations!D699+Computations!$H$18*Computations!D699^2","v":450000},{"$f":"Computations!$J$19+Computations!$I$19*Computations!D699+Computations!$H$19*Computations!D699^2+Computations!$G$19*Computations!D699^3","v":450000}]
[646,0.19933016522532776,0.19962201248226424,0.199476088853796,0.98261037843280841,2.1475800848624882E-4,3177.3169586025788,450000,{"$f":"G700-H700/User_entry!$E$18","v":1677.3169586025788},1677.3169586025788,null,{"$f":"HLOOKUP(User_entry!$B$56,Computations!$N$54:$R$1054,Computations!A700+1,FALSE)","v":3177.3169586025788},{"$f":"HLOOKUP(User_entry!$E$56,Computations!$S$54:$W$1054,Computations!A700+1,FALSE)","v":450000},{"$f":"Computations!$F$15+Computations!$E$15*D700","v":3177.3169586025788},{"$f":"EXP(Computations!$F$16)*EXP(Computations!$E$16)^Computations!D700","v":3430.3792703544823},{"$f":"Computations!$F$17+Computations!$E$17*LN(Computations!D700)","v":2993.488621955823},{"$f":"Computations!$F$18+Computations!$E$18*Computations!D700+Computations!$D$18*Computations!D700^2","v":3070.3771259011901},{"$f":"Computations!$F$19+Computations!$E$19*Computations!D700+Computations!$D$19*Computations!D700^2+Computations!$C$19*Computations!D700^3","v":3070.3771259011901},{"$f":"Computations!$J$15+Computations!$I$15*D700","v":450000},{"$f":"EXP(Computations!$J$16)*EXP(Computations!$I$16)^Computations!D700","v":450000.00000000035},{"$f":"Computations!$J$17+Computations!$I$17*LN(Computations!D700)","v":450000},{"$f":"Computations!$J$18+Computations!$I$18*Computations!D700+Computations!$H$18*Computations!D700^2","v":450000},{"$f":"Computations!$J$19+Computations!$I$19*Computations!D700+Computations!$H$19*Computations!D700^2+Computations!$G$19*Computations!D700^3","v":450000}]
[647,0.19962201248226424,0.19991385973920073,0.19976793611073249,0.98282275490012239,2.1237646731397941E-4,3181.157054088585,450000,{"$f":"G701-H701/User_entry!$E$18","v":1681.157054088585},1681.157054088585,null,{"$f":"HLOOKUP(User_entry!$B$56,Computations!$N$54:$R$1054,Computations!A701+1,FALSE)","v":3181.157054088585},{"$f":"HLOOKUP(User_entry!$E$56,Computations!$S$54:$W$1054,Computations!A701+1,FALSE)","v":450000},{"$f":"Computations!$F$15+Computations!$E$15*D701","v":3181.157054088585},{"$f":"EXP(Computations!$F$16)*EXP(Computations!$E$16)^Computations!D701","v":3437.4963230594367},{"$f":"Computations!$F$17+Computations!$E$17*LN(Computations!D701)","v":2995.3460058112396},{"$f":"Computations!$F$18+Computations!$E$18*Computations!D701+Computations!$D$18*Computations!D701^2","v":3072.4390373107576},{"$f":"Computations!$F$19+Computations!$E$19*Computations!D701+Computations!$D$19*Computations!D701^2+Computations!$C$19*Computations!D701^3","v":3072.4390373107576},{"$f":"Computations!$J$15+Computations!$I$15*D701","v":450000},{"$f":"EXP(Computations!$J$16)*EXP(Computations!$I$16)^Computations!D701","v":450000.00000000035},{"$f":"Computations!$J$17+Computations!$I$17*LN(Computations!D701)","v":450000},{"$f":"Computations!$J$18+Computations!$I$18*Computations!D701+Computations!$H$18*Computations!D701^2","v":450000},{"$f":"Computations!$J$19+Computations!$I$19*Computations!D701+Computations!$H$19*Computations!D701^2+Computations!$G$19*Computations!D701^3","v":450000}]
[648,0.19991385973920073,0.20020570699613721,0.20005978336766897,0.98303277284673318,2.1001794661079654E-4,3184.9971495745913,450000,{"$f":"G702-H702/User_entry!$E$18","v":1684.9971495745913},1684.9971495745913,null,{"$f":"HLOOKUP(User_entry!$B$56,Computations!$N$54:$R$1054,Computations!A702+1,FALSE)","v":3184.9971495745913},{"$f":"HLOOKUP(User_entry!$E$56,Computations!$S$54:$W$1054,Computations!A702+1,FALSE)","v":450000},{"$f":"Computations!$F$15+Computations!$E$15*D702","v":3184.9971495745913},{"$f":"EXP(Computations!$F$16)*EXP(Computations!$E$16)^Computations!D702","v":3444.6281416066531},{"$f":"Computations!$F$17+Computations!$E$17*LN(Computations!D702)","v":2997.2006781359169},{"$f":"Computations!$F$18+Computations!$E$18*Computations!D702+Computations!$D$18*Computations!D702^2","v":3074.4946394742979},{"$f":"Computations!$F$19+Computations!$E$19*Computations!D702+Computations!$D$19*Computations!D702^2+Computations!$C$19*Computations!D702^3","v":3074.4946394742979},{"$f":"Computations!$J$15+Computations!$I$15*D702","v":450000},{"$f":"EXP(Computations!$J$16)*EXP(Computations!$I$16)^Computations!D702","v":450000.00000000035},{"$f":"Computations!$J$17+Computations!$I$17*LN(Computations!D702)","v":450000},{"$f":"Computations!$J$18+Computations!$I$18*Computations!D702+Computations!$H$18*Computations!D702^2","v":450000},{"$f":"Computations!$J$19+Computations!$I$19*Computations!D702+Computations!$H$19*Computations!D702^2+Computations!$G$19*Computations!D702^3","v":450000}]
[649,0.20020570699613721,0.2004975542530737,0.20035163062460545,0.98324045511802804,2.0768227129486228E-4,3188.8372450605975,450000,{"$f":"G703-H703/User_entry!$E$18","v":1688.8372450605975},1688.8372450605975,null,{"$f":"HLOOKUP(User_entry!$B$56,Computations!$N$54:$R$1054,Computations!A703+1,FALSE)","v":3188.8372450605975},{"$f":"HLOOKUP(User_entry!$E$56,Computations!$S$54:$W$1054,Computations!A703+1,FALSE)","v":450000},{"$f":"Computations!$F$15+Computations!$E$15*D703","v":3188.8372450605975},{"$f":"EXP(Computations!$F$16)*EXP(Computations!$E$16)^Computations!D703","v":3451.7747566310181},{"$f":"Computations!$F$17+Computations!$E$17*LN(Computations!D703)","v":2999.0526468352555},{"$f":"Computations!$F$18+Computations!$E$18*Computations!D703+Computations!$D$18*Computations!D703^2","v":3076.5439323918099},{"$f":"Computations!$F$19+Computations!$E$19*Computations!D703+Computations!$D$19*Computations!D703^2+Computations!$C$19*Computations!D703^3","v":3076.5439323918099},{"$f":"Computations!$J$15+Computations!$I$15*D703","v":450000},{"$f":"EXP(Computations!$J$16)*EXP(Computations!$I$16)^Computations!D703","v":450000.00000000035},{"$f":"Computations!$J$17+Computations!$I$17*LN(Computations!D703)","v":450000},{"$f":"Computations!$J$18+Computations!$I$18*Computations!D703+Computations!$H$18*Computations!D703^2","v":450000},{"$f":"Computations!$J$19+Computations!$I$19*Computations!D703+Computations!$H$19*Computations!D703^2+Computations!$G$19*Computations!D703^3","v":450000}]
[650,0.2004975542530737,0.20078940151001018,0.20064347788154194,0.98344582438496886,2.0536926694081359E-4,3192.6773405466038,450000,{"$f":"G704-H704/User_entry!$E$18","v":1692.6773405466038},1692.6773405466038,null,{"$f":"HLOOKUP(User_entry!$B$56,Computations!$N$54:$R$1054,Computations!A704+1,FALSE)","v":3192.6773405466038},{"$f":"HLOOKUP(User_entry!$E$56,Computations!$S$54:$W$1054,Computations!A704+1,FALSE)","v":450000},{"$f":"Computations!$F$15+Computations!$E$15*D704","v":3192.6773405466038},{"$f":"EXP(Computations!$F$16)*EXP(Computations!$E$16)^Computations!D704","v":3458.9361988309761},{"$f":"Computations!$F$17+Computations!$E$17*LN(Computations!D704)","v":3000.9019197801354},{"$f":"Computations!$F$18+Computations!$E$18*Computations!D704+Computations!$D$18*Computations!D704^2","v":3078.5869160632938},{"$f":"Computations!$F$19+Computations!$E$19*Computations!D704+Computations!$D$19*Computations!D704^2+Computations!$C$19*Computations!D704^3","v":3078.5869160632938},{"$f":"Computations!$J$15+Computations!$I$15*D704","v":450000},{"$f":"EXP(Computations!$J$16)*EXP(Computations!$I$16)^Computations!D704","v":450000.00000000035},{"$f":"Computations!$J$17+Computations!$I$17*LN(Computations!D704)","v":450000},{"$f":"Computations!$J$18+Computations!$I$18*Computations!D704+Computations!$H$18*Computations!D704^2","v":450000},{"$f":"Computations!$J$19+Computations!$I$19*Computations!D704+Computations!$H$19*Computations!D704^2+Computations!$G$19*Computations!D704^3","v":450000}]
[651,0.20078940151001018,0.20108124876694666,0.20093532513847842,0.98364890314475817,2.0307875978931023E-4,3196.51743603261,450000,{"$f":"G705-H705/User_entry!$E$18","v":1696.51743603261},1696.51743603261,null,{"$f":"HLOOKUP(User_entry!$B$56,Computations!$N$54:$R$1054,Computations!A705+1,FALSE)","v":3196.51743603261},{"$f":"HLOOKUP(User_entry!$E$56,Computations!$S$54:$W$1054,Computations!A705+1,FALSE)","v":450000},{"$f":"Computations!$F$15+Computations!$E$15*D705","v":3196.51743603261},{"$f":"EXP(Computations!$F$16)*EXP(Computations!$E$16)^Computations!D705","v":3466.11249896866},{"$f":"Computations!$F$17+Computations!$E$17*LN(Computations!D705)","v":3002.7485048071158},{"$f":"Computations!$F$18+Computations!$E$18*Computations!D705+Computations!$D$18*Computations!D705^2","v":3080.623590488749},{"$f":"Computations!$F$19+Computations!$E$19*Computations!D705+Computations!$D$19*Computations!D705^2+Computations!$C$19*Computations!D705^3","v":3080.623590488749},{"$f":"Computations!$J$15+Computations!$I$15*D705","v":450000},{"$f":"EXP(Computations!$J$16)*EXP(Computations!$I$16)^Computations!D705","v":450000.00000000035},{"$f":"Computations!$J$17+Computations!$I$17*LN(Computations!D705)","v":450000},{"$f":"Computations!$J$18+Computations!$I$18*Computations!D705+Computations!$H$18*Computations!D705^2","v":450000},{"$f":"Computations!$J$19+Computations!$I$19*Computations!D705+Computations!$H$19*Computations!D705^2+Computations!$G$19*Computations!D705^3","v":450000}]
[652,0.20108124876694666,0.20137309602388315,0.2012271723954149,0.98384971372151198,2.0081057675380709E-4,3200.3575315186163,450000,{"$f":"G706-H706/User_entry!$E$18","v":1700.3575315186163},1700.3575315186163,null,{"$f":"HLOOKUP(User_entry!$B$56,Computations!$N$54:$R$1054,Computations!A706+1,FALSE)","v":3200.3575315186163},{"$f":"HLOOKUP(User_entry!$E$56,Computations!$S$54:$W$1054,Computations!A706+1,FALSE)","v":450000},{"$f":"Computations!$F$15+Computations!$E$15*D706","v":3200.3575315186163},{"$f":"EXP(Computations!$F$16)*EXP(Computations!$E$16)^Computations!D706","v":3473.3036878700304},{"$f":"Computations!$F$17+Computations!$E$17*LN(Computations!D706)","v":3004.5924097186321},{"$f":"Computations!$F$18+Computations!$E$18*Computations!D706+Computations!$D$18*Computations!D706^2","v":3082.6539556681764},{"$f":"Computations!$F$19+Computations!$E$19*Computations!D706+Computations!$D$19*Computations!D706^2+Computations!$C$19*Computations!D706^3","v":3082.6539556681764},{"$f":"Computations!$J$15+Computations!$I$15*D706","v":450000},{"$f":"EXP(Computations!$J$16)*EXP(Computations!$I$16)^Computations!D706","v":450000.00000000035},{"$f":"Computations!$J$17+Computations!$I$17*LN(Computations!D706)","v":450000},{"$f":"Computations!$J$18+Computations!$I$18*Computations!D706+Computations!$H$18*Computations!D706^2","v":450000},{"$f":"Computations!$J$19+Computations!$I$19*Computations!D706+Computations!$H$19*Computations!D706^2+Computations!$G$19*Computations!D706^3","v":450000}]
[653,0.20137309602388315,0.20166494328081963,0.20151901965235139,0.9840482782669423,1.985645454303242E-4,3204.1976270046225,450000,{"$f":"G707-H707/User_entry!$E$18","v":1704.1976270046225},1704.1976270046225,null,{"$f":"HLOOKUP(User_entry!$B$56,Computations!$N$54:$R$1054,Computations!A707+1,FALSE)","v":3204.1976270046225},{"$f":"HLOOKUP(User_entry!$E$56,Computations!$S$54:$W$1054,Computations!A707+1,FALSE)","v":450000},{"$f":"Computations!$F$15+Computations!$E$15*D707","v":3204.1976270046225},{"$f":"EXP(Computations!$F$16)*EXP(Computations!$E$16)^Computations!D707","v":3480.5097964249981},{"$f":"Computations!$F$17+Computations!$E$17*LN(Computations!D707)","v":3006.4336422831989},{"$f":"Computations!$F$18+Computations!$E$18*Computations!D707+Computations!$D$18*Computations!D707^2","v":3084.6780116015752},{"$f":"Computations!$F$19+Computations!$E$19*Computations!D707+Computations!$D$19*Computations!D707^2+Computations!$C$19*Computations!D707^3","v":3084.6780116015752},{"$f":"Computations!$J$15+Computations!$I$15*D707","v":450000},{"$f":"EXP(Computations!$J$16)*EXP(Computations!$I$16)^Computations!D707","v":450000.00000000035},{"$f":"Computations!$J$17+Computations!$I$17*LN(Computations!D707)","v":450000},{"$f":"Computations!$J$18+Computations!$I$18*Computations!D707+Computations!$H$18*Computations!D707^2","v":450000},{"$f":"Computations!$J$19+Computations!$I$19*Computations!D707+Computations!$H$19*Computations!D707^2+Computations!$G$19*Computations!D707^3","v":450000}]
[654,0.20166494328081963,0.20195679053775611,0.20181086690928787,0.9842446187610453,1.9634049410299781E-4,3208.0377224906297,450000,{"$f":"G708-H708/User_entry!$E$18","v":1708.0377224906297},1708.0377224906297,null,{"$f":"HLOOKUP(User_entry!$B$56,Computations!$N$54:$R$1054,Computations!A708+1,FALSE)","v":3208.0377224906297},{"$f":"HLOOKUP(User_entry!$E$56,Computations!$S$54:$W$1054,Computations!A708+1,FALSE)","v":450000},{"$f":"Computations!$F$15+Computations!$E$15*D708","v":3208.0377224906297},{"$f":"EXP(Computations!$F$16)*EXP(Computations!$E$16)^Computations!D708","v":3487.7308555875629},{"$f":"Computations!$F$17+Computations!$E$17*LN(Computations!D708)","v":3008.2722102356006},{"$f":"Computations!$F$18+Computations!$E$18*Computations!D708+Computations!$D$18*Computations!D708^2","v":3086.6957582889463},{"$f":"Computations!$F$19+Computations!$E$19*Computations!D708+Computations!$D$19*Computations!D708^2+Computations!$C$19*Computations!D708^3","v":3086.6957582889463},{"$f":"Computations!$J$15+Computations!$I$15*D708","v":450000},{"$f":"EXP(Computations!$J$16)*EXP(Computations!$I$16)^Computations!D708","v":450000.00000000035},{"$f":"Computations!$J$17+Computations!$I$17*LN(Computations!D708)","v":450000},{"$f":"Computations!$J$18+Computations!$I$18*Computations!D708+Computations!$H$18*Computations!D708^2","v":450000},{"$f":"Computations!$J$19+Computations!$I$19*Computations!D708+Computations!$H$19*Computations!D708^2+Computations!$G$19*Computations!D708^3","v":450000}]
[655,0.20195679053775611,0.2022486377946926,0.20210271416622436,0.98443875701279859,1.9413825175329524E-4,3211.8778179766359,450000,{"$f":"G709-H709/User_entry!$E$18","v":1711.8778179766359},1711.8778179766359,null,{"$f":"HLOOKUP(User_entry!$B$56,Computations!$N$54:$R$1054,Computations!A709+1,FALSE)","v":3211.8778179766359},{"$f":"HLOOKUP(User_entry!$E$56,Computations!$S$54:$W$1054,Computations!A709+1,FALSE)","v":450000},{"$f":"Computations!$F$15+Computations!$E$15*D709","v":3211.8778179766359},{"$f":"EXP(Computations!$F$16)*EXP(Computations!$E$16)^Computations!D709","v":3494.9668963759473},{"$f":"Computations!$F$17+Computations!$E$17*LN(Computations!D709)","v":3010.1081212770905},{"$f":"Computations!$F$18+Computations!$E$18*Computations!D709+Computations!$D$18*Computations!D709^2","v":3088.7071957302878},{"$f":"Computations!$F$19+Computations!$E$19*Computations!D709+Computations!$D$19*Computations!D709^2+Computations!$C$19*Computations!D709^3","v":3088.7071957302878},{"$f":"Computations!$J$15+Computations!$I$15*D709","v":450000},{"$f":"EXP(Computations!$J$16)*EXP(Computations!$I$16)^Computations!D709","v":450000.00000000035},{"$f":"Computations!$J$17+Computations!$I$17*LN(Computations!D709)","v":450000},{"$f":"Computations!$J$18+Computations!$I$18*Computations!D709+Computations!$H$18*Computations!D709^2","v":450000},{"$f":"Computations!$J$19+Computations!$I$19*Computations!D709+Computations!$H$19*Computations!D709^2+Computations!$G$19*Computations!D709^3","v":450000}]
[656,0.2022486377946926,0.20254048505162908,0.20239456142316084,0.98463071466086483,1.9195764806623217E-4,3215.7179134626422,450000,{"$f":"G710-H710/User_entry!$E$18","v":1715.7179134626422},1715.7179134626422,null,{"$f":"HLOOKUP(User_entry!$B$56,Computations!$N$54:$R$1054,Computations!A710+1,FALSE)","v":3215.7179134626422},{"$f":"HLOOKUP(User_entry!$E$56,Computations!$S$54:$W$1054,Computations!A710+1,FALSE)","v":450000},{"$f":"Computations!$F$15+Computations!$E$15*D710","v":3215.7179134626422},{"$f":"EXP(Computations!$F$16)*EXP(Computations!$E$16)^Computations!D710","v":3502.217949872726},{"$f":"Computations!$F$17+Computations!$E$17*LN(Computations!D710)","v":3011.941383075583},{"$f":"Computations!$F$18+Computations!$E$18*Computations!D710+Computations!$D$18*Computations!D710^2","v":3090.7123239256025},{"$f":"Computations!$F$19+Computations!$E$19*Computations!D710+Computations!$D$19*Computations!D710^2+Computations!$C$19*Computations!D710^3","v":3090.7123239256025},{"$f":"Computations!$J$15+Computations!$I$15*D710","v":450000},{"$f":"EXP(Computations!$J$16)*EXP(Computations!$I$16)^Computations!D710","v":450000.00000000035},{"$f":"Computations!$J$17+Computations!$I$17*LN(Computations!D710)","v":450000},{"$f":"Computations!$J$18+Computations!$I$18*Computations!D710+Computations!$H$18*Computations!D710^2","v":450000},{"$f":"Computations!$J$19+Computations!$I$19*Computations!D710+Computations!$H$19*Computations!D710^2+Computations!$G$19*Computations!D710^3","v":450000}]
[657,0.20254048505162908,0.20283233230856557,0.20268640868009732,0.9848205131743033,1.897985134384772E-4,3219.5580089486484,450000,{"$f":"G711-H711/User_entry!$E$18","v":1719.5580089486484},1719.5580089486484,null,{"$f":"HLOOKUP(User_entry!$B$56,Computations!$N$54:$R$1054,Computations!A711+1,FALSE)","v":3219.5580089486484},{"$f":"HLOOKUP(User_entry!$E$56,Computations!$S$54:$W$1054,Computations!A711+1,FALSE)","v":450000},{"$f":"Computations!$F$15+Computations!$E$15*D711","v":3219.5580089486484},{"$f":"EXP(Computations!$F$16)*EXP(Computations!$E$16)^Computations!D711","v":3509.4840472249602},{"$f":"Computations!$F$17+Computations!$E$17*LN(Computations!D711)","v":3013.772003265844},{"$f":"Computations!$F$18+Computations!$E$18*Computations!D711+Computations!$D$18*Computations!D711^2","v":3092.7111428748885},{"$f":"Computations!$F$19+Computations!$E$19*Computations!D711+Computations!$D$19*Computations!D711^2+Computations!$C$19*Computations!D711^3","v":3092.7111428748885},{"$f":"Computations!$J$15+Computations!$I$15*D711","v":450000},{"$f":"EXP(Computations!$J$16)*EXP(Computations!$I$16)^Computations!D711","v":450000.00000000035},{"$f":"Computations!$J$17+Computations!$I$17*LN(Computations!D711)","v":450000},{"$f":"Computations!$J$18+Computations!$I$18*Computations!D711+Computations!$H$18*Computations!D711^2","v":450000},{"$f":"Computations!$J$19+Computations!$I$19*Computations!D711+Computations!$H$19*Computations!D711^2+Computations!$G$19*Computations!D711^3","v":450000}]
[658,0.20283233230856557,0.20312417956550205,0.20297825593703381,0.98500817385328654,1.8766067898323691E-4,3223.3981044346547,450000,{"$f":"G712-H712/User_entry!$E$18","v":1723.3981044346547},1723.3981044346547,null,{"$f":"HLOOKUP(User_entry!$B$56,Computations!$N$54:$R$1054,Computations!A712+1,FALSE)","v":3223.3981044346547},{"$f":"HLOOKUP(User_entry!$E$56,Computations!$S$54:$W$1054,Computations!A712+1,FALSE)","v":450000},{"$f":"Computations!$F$15+Computations!$E$15*D712","v":3223.3981044346547},{"$f":"EXP(Computations!$F$16)*EXP(Computations!$E$16)^Computations!D712","v":3516.7652196443346},{"$f":"Computations!$F$17+Computations!$E$17*LN(Computations!D712)","v":3015.5999894496854},{"$f":"Computations!$F$18+Computations!$E$18*Computations!D712+Computations!$D$18*Computations!D712^2","v":3094.7036525781464},{"$f":"Computations!$F$19+Computations!$E$19*Computations!D712+Computations!$D$19*Computations!D712^2+Computations!$C$19*Computations!D712^3","v":3094.7036525781464},{"$f":"Computations!$J$15+Computations!$I$15*D712","v":450000},{"$f":"EXP(Computations!$J$16)*EXP(Computations!$I$16)^Computations!D712","v":450000.00000000035},{"$f":"Computations!$J$17+Computations!$I$17*LN(Computations!D712)","v":450000},{"$f":"Computations!$J$18+Computations!$I$18*Computations!D712+Computations!$H$18*Computations!D712^2","v":450000},{"$f":"Computations!$J$19+Computations!$I$19*Computations!D712+Computations!$H$19*Computations!D712^2+Computations!$G$19*Computations!D712^3","v":450000}]
[659,0.20312417956550205,0.20341602682243853,0.20327010319397029,0.98519371782982623,1.8554397653969268E-4,3227.2381999206609,450000,{"$f":"G713-H713/User_entry!$E$18","v":1727.2381999206609},1727.2381999206609,null,{"$f":"HLOOKUP(User_entry!$B$56,Computations!$N$54:$R$1054,Computations!A713+1,FALSE)","v":3227.2381999206609},{"$f":"HLOOKUP(User_entry!$E$56,Computations!$S$54:$W$1054,Computations!A713+1,FALSE)","v":450000},{"$f":"Computations!$F$15+Computations!$E$15*D713","v":3227.2381999206609},{"$f":"EXP(Computations!$F$16)*EXP(Computations!$E$16)^Computations!D713","v":3524.0614984072868},{"$f":"Computations!$F$17+Computations!$E$17*LN(Computations!D713)","v":3017.4253491961508},{"$f":"Computations!$F$18+Computations!$E$18*Computations!D713+Computations!$D$18*Computations!D713^2","v":3096.6898530353751},{"$f":"Computations!$F$19+Computations!$E$19*Computations!D713+Computations!$D$19*Computations!D713^2+Computations!$C$19*Computations!D713^3","v":3096.6898530353751},{"$f":"Computations!$J$15+Computations!$I$15*D713","v":450000},{"$f":"EXP(Computations!$J$16)*EXP(Computations!$I$16)^Computations!D713","v":450000.00000000035},{"$f":"Computations!$J$17+Computations!$I$17*LN(Computations!D713)","v":450000},{"$f":"Computations!$J$18+Computations!$I$18*Computations!D713+Computations!$H$18*Computations!D713^2","v":450000},{"$f":"Computations!$J$19+Computations!$I$19*Computations!D713+Computations!$H$19*Computations!D713^2+Computations!$G$19*Computations!D713^3","v":450000}]
[660,0.20341602682243853,0.20370787407937502,0.20356195045090678,0.98537716606850334,1.8344823867710858E-4,3231.0782954066672,450000,{"$f":"G714-H714/User_entry!$E$18","v":1731.0782954066672},1731.0782954066672,null,{"$f":"HLOOKUP(User_entry!$B$56,Computations!$N$54:$R$1054,Computations!A714+1,FALSE)","v":3231.0782954066672},{"$f":"HLOOKUP(User_entry!$E$56,Computations!$S$54:$W$1054,Computations!A714+1,FALSE)","v":450000},{"$f":"Computations!$F$15+Computations!$E$15*D714","v":3231.0782954066672},{"$f":"EXP(Computations!$F$16)*EXP(Computations!$E$16)^Computations!D714","v":3531.3729148551465},{"$f":"Computations!$F$17+Computations!$E$17*LN(Computations!D714)","v":3019.2480900417049},{"$f":"Computations!$F$18+Computations!$E$18*Computations!D714+Computations!$D$18*Computations!D714^2","v":3098.6697442465766},{"$f":"Computations!$F$19+Computations!$E$19*Computations!D714+Computations!$D$19*Computations!D714^2+Computations!$C$19*Computations!D714^3","v":3098.6697442465766},{"$f":"Computations!$J$15+Computations!$I$15*D714","v":450000},{"$f":"EXP(Computations!$J$16)*EXP(Computations!$I$16)^Computations!D714","v":450000.00000000035},{"$f":"Computations!$J$17+Computations!$I$17*LN(Computations!D714)","v":450000},{"$f":"Computations!$J$18+Computations!$I$18*Computations!D714+Computations!$H$18*Computations!D714^2","v":450000},{"$f":"Computations!$J$19+Computations!$I$19*Computations!D714+Computations!$H$19*Computations!D714^2+Computations!$G$19*Computations!D714^3","v":450000}]
[661,0.20370787407937502,0.2039997213363115,0.20385379770784326,0.9855585393672055,1.8137329870215879E-4,3234.9183908926743,450000,{"$f":"G715-H715/User_entry!$E$18","v":1734.9183908926743},1734.9183908926743,null,{"$f":"HLOOKUP(User_entry!$B$56,Computations!$N$54:$R$1054,Computations!A715+1,FALSE)","v":3234.9183908926743},{"$f":"HLOOKUP(User_entry!$E$56,Computations!$S$54:$W$1054,Computations!A715+1,FALSE)","v":450000},{"$f":"Computations!$F$15+Computations!$E$15*D715","v":3234.9183908926743},{"$f":"EXP(Computations!$F$16)*EXP(Computations!$E$16)^Computations!D715","v":3538.6995003942657},{"$f":"Computations!$F$17+Computations!$E$17*LN(Computations!D715)","v":3021.0682194904234},{"$f":"Computations!$F$18+Computations!$E$18*Computations!D715+Computations!$D$18*Computations!D715^2","v":3100.6433262117498},{"$f":"Computations!$F$19+Computations!$E$19*Computations!D715+Computations!$D$19*Computations!D715^2+Computations!$C$19*Computations!D715^3","v":3100.6433262117498},{"$f":"Computations!$J$15+Computations!$I$15*D715","v":450000},{"$f":"EXP(Computations!$J$16)*EXP(Computations!$I$16)^Computations!D715","v":450000.00000000035},{"$f":"Computations!$J$17+Computations!$I$17*LN(Computations!D715)","v":450000},{"$f":"Computations!$J$18+Computations!$I$18*Computations!D715+Computations!$H$18*Computations!D715^2","v":450000},{"$f":"Computations!$J$19+Computations!$I$19*Computations!D715+Computations!$H$19*Computations!D715^2+Computations!$G$19*Computations!D715^3","v":450000}]
[662,0.2039997213363115,0.20429156859324799,0.20414564496477974,0.98573785835786953,1.7931899066403467E-4,3238.7584863786806,450000,{"$f":"G716-H716/User_entry!$E$18","v":1738.7584863786806},1738.7584863786806,null,{"$f":"HLOOKUP(User_entry!$B$56,Computations!$N$54:$R$1054,Computations!A716+1,FALSE)","v":3238.7584863786806},{"$f":"HLOOKUP(User_entry!$E$56,Computations!$S$54:$W$1054,Computations!A716+1,FALSE)","v":450000},{"$f":"Computations!$F$15+Computations!$E$15*D716","v":3238.7584863786806},{"$f":"EXP(Computations!$F$16)*EXP(Computations!$E$16)^Computations!D716","v":3546.0412864961568},{"$f":"Computations!$F$17+Computations!$E$17*LN(Computations!D716)","v":3022.8857450141722},{"$f":"Computations!$F$18+Computations!$E$18*Computations!D716+Computations!$D$18*Computations!D716^2","v":3102.6105989308944},{"$f":"Computations!$F$19+Computations!$E$19*Computations!D716+Computations!$D$19*Computations!D716^2+Computations!$C$19*Computations!D716^3","v":3102.6105989308944},{"$f":"Computations!$J$15+Computations!$I$15*D716","v":450000},{"$f":"EXP(Computations!$J$16)*EXP(Computations!$I$16)^Computations!D716","v":450000.00000000035},{"$f":"Computations!$J$17+Computations!$I$17*LN(Computations!D716)","v":450000},{"$f":"Computations!$J$18+Computations!$I$18*Computations!D716+Computations!$H$18*Computations!D716^2","v":450000},{"$f":"Computations!$J$19+Computations!$I$19*Computations!D716+Computations!$H$19*Computations!D716^2+Computations!$G$19*Computations!D716^3","v":450000}]
[663,0.20429156859324799,0.20458341585018447,0.20443749222171623,0.98591514350723197,1.7728514936243833E-4,3242.5985818646868,450000,{"$f":"G717-H717/User_entry!$E$18","v":1742.5985818646868},1742.5985818646868,null,{"$f":"HLOOKUP(User_entry!$B$56,Computations!$N$54:$R$1054,Computations!A717+1,FALSE)","v":3242.5985818646868},{"$f":"HLOOKUP(User_entry!$E$56,Computations!$S$54:$W$1054,Computations!A717+1,FALSE)","v":450000},{"$f":"Computations!$F$15+Computations!$E$15*D717","v":3242.5985818646868},{"$f":"EXP(Computations!$F$16)*EXP(Computations!$E$16)^Computations!D717","v":3553.3983046976246},{"$f":"Computations!$F$17+Computations!$E$17*LN(Computations!D717)","v":3024.700674052795},{"$f":"Computations!$F$18+Computations!$E$18*Computations!D717+Computations!$D$18*Computations!D717^2","v":3104.5715624040104},{"$f":"Computations!$F$19+Computations!$E$19*Computations!D717+Computations!$D$19*Computations!D717^2+Computations!$C$19*Computations!D717^3","v":3104.5715624040104},{"$f":"Computations!$J$15+Computations!$I$15*D717","v":450000},{"$f":"EXP(Computations!$J$16)*EXP(Computations!$I$16)^Computations!D717","v":450000.00000000035},{"$f":"Computations!$J$17+Computations!$I$17*LN(Computations!D717)","v":450000},{"$f":"Computations!$J$18+Computations!$I$18*Computations!D717+Computations!$H$18*Computations!D717^2","v":450000},{"$f":"Computations!$J$19+Computations!$I$19*Computations!D717+Computations!$H$19*Computations!D717^2+Computations!$G$19*Computations!D717^3","v":450000}]
[664,0.20458341585018447,0.20487526310712095,0.20472933947865271,0.98609041511758211,1.7527161035013616E-4,3246.4386773506931,450000,{"$f":"G718-H718/User_entry!$E$18","v":1746.4386773506931},1746.4386773506931,null,{"$f":"HLOOKUP(User_entry!$B$56,Computations!$N$54:$R$1054,Computations!A718+1,FALSE)","v":3246.4386773506931},{"$f":"HLOOKUP(User_entry!$E$56,Computations!$S$54:$W$1054,Computations!A718+1,FALSE)","v":450000},{"$f":"Computations!$F$15+Computations!$E$15*D718","v":3246.4386773506931},{"$f":"EXP(Computations!$F$16)*EXP(Computations!$E$16)^Computations!D718","v":3560.7705866009073},{"$f":"Computations!$F$17+Computations!$E$17*LN(Computations!D718)","v":3026.5130140142974},{"$f":"Computations!$F$18+Computations!$E$18*Computations!D718+Computations!$D$18*Computations!D718^2","v":3106.5262166310986},{"$f":"Computations!$F$19+Computations!$E$19*Computations!D718+Computations!$D$19*Computations!D718^2+Computations!$C$19*Computations!D718^3","v":3106.5262166310986},{"$f":"Computations!$J$15+Computations!$I$15*D718","v":450000},{"$f":"EXP(Computations!$J$16)*EXP(Computations!$I$16)^Computations!D718","v":450000.00000000035},{"$f":"Computations!$J$17+Computations!$I$17*LN(Computations!D718)","v":450000},{"$f":"Computations!$J$18+Computations!$I$18*Computations!D718+Computations!$H$18*Computations!D718^2","v":450000},{"$f":"Computations!$J$19+Computations!$I$19*Computations!D718+Computations!$H$19*Computations!D718^2+Computations!$G$19*Computations!D718^3","v":450000}]
[665,0.20487526310712095,0.20516711036405744,0.20502118673558919,0.98626369332752351,1.7327820994139653E-4,3250.2787728366993,450000,{"$f":"G719-H719/User_entry!$E$18","v":1750.2787728366993},1750.2787728366993,null,{"$f":"HLOOKUP(User_entry!$B$56,Computations!$N$54:$R$1054,Computations!A719+1,FALSE)","v":3250.2787728366993},{"$f":"HLOOKUP(User_entry!$E$56,Computations!$S$54:$W$1054,Computations!A719+1,FALSE)","v":450000},{"$f":"Computations!$F$15+Computations!$E$15*D719","v":3250.2787728366993},{"$f":"EXP(Computations!$F$16)*EXP(Computations!$E$16)^Computations!D719","v":3568.1581638738053},{"$f":"Computations!$F$17+Computations!$E$17*LN(Computations!D719)","v":3028.3227722750253},{"$f":"Computations!$F$18+Computations!$E$18*Computations!D719+Computations!$D$18*Computations!D719^2","v":3108.4745616121591},{"$f":"Computations!$F$19+Computations!$E$19*Computations!D719+Computations!$D$19*Computations!D719^2+Computations!$C$19*Computations!D719^3","v":3108.4745616121591},{"$f":"Computations!$J$15+Computations!$I$15*D719","v":450000},{"$f":"EXP(Computations!$J$16)*EXP(Computations!$I$16)^Computations!D719","v":450000.00000000035},{"$f":"Computations!$J$17+Computations!$I$17*LN(Computations!D719)","v":450000},{"$f":"Computations!$J$18+Computations!$I$18*Computations!D719+Computations!$H$18*Computations!D719^2","v":450000},{"$f":"Computations!$J$19+Computations!$I$19*Computations!D719+Computations!$H$19*Computations!D719^2+Computations!$G$19*Computations!D719^3","v":450000}]
[666,0.20516711036405744,0.20545895762099392,0.20531303399252568,0.98643499811273849,1.7130478521498738E-4,3254.1188683227056,450000,{"$f":"G720-H720/User_entry!$E$18","v":1754.1188683227056},1754.1188683227056,null,{"$f":"HLOOKUP(User_entry!$B$56,Computations!$N$54:$R$1054,Computations!A720+1,FALSE)","v":3254.1188683227056},{"$f":"HLOOKUP(User_entry!$E$56,Computations!$S$54:$W$1054,Computations!A720+1,FALSE)","v":450000},{"$f":"Computations!$F$15+Computations!$E$15*D720","v":3254.1188683227056},{"$f":"EXP(Computations!$F$16)*EXP(Computations!$E$16)^Computations!D720","v":3575.5610682498213},{"$f":"Computations!$F$17+Computations!$E$17*LN(Computations!D720)","v":3030.1299561798469},{"$f":"Computations!$F$18+Computations!$E$18*Computations!D720+Computations!$D$18*Computations!D720^2","v":3110.4165973471909},{"$f":"Computations!$F$19+Computations!$E$19*Computations!D720+Computations!$D$19*Computations!D720^2+Computations!$C$19*Computations!D720^3","v":3110.4165973471909},{"$f":"Computations!$J$15+Computations!$I$15*D720","v":450000},{"$f":"EXP(Computations!$J$16)*EXP(Computations!$I$16)^Computations!D720","v":450000.00000000035},{"$f":"Computations!$J$17+Computations!$I$17*LN(Computations!D720)","v":450000},{"$f":"Computations!$J$18+Computations!$I$18*Computations!D720+Computations!$H$18*Computations!D720^2","v":450000},{"$f":"Computations!$J$19+Computations!$I$19*Computations!D720+Computations!$H$19*Computations!D720^2+Computations!$G$19*Computations!D720^3","v":450000}]
[667,0.20545895762099392,0.2057508048779304,0.20560488124946216,0.98660434928675911,1.693511740206155E-4,3257.9589638087118,450000,{"$f":"G721-H721/User_entry!$E$18","v":1757.9589638087118},1757.9589638087118,null,{"$f":"HLOOKUP(User_entry!$B$56,Computations!$N$54:$R$1054,Computations!A721+1,FALSE)","v":3257.9589638087118},{"$f":"HLOOKUP(User_entry!$E$56,Computations!$S$54:$W$1054,Computations!A721+1,FALSE)","v":450000},{"$f":"Computations!$F$15+Computations!$E$15*D721","v":3257.9589638087118},{"$f":"EXP(Computations!$F$16)*EXP(Computations!$E$16)^Computations!D721","v":3582.9793315282986},{"$f":"Computations!$F$17+Computations!$E$17*LN(Computations!D721)","v":3031.9345730423311},{"$f":"Computations!$F$18+Computations!$E$18*Computations!D721+Computations!$D$18*Computations!D721^2","v":3112.3523238361936},{"$f":"Computations!$F$19+Computations!$E$19*Computations!D721+Computations!$D$19*Computations!D721^2+Computations!$C$19*Computations!D721^3","v":3112.3523238361936},{"$f":"Computations!$J$15+Computations!$I$15*D721","v":450000},{"$f":"EXP(Computations!$J$16)*EXP(Computations!$I$16)^Computations!D721","v":450000.00000000035},{"$f":"Computations!$J$17+Computations!$I$17*LN(Computations!D721)","v":450000},{"$f":"Computations!$J$18+Computations!$I$18*Computations!D721+Computations!$H$18*Computations!D721^2","v":450000},{"$f":"Computations!$J$19+Computations!$I$19*Computations!D721+Computations!$H$19*Computations!D721^2+Computations!$G$19*Computations!D721^3","v":450000}]
[668,0.2057508048779304,0.20604265213486689,0.20589672850639865,0.98677176650174248,1.6741721498336748E-4,3261.7990592947181,450000,{"$f":"G722-H722/User_entry!$E$18","v":1761.7990592947181},1761.7990592947181,null,{"$f":"HLOOKUP(User_entry!$B$56,Computations!$N$54:$R$1054,Computations!A722+1,FALSE)","v":3261.7990592947181},{"$f":"HLOOKUP(User_entry!$E$56,Computations!$S$54:$W$1054,Computations!A722+1,FALSE)","v":450000},{"$f":"Computations!$F$15+Computations!$E$15*D722","v":3261.7990592947181},{"$f":"EXP(Computations!$F$16)*EXP(Computations!$E$16)^Computations!D722","v":3590.4129855745514},{"$f":"Computations!$F$17+Computations!$E$17*LN(Computations!D722)","v":3033.7366301449238},{"$f":"Computations!$F$18+Computations!$E$18*Computations!D722+Computations!$D$18*Computations!D722^2","v":3114.281741079169},{"$f":"Computations!$F$19+Computations!$E$19*Computations!D722+Computations!$D$19*Computations!D722^2+Computations!$C$19*Computations!D722^3","v":3114.281741079169},{"$f":"Computations!$J$15+Computations!$I$15*D722","v":450000},{"$f":"EXP(Computations!$J$16)*EXP(Computations!$I$16)^Computations!D722","v":450000.00000000035},{"$f":"Computations!$J$17+Computations!$I$17*LN(Computations!D722)","v":450000},{"$f":"Computations!$J$18+Computations!$I$18*Computations!D722+Computations!$H$18*Computations!D722^2","v":450000},{"$f":"Computations!$J$19+Computations!$I$19*Computations!D722+Computations!$H$19*Computations!D722^2+Computations!$G$19*Computations!D722^3","v":450000}]
[669,0.20604265213486689,0.20633449939180337,0.20618857576333513,0.98693726924925107,1.6550274750859462E-4,3265.6391547807252,450000,{"$f":"G723-H723/User_entry!$E$18","v":1765.6391547807252},1765.6391547807252,null,{"$f":"HLOOKUP(User_entry!$B$56,Computations!$N$54:$R$1054,Computations!A723+1,FALSE)","v":3265.6391547807252},{"$f":"HLOOKUP(User_entry!$E$56,Computations!$S$54:$W$1054,Computations!A723+1,FALSE)","v":450000},{"$f":"Computations!$F$15+Computations!$E$15*D723","v":3265.6391547807252},{"$f":"EXP(Computations!$F$16)*EXP(Computations!$E$16)^Computations!D723","v":3597.8620623200054},{"$f":"Computations!$F$17+Computations!$E$17*LN(Computations!D723)","v":3035.5361347391272},{"$f":"Computations!$F$18+Computations!$E$18*Computations!D723+Computations!$D$18*Computations!D723^2","v":3116.2048490761163},{"$f":"Computations!$F$19+Computations!$E$19*Computations!D723+Computations!$D$19*Computations!D723^2+Computations!$C$19*Computations!D723^3","v":3116.2048490761163},{"$f":"Computations!$J$15+Computations!$I$15*D723","v":450000},{"$f":"EXP(Computations!$J$16)*EXP(Computations!$I$16)^Computations!D723","v":450000.00000000035},{"$f":"Computations!$J$17+Computations!$I$17*LN(Computations!D723)","v":450000},{"$f":"Computations!$J$18+Computations!$I$18*Computations!D723+Computations!$H$18*Computations!D723^2","v":450000},{"$f":"Computations!$J$19+Computations!$I$19*Computations!D723+Computations!$H$19*Computations!D723^2+Computations!$G$19*Computations!D723^3","v":450000}]
[670,0.20633449939180337,0.20662634664873986,0.20648042302027161,0.98710087686103687,1.6360761178579875E-4,3269.4792502667315,450000,{"$f":"G724-H724/User_entry!$E$18","v":1769.4792502667315},1769.4792502667315,null,{"$f":"HLOOKUP(User_entry!$B$56,Computations!$N$54:$R$1054,Computations!A724+1,FALSE)","v":3269.4792502667315},{"$f":"HLOOKUP(User_entry!$E$56,Computations!$S$54:$W$1054,Computations!A724+1,FALSE)","v":450000},{"$f":"Computations!$F$15+Computations!$E$15*D724","v":3269.4792502667315},{"$f":"EXP(Computations!$F$16)*EXP(Computations!$E$16)^Computations!D724","v":3605.3265937623387},{"$f":"Computations!$F$17+Computations!$E$17*LN(Computations!D724)","v":3037.3330940456717},{"$f":"Computations!$F$18+Computations!$E$18*Computations!D724+Computations!$D$18*Computations!D724^2","v":3118.1216478270353},{"$f":"Computations!$F$19+Computations!$E$19*Computations!D724+Computations!$D$19*Computations!D724^2+Computations!$C$19*Computations!D724^3","v":3118.1216478270353},{"$f":"Computations!$J$15+Computations!$I$15*D724","v":450000},{"$f":"EXP(Computations!$J$16)*EXP(Computations!$I$16)^Computations!D724","v":450000.00000000035},{"$f":"Computations!$J$17+Computations!$I$17*LN(Computations!D724)","v":450000},{"$f":"Computations!$J$18+Computations!$I$18*Computations!D724+Computations!$H$18*Computations!D724^2","v":450000},{"$f":"Computations!$J$19+Computations!$I$19*Computations!D724+Computations!$H$19*Computations!D724^2+Computations!$G$19*Computations!D724^3","v":450000}]
[671,0.20662634664873986,0.20691819390567634,0.2067722702772081,0.9872626085098315,1.6173164879462743E-4,3273.3193457527377,450000,{"$f":"G725-H725/User_entry!$E$18","v":1773.3193457527377},1773.3193457527377,null,{"$f":"HLOOKUP(User_entry!$B$56,Computations!$N$54:$R$1054,Computations!A725+1,FALSE)","v":3273.3193457527377},{"$f":"HLOOKUP(User_entry!$E$56,Computations!$S$54:$W$1054,Computations!A725+1,FALSE)","v":450000},{"$f":"Computations!$F$15+Computations!$E$15*D725","v":3273.3193457527377},{"$f":"EXP(Computations!$F$16)*EXP(Computations!$E$16)^Computations!D725","v":3612.8066119656123},{"$f":"Computations!$F$17+Computations!$E$17*LN(Computations!D725)","v":3039.1275152546914},{"$f":"Computations!$F$18+Computations!$E$18*Computations!D725+Computations!$D$18*Computations!D725^2","v":3120.0321373319248},{"$f":"Computations!$F$19+Computations!$E$19*Computations!D725+Computations!$D$19*Computations!D725^2+Computations!$C$19*Computations!D725^3","v":3120.0321373319248},{"$f":"Computations!$J$15+Computations!$I$15*D725","v":450000},{"$f":"EXP(Computations!$J$16)*EXP(Computations!$I$16)^Computations!D725","v":450000.00000000035},{"$f":"Computations!$J$17+Computations!$I$17*LN(Computations!D725)","v":450000},{"$f":"Computations!$J$18+Computations!$I$18*Computations!D725+Computations!$H$18*Computations!D725^2","v":450000},{"$f":"Computations!$J$19+Computations!$I$19*Computations!D725+Computations!$H$19*Computations!D725^2+Computations!$G$19*Computations!D725^3","v":450000}]
[672,0.20691819390567634,0.20721004116261282,0.20706411753414458,0.98742248321013815,1.598747003066503E-4,3277.159441238744,450000,{"$f":"G726-H726/User_entry!$E$18","v":1777.159441238744},1777.159441238744,null,{"$f":"HLOOKUP(User_entry!$B$56,Computations!$N$54:$R$1054,Computations!A726+1,FALSE)","v":3277.159441238744},{"$f":"HLOOKUP(User_entry!$E$56,Computations!$S$54:$W$1054,Computations!A726+1,FALSE)","v":450000},{"$f":"Computations!$F$15+Computations!$E$15*D726","v":3277.159441238744},{"$f":"EXP(Computations!$F$16)*EXP(Computations!$E$16)^Computations!D726","v":3620.3021490604092},{"$f":"Computations!$F$17+Computations!$E$17*LN(Computations!D726)","v":3040.9194055258968},{"$f":"Computations!$F$18+Computations!$E$18*Computations!D726+Computations!$D$18*Computations!D726^2","v":3121.9363175907874},{"$f":"Computations!$F$19+Computations!$E$19*Computations!D726+Computations!$D$19*Computations!D726^2+Computations!$C$19*Computations!D726^3","v":3121.9363175907874},{"$f":"Computations!$J$15+Computations!$I$15*D726","v":450000},{"$f":"EXP(Computations!$J$16)*EXP(Computations!$I$16)^Computations!D726","v":450000.00000000035},{"$f":"Computations!$J$17+Computations!$I$17*LN(Computations!D726)","v":450000},{"$f":"Computations!$J$18+Computations!$I$18*Computations!D726+Computations!$H$18*Computations!D726^2","v":450000},{"$f":"Computations!$J$19+Computations!$I$19*Computations!D726+Computations!$H$19*Computations!D726^2+Computations!$G$19*Computations!D726^3","v":450000}]
[673,0.20721004116261282,0.20750188841954931,0.20735596479108107,0.98758051981903017,1.5803660889202042E-4,3280.9995367247502,450000,{"$f":"G727-H727/User_entry!$E$18","v":1780.9995367247502},1780.9995367247502,null,{"$f":"HLOOKUP(User_entry!$B$56,Computations!$N$54:$R$1054,Computations!A727+1,FALSE)","v":3280.9995367247502},{"$f":"HLOOKUP(User_entry!$E$56,Computations!$S$54:$W$1054,Computations!A727+1,FALSE)","v":450000},{"$f":"Computations!$F$15+Computations!$E$15*D727","v":3280.9995367247502},{"$f":"EXP(Computations!$F$16)*EXP(Computations!$E$16)^Computations!D727","v":3627.81323724398},{"$f":"Computations!$F$17+Computations!$E$17*LN(Computations!D727)","v":3042.7087719887459},{"$f":"Computations!$F$18+Computations!$E$18*Computations!D727+Computations!$D$18*Computations!D727^2","v":3123.8341886036214},{"$f":"Computations!$F$19+Computations!$E$19*Computations!D727+Computations!$D$19*Computations!D727^2+Computations!$C$19*Computations!D727^3","v":3123.8341886036214},{"$f":"Computations!$J$15+Computations!$I$15*D727","v":450000},{"$f":"EXP(Computations!$J$16)*EXP(Computations!$I$16)^Computations!D727","v":450000.00000000035},{"$f":"Computations!$J$17+Computations!$I$17*LN(Computations!D727)","v":450000},{"$f":"Computations!$J$18+Computations!$I$18*Computations!D727+Computations!$H$18*Computations!D727^2","v":450000},{"$f":"Computations!$J$19+Computations!$I$19*Computations!D727+Computations!$H$19*Computations!D727^2+Computations!$G$19*Computations!D727^3","v":450000}]
[674,0.20750188841954931,0.20779373567648579,0.20764781204801755,0.98773673703695142,1.5621721792125065E-4,3284.8396322107565,450000,{"$f":"G728-H728/User_entry!$E$18","v":1784.8396322107565},1784.8396322107565,null,{"$f":"HLOOKUP(User_entry!$B$56,Computations!$N$54:$R$1054,Computations!A728+1,FALSE)","v":3284.8396322107565},{"$f":"HLOOKUP(User_entry!$E$56,Computations!$S$54:$W$1054,Computations!A728+1,FALSE)","v":450000},{"$f":"Computations!$F$15+Computations!$E$15*D728","v":3284.8396322107565},{"$f":"EXP(Computations!$F$16)*EXP(Computations!$E$16)^Computations!D728","v":3635.3399087803696},{"$f":"Computations!$F$17+Computations!$E$17*LN(Computations!D728)","v":3044.4956217426143},{"$f":"Computations!$F$18+Computations!$E$18*Computations!D728+Computations!$D$18*Computations!D728^2","v":3125.7257503704277},{"$f":"Computations!$F$19+Computations!$E$19*Computations!D728+Computations!$D$19*Computations!D728^2+Computations!$C$19*Computations!D728^3","v":3125.7257503704277},{"$f":"Computations!$J$15+Computations!$I$15*D728","v":450000},{"$f":"EXP(Computations!$J$16)*EXP(Computations!$I$16)^Computations!D728","v":450000.00000000035},{"$f":"Computations!$J$17+Computations!$I$17*LN(Computations!D728)","v":450000},{"$f":"Computations!$J$18+Computations!$I$18*Computations!D728+Computations!$H$18*Computations!D728^2","v":450000},{"$f":"Computations!$J$19+Computations!$I$19*Computations!D728+Computations!$H$19*Computations!D728^2+Computations!$G$19*Computations!D728^3","v":450000}]
[675,0.20779373567648579,0.20808558293342228,0.20793965930495403,0.98789115340852129,1.5441637156987653E-4,3288.6797276967627,450000,{"$f":"G729-H729/User_entry!$E$18","v":1788.6797276967627},1788.6797276967627,null,{"$f":"HLOOKUP(User_entry!$B$56,Computations!$N$54:$R$1054,Computations!A729+1,FALSE)","v":3288.6797276967627},{"$f":"HLOOKUP(User_entry!$E$56,Computations!$S$54:$W$1054,Computations!A729+1,FALSE)","v":450000},{"$f":"Computations!$F$15+Computations!$E$15*D729","v":3288.6797276967627},{"$f":"EXP(Computations!$F$16)*EXP(Computations!$E$16)^Computations!D729","v":3642.8821960005635},{"$f":"Computations!$F$17+Computations!$E$17*LN(Computations!D729)","v":3046.2799618569634},{"$f":"Computations!$F$18+Computations!$E$18*Computations!D729+Computations!$D$18*Computations!D729^2","v":3127.6110028912044},{"$f":"Computations!$F$19+Computations!$E$19*Computations!D729+Computations!$D$19*Computations!D729^2+Computations!$C$19*Computations!D729^3","v":3127.6110028912044},{"$f":"Computations!$J$15+Computations!$I$15*D729","v":450000},{"$f":"EXP(Computations!$J$16)*EXP(Computations!$I$16)^Computations!D729","v":450000.00000000035},{"$f":"Computations!$J$17+Computations!$I$17*LN(Computations!D729)","v":450000},{"$f":"Computations!$J$18+Computations!$I$18*Computations!D729+Computations!$H$18*Computations!D729^2","v":450000},{"$f":"Computations!$J$19+Computations!$I$19*Computations!D729+Computations!$H$19*Computations!D729^2+Computations!$G$19*Computations!D729^3","v":450000}]
[676,0.20808558293342228,0.20837743019035876,0.20823150656189052,0.9880437873233433,1.5263391482200905E-4,3292.519823182769,450000,{"$f":"G730-H730/User_entry!$E$18","v":1792.519823182769},1792.519823182769,null,{"$f":"HLOOKUP(User_entry!$B$56,Computations!$N$54:$R$1054,Computations!A730+1,FALSE)","v":3292.519823182769},{"$f":"HLOOKUP(User_entry!$E$56,Computations!$S$54:$W$1054,Computations!A730+1,FALSE)","v":450000},{"$f":"Computations!$F$15+Computations!$E$15*D730","v":3292.519823182769},{"$f":"EXP(Computations!$F$16)*EXP(Computations!$E$16)^Computations!D730","v":3650.4401313026269},{"$f":"Computations!$F$17+Computations!$E$17*LN(Computations!D730)","v":3048.0617993715105},{"$f":"Computations!$F$18+Computations!$E$18*Computations!D730+Computations!$D$18*Computations!D730^2","v":3129.4899461659538},{"$f":"Computations!$F$19+Computations!$E$19*Computations!D730+Computations!$D$19*Computations!D730^2+Computations!$C$19*Computations!D730^3","v":3129.4899461659538},{"$f":"Computations!$J$15+Computations!$I$15*D730","v":450000},{"$f":"EXP(Computations!$J$16)*EXP(Computations!$I$16)^Computations!D730","v":450000.00000000035},{"$f":"Computations!$J$17+Computations!$I$17*LN(Computations!D730)","v":450000},{"$f":"Computations!$J$18+Computations!$I$18*Computations!D730+Computations!$H$18*Computations!D730^2","v":450000},{"$f":"Computations!$J$19+Computations!$I$19*Computations!D730+Computations!$H$19*Computations!D730^2+Computations!$G$19*Computations!D730^3","v":450000}]
[677,0.20837743019035876,0.20866927744729524,0.208523353818827,0.98819465701681675,1.5086969347344326E-4,3296.3599186687761,450000,{"$f":"G731-H731/User_entry!$E$18","v":1796.3599186687761},1796.3599186687761,null,{"$f":"HLOOKUP(User_entry!$B$56,Computations!$N$54:$R$1054,Computations!A731+1,FALSE)","v":3296.3599186687761},{"$f":"HLOOKUP(User_entry!$E$56,Computations!$S$54:$W$1054,Computations!A731+1,FALSE)","v":450000},{"$f":"Computations!$F$15+Computations!$E$15*D731","v":3296.3599186687761},{"$f":"EXP(Computations!$F$16)*EXP(Computations!$E$16)^Computations!D731","v":3658.0137471518387},{"$f":"Computations!$F$17+Computations!$E$17*LN(Computations!D731)","v":3049.8411412963942},{"$f":"Computations!$F$18+Computations!$E$18*Computations!D731+Computations!$D$18*Computations!D731^2","v":3131.362580194675},{"$f":"Computations!$F$19+Computations!$E$19*Computations!D731+Computations!$D$19*Computations!D731^2+Computations!$C$19*Computations!D731^3","v":3131.362580194675},{"$f":"Computations!$J$15+Computations!$I$15*D731","v":450000},{"$f":"EXP(Computations!$J$16)*EXP(Computations!$I$16)^Computations!D731","v":450000.00000000035},{"$f":"Computations!$J$17+Computations!$I$17*LN(Computations!D731)","v":450000},{"$f":"Computations!$J$18+Computations!$I$18*Computations!D731+Computations!$H$18*Computations!D731^2","v":450000},{"$f":"Computations!$J$19+Computations!$I$19*Computations!D731+Computations!$H$19*Computations!D731^2+Computations!$G$19*Computations!D731^3","v":450000}]
[678,0.20866927744729524,0.20896112470423173,0.20881520107576348,0.98834378057095162,1.4912355413487788E-4,3300.2000141547824,450000,{"$f":"G732-H732/User_entry!$E$18","v":1800.2000141547824},1800.2000141547824,null,{"$f":"HLOOKUP(User_entry!$B$56,Computations!$N$54:$R$1054,Computations!A732+1,FALSE)","v":3300.2000141547824},{"$f":"HLOOKUP(User_entry!$E$56,Computations!$S$54:$W$1054,Computations!A732+1,FALSE)","v":450000},{"$f":"Computations!$F$15+Computations!$E$15*D732","v":3300.2000141547824},{"$f":"EXP(Computations!$F$16)*EXP(Computations!$E$16)^Computations!D732","v":3665.603076080833},{"$f":"Computations!$F$17+Computations!$E$17*LN(Computations!D732)","v":3051.6179946123375},{"$f":"Computations!$F$18+Computations!$E$18*Computations!D732+Computations!$D$18*Computations!D732^2","v":3133.2289049773672},{"$f":"Computations!$F$19+Computations!$E$19*Computations!D732+Computations!$D$19*Computations!D732^2+Computations!$C$19*Computations!D732^3","v":3133.2289049773672},{"$f":"Computations!$J$15+Computations!$I$15*D732","v":450000},{"$f":"EXP(Computations!$J$16)*EXP(Computations!$I$16)^Computations!D732","v":450000.00000000035},{"$f":"Computations!$J$17+Computations!$I$17*LN(Computations!D732)","v":450000},{"$f":"Computations!$J$18+Computations!$I$18*Computations!D732+Computations!$H$18*Computations!D732^2","v":450000},{"$f":"Computations!$J$19+Computations!$I$19*Computations!D732+Computations!$H$19*Computations!D732^2+Computations!$G$19*Computations!D732^3","v":450000}]
[679,0.20896112470423173,0.20925297196116821,0.20910704833269997,0.98849117591518665,1.4739534423502398E-4,3304.0401096407886,450000,{"$f":"G733-H733/User_entry!$E$18","v":1804.0401096407886},1804.0401096407886,null,{"$f":"HLOOKUP(User_entry!$B$56,Computations!$N$54:$R$1054,Computations!A733+1,FALSE)","v":3304.0401096407886},{"$f":"HLOOKUP(User_entry!$E$56,Computations!$S$54:$W$1054,Computations!A733+1,FALSE)","v":450000},{"$f":"Computations!$F$15+Computations!$E$15*D733","v":3304.0401096407886},{"$f":"EXP(Computations!$F$16)*EXP(Computations!$E$16)^Computations!D733","v":3673.2081506897462},{"$f":"Computations!$F$17+Computations!$E$17*LN(Computations!D733)","v":3053.3923662708157},{"$f":"Computations!$F$18+Computations!$E$18*Computations!D733+Computations!$D$18*Computations!D733^2","v":3135.088920514032},{"$f":"Computations!$F$19+Computations!$E$19*Computations!D733+Computations!$D$19*Computations!D733^2+Computations!$C$19*Computations!D733^3","v":3135.088920514032},{"$f":"Computations!$J$15+Computations!$I$15*D733","v":450000},{"$f":"EXP(Computations!$J$16)*EXP(Computations!$I$16)^Computations!D733","v":450000.00000000035},{"$f":"Computations!$J$17+Computations!$I$17*LN(Computations!D733)","v":450000},{"$f":"Computations!$J$18+Computations!$I$18*Computations!D733+Computations!$H$18*Computations!D733^2","v":450000},{"$f":"Computations!$J$19+Computations!$I$19*Computations!D733+Computations!$H$19*Computations!D733^2+Computations!$G$19*Computations!D733^3","v":450000}]
[680,0.20925297196116821,0.20954481921810469,0.20939889558963645,0.98863686082721025,1.4568491202360256E-4,3307.8802051267949,450000,{"$f":"G734-H734/User_entry!$E$18","v":1807.8802051267949},1807.8802051267949,null,{"$f":"HLOOKUP(User_entry!$B$56,Computations!$N$54:$R$1054,Computations!A734+1,FALSE)","v":3307.8802051267949},{"$f":"HLOOKUP(User_entry!$E$56,Computations!$S$54:$W$1054,Computations!A734+1,FALSE)","v":450000},{"$f":"Computations!$F$15+Computations!$E$15*D734","v":3307.8802051267949},{"$f":"EXP(Computations!$F$16)*EXP(Computations!$E$16)^Computations!D734","v":3680.8290036463427},{"$f":"Computations!$F$17+Computations!$E$17*LN(Computations!D734)","v":3055.1642631942191},{"$f":"Computations!$F$18+Computations!$E$18*Computations!D734+Computations!$D$18*Computations!D734^2","v":3136.9426268046682},{"$f":"Computations!$F$19+Computations!$E$19*Computations!D734+Computations!$D$19*Computations!D734^2+Computations!$C$19*Computations!D734^3","v":3136.9426268046682},{"$f":"Computations!$J$15+Computations!$I$15*D734","v":450000},{"$f":"EXP(Computations!$J$16)*EXP(Computations!$I$16)^Computations!D734","v":450000.00000000035},{"$f":"Computations!$J$17+Computations!$I$17*LN(Computations!D734)","v":450000},{"$f":"Computations!$J$18+Computations!$I$18*Computations!D734+Computations!$H$18*Computations!D734^2","v":450000},{"$f":"Computations!$J$19+Computations!$I$19*Computations!D734+Computations!$H$19*Computations!D734^2+Computations!$G$19*Computations!D734^3","v":450000}]
[681,0.20954481921810469,0.20983666647504118,0.20969074284657294,0.9887808529337847,1.4399210657445316E-4,3311.7203006128011,450000,{"$f":"G735-H735/User_entry!$E$18","v":1811.7203006128011},1811.7203006128011,null,{"$f":"HLOOKUP(User_entry!$B$56,Computations!$N$54:$R$1054,Computations!A735+1,FALSE)","v":3311.7203006128011},{"$f":"HLOOKUP(User_entry!$E$56,Computations!$S$54:$W$1054,Computations!A735+1,FALSE)","v":450000},{"$f":"Computations!$F$15+Computations!$E$15*D735","v":3311.7203006128011},{"$f":"EXP(Computations!$F$16)*EXP(Computations!$E$16)^Computations!D735","v":3688.4656676861669},{"$f":"Computations!$F$17+Computations!$E$17*LN(Computations!D735)","v":3056.9336922760122},{"$f":"Computations!$F$18+Computations!$E$18*Computations!D735+Computations!$D$18*Computations!D735^2","v":3138.7900238492766},{"$f":"Computations!$F$19+Computations!$E$19*Computations!D735+Computations!$D$19*Computations!D735^2+Computations!$C$19*Computations!D735^3","v":3138.7900238492766},{"$f":"Computations!$J$15+Computations!$I$15*D735","v":450000},{"$f":"EXP(Computations!$J$16)*EXP(Computations!$I$16)^Computations!D735","v":450000.00000000035},{"$f":"Computations!$J$17+Computations!$I$17*LN(Computations!D735)","v":450000},{"$f":"Computations!$J$18+Computations!$I$18*Computations!D735+Computations!$H$18*Computations!D735^2","v":450000},{"$f":"Computations!$J$19+Computations!$I$19*Computations!D735+Computations!$H$19*Computations!D735^2+Computations!$G$19*Computations!D735^3","v":450000}]
[682,0.20983666647504118,0.21012851373197766,0.20998259010350942,0.98892316971157124,1.4231677778653307E-4,3315.5603960988074,450000,{"$f":"G736-H736/User_entry!$E$18","v":1815.5603960988074},1815.5603960988074,null,{"$f":"HLOOKUP(User_entry!$B$56,Computations!$N$54:$R$1054,Computations!A736+1,FALSE)","v":3315.5603960988074},{"$f":"HLOOKUP(User_entry!$E$56,Computations!$S$54:$W$1054,Computations!A736+1,FALSE)","v":450000},{"$f":"Computations!$F$15+Computations!$E$15*D736","v":3315.5603960988074},{"$f":"EXP(Computations!$F$16)*EXP(Computations!$E$16)^Computations!D736","v":3696.1181756126812},{"$f":"Computations!$F$17+Computations!$E$17*LN(Computations!D736)","v":3058.7006603808986},{"$f":"Computations!$F$18+Computations!$E$18*Computations!D736+Computations!$D$18*Computations!D736^2","v":3140.6311116478555},{"$f":"Computations!$F$19+Computations!$E$19*Computations!D736+Computations!$D$19*Computations!D736^2+Computations!$C$19*Computations!D736^3","v":3140.6311116478555},{"$f":"Computations!$J$15+Computations!$I$15*D736","v":450000},{"$f":"EXP(Computations!$J$16)*EXP(Computations!$I$16)^Computations!D736","v":450000.00000000035},{"$f":"Computations!$J$17+Computations!$I$17*LN(Computations!D736)","v":450000},{"$f":"Computations!$J$18+Computations!$I$18*Computations!D736+Computations!$H$18*Computations!D736^2","v":450000},{"$f":"Computations!$J$19+Computations!$I$19*Computations!D736+Computations!$H$19*Computations!D736^2+Computations!$G$19*Computations!D736^3","v":450000}]
[683,0.21012851373197766,0.21042036098891415,0.2102744373604459,0.98906382848796026,1.4065877638902435E-4,3319.4004915848136,450000,{"$f":"G737-H737/User_entry!$E$18","v":1819.4004915848136},1819.4004915848136,null,{"$f":"HLOOKUP(User_entry!$B$56,Computations!$N$54:$R$1054,Computations!A737+1,FALSE)","v":3319.4004915848136},{"$f":"HLOOKUP(User_entry!$E$56,Computations!$S$54:$W$1054,Computations!A737+1,FALSE)","v":450000},{"$f":"Computations!$F$15+Computations!$E$15*D737","v":3319.4004915848136},{"$f":"EXP(Computations!$F$16)*EXP(Computations!$E$16)^Computations!D737","v":3703.7865602974048},{"$f":"Computations!$F$17+Computations!$E$17*LN(Computations!D737)","v":3060.4651743449776},{"$f":"Computations!$F$18+Computations!$E$18*Computations!D737+Computations!$D$18*Computations!D737^2","v":3142.4658902004071},{"$f":"Computations!$F$19+Computations!$E$19*Computations!D737+Computations!$D$19*Computations!D737^2+Computations!$C$19*Computations!D737^3","v":3142.4658902004071},{"$f":"Computations!$J$15+Computations!$I$15*D737","v":450000},{"$f":"EXP(Computations!$J$16)*EXP(Computations!$I$16)^Computations!D737","v":450000.00000000035},{"$f":"Computations!$J$17+Computations!$I$17*LN(Computations!D737)","v":450000},{"$f":"Computations!$J$18+Computations!$I$18*Computations!D737+Computations!$H$18*Computations!D737^2","v":450000},{"$f":"Computations!$J$19+Computations!$I$19*Computations!D737+Computations!$H$19*Computations!D737^2+Computations!$G$19*Computations!D737^3","v":450000}]
[684,0.21042036098891415,0.21071220824585063,0.21056628461738239,0.98920284644190115,1.3901795394088978E-4,3323.2405870708199,450000,{"$f":"G738-H738/User_entry!$E$18","v":1823.2405870708199},1823.2405870708199,null,{"$f":"HLOOKUP(User_entry!$B$56,Computations!$N$54:$R$1054,Computations!A738+1,FALSE)","v":3323.2405870708199},{"$f":"HLOOKUP(User_entry!$E$56,Computations!$S$54:$W$1054,Computations!A738+1,FALSE)","v":450000},{"$f":"Computations!$F$15+Computations!$E$15*D738","v":3323.2405870708199},{"$f":"EXP(Computations!$F$16)*EXP(Computations!$E$16)^Computations!D738","v":3711.4708546800525},{"$f":"Computations!$F$17+Computations!$E$17*LN(Computations!D738)","v":3062.2272409759034},{"$f":"Computations!$F$18+Computations!$E$18*Computations!D738+Computations!$D$18*Computations!D738^2","v":3144.2943595069305},{"$f":"Computations!$F$19+Computations!$E$19*Computations!D738+Computations!$D$19*Computations!D738^2+Computations!$C$19*Computations!D738^3","v":3144.2943595069305},{"$f":"Computations!$J$15+Computations!$I$15*D738","v":450000},{"$f":"EXP(Computations!$J$16)*EXP(Computations!$I$16)^Computations!D738","v":450000.00000000035},{"$f":"Computations!$J$17+Computations!$I$17*LN(Computations!D738)","v":450000},{"$f":"Computations!$J$18+Computations!$I$18*Computations!D738+Computations!$H$18*Computations!D738^2","v":450000},{"$f":"Computations!$J$19+Computations!$I$19*Computations!D738+Computations!$H$19*Computations!D738^2+Computations!$G$19*Computations!D738^3","v":450000}]
[685,0.21071220824585063,0.21100405550278711,0.21085813187431887,0.98934024060473647,1.3739416283531369E-4,3327.080682556827,450000,{"$f":"G739-H739/User_entry!$E$18","v":1827.080682556827},1827.080682556827,null,{"$f":"HLOOKUP(User_entry!$B$56,Computations!$N$54:$R$1054,Computations!A739+1,FALSE)","v":3327.080682556827},{"$f":"HLOOKUP(User_entry!$E$56,Computations!$S$54:$W$1054,Computations!A739+1,FALSE)","v":450000},{"$f":"Computations!$F$15+Computations!$E$15*D739","v":3327.080682556827},{"$f":"EXP(Computations!$F$16)*EXP(Computations!$E$16)^Computations!D739","v":3719.1710917686855},{"$f":"Computations!$F$17+Computations!$E$17*LN(Computations!D739)","v":3063.986867053045},{"$f":"Computations!$F$18+Computations!$E$18*Computations!D739+Computations!$D$18*Computations!D739^2","v":3146.1165195674257},{"$f":"Computations!$F$19+Computations!$E$19*Computations!D739+Computations!$D$19*Computations!D739^2+Computations!$C$19*Computations!D739^3","v":3146.1165195674257},{"$f":"Computations!$J$15+Computations!$I$15*D739","v":450000},{"$f":"EXP(Computations!$J$16)*EXP(Computations!$I$16)^Computations!D739","v":450000.00000000035},{"$f":"Computations!$J$17+Computations!$I$17*LN(Computations!D739)","v":450000},{"$f":"Computations!$J$18+Computations!$I$18*Computations!D739+Computations!$H$18*Computations!D739^2","v":450000},{"$f":"Computations!$J$19+Computations!$I$19*Computations!D739+Computations!$H$19*Computations!D739^2+Computations!$G$19*Computations!D739^3","v":450000}]
[686,0.21100405550278711,0.2112959027597236,0.21114997913125536,0.98947602786103617,1.3578725629970201E-4,3330.9207780428333,450000,{"$f":"G740-H740/User_entry!$E$18","v":1830.9207780428333},1830.9207780428333,null,{"$f":"HLOOKUP(User_entry!$B$56,Computations!$N$54:$R$1054,Computations!A740+1,FALSE)","v":3330.9207780428333},{"$f":"HLOOKUP(User_entry!$E$56,Computations!$S$54:$W$1054,Computations!A740+1,FALSE)","v":450000},{"$f":"Computations!$F$15+Computations!$E$15*D740","v":3330.9207780428333},{"$f":"EXP(Computations!$F$16)*EXP(Computations!$E$16)^Computations!D740","v":3726.8873046398439},{"$f":"Computations!$F$17+Computations!$E$17*LN(Computations!D740)","v":3065.7440593276388},{"$f":"Computations!$F$18+Computations!$E$18*Computations!D740+Computations!$D$18*Computations!D740^2","v":3147.9323703818918},{"$f":"Computations!$F$19+Computations!$E$19*Computations!D740+Computations!$D$19*Computations!D740^2+Computations!$C$19*Computations!D740^3","v":3147.9323703818918},{"$f":"Computations!$J$15+Computations!$I$15*D740","v":450000},{"$f":"EXP(Computations!$J$16)*EXP(Computations!$I$16)^Computations!D740","v":450000.00000000035},{"$f":"Computations!$J$17+Computations!$I$17*LN(Computations!D740)","v":450000},{"$f":"Computations!$J$18+Computations!$I$18*Computations!D740+Computations!$H$18*Computations!D740^2","v":450000},{"$f":"Computations!$J$19+Computations!$I$19*Computations!D740+Computations!$H$19*Computations!D740^2+Computations!$G$19*Computations!D740^3","v":450000}]
[687,0.2112959027597236,0.21158775001666008,0.21144182638819184,0.98961022494943607,1.3419708839990108E-4,3334.7608735288395,450000,{"$f":"G741-H741/User_entry!$E$18","v":1834.7608735288395},1834.7608735288395,null,{"$f":"HLOOKUP(User_entry!$B$56,Computations!$N$54:$R$1054,Computations!A741+1,FALSE)","v":3334.7608735288395},{"$f":"HLOOKUP(User_entry!$E$56,Computations!$S$54:$W$1054,Computations!A741+1,FALSE)","v":450000},{"$f":"Computations!$F$15+Computations!$E$15*D741","v":3334.7608735288395},{"$f":"EXP(Computations!$F$16)*EXP(Computations!$E$16)^Computations!D741","v":3734.6195264386906},{"$f":"Computations!$F$17+Computations!$E$17*LN(Computations!D741)","v":3067.4988245229488},{"$f":"Computations!$F$18+Computations!$E$18*Computations!D741+Computations!$D$18*Computations!D741^2","v":3149.7419119503302},{"$f":"Computations!$F$19+Computations!$E$19*Computations!D741+Computations!$D$19*Computations!D741^2+Computations!$C$19*Computations!D741^3","v":3149.7419119503302},{"$f":"Computations!$J$15+Computations!$I$15*D741","v":450000},{"$f":"EXP(Computations!$J$16)*EXP(Computations!$I$16)^Computations!D741","v":450000.00000000035},{"$f":"Computations!$J$17+Computations!$I$17*LN(Computations!D741)","v":450000},{"$f":"Computations!$J$18+Computations!$I$18*Computations!D741+Computations!$H$18*Computations!D741^2","v":450000},{"$f":"Computations!$J$19+Computations!$I$19*Computations!D741+Computations!$H$19*Computations!D741^2+Computations!$G$19*Computations!D741^3","v":450000}]
[688,0.21158775001666008,0.21187959727359656,0.21173367364512832,0.98974284846347538,1.326235140393095E-4,3338.6009690148458,450000,{"$f":"G742-H742/User_entry!$E$18","v":1838.6009690148458},1838.6009690148458,null,{"$f":"HLOOKUP(User_entry!$B$56,Computations!$N$54:$R$1054,Computations!A742+1,FALSE)","v":3338.6009690148458},{"$f":"HLOOKUP(User_entry!$E$56,Computations!$S$54:$W$1054,Computations!A742+1,FALSE)","v":450000},{"$f":"Computations!$F$15+Computations!$E$15*D742","v":3338.6009690148458},{"$f":"EXP(Computations!$F$16)*EXP(Computations!$E$16)^Computations!D742","v":3742.367790379159},{"$f":"Computations!$F$17+Computations!$E$17*LN(Computations!D742)","v":3069.2511693344168},{"$f":"Computations!$F$18+Computations!$E$18*Computations!D742+Computations!$D$18*Computations!D742^2","v":3151.5451442727408},{"$f":"Computations!$F$19+Computations!$E$19*Computations!D742+Computations!$D$19*Computations!D742^2+Computations!$C$19*Computations!D742^3","v":3151.5451442727408},{"$f":"Computations!$J$15+Computations!$I$15*D742","v":450000},{"$f":"EXP(Computations!$J$16)*EXP(Computations!$I$16)^Computations!D742","v":450000.00000000035},{"$f":"Computations!$J$17+Computations!$I$17*LN(Computations!D742)","v":450000},{"$f":"Computations!$J$18+Computations!$I$18*Computations!D742+Computations!$H$18*Computations!D742^2","v":450000},{"$f":"Computations!$J$19+Computations!$I$19*Computations!D742+Computations!$H$19*Computations!D742^2+Computations!$G$19*Computations!D742^3","v":450000}]
[689,0.21187959727359656,0.21217144453053305,0.21202552090206481,0.98987391485243803,1.3106638896265288E-4,3342.441064500852,450000,{"$f":"G743-H743/User_entry!$E$18","v":1842.441064500852},1842.441064500852,null,{"$f":"HLOOKUP(User_entry!$B$56,Computations!$N$54:$R$1054,Computations!A743+1,FALSE)","v":3342.441064500852},{"$f":"HLOOKUP(User_entry!$E$56,Computations!$S$54:$W$1054,Computations!A743+1,FALSE)","v":450000},{"$f":"Computations!$F$15+Computations!$E$15*D743","v":3342.441064500852},{"$f":"EXP(Computations!$F$16)*EXP(Computations!$E$16)^Computations!D743","v":3750.1321297440886},{"$f":"Computations!$F$17+Computations!$E$17*LN(Computations!D743)","v":3071.0011004298176},{"$f":"Computations!$F$18+Computations!$E$18*Computations!D743+Computations!$D$18*Computations!D743^2","v":3153.3420673491232},{"$f":"Computations!$F$19+Computations!$E$19*Computations!D743+Computations!$D$19*Computations!D743^2+Computations!$C$19*Computations!D743^3","v":3153.3420673491232},{"$f":"Computations!$J$15+Computations!$I$15*D743","v":450000},{"$f":"EXP(Computations!$J$16)*EXP(Computations!$I$16)^Computations!D743","v":450000.00000000035},{"$f":"Computations!$J$17+Computations!$I$17*LN(Computations!D743)","v":450000},{"$f":"Computations!$J$18+Computations!$I$18*Computations!D743+Computations!$H$18*Computations!D743^2","v":450000},{"$f":"Computations!$J$19+Computations!$I$19*Computations!D743+Computations!$H$19*Computations!D743^2+Computations!$G$19*Computations!D743^3","v":450000}]
[690,0.21217144453053305,0.21246329178746953,0.21231736815900129,0.99000344042219446,1.2952556975642793E-4,3346.2811599868583,450000,{"$f":"G744-H744/User_entry!$E$18","v":1846.2811599868583},1846.2811599868583,null,{"$f":"HLOOKUP(User_entry!$B$56,Computations!$N$54:$R$1054,Computations!A744+1,FALSE)","v":3346.2811599868583},{"$f":"HLOOKUP(User_entry!$E$56,Computations!$S$54:$W$1054,Computations!A744+1,FALSE)","v":450000},{"$f":"Computations!$F$15+Computations!$E$15*D744","v":3346.2811599868583},{"$f":"EXP(Computations!$F$16)*EXP(Computations!$E$16)^Computations!D744","v":3757.912577885374},{"$f":"Computations!$F$17+Computations!$E$17*LN(Computations!D744)","v":3072.7486244494107},{"$f":"Computations!$F$18+Computations!$E$18*Computations!D744+Computations!$D$18*Computations!D744^2","v":3155.1326811794761},{"$f":"Computations!$F$19+Computations!$E$19*Computations!D744+Computations!$D$19*Computations!D744^2+Computations!$C$19*Computations!D744^3","v":3155.1326811794761},{"$f":"Computations!$J$15+Computations!$I$15*D744","v":450000},{"$f":"EXP(Computations!$J$16)*EXP(Computations!$I$16)^Computations!D744","v":450000.00000000035},{"$f":"Computations!$J$17+Computations!$I$17*LN(Computations!D744)","v":450000},{"$f":"Computations!$J$18+Computations!$I$18*Computations!D744+Computations!$H$18*Computations!D744^2","v":450000},{"$f":"Computations!$J$19+Computations!$I$19*Computations!D744+Computations!$H$19*Computations!D744^2+Computations!$G$19*Computations!D744^3","v":450000}]
[691,0.21246329178746953,0.21275513904440602,0.21260921541593777,0.99013144133604492,1.2800091385045675E-4,3350.1212554728645,450000,{"$f":"G745-H745/User_entry!$E$18","v":1850.1212554728645},1850.1212554728645,null,{"$f":"HLOOKUP(User_entry!$B$56,Computations!$N$54:$R$1054,Computations!A745+1,FALSE)","v":3350.1212554728645},{"$f":"HLOOKUP(User_entry!$E$56,Computations!$S$54:$W$1054,Computations!A745+1,FALSE)","v":450000},{"$f":"Computations!$F$15+Computations!$E$15*D745","v":3350.1212554728645},{"$f":"EXP(Computations!$F$16)*EXP(Computations!$E$16)^Computations!D745","v":3765.7091682241035},{"$f":"Computations!$F$17+Computations!$E$17*LN(Computations!D745)","v":3074.4937480060921},{"$f":"Computations!$F$18+Computations!$E$18*Computations!D745+Computations!$D$18*Computations!D745^2","v":3156.9169857638017},{"$f":"Computations!$F$19+Computations!$E$19*Computations!D745+Computations!$D$19*Computations!D745^2+Computations!$C$19*Computations!D745^3","v":3156.9169857638017},{"$f":"Computations!$J$15+Computations!$I$15*D745","v":450000},{"$f":"EXP(Computations!$J$16)*EXP(Computations!$I$16)^Computations!D745","v":450000.00000000035},{"$f":"Computations!$J$17+Computations!$I$17*LN(Computations!D745)","v":450000},{"$f":"Computations!$J$18+Computations!$I$18*Computations!D745+Computations!$H$18*Computations!D745^2","v":450000},{"$f":"Computations!$J$19+Computations!$I$19*Computations!D745+Computations!$H$19*Computations!D745^2+Computations!$G$19*Computations!D745^3","v":450000}]
[692,0.21275513904440602,0.2130469863013425,0.21290106267287426,0.99025793361556413,1.2649227951921915E-4,3353.9613509588708,450000,{"$f":"G746-H746/User_entry!$E$18","v":1853.9613509588708},1853.9613509588708,null,{"$f":"HLOOKUP(User_entry!$B$56,Computations!$N$54:$R$1054,Computations!A746+1,FALSE)","v":3353.9613509588708},{"$f":"HLOOKUP(User_entry!$E$56,Computations!$S$54:$W$1054,Computations!A746+1,FALSE)","v":450000},{"$f":"Computations!$F$15+Computations!$E$15*D746","v":3353.9613509588708},{"$f":"EXP(Computations!$F$16)*EXP(Computations!$E$16)^Computations!D746","v":3773.5219342507039},{"$f":"Computations!$F$17+Computations!$E$17*LN(Computations!D746)","v":3076.2364776855438},{"$f":"Computations!$F$18+Computations!$E$18*Computations!D746+Computations!$D$18*Computations!D746^2","v":3158.6949811020995},{"$f":"Computations!$F$19+Computations!$E$19*Computations!D746+Computations!$D$19*Computations!D746^2+Computations!$C$19*Computations!D746^3","v":3158.6949811020995},{"$f":"Computations!$J$15+Computations!$I$15*D746","v":450000},{"$f":"EXP(Computations!$J$16)*EXP(Computations!$I$16)^Computations!D746","v":450000.00000000035},{"$f":"Computations!$J$17+Computations!$I$17*LN(Computations!D746)","v":450000},{"$f":"Computations!$J$18+Computations!$I$18*Computations!D746+Computations!$H$18*Computations!D746^2","v":450000},{"$f":"Computations!$J$19+Computations!$I$19*Computations!D746+Computations!$H$19*Computations!D746^2+Computations!$G$19*Computations!D746^3","v":450000}]
[693,0.2130469863013425,0.21333883355827898,0.21319290992981074,0.99038293314144699,1.2499952588285179E-4,3357.8014464448779,450000,{"$f":"G747-H747/User_entry!$E$18","v":1857.8014464448779},1857.8014464448779,null,{"$f":"HLOOKUP(User_entry!$B$56,Computations!$N$54:$R$1054,Computations!A747+1,FALSE)","v":3357.8014464448779},{"$f":"HLOOKUP(User_entry!$E$56,Computations!$S$54:$W$1054,Computations!A747+1,FALSE)","v":450000},{"$f":"Computations!$F$15+Computations!$E$15*D747","v":3357.8014464448779},{"$f":"EXP(Computations!$F$16)*EXP(Computations!$E$16)^Computations!D747","v":3781.3509095250879},{"$f":"Computations!$F$17+Computations!$E$17*LN(Computations!D747)","v":3077.9768200463832},{"$f":"Computations!$F$18+Computations!$E$18*Computations!D747+Computations!$D$18*Computations!D747^2","v":3160.4666671943687},{"$f":"Computations!$F$19+Computations!$E$19*Computations!D747+Computations!$D$19*Computations!D747^2+Computations!$C$19*Computations!D747^3","v":3160.4666671943687},{"$f":"Computations!$J$15+Computations!$I$15*D747","v":450000},{"$f":"EXP(Computations!$J$16)*EXP(Computations!$I$16)^Computations!D747","v":450000.00000000035},{"$f":"Computations!$J$17+Computations!$I$17*LN(Computations!D747)","v":450000},{"$f":"Computations!$J$18+Computations!$I$18*Computations!D747+Computations!$H$18*Computations!D747^2","v":450000},{"$f":"Computations!$J$19+Computations!$I$19*Computations!D747+Computations!$H$19*Computations!D747^2+Computations!$G$19*Computations!D747^3","v":450000}]
[694,0.21333883355827898,0.21363068081521547,0.21348475718674723,0.99050645565435502,1.235225129080364E-4,3361.6415419308842,450000,{"$f":"G748-H748/User_entry!$E$18","v":1861.6415419308842},1861.6415419308842,null,{"$f":"HLOOKUP(User_entry!$B$56,Computations!$N$54:$R$1054,Computations!A748+1,FALSE)","v":3361.6415419308842},{"$f":"HLOOKUP(User_entry!$E$56,Computations!$S$54:$W$1054,Computations!A748+1,FALSE)","v":450000},{"$f":"Computations!$F$15+Computations!$E$15*D748","v":3361.6415419308842},{"$f":"EXP(Computations!$F$16)*EXP(Computations!$E$16)^Computations!D748","v":3789.1961276767938},{"$f":"Computations!$F$17+Computations!$E$17*LN(Computations!D748)","v":3079.7147816203105},{"$f":"Computations!$F$18+Computations!$E$18*Computations!D748+Computations!$D$18*Computations!D748^2","v":3162.2320440406083},{"$f":"Computations!$F$19+Computations!$E$19*Computations!D748+Computations!$D$19*Computations!D748^2+Computations!$C$19*Computations!D748^3","v":3162.2320440406083},{"$f":"Computations!$J$15+Computations!$I$15*D748","v":450000},{"$f":"EXP(Computations!$J$16)*EXP(Computations!$I$16)^Computations!D748","v":450000.00000000035},{"$f":"Computations!$J$17+Computations!$I$17*LN(Computations!D748)","v":450000},{"$f":"Computations!$J$18+Computations!$I$18*Computations!D748+Computations!$H$18*Computations!D748^2","v":450000},{"$f":"Computations!$J$19+Computations!$I$19*Computations!D748+Computations!$H$19*Computations!D748^2+Computations!$G$19*Computations!D748^3","v":450000}]
[695,0.21363068081521547,0.21392252807215195,0.21377660444368371,0.99062851675576402,1.2206110140899895E-4,3365.4816374168904,450000,{"$f":"G749-H749/User_entry!$E$18","v":1865.4816374168904},1865.4816374168904,null,{"$f":"HLOOKUP(User_entry!$B$56,Computations!$N$54:$R$1054,Computations!A749+1,FALSE)","v":3365.4816374168904},{"$f":"HLOOKUP(User_entry!$E$56,Computations!$S$54:$W$1054,Computations!A749+1,FALSE)","v":450000},{"$f":"Computations!$F$15+Computations!$E$15*D749","v":3365.4816374168904},{"$f":"EXP(Computations!$F$16)*EXP(Computations!$E$16)^Computations!D749","v":3797.0576224051301},{"$f":"Computations!$F$17+Computations!$E$17*LN(Computations!D749)","v":3081.4503689122585},{"$f":"Computations!$F$18+Computations!$E$18*Computations!D749+Computations!$D$18*Computations!D749^2","v":3163.9911116408211},{"$f":"Computations!$F$19+Computations!$E$19*Computations!D749+Computations!$D$19*Computations!D749^2+Computations!$C$19*Computations!D749^3","v":3163.9911116408211},{"$f":"Computations!$J$15+Computations!$I$15*D749","v":450000},{"$f":"EXP(Computations!$J$16)*EXP(Computations!$I$16)^Computations!D749","v":450000.00000000035},{"$f":"Computations!$J$17+Computations!$I$17*LN(Computations!D749)","v":450000},{"$f":"Computations!$J$18+Computations!$I$18*Computations!D749+Computations!$H$18*Computations!D749^2","v":450000},{"$f":"Computations!$J$19+Computations!$I$19*Computations!D749+Computations!$H$19*Computations!D749^2+Computations!$G$19*Computations!D749^3","v":450000}]
[696,0.21392252807215195,0.21421437532908844,0.21406845170062019,0.99074913190881242,1.2061515304839787E-4,3369.3217329028967,450000,{"$f":"G750-H750/User_entry!$E$18","v":1869.3217329028967},1869.3217329028967,null,{"$f":"HLOOKUP(User_entry!$B$56,Computations!$N$54:$R$1054,Computations!A750+1,FALSE)","v":3369.3217329028967},{"$f":"HLOOKUP(User_entry!$E$56,Computations!$S$54:$W$1054,Computations!A750+1,FALSE)","v":450000},{"$f":"Computations!$F$15+Computations!$E$15*D750","v":3369.3217329028967},{"$f":"EXP(Computations!$F$16)*EXP(Computations!$E$16)^Computations!D750","v":3804.9354274793232},{"$f":"Computations!$F$17+Computations!$E$17*LN(Computations!D750)","v":3083.1835884005332},{"$f":"Computations!$F$18+Computations!$E$18*Computations!D750+Computations!$D$18*Computations!D750^2","v":3165.7438699950062},{"$f":"Computations!$F$19+Computations!$E$19*Computations!D750+Computations!$D$19*Computations!D750^2+Computations!$C$19*Computations!D750^3","v":3165.7438699950062},{"$f":"Computations!$J$15+Computations!$I$15*D750","v":450000},{"$f":"EXP(Computations!$J$16)*EXP(Computations!$I$16)^Computations!D750","v":450000.00000000035},{"$f":"Computations!$J$17+Computations!$I$17*LN(Computations!D750)","v":450000},{"$f":"Computations!$J$18+Computations!$I$18*Computations!D750+Computations!$H$18*Computations!D750^2","v":450000},{"$f":"Computations!$J$19+Computations!$I$19*Computations!D750+Computations!$H$19*Computations!D750^2+Computations!$G$19*Computations!D750^3","v":450000}]
[697,0.21421437532908844,0.21450622258602492,0.21436029895755668,0.99086831643915008,1.1918453033765708E-4,3373.1618283889029,450000,{"$f":"G751-H751/User_entry!$E$18","v":1873.1618283889029},1873.1618283889029,null,{"$f":"HLOOKUP(User_entry!$B$56,Computations!$N$54:$R$1054,Computations!A751+1,FALSE)","v":3373.1618283889029},{"$f":"HLOOKUP(User_entry!$E$56,Computations!$S$54:$W$1054,Computations!A751+1,FALSE)","v":450000},{"$f":"Computations!$F$15+Computations!$E$15*D751","v":3373.1618283889029},{"$f":"EXP(Computations!$F$16)*EXP(Computations!$E$16)^Computations!D751","v":3812.8295767386621},{"$f":"Computations!$F$17+Computations!$E$17*LN(Computations!D751)","v":3084.9144465369654},{"$f":"Computations!$F$18+Computations!$E$18*Computations!D751+Computations!$D$18*Computations!D751^2","v":3167.4903191031622},{"$f":"Computations!$F$19+Computations!$E$19*Computations!D751+Computations!$D$19*Computations!D751^2+Computations!$C$19*Computations!D751^3","v":3167.4903191031622},{"$f":"Computations!$J$15+Computations!$I$15*D751","v":450000},{"$f":"EXP(Computations!$J$16)*EXP(Computations!$I$16)^Computations!D751","v":450000.00000000035},{"$f":"Computations!$J$17+Computations!$I$17*LN(Computations!D751)","v":450000},{"$f":"Computations!$J$18+Computations!$I$18*Computations!D751+Computations!$H$18*Computations!D751^2","v":450000},{"$f":"Computations!$J$19+Computations!$I$19*Computations!D751+Computations!$H$19*Computations!D751^2+Computations!$G$19*Computations!D751^3","v":450000}]
[698,0.21450622258602492,0.2147980698429614,0.21465214621449316,0.99098608553578749,1.1776909663741009E-4,3377.0019238749092,450000,{"$f":"G752-H752/User_entry!$E$18","v":1877.0019238749092},1877.0019238749092,null,{"$f":"HLOOKUP(User_entry!$B$56,Computations!$N$54:$R$1054,Computations!A752+1,FALSE)","v":3377.0019238749092},{"$f":"HLOOKUP(User_entry!$E$56,Computations!$S$54:$W$1054,Computations!A752+1,FALSE)","v":450000},{"$f":"Computations!$F$15+Computations!$E$15*D752","v":3377.0019238749092},{"$f":"EXP(Computations!$F$16)*EXP(Computations!$E$16)^Computations!D752","v":3820.7401040926406},{"$f":"Computations!$F$17+Computations!$E$17*LN(Computations!D752)","v":3086.6429497470508},{"$f":"Computations!$F$18+Computations!$E$18*Computations!D752+Computations!$D$18*Computations!D752^2","v":3169.2304589652895},{"$f":"Computations!$F$19+Computations!$E$19*Computations!D752+Computations!$D$19*Computations!D752^2+Computations!$C$19*Computations!D752^3","v":3169.2304589652895},{"$f":"Computations!$J$15+Computations!$I$15*D752","v":450000},{"$f":"EXP(Computations!$J$16)*EXP(Computations!$I$16)^Computations!D752","v":450000.00000000035},{"$f":"Computations!$J$17+Computations!$I$17*LN(Computations!D752)","v":450000},{"$f":"Computations!$J$18+Computations!$I$18*Computations!D752+Computations!$H$18*Computations!D752^2","v":450000},{"$f":"Computations!$J$19+Computations!$I$19*Computations!D752+Computations!$H$19*Computations!D752^2+Computations!$G$19*Computations!D752^3","v":450000}]
[699,0.2147980698429614,0.21508991709989789,0.21494399347142965,0.99110245425194599,1.163687161584992E-4,3380.8420193609154,450000,{"$f":"G753-H753/User_entry!$E$18","v":1880.8420193609154},1880.8420193609154,null,{"$f":"HLOOKUP(User_entry!$B$56,Computations!$N$54:$R$1054,Computations!A753+1,FALSE)","v":3380.8420193609154},{"$f":"HLOOKUP(User_entry!$E$56,Computations!$S$54:$W$1054,Computations!A753+1,FALSE)","v":450000},{"$f":"Computations!$F$15+Computations!$E$15*D753","v":3380.8420193609154},{"$f":"EXP(Computations!$F$16)*EXP(Computations!$E$16)^Computations!D753","v":3828.6670435211054},{"$f":"Computations!$F$17+Computations!$E$17*LN(Computations!D753)","v":3088.3691044300931},{"$f":"Computations!$F$18+Computations!$E$18*Computations!D753+Computations!$D$18*Computations!D753^2","v":3170.964289581389},{"$f":"Computations!$F$19+Computations!$E$19*Computations!D753+Computations!$D$19*Computations!D753^2+Computations!$C$19*Computations!D753^3","v":3170.964289581389},{"$f":"Computations!$J$15+Computations!$I$15*D753","v":450000},{"$f":"EXP(Computations!$J$16)*EXP(Computations!$I$16)^Computations!D753","v":450000.00000000035},{"$f":"Computations!$J$17+Computations!$I$17*LN(Computations!D753)","v":450000},{"$f":"Computations!$J$18+Computations!$I$18*Computations!D753+Computations!$H$18*Computations!D753^2","v":450000},{"$f":"Computations!$J$19+Computations!$I$19*Computations!D753+Computations!$H$19*Computations!D753^2+Computations!$G$19*Computations!D753^3","v":450000}]
[700,0.21508991709989789,0.21538176435683437,0.21523584072836613,0.99121743750590718,1.1498325396119835E-4,3384.6821148469216,450000,{"$f":"G754-H754/User_entry!$E$18","v":1884.6821148469216},1884.6821148469216,null,{"$f":"HLOOKUP(User_entry!$B$56,Computations!$N$54:$R$1054,Computations!A754+1,FALSE)","v":3384.6821148469216},{"$f":"HLOOKUP(User_entry!$E$56,Computations!$S$54:$W$1054,Computations!A754+1,FALSE)","v":450000},{"$f":"Computations!$F$15+Computations!$E$15*D754","v":3384.6821148469216},{"$f":"EXP(Computations!$F$16)*EXP(Computations!$E$16)^Computations!D754","v":3836.610429074402},{"$f":"Computations!$F$17+Computations!$E$17*LN(Computations!D754)","v":3090.0929169593483},{"$f":"Computations!$F$18+Computations!$E$18*Computations!D754+Computations!$D$18*Computations!D754^2","v":3172.6918109514609},{"$f":"Computations!$F$19+Computations!$E$19*Computations!D754+Computations!$D$19*Computations!D754^2+Computations!$C$19*Computations!D754^3","v":3172.6918109514609},{"$f":"Computations!$J$15+Computations!$I$15*D754","v":450000},{"$f":"EXP(Computations!$J$16)*EXP(Computations!$I$16)^Computations!D754","v":450000.00000000035},{"$f":"Computations!$J$17+Computations!$I$17*LN(Computations!D754)","v":450000},{"$f":"Computations!$J$18+Computations!$I$18*Computations!D754+Computations!$H$18*Computations!D754^2","v":450000},{"$f":"Computations!$J$19+Computations!$I$19*Computations!D754+Computations!$H$19*Computations!D754^2+Computations!$G$19*Computations!D754^3","v":450000}]
[701,0.21538176435683437,0.21567361161377085,0.21552768798530261,0.99133105008186395,1.1361257595676744E-4,3388.5222103329288,450000,{"$f":"G755-H755/User_entry!$E$18","v":1888.5222103329288},1888.5222103329288,null,{"$f":"HLOOKUP(User_entry!$B$56,Computations!$N$54:$R$1054,Computations!A755+1,FALSE)","v":3388.5222103329288},{"$f":"HLOOKUP(User_entry!$E$56,Computations!$S$54:$W$1054,Computations!A755+1,FALSE)","v":450000},{"$f":"Computations!$F$15+Computations!$E$15*D755","v":3388.5222103329288},{"$f":"EXP(Computations!$F$16)*EXP(Computations!$E$16)^Computations!D755","v":3844.5702948735216},{"$f":"Computations!$F$17+Computations!$E$17*LN(Computations!D755)","v":3091.8143936821625},{"$f":"Computations!$F$18+Computations!$E$18*Computations!D755+Computations!$D$18*Computations!D755^2","v":3174.4130230755036},{"$f":"Computations!$F$19+Computations!$E$19*Computations!D755+Computations!$D$19*Computations!D755^2+Computations!$C$19*Computations!D755^3","v":3174.4130230755036},{"$f":"Computations!$J$15+Computations!$I$15*D755","v":450000},{"$f":"EXP(Computations!$J$16)*EXP(Computations!$I$16)^Computations!D755","v":450000.00000000035},{"$f":"Computations!$J$17+Computations!$I$17*LN(Computations!D755)","v":450000},{"$f":"Computations!$J$18+Computations!$I$18*Computations!D755+Computations!$H$18*Computations!D755^2","v":450000},{"$f":"Computations!$J$19+Computations!$I$19*Computations!D755+Computations!$H$19*Computations!D755^2+Computations!$G$19*Computations!D755^3","v":450000}]
[702,0.21567361161377085,0.21596545887070734,0.2158195352422391,0.99144330663076996,1.12256548906009E-4,3392.3623058189351,450000,{"$f":"G756-H756/User_entry!$E$18","v":1892.3623058189351},1892.3623058189351,null,{"$f":"HLOOKUP(User_entry!$B$56,Computations!$N$54:$R$1054,Computations!A756+1,FALSE)","v":3392.3623058189351},{"$f":"HLOOKUP(User_entry!$E$56,Computations!$S$54:$W$1054,Computations!A756+1,FALSE)","v":450000},{"$f":"Computations!$F$15+Computations!$E$15*D756","v":3392.3623058189351},{"$f":"EXP(Computations!$F$16)*EXP(Computations!$E$16)^Computations!D756","v":3852.5466751102431},{"$f":"Computations!$F$17+Computations!$E$17*LN(Computations!D756)","v":3093.533540920118},{"$f":"Computations!$F$18+Computations!$E$18*Computations!D756+Computations!$D$18*Computations!D756^2","v":3176.1279259535177},{"$f":"Computations!$F$19+Computations!$E$19*Computations!D756+Computations!$D$19*Computations!D756^2+Computations!$C$19*Computations!D756^3","v":3176.1279259535177},{"$f":"Computations!$J$15+Computations!$I$15*D756","v":450000},{"$f":"EXP(Computations!$J$16)*EXP(Computations!$I$16)^Computations!D756","v":450000.00000000035},{"$f":"Computations!$J$17+Computations!$I$17*LN(Computations!D756)","v":450000},{"$f":"Computations!$J$18+Computations!$I$18*Computations!D756+Computations!$H$18*Computations!D756^2","v":450000},{"$f":"Computations!$J$19+Computations!$I$19*Computations!D756+Computations!$H$19*Computations!D756^2+Computations!$G$19*Computations!D756^3","v":450000}]
[703,0.21596545887070734,0.21625730612764382,0.21611138249917558,0.99155422167119056,1.1091504042060052E-4,3396.2024013049413,450000,{"$f":"G757-H757/User_entry!$E$18","v":1896.2024013049413},1896.2024013049413,null,{"$f":"HLOOKUP(User_entry!$B$56,Computations!$N$54:$R$1054,Computations!A757+1,FALSE)","v":3396.2024013049413},{"$f":"HLOOKUP(User_entry!$E$56,Computations!$S$54:$W$1054,Computations!A757+1,FALSE)","v":450000},{"$f":"Computations!$F$15+Computations!$E$15*D757","v":3396.2024013049413},{"$f":"EXP(Computations!$F$16)*EXP(Computations!$E$16)^Computations!D757","v":3860.5396040472892},{"$f":"Computations!$F$17+Computations!$E$17*LN(Computations!D757)","v":3095.2503649691662},{"$f":"Computations!$F$18+Computations!$E$18*Computations!D757+Computations!$D$18*Computations!D757^2","v":3177.8365195855044},{"$f":"Computations!$F$19+Computations!$E$19*Computations!D757+Computations!$D$19*Computations!D757^2+Computations!$C$19*Computations!D757^3","v":3177.8365195855044},{"$f":"Computations!$J$15+Computations!$I$15*D757","v":450000},{"$f":"EXP(Computations!$J$16)*EXP(Computations!$I$16)^Computations!D757","v":450000.00000000035},{"$f":"Computations!$J$17+Computations!$I$17*LN(Computations!D757)","v":450000},{"$f":"Computations!$J$18+Computations!$I$18*Computations!D757+Computations!$H$18*Computations!D757^2","v":450000},{"$f":"Computations!$J$19+Computations!$I$19*Computations!D757+Computations!$H$19*Computations!D757^2+Computations!$G$19*Computations!D757^3","v":450000}]
[704,0.21625730612764382,0.21654915338458031,0.21640322975611206,0.99166380959015232,1.0958791896176212E-4,3400.0424967909476,450000,{"$f":"G758-H758/User_entry!$E$18","v":1900.0424967909476},1900.0424967909476,null,{"$f":"HLOOKUP(User_entry!$B$56,Computations!$N$54:$R$1054,Computations!A758+1,FALSE)","v":3400.0424967909476},{"$f":"HLOOKUP(User_entry!$E$56,Computations!$S$54:$W$1054,Computations!A758+1,FALSE)","v":450000},{"$f":"Computations!$F$15+Computations!$E$15*D758","v":3400.0424967909476},{"$f":"EXP(Computations!$F$16)*EXP(Computations!$E$16)^Computations!D758","v":3868.5491160184629},{"$f":"Computations!$F$17+Computations!$E$17*LN(Computations!D758)","v":3096.9648720997684},{"$f":"Computations!$F$18+Computations!$E$18*Computations!D758+Computations!$D$18*Computations!D758^2","v":3179.538803971463},{"$f":"Computations!$F$19+Computations!$E$19*Computations!D758+Computations!$D$19*Computations!D758^2+Computations!$C$19*Computations!D758^3","v":3179.538803971463},{"$f":"Computations!$J$15+Computations!$I$15*D758","v":450000},{"$f":"EXP(Computations!$J$16)*EXP(Computations!$I$16)^Computations!D758","v":450000.00000000035},{"$f":"Computations!$J$17+Computations!$I$17*LN(Computations!D758)","v":450000},{"$f":"Computations!$J$18+Computations!$I$18*Computations!D758+Computations!$H$18*Computations!D758^2","v":450000},{"$f":"Computations!$J$19+Computations!$I$19*Computations!D758+Computations!$H$19*Computations!D758^2+Computations!$G$19*Computations!D758^3","v":450000}]
[705,0.21654915338458031,0.21684100064151679,0.21669507701304855,0.99177208464399336,1.0827505384103375E-4,3403.8825922769538,450000,{"$f":"G759-H759/User_entry!$E$18","v":1903.8825922769538},1903.8825922769538,null,{"$f":"HLOOKUP(User_entry!$B$56,Computations!$N$54:$R$1054,Computations!A759+1,FALSE)","v":3403.8825922769538},{"$f":"HLOOKUP(User_entry!$E$56,Computations!$S$54:$W$1054,Computations!A759+1,FALSE)","v":450000},{"$f":"Computations!$F$15+Computations!$E$15*D759","v":3403.8825922769538},{"$f":"EXP(Computations!$F$16)*EXP(Computations!$E$16)^Computations!D759","v":3876.5752454288013},{"$f":"Computations!$F$17+Computations!$E$17*LN(Computations!D759)","v":3098.6770685570345},{"$f":"Computations!$F$18+Computations!$E$18*Computations!D759+Computations!$D$18*Computations!D759^2","v":3181.2347791113934},{"$f":"Computations!$F$19+Computations!$E$19*Computations!D759+Computations!$D$19*Computations!D759^2+Computations!$C$19*Computations!D759^3","v":3181.2347791113934},{"$f":"Computations!$J$15+Computations!$I$15*D759","v":450000},{"$f":"EXP(Computations!$J$16)*EXP(Computations!$I$16)^Computations!D759","v":450000.00000000035},{"$f":"Computations!$J$17+Computations!$I$17*LN(Computations!D759)","v":450000},{"$f":"Computations!$J$18+Computations!$I$18*Computations!D759+Computations!$H$18*Computations!D759^2","v":450000},{"$f":"Computations!$J$19+Computations!$I$19*Computations!D759+Computations!$H$19*Computations!D759^2+Computations!$G$19*Computations!D759^3","v":450000}]
[706,0.21684100064151679,{"$f":"B760+$D$11","v":0.21713284789845327},{"$f":"AVERAGE(B760:C760)","v":0.21698692426998503},{"$f":"IF($D$3=\"Beta\",_xlfn.BETA.DIST(C760,$D$4,$D$5,TRUE),IF($D$3=\"Gamma\",_xlfn.GAMMA.DIST(C760,$D$4,$D$5,TRUE),IF($D$3=\"Lognorm\",_xlfn.LOGNORM.DIST(C760,$D$4,$D$5,TRUE),_xlfn.NORM.DIST(C760,$D$4,$D$5,TRUE))))","v":0.99187906095921263},{"$f":"E760-E759","v":1.0697631521927597E-4},{"$f":"L760","v":3407.72268776296},{"$f":"M760","v":450000},{"$f":"G760-H760/User_entry!$E$18","v":1907.72268776296},{"$f":"MAX(I760,0)","v":1907.72268776296},null,{"$f":"HLOOKUP(User_entry!$B$56,Computations!$N$54:$R$1054,Computations!A760+1,FALSE)","v":3407.72268776296},{"$f":"HLOOKUP(User_entry!$E$56,Computations!$S$54:$W$1054,Computations!A760+1,FALSE)","v":450000},{"$f":"Computations!$F$15+Computations!$E$15*D760","v":3407.72268776296},{"$f":"EXP(Computations!$F$16)*EXP(Computations!$E$16)^Computations!D760","v":3884.6180267547247},{"$f":"Computations!$F$17+Computations!$E$17*LN(Computations!D760)","v":3100.3869605608588},{"$f":"Computations!$F$18+Computations!$E$18*Computations!D760+Computations!$D$18*Computations!D760^2","v":3182.9244450052943},{"$f":"Computations!$F$19+Computations!$E$19*Computations!D760+Computations!$D$19*Computations!D760^2+Computations!$C$19*Computations!D760^3","v":3182.9244450052943},{"$f":"Computations!$J$15+Computations!$I$15*D760","v":450000},{"$f":"EXP(Computations!$J$16)*EXP(Computations!$I$16)^Computations!D760","v":450000.00000000035},{"$f":"Computations!$J$17+Computations!$I$17*LN(Computations!D760)","v":450000},{"$f":"Computations!$J$18+Computations!$I$18*Computations!D760+Computations!$H$18*Computations!D760^2","v":450000},{"$f":"Computations!$J$19+Computations!$I$19*Computations!D760+Computations!$H$19*Computations!D760^2+Computations!$G$19*Computations!D760^3","v":450000}]
[707,{"$f":"C760","v":0.21713284789845327},0.21742469515538976,0.21727877152692152,0.99198475253331897,1.0569157410633689E-4,3411.5627832489663,450000,{"$f":"G761-H761/User_entry!$E$18","v":1911.5627832489663},1911.5627832489663,null,{"$f":"HLOOKUP(User_entry!$B$56,Computations!$N$54:$R$1054,Computations!A761+1,FALSE)","v":3411.5627832489663},{"$f":"HLOOKUP(User_entry!$E$56,Computations!$S$54:$W$1054,Computations!A761+1,FALSE)","v":450000},{"$f":"Computations!$F$15+Computations!$E$15*D761","v":3411.5627832489663},{"$f":"EXP(Computations!$F$16)*EXP(Computations!$E$16)^Computations!D761","v":3892.677494544178},{"$f":"Computations!$F$17+Computations!$E$17*LN(Computations!D761)","v":3102.0945543060543},{"$f":"Computations!$F$18+Computations!$E$18*Computations!D761+Computations!$D$18*Computations!D761^2","v":3184.6078016531683},{"$f":"Computations!$F$19+Computations!$E$19*Computations!D761+Computations!$D$19*Computations!D761^2+Computations!$C$19*Computations!D761^3","v":3184.6078016531683},{"$f":"Computations!$J$15+Computations!$I$15*D761","v":450000},{"$f":"EXP(Computations!$J$16)*EXP(Computations!$I$16)^Computations!D761","v":450000.00000000035},{"$f":"Computations!$J$17+Computations!$I$17*LN(Computations!D761)","v":450000},{"$f":"Computations!$J$18+Computations!$I$18*Computations!D761+Computations!$H$18*Computations!D761^2","v":450000},{"$f":"Computations!$J$19+Computations!$I$19*Computations!D761+Computations!$H$19*Computations!D761^2+Computations!$G$19*Computations!D761^3","v":450000}]
[708,0.21742469515538976,0.21771654241232624,0.217570618783858,0.99208917323567958,1.0442070236060808E-4,3415.4028787349735,450000,{"$f":"G762-H762/User_entry!$E$18","v":1915.4028787349735},1915.4028787349735,null,{"$f":"HLOOKUP(User_entry!$B$56,Computations!$N$54:$R$1054,Computations!A762+1,FALSE)","v":3415.4028787349735},{"$f":"HLOOKUP(User_entry!$E$56,Computations!$S$54:$W$1054,Computations!A762+1,FALSE)","v":450000},{"$f":"Computations!$F$15+Computations!$E$15*D762","v":3415.4028787349735},{"$f":"EXP(Computations!$F$16)*EXP(Computations!$E$16)^Computations!D762","v":3900.7536834167854},{"$f":"Computations!$F$17+Computations!$E$17*LN(Computations!D762)","v":3103.7998559624875},{"$f":"Computations!$F$18+Computations!$E$18*Computations!D762+Computations!$D$18*Computations!D762^2","v":3186.2848490550136},{"$f":"Computations!$F$19+Computations!$E$19*Computations!D762+Computations!$D$19*Computations!D762^2+Computations!$C$19*Computations!D762^3","v":3186.2848490550136},{"$f":"Computations!$J$15+Computations!$I$15*D762","v":450000},{"$f":"EXP(Computations!$J$16)*EXP(Computations!$I$16)^Computations!D762","v":450000.00000000035},{"$f":"Computations!$J$17+Computations!$I$17*LN(Computations!D762)","v":450000},{"$f":"Computations!$J$18+Computations!$I$18*Computations!D762+Computations!$H$18*Computations!D762^2","v":450000},{"$f":"Computations!$J$19+Computations!$I$19*Computations!D762+Computations!$H$19*Computations!D762^2+Computations!$G$19*Computations!D762^3","v":450000}]
[709,0.21771654241232624,0.21800838966926273,0.21786246604079448,0.99219233680836827,1.0316357268869147E-4,3419.2429742209797,450000,{"$f":"G763-H763/User_entry!$E$18","v":1919.2429742209797},1919.2429742209797,null,{"$f":"HLOOKUP(User_entry!$B$56,Computations!$N$54:$R$1054,Computations!A763+1,FALSE)","v":3419.2429742209797},{"$f":"HLOOKUP(User_entry!$E$56,Computations!$S$54:$W$1054,Computations!A763+1,FALSE)","v":450000},{"$f":"Computations!$F$15+Computations!$E$15*D763","v":3419.2429742209797},{"$f":"EXP(Computations!$F$16)*EXP(Computations!$E$16)^Computations!D763","v":3908.8466280639982},{"$f":"Computations!$F$17+Computations!$E$17*LN(Computations!D763)","v":3105.5028716752149},{"$f":"Computations!$F$18+Computations!$E$18*Computations!D763+Computations!$D$18*Computations!D763^2","v":3187.9555872108299},{"$f":"Computations!$F$19+Computations!$E$19*Computations!D763+Computations!$D$19*Computations!D763^2+Computations!$C$19*Computations!D763^3","v":3187.9555872108299},{"$f":"Computations!$J$15+Computations!$I$15*D763","v":450000},{"$f":"EXP(Computations!$J$16)*EXP(Computations!$I$16)^Computations!D763","v":450000.00000000035},{"$f":"Computations!$J$17+Computations!$I$17*LN(Computations!D763)","v":450000},{"$f":"Computations!$J$18+Computations!$I$18*Computations!D763+Computations!$H$18*Computations!D763^2","v":450000},{"$f":"Computations!$J$19+Computations!$I$19*Computations!D763+Computations!$H$19*Computations!D763^2+Computations!$G$19*Computations!D763^3","v":450000}]
[710,0.21800838966926273,0.21830023692619921,0.21815431329773097,0.99229425686701189,1.0192005864362308E-4,3423.083069706986,450000,{"$f":"G764-H764/User_entry!$E$18","v":1923.083069706986},1923.083069706986,null,{"$f":"HLOOKUP(User_entry!$B$56,Computations!$N$54:$R$1054,Computations!A764+1,FALSE)","v":3423.083069706986},{"$f":"HLOOKUP(User_entry!$E$56,Computations!$S$54:$W$1054,Computations!A764+1,FALSE)","v":450000},{"$f":"Computations!$F$15+Computations!$E$15*D764","v":3423.083069706986},{"$f":"EXP(Computations!$F$16)*EXP(Computations!$E$16)^Computations!D764","v":3916.9563632492391},{"$f":"Computations!$F$17+Computations!$E$17*LN(Computations!D764)","v":3107.2036075646124},{"$f":"Computations!$F$18+Computations!$E$18*Computations!D764+Computations!$D$18*Computations!D764^2","v":3189.6200161206189},{"$f":"Computations!$F$19+Computations!$E$19*Computations!D764+Computations!$D$19*Computations!D764^2+Computations!$C$19*Computations!D764^3","v":3189.6200161206189},{"$f":"Computations!$J$15+Computations!$I$15*D764","v":450000},{"$f":"EXP(Computations!$J$16)*EXP(Computations!$I$16)^Computations!D764","v":450000.00000000035},{"$f":"Computations!$J$17+Computations!$I$17*LN(Computations!D764)","v":450000},{"$f":"Computations!$J$18+Computations!$I$18*Computations!D764+Computations!$H$18*Computations!D764^2","v":450000},{"$f":"Computations!$J$19+Computations!$I$19*Computations!D764+Computations!$H$19*Computations!D764^2+Computations!$G$19*Computations!D764^3","v":450000}]
[711,0.21830023692619921,0.21859208418313569,0.21844616055466745,0.99239494690163732,1.0069003462542803E-4,3426.9231651929922,450000,{"$f":"G765-H765/User_entry!$E$18","v":1926.9231651929922},1926.9231651929922,null,{"$f":"HLOOKUP(User_entry!$B$56,Computations!$N$54:$R$1054,Computations!A765+1,FALSE)","v":3426.9231651929922},{"$f":"HLOOKUP(User_entry!$E$56,Computations!$S$54:$W$1054,Computations!A765+1,FALSE)","v":450000},{"$f":"Computations!$F$15+Computations!$E$15*D765","v":3426.9231651929922},{"$f":"EXP(Computations!$F$16)*EXP(Computations!$E$16)^Computations!D765","v":3925.0829238080573},{"$f":"Computations!$F$17+Computations!$E$17*LN(Computations!D765)","v":3108.9020697265096},{"$f":"Computations!$F$18+Computations!$E$18*Computations!D765+Computations!$D$18*Computations!D765^2","v":3191.2781357843796},{"$f":"Computations!$F$19+Computations!$E$19*Computations!D765+Computations!$D$19*Computations!D765^2+Computations!$C$19*Computations!D765^3","v":3191.2781357843796},{"$f":"Computations!$J$15+Computations!$I$15*D765","v":450000},{"$f":"EXP(Computations!$J$16)*EXP(Computations!$I$16)^Computations!D765","v":450000.00000000035},{"$f":"Computations!$J$17+Computations!$I$17*LN(Computations!D765)","v":450000},{"$f":"Computations!$J$18+Computations!$I$18*Computations!D765+Computations!$H$18*Computations!D765^2","v":450000},{"$f":"Computations!$J$19+Computations!$I$19*Computations!D765+Computations!$H$19*Computations!D765^2+Computations!$G$19*Computations!D765^3","v":450000}]
[712,0.21859208418313569,0.21888393144007218,0.21873800781160394,0.99249442027751655,9.9473375879233217E-5,3430.7632606789984,450000,{"$f":"G766-H766/User_entry!$E$18","v":1930.7632606789984},1930.7632606789984,null,{"$f":"HLOOKUP(User_entry!$B$56,Computations!$N$54:$R$1054,Computations!A766+1,FALSE)","v":3430.7632606789984},{"$f":"HLOOKUP(User_entry!$E$56,Computations!$S$54:$W$1054,Computations!A766+1,FALSE)","v":450000},{"$f":"Computations!$F$15+Computations!$E$15*D766","v":3430.7632606789984},{"$f":"EXP(Computations!$F$16)*EXP(Computations!$E$16)^Computations!D766","v":3933.2263446482771},{"$f":"Computations!$F$17+Computations!$E$17*LN(Computations!D766)","v":3110.5982642323197},{"$f":"Computations!$F$18+Computations!$E$18*Computations!D766+Computations!$D$18*Computations!D766^2","v":3192.9299462021122},{"$f":"Computations!$F$19+Computations!$E$19*Computations!D766+Computations!$D$19*Computations!D766^2+Computations!$C$19*Computations!D766^3","v":3192.9299462021122},{"$f":"Computations!$J$15+Computations!$I$15*D766","v":450000},{"$f":"EXP(Computations!$J$16)*EXP(Computations!$I$16)^Computations!D766","v":450000.00000000035},{"$f":"Computations!$J$17+Computations!$I$17*LN(Computations!D766)","v":450000},{"$f":"Computations!$J$18+Computations!$I$18*Computations!D766+Computations!$H$18*Computations!D766^2","v":450000},{"$f":"Computations!$J$19+Computations!$I$19*Computations!D766+Computations!$H$19*Computations!D766^2+Computations!$G$19*Computations!D766^3","v":450000}]
[713,0.21888393144007218,0.21917577869700866,0.21902985506854042,0.99259269023601138,9.8269958494823229E-5,3434.6033561650047,450000,{"$f":"G767-H767/User_entry!$E$18","v":1934.6033561650047},1934.6033561650047,null,{"$f":"HLOOKUP(User_entry!$B$56,Computations!$N$54:$R$1054,Computations!A767+1,FALSE)","v":3434.6033561650047},{"$f":"HLOOKUP(User_entry!$E$56,Computations!$S$54:$W$1054,Computations!A767+1,FALSE)","v":450000},{"$f":"Computations!$F$15+Computations!$E$15*D767","v":3434.6033561650047},{"$f":"EXP(Computations!$F$16)*EXP(Computations!$E$16)^Computations!D767","v":3941.3866607501423},{"$f":"Computations!$F$17+Computations!$E$17*LN(Computations!D767)","v":3112.2921971291698},{"$f":"Computations!$F$18+Computations!$E$18*Computations!D767+Computations!$D$18*Computations!D767^2","v":3194.5754473738152},{"$f":"Computations!$F$19+Computations!$E$19*Computations!D767+Computations!$D$19*Computations!D767^2+Computations!$C$19*Computations!D767^3","v":3194.5754473738152},{"$f":"Computations!$J$15+Computations!$I$15*D767","v":450000},{"$f":"EXP(Computations!$J$16)*EXP(Computations!$I$16)^Computations!D767","v":450000.00000000035},{"$f":"Computations!$J$17+Computations!$I$17*LN(Computations!D767)","v":450000},{"$f":"Computations!$J$18+Computations!$I$18*Computations!D767+Computations!$H$18*Computations!D767^2","v":450000},{"$f":"Computations!$J$19+Computations!$I$19*Computations!D767+Computations!$H$19*Computations!D767^2+Computations!$G$19*Computations!D767^3","v":450000}]
[714,0.21917577869700866,0.21946762595394514,0.2193217023254769,0.99268976989541646,9.7079659405086005E-5,3438.4434516510109,450000,{"$f":"G768-H768/User_entry!$E$18","v":1938.4434516510109},1938.4434516510109,null,{"$f":"HLOOKUP(User_entry!$B$56,Computations!$N$54:$R$1054,Computations!A768+1,FALSE)","v":3438.4434516510109},{"$f":"HLOOKUP(User_entry!$E$56,Computations!$S$54:$W$1054,Computations!A768+1,FALSE)","v":450000},{"$f":"Computations!$F$15+Computations!$E$15*D768","v":3438.4434516510109},{"$f":"EXP(Computations!$F$16)*EXP(Computations!$E$16)^Computations!D768","v":3949.5639071664732},{"$f":"Computations!$F$17+Computations!$E$17*LN(Computations!D768)","v":3113.9838744400313},{"$f":"Computations!$F$18+Computations!$E$18*Computations!D768+Computations!$D$18*Computations!D768^2","v":3196.2146392994919},{"$f":"Computations!$F$19+Computations!$E$19*Computations!D768+Computations!$D$19*Computations!D768^2+Computations!$C$19*Computations!D768^3","v":3196.2146392994919},{"$f":"Computations!$J$15+Computations!$I$15*D768","v":450000},{"$f":"EXP(Computations!$J$16)*EXP(Computations!$I$16)^Computations!D768","v":450000.00000000035},{"$f":"Computations!$J$17+Computations!$I$17*LN(Computations!D768)","v":450000},{"$f":"Computations!$J$18+Computations!$I$18*Computations!D768+Computations!$H$18*Computations!D768^2","v":450000},{"$f":"Computations!$J$19+Computations!$I$19*Computations!D768+Computations!$H$19*Computations!D768^2+Computations!$G$19*Computations!D768^3","v":450000}]
[715,0.21946762595394514,0.21975947321088163,0.21961354958241339,0.99278567225180137,9.5902356384902632E-5,3442.2835471370172,450000,{"$f":"G769-H769/User_entry!$E$18","v":1942.2835471370172},1942.2835471370172,null,{"$f":"HLOOKUP(User_entry!$B$56,Computations!$N$54:$R$1054,Computations!A769+1,FALSE)","v":3442.2835471370172},{"$f":"HLOOKUP(User_entry!$E$56,Computations!$S$54:$W$1054,Computations!A769+1,FALSE)","v":450000},{"$f":"Computations!$F$15+Computations!$E$15*D769","v":3442.2835471370172},{"$f":"EXP(Computations!$F$16)*EXP(Computations!$E$16)^Computations!D769","v":3957.7581190228166},{"$f":"Computations!$F$17+Computations!$E$17*LN(Computations!D769)","v":3115.6733021638465},{"$f":"Computations!$F$18+Computations!$E$18*Computations!D769+Computations!$D$18*Computations!D769^2","v":3197.8475219791394},{"$f":"Computations!$F$19+Computations!$E$19*Computations!D769+Computations!$D$19*Computations!D769^2+Computations!$C$19*Computations!D769^3","v":3197.8475219791394},{"$f":"Computations!$J$15+Computations!$I$15*D769","v":450000},{"$f":"EXP(Computations!$J$16)*EXP(Computations!$I$16)^Computations!D769","v":450000.00000000035},{"$f":"Computations!$J$17+Computations!$I$17*LN(Computations!D769)","v":450000},{"$f":"Computations!$J$18+Computations!$I$18*Computations!D769+Computations!$H$18*Computations!D769^2","v":450000},{"$f":"Computations!$J$19+Computations!$I$19*Computations!D769+Computations!$H$19*Computations!D769^2+Computations!$G$19*Computations!D769^3","v":450000}]
[716,0.21975947321088163,0.22005132046781811,0.21990539683934987,0.99288041017985185,9.4737928050481202E-5,3446.1236426230244,450000,{"$f":"G770-H770/User_entry!$E$18","v":1946.1236426230244},1946.1236426230244,null,{"$f":"HLOOKUP(User_entry!$B$56,Computations!$N$54:$R$1054,Computations!A770+1,FALSE)","v":3446.1236426230244},{"$f":"HLOOKUP(User_entry!$E$56,Computations!$S$54:$W$1054,Computations!A770+1,FALSE)","v":450000},{"$f":"Computations!$F$15+Computations!$E$15*D770","v":3446.1236426230244},{"$f":"EXP(Computations!$F$16)*EXP(Computations!$E$16)^Computations!D770","v":3965.96933151759},{"$f":"Computations!$F$17+Computations!$E$17*LN(Computations!D770)","v":3117.3604862756574},{"$f":"Computations!$F$18+Computations!$E$18*Computations!D770+Computations!$D$18*Computations!D770^2","v":3199.4740954127592},{"$f":"Computations!$F$19+Computations!$E$19*Computations!D770+Computations!$D$19*Computations!D770^2+Computations!$C$19*Computations!D770^3","v":3199.4740954127592},{"$f":"Computations!$J$15+Computations!$I$15*D770","v":450000},{"$f":"EXP(Computations!$J$16)*EXP(Computations!$I$16)^Computations!D770","v":450000.00000000035},{"$f":"Computations!$J$17+Computations!$I$17*LN(Computations!D770)","v":450000},{"$f":"Computations!$J$18+Computations!$I$18*Computations!D770+Computations!$H$18*Computations!D770^2","v":450000},{"$f":"Computations!$J$19+Computations!$I$19*Computations!D770+Computations!$H$19*Computations!D770^2+Computations!$G$19*Computations!D770^3","v":450000}]
[717,0.22005132046781811,0.2203431677247546,0.22019724409628635,0.99297399643370921,9.3586253857358415E-5,3449.9637381090306,450000,{"$f":"G771-H771/User_entry!$E$18","v":1949.9637381090306},1949.9637381090306,null,{"$f":"HLOOKUP(User_entry!$B$56,Computations!$N$54:$R$1054,Computations!A771+1,FALSE)","v":3449.9637381090306},{"$f":"HLOOKUP(User_entry!$E$56,Computations!$S$54:$W$1054,Computations!A771+1,FALSE)","v":450000},{"$f":"Computations!$F$15+Computations!$E$15*D771","v":3449.9637381090306},{"$f":"EXP(Computations!$F$16)*EXP(Computations!$E$16)^Computations!D771","v":3974.1975799222414},{"$f":"Computations!$F$17+Computations!$E$17*LN(Computations!D771)","v":3119.0454327267339},{"$f":"Computations!$F$18+Computations!$E$18*Computations!D771+Computations!$D$18*Computations!D771^2","v":3201.094359600349},{"$f":"Computations!$F$19+Computations!$E$19*Computations!D771+Computations!$D$19*Computations!D771^2+Computations!$C$19*Computations!D771^3","v":3201.094359600349},{"$f":"Computations!$J$15+Computations!$I$15*D771","v":450000},{"$f":"EXP(Computations!$J$16)*EXP(Computations!$I$16)^Computations!D771","v":450000.00000000035},{"$f":"Computations!$J$17+Computations!$I$17*LN(Computations!D771)","v":450000},{"$f":"Computations!$J$18+Computations!$I$18*Computations!D771+Computations!$H$18*Computations!D771^2","v":450000},{"$f":"Computations!$J$19+Computations!$I$19*Computations!D771+Computations!$H$19*Computations!D771^2+Computations!$G$19*Computations!D771^3","v":450000}]
[718,0.2203431677247546,0.22063501498169108,0.22048909135322284,0.99306644364780861,9.2447214099400377E-5,3453.8038335950368,450000,{"$f":"G772-H772/User_entry!$E$18","v":1953.8038335950368},1953.8038335950368,null,{"$f":"HLOOKUP(User_entry!$B$56,Computations!$N$54:$R$1054,Computations!A772+1,FALSE)","v":3453.8038335950368},{"$f":"HLOOKUP(User_entry!$E$56,Computations!$S$54:$W$1054,Computations!A772+1,FALSE)","v":450000},{"$f":"Computations!$F$15+Computations!$E$15*D772","v":3453.8038335950368},{"$f":"EXP(Computations!$F$16)*EXP(Computations!$E$16)^Computations!D772","v":3982.442899581396},{"$f":"Computations!$F$17+Computations!$E$17*LN(Computations!D772)","v":3120.7281474446972},{"$f":"Computations!$F$18+Computations!$E$18*Computations!D772+Computations!$D$18*Computations!D772^2","v":3202.7083145419124},{"$f":"Computations!$F$19+Computations!$E$19*Computations!D772+Computations!$D$19*Computations!D772^2+Computations!$C$19*Computations!D772^3","v":3202.7083145419124},{"$f":"Computations!$J$15+Computations!$I$15*D772","v":450000},{"$f":"EXP(Computations!$J$16)*EXP(Computations!$I$16)^Computations!D772","v":450000.00000000035},{"$f":"Computations!$J$17+Computations!$I$17*LN(Computations!D772)","v":450000},{"$f":"Computations!$J$18+Computations!$I$18*Computations!D772+Computations!$H$18*Computations!D772^2","v":450000},{"$f":"Computations!$J$19+Computations!$I$19*Computations!D772+Computations!$H$19*Computations!D772^2+Computations!$G$19*Computations!D772^3","v":450000}]
[719,0.22063501498169108,0.22092686223862756,0.22078093861015932,0.99315776433771541,9.1320689906804198E-5,3457.6439290810431,450000,{"$f":"G773-H773/User_entry!$E$18","v":1957.6439290810431},1957.6439290810431,null,{"$f":"HLOOKUP(User_entry!$B$56,Computations!$N$54:$R$1054,Computations!A773+1,FALSE)","v":3457.6439290810431},{"$f":"HLOOKUP(User_entry!$E$56,Computations!$S$54:$W$1054,Computations!A773+1,FALSE)","v":450000},{"$f":"Computations!$F$15+Computations!$E$15*D773","v":3457.6439290810431},{"$f":"EXP(Computations!$F$16)*EXP(Computations!$E$16)^Computations!D773","v":3990.7053259130084},{"$f":"Computations!$F$17+Computations!$E$17*LN(Computations!D773)","v":3122.4086363336455},{"$f":"Computations!$F$18+Computations!$E$18*Computations!D773+Computations!$D$18*Computations!D773^2","v":3204.3159602374471},{"$f":"Computations!$F$19+Computations!$E$19*Computations!D773+Computations!$D$19*Computations!D773^2+Computations!$C$19*Computations!D773^3","v":3204.3159602374471},{"$f":"Computations!$J$15+Computations!$I$15*D773","v":450000},{"$f":"EXP(Computations!$J$16)*EXP(Computations!$I$16)^Computations!D773","v":450000.00000000035},{"$f":"Computations!$J$17+Computations!$I$17*LN(Computations!D773)","v":450000},{"$f":"Computations!$J$18+Computations!$I$18*Computations!D773+Computations!$H$18*Computations!D773^2","v":450000},{"$f":"Computations!$J$19+Computations!$I$19*Computations!D773+Computations!$H$19*Computations!D773^2+Computations!$G$19*Computations!D773^3","v":450000}]
[720,0.22092686223862756,0.22121870949556405,0.22107278586709581,0.99324797090096051,9.0206563245098792E-5,3461.4840245670493,450000,{"$f":"G774-H774/User_entry!$E$18","v":1961.4840245670493},1961.4840245670493,null,{"$f":"HLOOKUP(User_entry!$B$56,Computations!$N$54:$R$1054,Computations!A774+1,FALSE)","v":3461.4840245670493},{"$f":"HLOOKUP(User_entry!$E$56,Computations!$S$54:$W$1054,Computations!A774+1,FALSE)","v":450000},{"$f":"Computations!$F$15+Computations!$E$15*D774","v":3461.4840245670493},{"$f":"EXP(Computations!$F$16)*EXP(Computations!$E$16)^Computations!D774","v":3998.9848944085147},{"$f":"Computations!$F$17+Computations!$E$17*LN(Computations!D774)","v":3124.086905274281},{"$f":"Computations!$F$18+Computations!$E$18*Computations!D774+Computations!$D$18*Computations!D774^2","v":3205.9172966869537},{"$f":"Computations!$F$19+Computations!$E$19*Computations!D774+Computations!$D$19*Computations!D774^2+Computations!$C$19*Computations!D774^3","v":3205.9172966869537},{"$f":"Computations!$J$15+Computations!$I$15*D774","v":450000},{"$f":"EXP(Computations!$J$16)*EXP(Computations!$I$16)^Computations!D774","v":450000.00000000035},{"$f":"Computations!$J$17+Computations!$I$17*LN(Computations!D774)","v":450000},{"$f":"Computations!$J$18+Computations!$I$18*Computations!D774+Computations!$H$18*Computations!D774^2","v":450000},{"$f":"Computations!$J$19+Computations!$I$19*Computations!D774+Computations!$H$19*Computations!D774^2+Computations!$G$19*Computations!D774^3","v":450000}]
[721,0.22121870949556405,0.22151055675250053,0.22136463312403229,0.9933370756178741,8.9104716913590565E-5,3465.3241200530556,450000,{"$f":"G775-H775/User_entry!$E$18","v":1965.3241200530556},1965.3241200530556,null,{"$f":"HLOOKUP(User_entry!$B$56,Computations!$N$54:$R$1054,Computations!A775+1,FALSE)","v":3465.3241200530556},{"$f":"HLOOKUP(User_entry!$E$56,Computations!$S$54:$W$1054,Computations!A775+1,FALSE)","v":450000},{"$f":"Computations!$F$15+Computations!$E$15*D775","v":3465.3241200530556},{"$f":"EXP(Computations!$F$16)*EXP(Computations!$E$16)^Computations!D775","v":4007.2816406329875},{"$f":"Computations!$F$17+Computations!$E$17*LN(Computations!D775)","v":3125.7629601240283},{"$f":"Computations!$F$18+Computations!$E$18*Computations!D775+Computations!$D$18*Computations!D775^2","v":3207.5123238904307},{"$f":"Computations!$F$19+Computations!$E$19*Computations!D775+Computations!$D$19*Computations!D775^2+Computations!$C$19*Computations!D775^3","v":3207.5123238904307},{"$f":"Computations!$J$15+Computations!$I$15*D775","v":450000},{"$f":"EXP(Computations!$J$16)*EXP(Computations!$I$16)^Computations!D775","v":450000.00000000035},{"$f":"Computations!$J$17+Computations!$I$17*LN(Computations!D775)","v":450000},{"$f":"Computations!$J$18+Computations!$I$18*Computations!D775+Computations!$H$18*Computations!D775^2","v":450000},{"$f":"Computations!$J$19+Computations!$I$19*Computations!D775+Computations!$H$19*Computations!D775^2+Computations!$G$19*Computations!D775^3","v":450000}]
[722,0.22151055675250053,0.22180240400943702,0.22165648038096877,0.99342509065241691,8.80150345428099E-5,3469.1642155390618,450000,{"$f":"G776-H776/User_entry!$E$18","v":1969.1642155390618},1969.1642155390618,null,{"$f":"HLOOKUP(User_entry!$B$56,Computations!$N$54:$R$1054,Computations!A776+1,FALSE)","v":3469.1642155390618},{"$f":"HLOOKUP(User_entry!$E$56,Computations!$S$54:$W$1054,Computations!A776+1,FALSE)","v":450000},{"$f":"Computations!$F$15+Computations!$E$15*D776","v":3469.1642155390618},{"$f":"EXP(Computations!$F$16)*EXP(Computations!$E$16)^Computations!D776","v":4015.595600225286},{"$f":"Computations!$F$17+Computations!$E$17*LN(Computations!D776)","v":3127.4368067171617},{"$f":"Computations!$F$18+Computations!$E$18*Computations!D776+Computations!$D$18*Computations!D776^2","v":3209.1010418478809},{"$f":"Computations!$F$19+Computations!$E$19*Computations!D776+Computations!$D$19*Computations!D776^2+Computations!$C$19*Computations!D776^3","v":3209.1010418478809},{"$f":"Computations!$J$15+Computations!$I$15*D776","v":450000},{"$f":"EXP(Computations!$J$16)*EXP(Computations!$I$16)^Computations!D776","v":450000.00000000035},{"$f":"Computations!$J$17+Computations!$I$17*LN(Computations!D776)","v":450000},{"$f":"Computations!$J$18+Computations!$I$18*Computations!D776+Computations!$H$18*Computations!D776^2","v":450000},{"$f":"Computations!$J$19+Computations!$I$19*Computations!D776+Computations!$H$19*Computations!D776^2+Computations!$G$19*Computations!D776^3","v":450000}]
[723,0.22180240400943702,0.2220942512663735,0.22194832763790526,0.99351202805301009,8.6937400593178893E-5,3473.0043110250681,450000,{"$f":"G777-H777/User_entry!$E$18","v":1973.0043110250681},1973.0043110250681,null,{"$f":"HLOOKUP(User_entry!$B$56,Computations!$N$54:$R$1054,Computations!A777+1,FALSE)","v":3473.0043110250681},{"$f":"HLOOKUP(User_entry!$E$56,Computations!$S$54:$W$1054,Computations!A777+1,FALSE)","v":450000},{"$f":"Computations!$F$15+Computations!$E$15*D777","v":3473.0043110250681},{"$f":"EXP(Computations!$F$16)*EXP(Computations!$E$16)^Computations!D777","v":4023.9268088982067},{"$f":"Computations!$F$17+Computations!$E$17*LN(Computations!D777)","v":3129.1084508649246},{"$f":"Computations!$F$18+Computations!$E$18*Computations!D777+Computations!$D$18*Computations!D777^2","v":3210.6834505593024},{"$f":"Computations!$F$19+Computations!$E$19*Computations!D777+Computations!$D$19*Computations!D777^2+Computations!$C$19*Computations!D777^3","v":3210.6834505593024},{"$f":"Computations!$J$15+Computations!$I$15*D777","v":450000},{"$f":"EXP(Computations!$J$16)*EXP(Computations!$I$16)^Computations!D777","v":450000.00000000035},{"$f":"Computations!$J$17+Computations!$I$17*LN(Computations!D777)","v":450000},{"$f":"Computations!$J$18+Computations!$I$18*Computations!D777+Computations!$H$18*Computations!D777^2","v":450000},{"$f":"Computations!$J$19+Computations!$I$19*Computations!D777+Computations!$H$19*Computations!D777^2+Computations!$G$19*Computations!D777^3","v":450000}]
[724,0.2220942512663735,0.22238609852330998,0.22224017489484174,0.99359789975336388,8.5871700353790104E-5,3476.8444065110752,450000,{"$f":"G778-H778/User_entry!$E$18","v":1976.8444065110752},1976.8444065110752,null,{"$f":"HLOOKUP(User_entry!$B$56,Computations!$N$54:$R$1054,Computations!A778+1,FALSE)","v":3476.8444065110752},{"$f":"HLOOKUP(User_entry!$E$56,Computations!$S$54:$W$1054,Computations!A778+1,FALSE)","v":450000},{"$f":"Computations!$F$15+Computations!$E$15*D778","v":3476.8444065110752},{"$f":"EXP(Computations!$F$16)*EXP(Computations!$E$16)^Computations!D778","v":4032.2753024386457},{"$f":"Computations!$F$17+Computations!$E$17*LN(Computations!D778)","v":3130.7778983556527},{"$f":"Computations!$F$18+Computations!$E$18*Computations!D778+Computations!$D$18*Computations!D778^2","v":3212.2595500246962},{"$f":"Computations!$F$19+Computations!$E$19*Computations!D778+Computations!$D$19*Computations!D778^2+Computations!$C$19*Computations!D778^3","v":3212.2595500246962},{"$f":"Computations!$J$15+Computations!$I$15*D778","v":450000},{"$f":"EXP(Computations!$J$16)*EXP(Computations!$I$16)^Computations!D778","v":450000.00000000035},{"$f":"Computations!$J$17+Computations!$I$17*LN(Computations!D778)","v":450000},{"$f":"Computations!$J$18+Computations!$I$18*Computations!D778+Computations!$H$18*Computations!D778^2","v":450000},{"$f":"Computations!$J$19+Computations!$I$19*Computations!D778+Computations!$H$19*Computations!D778^2+Computations!$G$19*Computations!D778^3","v":450000}]
[725,0.22238609852330998,0.22267794578024647,0.22253202215177822,0.99368271757330362,8.4817819939742023E-5,3480.6845019970815,450000,{"$f":"G779-H779/User_entry!$E$18","v":1980.6845019970815},1980.6845019970815,null,{"$f":"HLOOKUP(User_entry!$B$56,Computations!$N$54:$R$1054,Computations!A779+1,FALSE)","v":3480.6845019970815},{"$f":"HLOOKUP(User_entry!$E$56,Computations!$S$54:$W$1054,Computations!A779+1,FALSE)","v":450000},{"$f":"Computations!$F$15+Computations!$E$15*D779","v":3480.6845019970815},{"$f":"EXP(Computations!$F$16)*EXP(Computations!$E$16)^Computations!D779","v":4040.6411167077417},{"$f":"Computations!$F$17+Computations!$E$17*LN(Computations!D779)","v":3132.4451549548903},{"$f":"Computations!$F$18+Computations!$E$18*Computations!D779+Computations!$D$18*Computations!D779^2","v":3213.8293402440604},{"$f":"Computations!$F$19+Computations!$E$19*Computations!D779+Computations!$D$19*Computations!D779^2+Computations!$C$19*Computations!D779^3","v":3213.8293402440604},{"$f":"Computations!$J$15+Computations!$I$15*D779","v":450000},{"$f":"EXP(Computations!$J$16)*EXP(Computations!$I$16)^Computations!D779","v":450000.00000000035},{"$f":"Computations!$J$17+Computations!$I$17*LN(Computations!D779)","v":450000},{"$f":"Computations!$J$18+Computations!$I$18*Computations!D779+Computations!$H$18*Computations!D779^2","v":450000},{"$f":"Computations!$J$19+Computations!$I$19*Computations!D779+Computations!$H$19*Computations!D779^2+Computations!$G$19*Computations!D779^3","v":450000}]
[726,0.22267794578024647,0.22296979303718295,0.22282386940871471,0.99376649321959332,8.3775646289696581E-5,3484.5245974830877,450000,{"$f":"G780-H780/User_entry!$E$18","v":1984.5245974830877},1984.5245974830877,null,{"$f":"HLOOKUP(User_entry!$B$56,Computations!$N$54:$R$1054,Computations!A780+1,FALSE)","v":3484.5245974830877},{"$f":"HLOOKUP(User_entry!$E$56,Computations!$S$54:$W$1054,Computations!A780+1,FALSE)","v":450000},{"$f":"Computations!$F$15+Computations!$E$15*D780","v":3484.5245974830877},{"$f":"EXP(Computations!$F$16)*EXP(Computations!$E$16)^Computations!D780","v":4049.0242876410366},{"$f":"Computations!$F$17+Computations!$E$17*LN(Computations!D780)","v":3134.1102264055148},{"$f":"Computations!$F$18+Computations!$E$18*Computations!D780+Computations!$D$18*Computations!D780^2","v":3215.3928212173978},{"$f":"Computations!$F$19+Computations!$E$19*Computations!D780+Computations!$D$19*Computations!D780^2+Computations!$C$19*Computations!D780^3","v":3215.3928212173978},{"$f":"Computations!$J$15+Computations!$I$15*D780","v":450000},{"$f":"EXP(Computations!$J$16)*EXP(Computations!$I$16)^Computations!D780","v":450000.00000000035},{"$f":"Computations!$J$17+Computations!$I$17*LN(Computations!D780)","v":450000},{"$f":"Computations!$J$18+Computations!$I$18*Computations!D780+Computations!$H$18*Computations!D780^2","v":450000},{"$f":"Computations!$J$19+Computations!$I$19*Computations!D780+Computations!$H$19*Computations!D780^2+Computations!$G$19*Computations!D780^3","v":450000}]
[727,0.22296979303718295,0.22326164029411943,0.22311571666565119,0.99384923828675886,8.2745067165546082E-5,3488.364692969094,450000,{"$f":"G781-H781/User_entry!$E$18","v":1988.364692969094},1988.364692969094,null,{"$f":"HLOOKUP(User_entry!$B$56,Computations!$N$54:$R$1054,Computations!A781+1,FALSE)","v":3488.364692969094},{"$f":"HLOOKUP(User_entry!$E$56,Computations!$S$54:$W$1054,Computations!A781+1,FALSE)","v":450000},{"$f":"Computations!$F$15+Computations!$E$15*D781","v":3488.364692969094},{"$f":"EXP(Computations!$F$16)*EXP(Computations!$E$16)^Computations!D781","v":4057.4248512486306},{"$f":"Computations!$F$17+Computations!$E$17*LN(Computations!D781)","v":3135.7731184278509},{"$f":"Computations!$F$18+Computations!$E$18*Computations!D781+Computations!$D$18*Computations!D781^2","v":3216.9499929447065},{"$f":"Computations!$F$19+Computations!$E$19*Computations!D781+Computations!$D$19*Computations!D781^2+Computations!$C$19*Computations!D781^3","v":3216.9499929447065},{"$f":"Computations!$J$15+Computations!$I$15*D781","v":450000},{"$f":"EXP(Computations!$J$16)*EXP(Computations!$I$16)^Computations!D781","v":450000.00000000035},{"$f":"Computations!$J$17+Computations!$I$17*LN(Computations!D781)","v":450000},{"$f":"Computations!$J$18+Computations!$I$18*Computations!D781+Computations!$H$18*Computations!D781^2","v":450000},{"$f":"Computations!$J$19+Computations!$I$19*Computations!D781+Computations!$H$19*Computations!D781^2+Computations!$G$19*Computations!D781^3","v":450000}]
[728,0.22326164029411943,0.22355348755105592,0.22340756392258768,0.99393096425790706,8.1725971148194354E-5,3492.2047884551002,450000,{"$f":"G782-H782/User_entry!$E$18","v":1992.2047884551002},1992.2047884551002,null,{"$f":"HLOOKUP(User_entry!$B$56,Computations!$N$54:$R$1054,Computations!A782+1,FALSE)","v":3492.2047884551002},{"$f":"HLOOKUP(User_entry!$E$56,Computations!$S$54:$W$1054,Computations!A782+1,FALSE)","v":450000},{"$f":"Computations!$F$15+Computations!$E$15*D782","v":3492.2047884551002},{"$f":"EXP(Computations!$F$16)*EXP(Computations!$E$16)^Computations!D782","v":4065.8428436153304},{"$f":"Computations!$F$17+Computations!$E$17*LN(Computations!D782)","v":3137.4338367197925},{"$f":"Computations!$F$18+Computations!$E$18*Computations!D782+Computations!$D$18*Computations!D782^2","v":3218.5008554259871},{"$f":"Computations!$F$19+Computations!$E$19*Computations!D782+Computations!$D$19*Computations!D782^2+Computations!$C$19*Computations!D782^3","v":3218.5008554259871},{"$f":"Computations!$J$15+Computations!$I$15*D782","v":450000},{"$f":"EXP(Computations!$J$16)*EXP(Computations!$I$16)^Computations!D782","v":450000.00000000035},{"$f":"Computations!$J$17+Computations!$I$17*LN(Computations!D782)","v":450000},{"$f":"Computations!$J$18+Computations!$I$18*Computations!D782+Computations!$H$18*Computations!D782^2","v":450000},{"$f":"Computations!$J$19+Computations!$I$19*Computations!D782+Computations!$H$19*Computations!D782^2+Computations!$G$19*Computations!D782^3","v":450000}]
[729,0.22355348755105592,0.2238453348079924,0.22369941117952416,0.99401168250554384,8.0718247636779594E-5,3496.0448839411065,450000,{"$f":"G783-H783/User_entry!$E$18","v":1996.0448839411065},1996.0448839411065,null,{"$f":"HLOOKUP(User_entry!$B$56,Computations!$N$54:$R$1054,Computations!A783+1,FALSE)","v":3496.0448839411065},{"$f":"HLOOKUP(User_entry!$E$56,Computations!$S$54:$W$1054,Computations!A783+1,FALSE)","v":450000},{"$f":"Computations!$F$15+Computations!$E$15*D783","v":3496.0448839411065},{"$f":"EXP(Computations!$F$16)*EXP(Computations!$E$16)^Computations!D783","v":4074.2783009008108},{"$f":"Computations!$F$17+Computations!$E$17*LN(Computations!D783)","v":3139.0923869569151},{"$f":"Computations!$F$18+Computations!$E$18*Computations!D783+Computations!$D$18*Computations!D783^2","v":3220.0454086612385},{"$f":"Computations!$F$19+Computations!$E$19*Computations!D783+Computations!$D$19*Computations!D783^2+Computations!$C$19*Computations!D783^3","v":3220.0454086612385},{"$f":"Computations!$J$15+Computations!$I$15*D783","v":450000},{"$f":"EXP(Computations!$J$16)*EXP(Computations!$I$16)^Computations!D783","v":450000.00000000035},{"$f":"Computations!$J$17+Computations!$I$17*LN(Computations!D783)","v":450000},{"$f":"Computations!$J$18+Computations!$I$18*Computations!D783+Computations!$H$18*Computations!D783^2","v":450000},{"$f":"Computations!$J$19+Computations!$I$19*Computations!D783+Computations!$H$19*Computations!D783^2+Computations!$G$19*Computations!D783^3","v":450000}]
[730,0.2238453348079924,0.22413718206492889,0.22399125843646064,0.99409140429238996,7.9721786846120857E-5,3499.8849794271127,450000,{"$f":"G784-H784/User_entry!$E$18","v":1999.8849794271127},1999.8849794271127,null,{"$f":"HLOOKUP(User_entry!$B$56,Computations!$N$54:$R$1054,Computations!A784+1,FALSE)","v":3499.8849794271127},{"$f":"HLOOKUP(User_entry!$E$56,Computations!$S$54:$W$1054,Computations!A784+1,FALSE)","v":450000},{"$f":"Computations!$F$15+Computations!$E$15*D784","v":3499.8849794271127},{"$f":"EXP(Computations!$F$16)*EXP(Computations!$E$16)^Computations!D784","v":4082.7312593397673},{"$f":"Computations!$F$17+Computations!$E$17*LN(Computations!D784)","v":3140.7487747925975},{"$f":"Computations!$F$18+Computations!$E$18*Computations!D784+Computations!$D$18*Computations!D784^2","v":3221.5836526504627},{"$f":"Computations!$F$19+Computations!$E$19*Computations!D784+Computations!$D$19*Computations!D784^2+Computations!$C$19*Computations!D784^3","v":3221.5836526504627},{"$f":"Computations!$J$15+Computations!$I$15*D784","v":450000},{"$f":"EXP(Computations!$J$16)*EXP(Computations!$I$16)^Computations!D784","v":450000.00000000035},{"$f":"Computations!$J$17+Computations!$I$17*LN(Computations!D784)","v":450000},{"$f":"Computations!$J$18+Computations!$I$18*Computations!D784+Computations!$H$18*Computations!D784^2","v":450000},{"$f":"Computations!$J$19+Computations!$I$19*Computations!D784+Computations!$H$19*Computations!D784^2+Computations!$G$19*Computations!D784^3","v":450000}]
[731,0.22413718206492889,0.22442902932186537,0.22428310569339713,0.99417014077219423,7.8736479804275561E-5,3503.725074913119,450000,{"$f":"G785-H785/User_entry!$E$18","v":2003.725074913119},2003.725074913119,null,{"$f":"HLOOKUP(User_entry!$B$56,Computations!$N$54:$R$1054,Computations!A785+1,FALSE)","v":3503.725074913119},{"$f":"HLOOKUP(User_entry!$E$56,Computations!$S$54:$W$1054,Computations!A785+1,FALSE)","v":450000},{"$f":"Computations!$F$15+Computations!$E$15*D785","v":3503.725074913119},{"$f":"EXP(Computations!$F$16)*EXP(Computations!$E$16)^Computations!D785","v":4091.2017552420721},{"$f":"Computations!$F$17+Computations!$E$17*LN(Computations!D785)","v":3142.4030058581334},{"$f":"Computations!$F$18+Computations!$E$18*Computations!D785+Computations!$D$18*Computations!D785^2","v":3223.1155873936582},{"$f":"Computations!$F$19+Computations!$E$19*Computations!D785+Computations!$D$19*Computations!D785^2+Computations!$C$19*Computations!D785^3","v":3223.1155873936582},{"$f":"Computations!$J$15+Computations!$I$15*D785","v":450000},{"$f":"EXP(Computations!$J$16)*EXP(Computations!$I$16)^Computations!D785","v":450000.00000000035},{"$f":"Computations!$J$17+Computations!$I$17*LN(Computations!D785)","v":450000},{"$f":"Computations!$J$18+Computations!$I$18*Computations!D785+Computations!$H$18*Computations!D785^2","v":450000},{"$f":"Computations!$J$19+Computations!$I$19*Computations!D785+Computations!$H$19*Computations!D785^2+Computations!$G$19*Computations!D785^3","v":450000}]
[732,0.22442902932186537,0.22472087657880185,0.22457495295033361,0.99424790299054422,7.7762218349985979E-5,3507.5651703991261,450000,{"$f":"G786-H786/User_entry!$E$18","v":2007.5651703991261},2007.5651703991261,null,{"$f":"HLOOKUP(User_entry!$B$56,Computations!$N$54:$R$1054,Computations!A786+1,FALSE)","v":3507.5651703991261},{"$f":"HLOOKUP(User_entry!$E$56,Computations!$S$54:$W$1054,Computations!A786+1,FALSE)","v":450000},{"$f":"Computations!$F$15+Computations!$E$15*D786","v":3507.5651703991261},{"$f":"EXP(Computations!$F$16)*EXP(Computations!$E$16)^Computations!D786","v":4099.6898249929282},{"$f":"Computations!$F$17+Computations!$E$17*LN(Computations!D786)","v":3144.0550857628486},{"$f":"Computations!$F$18+Computations!$E$18*Computations!D786+Computations!$D$18*Computations!D786^2","v":3224.641212890826},{"$f":"Computations!$F$19+Computations!$E$19*Computations!D786+Computations!$D$19*Computations!D786^2+Computations!$C$19*Computations!D786^3","v":3224.641212890826},{"$f":"Computations!$J$15+Computations!$I$15*D786","v":450000},{"$f":"EXP(Computations!$J$16)*EXP(Computations!$I$16)^Computations!D786","v":450000.00000000035},{"$f":"Computations!$J$17+Computations!$I$17*LN(Computations!D786)","v":450000},{"$f":"Computations!$J$18+Computations!$I$18*Computations!D786+Computations!$H$18*Computations!D786^2","v":450000},{"$f":"Computations!$J$19+Computations!$I$19*Computations!D786+Computations!$H$19*Computations!D786^2+Computations!$G$19*Computations!D786^3","v":450000}]
[733,0.22472087657880185,0.22501272383573834,0.2248668002072701,0.9943247018856749,7.6798895130680833E-5,3511.4052658851324,450000,{"$f":"G787-H787/User_entry!$E$18","v":2011.4052658851324},2011.4052658851324,null,{"$f":"HLOOKUP(User_entry!$B$56,Computations!$N$54:$R$1054,Computations!A787+1,FALSE)","v":3511.4052658851324},{"$f":"HLOOKUP(User_entry!$E$56,Computations!$S$54:$W$1054,Computations!A787+1,FALSE)","v":450000},{"$f":"Computations!$F$15+Computations!$E$15*D787","v":3511.4052658851324},{"$f":"EXP(Computations!$F$16)*EXP(Computations!$E$16)^Computations!D787","v":4108.1955050530296},{"$f":"Computations!$F$17+Computations!$E$17*LN(Computations!D787)","v":3145.7050200942135},{"$f":"Computations!$F$18+Computations!$E$18*Computations!D787+Computations!$D$18*Computations!D787^2","v":3226.1605291419642},{"$f":"Computations!$F$19+Computations!$E$19*Computations!D787+Computations!$D$19*Computations!D787^2+Computations!$C$19*Computations!D787^3","v":3226.1605291419642},{"$f":"Computations!$J$15+Computations!$I$15*D787","v":450000},{"$f":"EXP(Computations!$J$16)*EXP(Computations!$I$16)^Computations!D787","v":450000.00000000035},{"$f":"Computations!$J$17+Computations!$I$17*LN(Computations!D787)","v":450000},{"$f":"Computations!$J$18+Computations!$I$18*Computations!D787+Computations!$H$18*Computations!D787^2","v":450000},{"$f":"Computations!$J$19+Computations!$I$19*Computations!D787+Computations!$H$19*Computations!D787^2+Computations!$G$19*Computations!D787^3","v":450000}]
[734,0.22501272383573834,0.22530457109267482,0.22515864746420658,0.9944005482892746,7.5846403599699741E-5,3515.2453613711386,450000,{"$f":"G788-H788/User_entry!$E$18","v":2015.2453613711386},2015.2453613711386,null,{"$f":"HLOOKUP(User_entry!$B$56,Computations!$N$54:$R$1054,Computations!A788+1,FALSE)","v":3515.2453613711386},{"$f":"HLOOKUP(User_entry!$E$56,Computations!$S$54:$W$1054,Computations!A788+1,FALSE)","v":450000},{"$f":"Computations!$F$15+Computations!$E$15*D788","v":3515.2453613711386},{"$f":"EXP(Computations!$F$16)*EXP(Computations!$E$16)^Computations!D788","v":4116.7188319587167},{"$f":"Computations!$F$17+Computations!$E$17*LN(Computations!D788)","v":3147.3528144179572},{"$f":"Computations!$F$18+Computations!$E$18*Computations!D788+Computations!$D$18*Computations!D788^2","v":3227.6735361470751},{"$f":"Computations!$F$19+Computations!$E$19*Computations!D788+Computations!$D$19*Computations!D788^2+Computations!$C$19*Computations!D788^3","v":3227.6735361470751},{"$f":"Computations!$J$15+Computations!$I$15*D788","v":450000},{"$f":"EXP(Computations!$J$16)*EXP(Computations!$I$16)^Computations!D788","v":450000.00000000035},{"$f":"Computations!$J$17+Computations!$I$17*LN(Computations!D788)","v":450000},{"$f":"Computations!$J$18+Computations!$I$18*Computations!D788+Computations!$H$18*Computations!D788^2","v":450000},{"$f":"Computations!$J$19+Computations!$I$19*Computations!D788+Computations!$H$19*Computations!D788^2+Computations!$G$19*Computations!D788^3","v":450000}]
[735,0.22530457109267482,0.22559641834961131,0.22545049472114306,0.99447545292728867,7.4904638014072766E-5,3519.0854568571449,450000,{"$f":"G789-H789/User_entry!$E$18","v":2019.0854568571449},2019.0854568571449,null,{"$f":"HLOOKUP(User_entry!$B$56,Computations!$N$54:$R$1054,Computations!A789+1,FALSE)","v":3519.0854568571449},{"$f":"HLOOKUP(User_entry!$E$56,Computations!$S$54:$W$1054,Computations!A789+1,FALSE)","v":450000},{"$f":"Computations!$F$15+Computations!$E$15*D789","v":3519.0854568571449},{"$f":"EXP(Computations!$F$16)*EXP(Computations!$E$16)^Computations!D789","v":4125.259842322128},{"$f":"Computations!$F$17+Computations!$E$17*LN(Computations!D789)","v":3148.9984742781808},{"$f":"Computations!$F$18+Computations!$E$18*Computations!D789+Computations!$D$18*Computations!D789^2","v":3229.1802339061578},{"$f":"Computations!$F$19+Computations!$E$19*Computations!D789+Computations!$D$19*Computations!D789^2+Computations!$C$19*Computations!D789^3","v":3229.1802339061578},{"$f":"Computations!$J$15+Computations!$I$15*D789","v":450000},{"$f":"EXP(Computations!$J$16)*EXP(Computations!$I$16)^Computations!D789","v":450000.00000000035},{"$f":"Computations!$J$17+Computations!$I$17*LN(Computations!D789)","v":450000},{"$f":"Computations!$J$18+Computations!$I$18*Computations!D789+Computations!$H$18*Computations!D789^2","v":450000},{"$f":"Computations!$J$19+Computations!$I$19*Computations!D789+Computations!$H$19*Computations!D789^2+Computations!$G$19*Computations!D789^3","v":450000}]
[736,0.22559641834961131,0.22588826560654779,0.22574234197807955,0.9945494264207202,7.3973493431522819E-5,3522.9255523431511,450000,{"$f":"G790-H790/User_entry!$E$18","v":2022.9255523431511},2022.9255523431511,null,{"$f":"HLOOKUP(User_entry!$B$56,Computations!$N$54:$R$1054,Computations!A790+1,FALSE)","v":3522.9255523431511},{"$f":"HLOOKUP(User_entry!$E$56,Computations!$S$54:$W$1054,Computations!A790+1,FALSE)","v":450000},{"$f":"Computations!$F$15+Computations!$E$15*D790","v":3522.9255523431511},{"$f":"EXP(Computations!$F$16)*EXP(Computations!$E$16)^Computations!D790","v":4133.8185728313656},{"$f":"Computations!$F$17+Computations!$E$17*LN(Computations!D790)","v":3150.6420051974678},{"$f":"Computations!$F$18+Computations!$E$18*Computations!D790+Computations!$D$18*Computations!D790^2","v":3230.6806224192123},{"$f":"Computations!$F$19+Computations!$E$19*Computations!D790+Computations!$D$19*Computations!D790^2+Computations!$C$19*Computations!D790^3","v":3230.6806224192123},{"$f":"Computations!$J$15+Computations!$I$15*D790","v":450000},{"$f":"EXP(Computations!$J$16)*EXP(Computations!$I$16)^Computations!D790","v":450000.00000000035},{"$f":"Computations!$J$17+Computations!$I$17*LN(Computations!D790)","v":450000},{"$f":"Computations!$J$18+Computations!$I$18*Computations!D790+Computations!$H$18*Computations!D790^2","v":450000},{"$f":"Computations!$J$19+Computations!$I$19*Computations!D790+Computations!$H$19*Computations!D790^2+Computations!$G$19*Computations!D790^3","v":450000}]
[737,0.22588826560654779,0.22618011286348427,0.22603418923501603,0.99462247928642822,7.3052865708023162E-5,3526.7656478291574,450000,{"$f":"G791-H791/User_entry!$E$18","v":2026.7656478291574},2026.7656478291574,null,{"$f":"HLOOKUP(User_entry!$B$56,Computations!$N$54:$R$1054,Computations!A791+1,FALSE)","v":3526.7656478291574},{"$f":"HLOOKUP(User_entry!$E$56,Computations!$S$54:$W$1054,Computations!A791+1,FALSE)","v":450000},{"$f":"Computations!$F$15+Computations!$E$15*D791","v":3526.7656478291574},{"$f":"EXP(Computations!$F$16)*EXP(Computations!$E$16)^Computations!D791","v":4142.3950602506484},{"$f":"Computations!$F$17+Computations!$E$17*LN(Computations!D791)","v":3152.2834126769967},{"$f":"Computations!$F$18+Computations!$E$18*Computations!D791+Computations!$D$18*Computations!D791^2","v":3232.1747016862382},{"$f":"Computations!$F$19+Computations!$E$19*Computations!D791+Computations!$D$19*Computations!D791^2+Computations!$C$19*Computations!D791^3","v":3232.1747016862382},{"$f":"Computations!$J$15+Computations!$I$15*D791","v":450000},{"$f":"EXP(Computations!$J$16)*EXP(Computations!$I$16)^Computations!D791","v":450000.00000000035},{"$f":"Computations!$J$17+Computations!$I$17*LN(Computations!D791)","v":450000},{"$f":"Computations!$J$18+Computations!$I$18*Computations!D791+Computations!$H$18*Computations!D791^2","v":450000},{"$f":"Computations!$J$19+Computations!$I$19*Computations!D791+Computations!$H$19*Computations!D791^2+Computations!$G$19*Computations!D791^3","v":450000}]
[738,0.22618011286348427,0.22647196012042076,0.22632603649195251,0.99469462193792357,7.2142651495354926E-5,3530.6057433151636,450000,{"$f":"G792-H792/User_entry!$E$18","v":2030.6057433151636},2030.6057433151636,null,{"$f":"HLOOKUP(User_entry!$B$56,Computations!$N$54:$R$1054,Computations!A792+1,FALSE)","v":3530.6057433151636},{"$f":"HLOOKUP(User_entry!$E$56,Computations!$S$54:$W$1054,Computations!A792+1,FALSE)","v":450000},{"$f":"Computations!$F$15+Computations!$E$15*D792","v":3530.6057433151636},{"$f":"EXP(Computations!$F$16)*EXP(Computations!$E$16)^Computations!D792","v":4150.9893414204671},{"$f":"Computations!$F$17+Computations!$E$17*LN(Computations!D792)","v":3153.9227021966517},{"$f":"Computations!$F$18+Computations!$E$18*Computations!D792+Computations!$D$18*Computations!D792^2","v":3233.6624717072364},{"$f":"Computations!$F$19+Computations!$E$19*Computations!D792+Computations!$D$19*Computations!D792^2+Computations!$C$19*Computations!D792^3","v":3233.6624717072364},{"$f":"Computations!$J$15+Computations!$I$15*D792","v":450000},{"$f":"EXP(Computations!$J$16)*EXP(Computations!$I$16)^Computations!D792","v":450000.00000000035},{"$f":"Computations!$J$17+Computations!$I$17*LN(Computations!D792)","v":450000},{"$f":"Computations!$J$18+Computations!$I$18*Computations!D792+Computations!$H$18*Computations!D792^2","v":450000},{"$f":"Computations!$J$19+Computations!$I$19*Computations!D792+Computations!$H$19*Computations!D792^2+Computations!$G$19*Computations!D792^3","v":450000}]
[739,0.22647196012042076,0.22676380737735724,0.226617883748889,0.99476586468616135,7.1242748237776432E-5,3534.4458388011699,450000,{"$f":"G793-H793/User_entry!$E$18","v":2034.4458388011699},2034.4458388011699,null,{"$f":"HLOOKUP(User_entry!$B$56,Computations!$N$54:$R$1054,Computations!A793+1,FALSE)","v":3534.4458388011699},{"$f":"HLOOKUP(User_entry!$E$56,Computations!$S$54:$W$1054,Computations!A793+1,FALSE)","v":450000},{"$f":"Computations!$F$15+Computations!$E$15*D793","v":3534.4458388011699},{"$f":"EXP(Computations!$F$16)*EXP(Computations!$E$16)^Computations!D793","v":4159.6014532577519},{"$f":"Computations!$F$17+Computations!$E$17*LN(Computations!D793)","v":3155.5598792151304},{"$f":"Computations!$F$18+Computations!$E$18*Computations!D793+Computations!$D$18*Computations!D793^2","v":3235.1439324822059},{"$f":"Computations!$F$19+Computations!$E$19*Computations!D793+Computations!$D$19*Computations!D793^2+Computations!$C$19*Computations!D793^3","v":3235.1439324822059},{"$f":"Computations!$J$15+Computations!$I$15*D793","v":450000},{"$f":"EXP(Computations!$J$16)*EXP(Computations!$I$16)^Computations!D793","v":450000.00000000035},{"$f":"Computations!$J$17+Computations!$I$17*LN(Computations!D793)","v":450000},{"$f":"Computations!$J$18+Computations!$I$18*Computations!D793+Computations!$H$18*Computations!D793^2","v":450000},{"$f":"Computations!$J$19+Computations!$I$19*Computations!D793+Computations!$H$19*Computations!D793^2+Computations!$G$19*Computations!D793^3","v":450000}]
[740,0.22676380737735724,0.22705565463429372,0.22690973100582548,0.99483621774033149,7.035305417013582E-5,3538.285934287177,450000,{"$f":"G794-H794/User_entry!$E$18","v":2038.285934287177},2038.285934287177,null,{"$f":"HLOOKUP(User_entry!$B$56,Computations!$N$54:$R$1054,Computations!A794+1,FALSE)","v":3538.285934287177},{"$f":"HLOOKUP(User_entry!$E$56,Computations!$S$54:$W$1054,Computations!A794+1,FALSE)","v":450000},{"$f":"Computations!$F$15+Computations!$E$15*D794","v":3538.285934287177},{"$f":"EXP(Computations!$F$16)*EXP(Computations!$E$16)^Computations!D794","v":4168.2314327560198},{"$f":"Computations!$F$17+Computations!$E$17*LN(Computations!D794)","v":3157.1949491700552},{"$f":"Computations!$F$18+Computations!$E$18*Computations!D794+Computations!$D$18*Computations!D794^2","v":3236.6190840111476},{"$f":"Computations!$F$19+Computations!$E$19*Computations!D794+Computations!$D$19*Computations!D794^2+Computations!$C$19*Computations!D794^3","v":3236.6190840111476},{"$f":"Computations!$J$15+Computations!$I$15*D794","v":450000},{"$f":"EXP(Computations!$J$16)*EXP(Computations!$I$16)^Computations!D794","v":450000.00000000035},{"$f":"Computations!$J$17+Computations!$I$17*LN(Computations!D794)","v":450000},{"$f":"Computations!$J$18+Computations!$I$18*Computations!D794+Computations!$H$18*Computations!D794^2","v":450000},{"$f":"Computations!$J$19+Computations!$I$19*Computations!D794+Computations!$H$19*Computations!D794^2+Computations!$G$19*Computations!D794^3","v":450000}]
[741,0.22705565463429372,0.22734750189123021,0.22720157826276197,0.99490569120864547,6.9473468313985265E-5,3542.1260297731833,450000,{"$f":"G795-H795/User_entry!$E$18","v":2042.1260297731833},2042.1260297731833,null,{"$f":"HLOOKUP(User_entry!$B$56,Computations!$N$54:$R$1054,Computations!A795+1,FALSE)","v":3542.1260297731833},{"$f":"HLOOKUP(User_entry!$E$56,Computations!$S$54:$W$1054,Computations!A795+1,FALSE)","v":450000},{"$f":"Computations!$F$15+Computations!$E$15*D795","v":3542.1260297731833},{"$f":"EXP(Computations!$F$16)*EXP(Computations!$E$16)^Computations!D795","v":4176.8793169855398},{"$f":"Computations!$F$17+Computations!$E$17*LN(Computations!D795)","v":3158.8279174780791},{"$f":"Computations!$F$18+Computations!$E$18*Computations!D795+Computations!$D$18*Computations!D795^2","v":3238.0879262940598},{"$f":"Computations!$F$19+Computations!$E$19*Computations!D795+Computations!$D$19*Computations!D795^2+Computations!$C$19*Computations!D795^3","v":3238.0879262940598},{"$f":"Computations!$J$15+Computations!$I$15*D795","v":450000},{"$f":"EXP(Computations!$J$16)*EXP(Computations!$I$16)^Computations!D795","v":450000.00000000035},{"$f":"Computations!$J$17+Computations!$I$17*LN(Computations!D795)","v":450000},{"$f":"Computations!$J$18+Computations!$I$18*Computations!D795+Computations!$H$18*Computations!D795^2","v":450000},{"$f":"Computations!$J$19+Computations!$I$19*Computations!D795+Computations!$H$19*Computations!D795^2+Computations!$G$19*Computations!D795^3","v":450000}]
[742,0.22734750189123021,0.22763934914816669,0.22749342551969845,0.99497429509912094,6.8603890475471552E-5,3545.9661252591895,450000,{"$f":"G796-H796/User_entry!$E$18","v":2045.9661252591895},2045.9661252591895,null,{"$f":"HLOOKUP(User_entry!$B$56,Computations!$N$54:$R$1054,Computations!A796+1,FALSE)","v":3545.9661252591895},{"$f":"HLOOKUP(User_entry!$E$56,Computations!$S$54:$W$1054,Computations!A796+1,FALSE)","v":450000},{"$f":"Computations!$F$15+Computations!$E$15*D796","v":3545.9661252591895},{"$f":"EXP(Computations!$F$16)*EXP(Computations!$E$16)^Computations!D796","v":4185.5451430934936},{"$f":"Computations!$F$17+Computations!$E$17*LN(Computations!D796)","v":3160.4587895349973},{"$f":"Computations!$F$18+Computations!$E$18*Computations!D796+Computations!$D$18*Computations!D796^2","v":3239.5504593309452},{"$f":"Computations!$F$19+Computations!$E$19*Computations!D796+Computations!$D$19*Computations!D796^2+Computations!$C$19*Computations!D796^3","v":3239.5504593309452},{"$f":"Computations!$J$15+Computations!$I$15*D796","v":450000},{"$f":"EXP(Computations!$J$16)*EXP(Computations!$I$16)^Computations!D796","v":450000.00000000035},{"$f":"Computations!$J$17+Computations!$I$17*LN(Computations!D796)","v":450000},{"$f":"Computations!$J$18+Computations!$I$18*Computations!D796+Computations!$H$18*Computations!D796^2","v":450000},{"$f":"Computations!$J$19+Computations!$I$19*Computations!D796+Computations!$H$19*Computations!D796^2+Computations!$G$19*Computations!D796^3","v":450000}]
[743,0.22763934914816669,0.22793119640510318,0.22778527277663493,0.99504203932036339,6.7744221242449498E-5,3549.8062207451958,450000,{"$f":"G797-H797/User_entry!$E$18","v":2049.8062207451958},2049.8062207451958,null,{"$f":"HLOOKUP(User_entry!$B$56,Computations!$N$54:$R$1054,Computations!A797+1,FALSE)","v":3549.8062207451958},{"$f":"HLOOKUP(User_entry!$E$56,Computations!$S$54:$W$1054,Computations!A797+1,FALSE)","v":450000},{"$f":"Computations!$F$15+Computations!$E$15*D797","v":3549.8062207451958},{"$f":"EXP(Computations!$F$16)*EXP(Computations!$E$16)^Computations!D797","v":4194.2289483041313},{"$f":"Computations!$F$17+Computations!$E$17*LN(Computations!D797)","v":3162.0875707158498},{"$f":"Computations!$F$18+Computations!$E$18*Computations!D797+Computations!$D$18*Computations!D797^2","v":3241.0066831218019},{"$f":"Computations!$F$19+Computations!$E$19*Computations!D797+Computations!$D$19*Computations!D797^2+Computations!$C$19*Computations!D797^3","v":3241.0066831218019},{"$f":"Computations!$J$15+Computations!$I$15*D797","v":450000},{"$f":"EXP(Computations!$J$16)*EXP(Computations!$I$16)^Computations!D797","v":450000.00000000035},{"$f":"Computations!$J$17+Computations!$I$17*LN(Computations!D797)","v":450000},{"$f":"Computations!$J$18+Computations!$I$18*Computations!D797+Computations!$H$18*Computations!D797^2","v":450000},{"$f":"Computations!$J$19+Computations!$I$19*Computations!D797+Computations!$H$19*Computations!D797^2+Computations!$G$19*Computations!D797^3","v":450000}]
[744,0.22793119640510318,0.22822304366203966,0.22807712003357142,0.99510893368234399,6.6894361980596173E-5,3553.646316231202,450000,{"$f":"G798-H798/User_entry!$E$18","v":2053.646316231202},2053.646316231202,null,{"$f":"HLOOKUP(User_entry!$B$56,Computations!$N$54:$R$1054,Computations!A798+1,FALSE)","v":3553.646316231202},{"$f":"HLOOKUP(User_entry!$E$56,Computations!$S$54:$W$1054,Computations!A798+1,FALSE)","v":450000},{"$f":"Computations!$F$15+Computations!$E$15*D798","v":3553.646316231202},{"$f":"EXP(Computations!$F$16)*EXP(Computations!$E$16)^Computations!D798","v":4202.9307699189285},{"$f":"Computations!$F$17+Computations!$E$17*LN(Computations!D798)","v":3163.714266375031},{"$f":"Computations!$F$18+Computations!$E$18*Computations!D798+Computations!$D$18*Computations!D798^2","v":3242.456597666629},{"$f":"Computations!$F$19+Computations!$E$19*Computations!D798+Computations!$D$19*Computations!D798^2+Computations!$C$19*Computations!D798^3","v":3242.456597666629},{"$f":"Computations!$J$15+Computations!$I$15*D798","v":450000},{"$f":"EXP(Computations!$J$16)*EXP(Computations!$I$16)^Computations!D798","v":450000.00000000035},{"$f":"Computations!$J$17+Computations!$I$17*LN(Computations!D798)","v":450000},{"$f":"Computations!$J$18+Computations!$I$18*Computations!D798+Computations!$H$18*Computations!D798^2","v":450000},{"$f":"Computations!$J$19+Computations!$I$19*Computations!D798+Computations!$H$19*Computations!D798^2+Computations!$G$19*Computations!D798^3","v":450000}]
[745,0.22822304366203966,0.22851489091897614,0.2283689672905079,0.99517498789717562,6.6054214831634539E-5,3557.4864117172083,450000,{"$f":"G799-H799/User_entry!$E$18","v":2057.4864117172083},2057.4864117172083,null,{"$f":"HLOOKUP(User_entry!$B$56,Computations!$N$54:$R$1054,Computations!A799+1,FALSE)","v":3557.4864117172083},{"$f":"HLOOKUP(User_entry!$E$56,Computations!$S$54:$W$1054,Computations!A799+1,FALSE)","v":450000},{"$f":"Computations!$F$15+Computations!$E$15*D799","v":3557.4864117172083},{"$f":"EXP(Computations!$F$16)*EXP(Computations!$E$16)^Computations!D799","v":4211.6506453167585},{"$f":"Computations!$F$17+Computations!$E$17*LN(Computations!D799)","v":3165.3388818463923},{"$f":"Computations!$F$18+Computations!$E$18*Computations!D799+Computations!$D$18*Computations!D799^2","v":3243.9002029654298},{"$f":"Computations!$F$19+Computations!$E$19*Computations!D799+Computations!$D$19*Computations!D799^2+Computations!$C$19*Computations!D799^3","v":3243.9002029654298},{"$f":"Computations!$J$15+Computations!$I$15*D799","v":450000},{"$f":"EXP(Computations!$J$16)*EXP(Computations!$I$16)^Computations!D799","v":450000.00000000035},{"$f":"Computations!$J$17+Computations!$I$17*LN(Computations!D799)","v":450000},{"$f":"Computations!$J$18+Computations!$I$18*Computations!D799+Computations!$H$18*Computations!D799^2","v":450000},{"$f":"Computations!$J$19+Computations!$I$19*Computations!D799+Computations!$H$19*Computations!D799^2+Computations!$G$19*Computations!D799^3","v":450000}]
[746,0.22851489091897614,0.22880673817591263,0.22866081454744439,0.99524021157988518,6.5223682709558695E-5,3561.3265072032145,450000,{"$f":"G800-H800/User_entry!$E$18","v":2061.3265072032145},2061.3265072032145,null,{"$f":"HLOOKUP(User_entry!$B$56,Computations!$N$54:$R$1054,Computations!A800+1,FALSE)","v":3561.3265072032145},{"$f":"HLOOKUP(User_entry!$E$56,Computations!$S$54:$W$1054,Computations!A800+1,FALSE)","v":450000},{"$f":"Computations!$F$15+Computations!$E$15*D800","v":3561.3265072032145},{"$f":"EXP(Computations!$F$16)*EXP(Computations!$E$16)^Computations!D800","v":4220.3886119540393},{"$f":"Computations!$F$17+Computations!$E$17*LN(Computations!D800)","v":3166.9614224433508},{"$f":"Computations!$F$18+Computations!$E$18*Computations!D800+Computations!$D$18*Computations!D800^2","v":3245.3374990182019},{"$f":"Computations!$F$19+Computations!$E$19*Computations!D800+Computations!$D$19*Computations!D800^2+Computations!$C$19*Computations!D800^3","v":3245.3374990182019},{"$f":"Computations!$J$15+Computations!$I$15*D800","v":450000},{"$f":"EXP(Computations!$J$16)*EXP(Computations!$I$16)^Computations!D800","v":450000.00000000035},{"$f":"Computations!$J$17+Computations!$I$17*LN(Computations!D800)","v":450000},{"$f":"Computations!$J$18+Computations!$I$18*Computations!D800+Computations!$H$18*Computations!D800^2","v":450000},{"$f":"Computations!$J$19+Computations!$I$19*Computations!D800+Computations!$H$19*Computations!D800^2+Computations!$G$19*Computations!D800^3","v":450000}]
[747,0.22880673817591263,0.22909858543284911,0.22895266180438087,0.99530461424918282,6.4402669297636272E-5,3565.1666026892208,450000,{"$f":"G801-H801/User_entry!$E$18","v":2065.1666026892208},2065.1666026892208,null,{"$f":"HLOOKUP(User_entry!$B$56,Computations!$N$54:$R$1054,Computations!A801+1,FALSE)","v":3565.1666026892208},{"$f":"HLOOKUP(User_entry!$E$56,Computations!$S$54:$W$1054,Computations!A801+1,FALSE)","v":450000},{"$f":"Computations!$F$15+Computations!$E$15*D801","v":3565.1666026892208},{"$f":"EXP(Computations!$F$16)*EXP(Computations!$E$16)^Computations!D801","v":4229.1447073649006},{"$f":"Computations!$F$17+Computations!$E$17*LN(Computations!D801)","v":3168.5818934589906},{"$f":"Computations!$F$18+Computations!$E$18*Computations!D801+Computations!$D$18*Computations!D801^2","v":3246.7684858249454},{"$f":"Computations!$F$19+Computations!$E$19*Computations!D801+Computations!$D$19*Computations!D801^2+Computations!$C$19*Computations!D801^3","v":3246.7684858249454},{"$f":"Computations!$J$15+Computations!$I$15*D801","v":450000},{"$f":"EXP(Computations!$J$16)*EXP(Computations!$I$16)^Computations!D801","v":450000.00000000035},{"$f":"Computations!$J$17+Computations!$I$17*LN(Computations!D801)","v":450000},{"$f":"Computations!$J$18+Computations!$I$18*Computations!D801+Computations!$H$18*Computations!D801^2","v":450000},{"$f":"Computations!$J$19+Computations!$I$19*Computations!D801+Computations!$H$19*Computations!D801^2+Computations!$G$19*Computations!D801^3","v":450000}]
[748,0.22909858543284911,0.22939043268978559,0.22924450906131735,0.99536820532822834,6.3591079045521859E-5,3569.0066981752279,450000,{"$f":"G802-H802/User_entry!$E$18","v":2069.0066981752279},2069.0066981752279,null,{"$f":"HLOOKUP(User_entry!$B$56,Computations!$N$54:$R$1054,Computations!A802+1,FALSE)","v":3569.0066981752279},{"$f":"HLOOKUP(User_entry!$E$56,Computations!$S$54:$W$1054,Computations!A802+1,FALSE)","v":450000},{"$f":"Computations!$F$15+Computations!$E$15*D802","v":3569.0066981752279},{"$f":"EXP(Computations!$F$16)*EXP(Computations!$E$16)^Computations!D802","v":4237.9189691613483},{"$f":"Computations!$F$17+Computations!$E$17*LN(Computations!D802)","v":3170.2003001661674},{"$f":"Computations!$F$18+Computations!$E$18*Computations!D802+Computations!$D$18*Computations!D802^2","v":3248.1931633856602},{"$f":"Computations!$F$19+Computations!$E$19*Computations!D802+Computations!$D$19*Computations!D802^2+Computations!$C$19*Computations!D802^3","v":3248.1931633856602},{"$f":"Computations!$J$15+Computations!$I$15*D802","v":450000},{"$f":"EXP(Computations!$J$16)*EXP(Computations!$I$16)^Computations!D802","v":450000.00000000035},{"$f":"Computations!$J$17+Computations!$I$17*LN(Computations!D802)","v":450000},{"$f":"Computations!$J$18+Computations!$I$18*Computations!D802+Computations!$H$18*Computations!D802^2","v":450000},{"$f":"Computations!$J$19+Computations!$I$19*Computations!D802+Computations!$H$19*Computations!D802^2+Computations!$G$19*Computations!D802^3","v":450000}]
[749,0.22939043268978559,0.22968227994672208,0.22953635631825384,0.99543099414539404,6.278881716570428E-5,3572.8467936612342,450000,{"$f":"G803-H803/User_entry!$E$18","v":2072.8467936612342},2072.8467936612342,null,{"$f":"HLOOKUP(User_entry!$B$56,Computations!$N$54:$R$1054,Computations!A803+1,FALSE)","v":3572.8467936612342},{"$f":"HLOOKUP(User_entry!$E$56,Computations!$S$54:$W$1054,Computations!A803+1,FALSE)","v":450000},{"$f":"Computations!$F$15+Computations!$E$15*D803","v":3572.8467936612342},{"$f":"EXP(Computations!$F$16)*EXP(Computations!$E$16)^Computations!D803","v":4246.7114350334195},{"$f":"Computations!$F$17+Computations!$E$17*LN(Computations!D803)","v":3171.8166478176104},{"$f":"Computations!$F$18+Computations!$E$18*Computations!D803+Computations!$D$18*Computations!D803^2","v":3249.6115317003478},{"$f":"Computations!$F$19+Computations!$E$19*Computations!D803+Computations!$D$19*Computations!D803^2+Computations!$C$19*Computations!D803^3","v":3249.6115317003478},{"$f":"Computations!$J$15+Computations!$I$15*D803","v":450000},{"$f":"EXP(Computations!$J$16)*EXP(Computations!$I$16)^Computations!D803","v":450000.00000000035},{"$f":"Computations!$J$17+Computations!$I$17*LN(Computations!D803)","v":450000},{"$f":"Computations!$J$18+Computations!$I$18*Computations!D803+Computations!$H$18*Computations!D803^2","v":450000},{"$f":"Computations!$J$19+Computations!$I$19*Computations!D803+Computations!$H$19*Computations!D803^2+Computations!$G$19*Computations!D803^3","v":450000}]
[750,0.22968227994672208,0.22997412720365856,0.22982820357519032,0.99549298993502455,6.1995789630509002E-5,3576.6868891472404,450000,{"$f":"G804-H804/User_entry!$E$18","v":2076.6868891472404},2076.6868891472404,null,{"$f":"HLOOKUP(User_entry!$B$56,Computations!$N$54:$R$1054,Computations!A804+1,FALSE)","v":3576.6868891472404},{"$f":"HLOOKUP(User_entry!$E$56,Computations!$S$54:$W$1054,Computations!A804+1,FALSE)","v":450000},{"$f":"Computations!$F$15+Computations!$E$15*D804","v":3576.6868891472404},{"$f":"EXP(Computations!$F$16)*EXP(Computations!$E$16)^Computations!D804","v":4255.5221427493452},{"$f":"Computations!$F$17+Computations!$E$17*LN(Computations!D804)","v":3173.4309416460269},{"$f":"Computations!$F$18+Computations!$E$18*Computations!D804+Computations!$D$18*Computations!D804^2","v":3251.0235907690067},{"$f":"Computations!$F$19+Computations!$E$19*Computations!D804+Computations!$D$19*Computations!D804^2+Computations!$C$19*Computations!D804^3","v":3251.0235907690067},{"$f":"Computations!$J$15+Computations!$I$15*D804","v":450000},{"$f":"EXP(Computations!$J$16)*EXP(Computations!$I$16)^Computations!D804","v":450000.00000000035},{"$f":"Computations!$J$17+Computations!$I$17*LN(Computations!D804)","v":450000},{"$f":"Computations!$J$18+Computations!$I$18*Computations!D804+Computations!$H$18*Computations!D804^2","v":450000},{"$f":"Computations!$J$19+Computations!$I$19*Computations!D804+Computations!$H$19*Computations!D804^2+Computations!$G$19*Computations!D804^3","v":450000}]
[751,0.22997412720365856,0.23026597446059505,0.2301200508321268,0.99555420183819399,6.121190316943359E-5,3580.5269846332467,450000,{"$f":"G805-H805/User_entry!$E$18","v":2080.5269846332467},2080.5269846332467,null,{"$f":"HLOOKUP(User_entry!$B$56,Computations!$N$54:$R$1054,Computations!A805+1,FALSE)","v":3580.5269846332467},{"$f":"HLOOKUP(User_entry!$E$56,Computations!$S$54:$W$1054,Computations!A805+1,FALSE)","v":450000},{"$f":"Computations!$F$15+Computations!$E$15*D805","v":3580.5269846332467},{"$f":"EXP(Computations!$F$16)*EXP(Computations!$E$16)^Computations!D805","v":4264.3511301557201},{"$f":"Computations!$F$17+Computations!$E$17*LN(Computations!D805)","v":3175.0431868642017},{"$f":"Computations!$F$18+Computations!$E$18*Computations!D805+Computations!$D$18*Computations!D805^2","v":3252.4293405916374},{"$f":"Computations!$F$19+Computations!$E$19*Computations!D805+Computations!$D$19*Computations!D805^2+Computations!$C$19*Computations!D805^3","v":3252.4293405916374},{"$f":"Computations!$J$15+Computations!$I$15*D805","v":450000},{"$f":"EXP(Computations!$J$16)*EXP(Computations!$I$16)^Computations!D805","v":450000.00000000035},{"$f":"Computations!$J$17+Computations!$I$17*LN(Computations!D805)","v":450000},{"$f":"Computations!$J$18+Computations!$I$18*Computations!D805+Computations!$H$18*Computations!D805^2","v":450000},{"$f":"Computations!$J$19+Computations!$I$19*Computations!D805+Computations!$H$19*Computations!D805^2+Computations!$G$19*Computations!D805^3","v":450000}]
[752,0.23026597446059505,0.23055782171753153,0.23041189808906329,0.9956146389034588,6.0437065264817846E-5,3584.3670801192529,450000,{"$f":"G806-H806/User_entry!$E$18","v":2084.3670801192529},2084.3670801192529,null,{"$f":"HLOOKUP(User_entry!$B$56,Computations!$N$54:$R$1054,Computations!A806+1,FALSE)","v":3584.3670801192529},{"$f":"HLOOKUP(User_entry!$E$56,Computations!$S$54:$W$1054,Computations!A806+1,FALSE)","v":450000},{"$f":"Computations!$F$15+Computations!$E$15*D806","v":3584.3670801192529},{"$f":"EXP(Computations!$F$16)*EXP(Computations!$E$16)^Computations!D806","v":4273.1984351776555},{"$f":"Computations!$F$17+Computations!$E$17*LN(Computations!D806)","v":3176.6533886651},{"$f":"Computations!$F$18+Computations!$E$18*Computations!D806+Computations!$D$18*Computations!D806^2","v":3253.8287811682394},{"$f":"Computations!$F$19+Computations!$E$19*Computations!D806+Computations!$D$19*Computations!D806^2+Computations!$C$19*Computations!D806^3","v":3253.8287811682394},{"$f":"Computations!$J$15+Computations!$I$15*D806","v":450000},{"$f":"EXP(Computations!$J$16)*EXP(Computations!$I$16)^Computations!D806","v":450000.00000000035},{"$f":"Computations!$J$17+Computations!$I$17*LN(Computations!D806)","v":450000},{"$f":"Computations!$J$18+Computations!$I$18*Computations!D806+Computations!$H$18*Computations!D806^2","v":450000},{"$f":"Computations!$J$19+Computations!$I$19*Computations!D806+Computations!$H$19*Computations!D806^2+Computations!$G$19*Computations!D806^3","v":450000}]
[753,0.23055782171753153,0.23084966897446801,0.23070374534599977,0.99567431008760798,5.9671184149179268E-5,3588.2071756052592,450000,{"$f":"G807-H807/User_entry!$E$18","v":2088.2071756052592},2088.2071756052592,null,{"$f":"HLOOKUP(User_entry!$B$56,Computations!$N$54:$R$1054,Computations!A807+1,FALSE)","v":3588.2071756052592},{"$f":"HLOOKUP(User_entry!$E$56,Computations!$S$54:$W$1054,Computations!A807+1,FALSE)","v":450000},{"$f":"Computations!$F$15+Computations!$E$15*D807","v":3588.2071756052592},{"$f":"EXP(Computations!$F$16)*EXP(Computations!$E$16)^Computations!D807","v":4282.0640958189479},{"$f":"Computations!$F$17+Computations!$E$17*LN(Computations!D807)","v":3178.2615522219658},{"$f":"Computations!$F$18+Computations!$E$18*Computations!D807+Computations!$D$18*Computations!D807^2","v":3255.2219124988133},{"$f":"Computations!$F$19+Computations!$E$19*Computations!D807+Computations!$D$19*Computations!D807^2+Computations!$C$19*Computations!D807^3","v":3255.2219124988133},{"$f":"Computations!$J$15+Computations!$I$15*D807","v":450000},{"$f":"EXP(Computations!$J$16)*EXP(Computations!$I$16)^Computations!D807","v":450000.00000000035},{"$f":"Computations!$J$17+Computations!$I$17*LN(Computations!D807)","v":450000},{"$f":"Computations!$J$18+Computations!$I$18*Computations!D807+Computations!$H$18*Computations!D807^2","v":450000},{"$f":"Computations!$J$19+Computations!$I$19*Computations!D807+Computations!$H$19*Computations!D807^2+Computations!$G$19*Computations!D807^3","v":450000}]
[754,0.23084966897446801,0.2311415162314045,0.23099559260293626,0.99573322425640964,5.8914168801660338E-5,3592.0472710912654,450000,{"$f":"G808-H808/User_entry!$E$18","v":2092.0472710912654},2092.0472710912654,null,{"$f":"HLOOKUP(User_entry!$B$56,Computations!$N$54:$R$1054,Computations!A808+1,FALSE)","v":3592.0472710912654},{"$f":"HLOOKUP(User_entry!$E$56,Computations!$S$54:$W$1054,Computations!A808+1,FALSE)","v":450000},{"$f":"Computations!$F$15+Computations!$E$15*D808","v":3592.0472710912654},{"$f":"EXP(Computations!$F$16)*EXP(Computations!$E$16)^Computations!D808","v":4290.9481501622422},{"$f":"Computations!$F$17+Computations!$E$17*LN(Computations!D808)","v":3179.8676826884225},{"$f":"Computations!$F$18+Computations!$E$18*Computations!D808+Computations!$D$18*Computations!D808^2","v":3256.6087345833594},{"$f":"Computations!$F$19+Computations!$E$19*Computations!D808+Computations!$D$19*Computations!D808^2+Computations!$C$19*Computations!D808^3","v":3256.6087345833594},{"$f":"Computations!$J$15+Computations!$I$15*D808","v":450000},{"$f":"EXP(Computations!$J$16)*EXP(Computations!$I$16)^Computations!D808","v":450000.00000000035},{"$f":"Computations!$J$17+Computations!$I$17*LN(Computations!D808)","v":450000},{"$f":"Computations!$J$18+Computations!$I$18*Computations!D808+Computations!$H$18*Computations!D808^2","v":450000},{"$f":"Computations!$J$19+Computations!$I$19*Computations!D808+Computations!$H$19*Computations!D808^2+Computations!$G$19*Computations!D808^3","v":450000}]
[755,0.2311415162314045,0.23143336348834098,0.23128743985987274,0.99579139018535512,5.8165928945475009E-5,3595.8873665772726,450000,{"$f":"G809-H809/User_entry!$E$18","v":2095.8873665772726},2095.8873665772726,null,{"$f":"HLOOKUP(User_entry!$B$56,Computations!$N$54:$R$1054,Computations!A809+1,FALSE)","v":3595.8873665772726},{"$f":"HLOOKUP(User_entry!$E$56,Computations!$S$54:$W$1054,Computations!A809+1,FALSE)","v":450000},{"$f":"Computations!$F$15+Computations!$E$15*D809","v":3595.8873665772726},{"$f":"EXP(Computations!$F$16)*EXP(Computations!$E$16)^Computations!D809","v":4299.8506363691913},{"$f":"Computations!$F$17+Computations!$E$17*LN(Computations!D809)","v":3181.4717851985724},{"$f":"Computations!$F$18+Computations!$E$18*Computations!D809+Computations!$D$18*Computations!D809^2","v":3257.9892474218773},{"$f":"Computations!$F$19+Computations!$E$19*Computations!D809+Computations!$D$19*Computations!D809^2+Computations!$C$19*Computations!D809^3","v":3257.9892474218773},{"$f":"Computations!$J$15+Computations!$I$15*D809","v":450000},{"$f":"EXP(Computations!$J$16)*EXP(Computations!$I$16)^Computations!D809","v":450000.00000000035},{"$f":"Computations!$J$17+Computations!$I$17*LN(Computations!D809)","v":450000},{"$f":"Computations!$J$18+Computations!$I$18*Computations!D809+Computations!$H$18*Computations!D809^2","v":450000},{"$f":"Computations!$J$19+Computations!$I$19*Computations!D809+Computations!$H$19*Computations!D809^2+Computations!$G$19*Computations!D809^3","v":450000}]
[756,0.23143336348834098,0.23172521074527747,0.23157928711680922,0.99584881656039803,5.7426375042912703E-5,3599.7274620632788,450000,{"$f":"G810-H810/User_entry!$E$18","v":2099.7274620632788},2099.7274620632788,null,{"$f":"HLOOKUP(User_entry!$B$56,Computations!$N$54:$R$1054,Computations!A810+1,FALSE)","v":3599.7274620632788},{"$f":"HLOOKUP(User_entry!$E$56,Computations!$S$54:$W$1054,Computations!A810+1,FALSE)","v":450000},{"$f":"Computations!$F$15+Computations!$E$15*D810","v":3599.7274620632788},{"$f":"EXP(Computations!$F$16)*EXP(Computations!$E$16)^Computations!D810","v":4308.7715926806222},{"$f":"Computations!$F$17+Computations!$E$17*LN(Computations!D810)","v":3183.0738648670958},{"$f":"Computations!$F$18+Computations!$E$18*Computations!D810+Computations!$D$18*Computations!D810^2","v":3259.3634510143656},{"$f":"Computations!$F$19+Computations!$E$19*Computations!D810+Computations!$D$19*Computations!D810^2+Computations!$C$19*Computations!D810^3","v":3259.3634510143656},{"$f":"Computations!$J$15+Computations!$I$15*D810","v":450000},{"$f":"EXP(Computations!$J$16)*EXP(Computations!$I$16)^Computations!D810","v":450000.00000000035},{"$f":"Computations!$J$17+Computations!$I$17*LN(Computations!D810)","v":450000},{"$f":"Computations!$J$18+Computations!$I$18*Computations!D810+Computations!$H$18*Computations!D810^2","v":450000},{"$f":"Computations!$J$19+Computations!$I$19*Computations!D810+Computations!$H$19*Computations!D810^2+Computations!$G$19*Computations!D810^3","v":450000}]
[757,0.23172521074527747,0.23201705800221395,0.23187113437374571,0.99590551197869137,5.6695418293339905E-5,3603.5675575492851,450000,{"$f":"G811-H811/User_entry!$E$18","v":2103.5675575492851},2103.5675575492851,null,{"$f":"HLOOKUP(User_entry!$B$56,Computations!$N$54:$R$1054,Computations!A811+1,FALSE)","v":3603.5675575492851},{"$f":"HLOOKUP(User_entry!$E$56,Computations!$S$54:$W$1054,Computations!A811+1,FALSE)","v":450000},{"$f":"Computations!$F$15+Computations!$E$15*D811","v":3603.5675575492851},{"$f":"EXP(Computations!$F$16)*EXP(Computations!$E$16)^Computations!D811","v":4317.7110574167036},{"$f":"Computations!$F$17+Computations!$E$17*LN(Computations!D811)","v":3184.6739267893454},{"$f":"Computations!$F$18+Computations!$E$18*Computations!D811+Computations!$D$18*Computations!D811^2","v":3260.7313453608276},{"$f":"Computations!$F$19+Computations!$E$19*Computations!D811+Computations!$D$19*Computations!D811^2+Computations!$C$19*Computations!D811^3","v":3260.7313453608276},{"$f":"Computations!$J$15+Computations!$I$15*D811","v":450000},{"$f":"EXP(Computations!$J$16)*EXP(Computations!$I$16)^Computations!D811","v":450000.00000000035},{"$f":"Computations!$J$17+Computations!$I$17*LN(Computations!D811)","v":450000},{"$f":"Computations!$J$18+Computations!$I$18*Computations!D811+Computations!$H$18*Computations!D811^2","v":450000},{"$f":"Computations!$J$19+Computations!$I$19*Computations!D811+Computations!$H$19*Computations!D811^2+Computations!$G$19*Computations!D811^3","v":450000}]
[758,0.23201705800221395,0.23230890525915043,0.23216298163068219,0.99596148494932069,5.5972970629314389E-5,3607.4076530352913,450000,{"$f":"G812-H812/User_entry!$E$18","v":2107.4076530352913},2107.4076530352913,null,{"$f":"HLOOKUP(User_entry!$B$56,Computations!$N$54:$R$1054,Computations!A812+1,FALSE)","v":3607.4076530352913},{"$f":"HLOOKUP(User_entry!$E$56,Computations!$S$54:$W$1054,Computations!A812+1,FALSE)","v":450000},{"$f":"Computations!$F$15+Computations!$E$15*D812","v":3607.4076530352913},{"$f":"EXP(Computations!$F$16)*EXP(Computations!$E$16)^Computations!D812","v":4326.6690689771067},{"$f":"Computations!$F$17+Computations!$E$17*LN(Computations!D812)","v":3186.2719760414493},{"$f":"Computations!$F$18+Computations!$E$18*Computations!D812+Computations!$D$18*Computations!D812^2","v":3262.0929304612605},{"$f":"Computations!$F$19+Computations!$E$19*Computations!D812+Computations!$D$19*Computations!D812^2+Computations!$C$19*Computations!D812^3","v":3262.0929304612605},{"$f":"Computations!$J$15+Computations!$I$15*D812","v":450000},{"$f":"EXP(Computations!$J$16)*EXP(Computations!$I$16)^Computations!D812","v":450000.00000000035},{"$f":"Computations!$J$17+Computations!$I$17*LN(Computations!D812)","v":450000},{"$f":"Computations!$J$18+Computations!$I$18*Computations!D812+Computations!$H$18*Computations!D812^2","v":450000},{"$f":"Computations!$J$19+Computations!$I$19*Computations!D812+Computations!$H$19*Computations!D812^2+Computations!$G$19*Computations!D812^3","v":450000}]
[759,0.23230890525915043,0.23260075251608692,0.23245482888761868,0.9960167438940335,5.5258944712810454E-5,3611.2477485212976,450000,{"$f":"G813-H813/User_entry!$E$18","v":2111.2477485212976},2111.2477485212976,null,{"$f":"HLOOKUP(User_entry!$B$56,Computations!$N$54:$R$1054,Computations!A813+1,FALSE)","v":3611.2477485212976},{"$f":"HLOOKUP(User_entry!$E$56,Computations!$S$54:$W$1054,Computations!A813+1,FALSE)","v":450000},{"$f":"Computations!$F$15+Computations!$E$15*D813","v":3611.2477485212976},{"$f":"EXP(Computations!$F$16)*EXP(Computations!$E$16)^Computations!D813","v":4335.645665841168},{"$f":"Computations!$F$17+Computations!$E$17*LN(Computations!D813)","v":3187.868017680401},{"$f":"Computations!$F$18+Computations!$E$18*Computations!D813+Computations!$D$18*Computations!D813^2","v":3263.4482063156656},{"$f":"Computations!$F$19+Computations!$E$19*Computations!D813+Computations!$D$19*Computations!D813^2+Computations!$C$19*Computations!D813^3","v":3263.4482063156656},{"$f":"Computations!$J$15+Computations!$I$15*D813","v":450000},{"$f":"EXP(Computations!$J$16)*EXP(Computations!$I$16)^Computations!D813","v":450000.00000000035},{"$f":"Computations!$J$17+Computations!$I$17*LN(Computations!D813)","v":450000},{"$f":"Computations!$J$18+Computations!$I$18*Computations!D813+Computations!$H$18*Computations!D813^2","v":450000},{"$f":"Computations!$J$19+Computations!$I$19*Computations!D813+Computations!$H$19*Computations!D813^2+Computations!$G$19*Computations!D813^3","v":450000}]
[760,0.23260075251608692,0.2328925997730234,0.23274667614455516,0.99607129714796572,5.4553253932221324E-5,3615.0878440073038,450000,{"$f":"G814-H814/User_entry!$E$18","v":2115.0878440073038},2115.0878440073038,null,{"$f":"HLOOKUP(User_entry!$B$56,Computations!$N$54:$R$1054,Computations!A814+1,FALSE)","v":3615.0878440073038},{"$f":"HLOOKUP(User_entry!$E$56,Computations!$S$54:$W$1054,Computations!A814+1,FALSE)","v":450000},{"$f":"Computations!$F$15+Computations!$E$15*D814","v":3615.0878440073038},{"$f":"EXP(Computations!$F$16)*EXP(Computations!$E$16)^Computations!D814","v":4344.6408865680623},{"$f":"Computations!$F$17+Computations!$E$17*LN(Computations!D814)","v":3189.4620567441607},{"$f":"Computations!$F$18+Computations!$E$18*Computations!D814+Computations!$D$18*Computations!D814^2","v":3264.7971729240412},{"$f":"Computations!$F$19+Computations!$E$19*Computations!D814+Computations!$D$19*Computations!D814^2+Computations!$C$19*Computations!D814^3","v":3264.7971729240412},{"$f":"Computations!$J$15+Computations!$I$15*D814","v":450000},{"$f":"EXP(Computations!$J$16)*EXP(Computations!$I$16)^Computations!D814","v":450000.00000000035},{"$f":"Computations!$J$17+Computations!$I$17*LN(Computations!D814)","v":450000},{"$f":"Computations!$J$18+Computations!$I$18*Computations!D814+Computations!$H$18*Computations!D814^2","v":450000},{"$f":"Computations!$J$19+Computations!$I$19*Computations!D814+Computations!$H$19*Computations!D814^2+Computations!$G$19*Computations!D814^3","v":450000}]
[761,0.2328925997730234,0.23318444702995988,0.23303852340149164,0.99612515296036386,5.3855812398140301E-5,3618.9279394933101,450000,{"$f":"G815-H815/User_entry!$E$18","v":2118.9279394933101},2118.9279394933101,null,{"$f":"HLOOKUP(User_entry!$B$56,Computations!$N$54:$R$1054,Computations!A815+1,FALSE)","v":3618.9279394933101},{"$f":"HLOOKUP(User_entry!$E$56,Computations!$S$54:$W$1054,Computations!A815+1,FALSE)","v":450000},{"$f":"Computations!$F$15+Computations!$E$15*D815","v":3618.9279394933101},{"$f":"EXP(Computations!$F$16)*EXP(Computations!$E$16)^Computations!D815","v":4353.6547697969609},{"$f":"Computations!$F$17+Computations!$E$17*LN(Computations!D815)","v":3191.0540982517487},{"$f":"Computations!$F$18+Computations!$E$18*Computations!D815+Computations!$D$18*Computations!D815^2","v":3266.1398302863895},{"$f":"Computations!$F$19+Computations!$E$19*Computations!D815+Computations!$D$19*Computations!D815^2+Computations!$C$19*Computations!D815^3","v":3266.1398302863895},{"$f":"Computations!$J$15+Computations!$I$15*D815","v":450000},{"$f":"EXP(Computations!$J$16)*EXP(Computations!$I$16)^Computations!D815","v":450000.00000000035},{"$f":"Computations!$J$17+Computations!$I$17*LN(Computations!D815)","v":450000},{"$f":"Computations!$J$18+Computations!$I$18*Computations!D815+Computations!$H$18*Computations!D815^2","v":450000},{"$f":"Computations!$J$19+Computations!$I$19*Computations!D815+Computations!$H$19*Computations!D815^2+Computations!$G$19*Computations!D815^3","v":450000}]
[762,0.23318444702995988,0.23347629428689637,0.23333037065842813,0.99617831949530489,5.3166534941029298E-5,3622.7680349793163,450000,{"$f":"G816-H816/User_entry!$E$18","v":2122.7680349793163},2122.7680349793163,null,{"$f":"HLOOKUP(User_entry!$B$56,Computations!$N$54:$R$1054,Computations!A816+1,FALSE)","v":3622.7680349793163},{"$f":"HLOOKUP(User_entry!$E$56,Computations!$S$54:$W$1054,Computations!A816+1,FALSE)","v":450000},{"$f":"Computations!$F$15+Computations!$E$15*D816","v":3622.7680349793163},{"$f":"EXP(Computations!$F$16)*EXP(Computations!$E$16)^Computations!D816","v":4362.6873542471976},{"$f":"Computations!$F$17+Computations!$E$17*LN(Computations!D816)","v":3192.6441472033403},{"$f":"Computations!$F$18+Computations!$E$18*Computations!D816+Computations!$D$18*Computations!D816^2","v":3267.4761784027096},{"$f":"Computations!$F$19+Computations!$E$19*Computations!D816+Computations!$D$19*Computations!D816^2+Computations!$C$19*Computations!D816^3","v":3267.4761784027096},{"$f":"Computations!$J$15+Computations!$I$15*D816","v":450000},{"$f":"EXP(Computations!$J$16)*EXP(Computations!$I$16)^Computations!D816","v":450000.00000000035},{"$f":"Computations!$J$17+Computations!$I$17*LN(Computations!D816)","v":450000},{"$f":"Computations!$J$18+Computations!$I$18*Computations!D816+Computations!$H$18*Computations!D816^2","v":450000},{"$f":"Computations!$J$19+Computations!$I$19*Computations!D816+Computations!$H$19*Computations!D816^2+Computations!$G$19*Computations!D816^3","v":450000}]
[763,0.23347629428689637,0.23376814154383285,0.23362221791536461,0.99623080483241044,5.2485337105556695E-5,3626.6081304653235,450000,{"$f":"G817-H817/User_entry!$E$18","v":2126.6081304653235},2126.6081304653235,null,{"$f":"HLOOKUP(User_entry!$B$56,Computations!$N$54:$R$1054,Computations!A817+1,FALSE)","v":3626.6081304653235},{"$f":"HLOOKUP(User_entry!$E$56,Computations!$S$54:$W$1054,Computations!A817+1,FALSE)","v":450000},{"$f":"Computations!$F$15+Computations!$E$15*D817","v":3626.6081304653235},{"$f":"EXP(Computations!$F$16)*EXP(Computations!$E$16)^Computations!D817","v":4371.738678718445},{"$f":"Computations!$F$17+Computations!$E$17*LN(Computations!D817)","v":3194.2322085803589},{"$f":"Computations!$F$18+Computations!$E$18*Computations!D817+Computations!$D$18*Computations!D817^2","v":3268.8062172730015},{"$f":"Computations!$F$19+Computations!$E$19*Computations!D817+Computations!$D$19*Computations!D817^2+Computations!$C$19*Computations!D817^3","v":3268.8062172730015},{"$f":"Computations!$J$15+Computations!$I$15*D817","v":450000},{"$f":"EXP(Computations!$J$16)*EXP(Computations!$I$16)^Computations!D817","v":450000.00000000035},{"$f":"Computations!$J$17+Computations!$I$17*LN(Computations!D817)","v":450000},{"$f":"Computations!$J$18+Computations!$I$18*Computations!D817+Computations!$H$18*Computations!D817^2","v":450000},{"$f":"Computations!$J$19+Computations!$I$19*Computations!D817+Computations!$H$19*Computations!D817^2+Computations!$G$19*Computations!D817^3","v":450000}]
[764,0.23376814154383285,0.23405998880076934,0.23391406517230109,0.99628261696756049,5.1812135150042238E-5,3630.4482259513297,450000,{"$f":"G818-H818/User_entry!$E$18","v":2130.4482259513297},2130.4482259513297,null,{"$f":"HLOOKUP(User_entry!$B$56,Computations!$N$54:$R$1054,Computations!A818+1,FALSE)","v":3630.4482259513297},{"$f":"HLOOKUP(User_entry!$E$56,Computations!$S$54:$W$1054,Computations!A818+1,FALSE)","v":450000},{"$f":"Computations!$F$15+Computations!$E$15*D818","v":3630.4482259513297},{"$f":"EXP(Computations!$F$16)*EXP(Computations!$E$16)^Computations!D818","v":4380.8087820908659},{"$f":"Computations!$F$17+Computations!$E$17*LN(Computations!D818)","v":3195.8182873455721},{"$f":"Computations!$F$18+Computations!$E$18*Computations!D818+Computations!$D$18*Computations!D818^2","v":3270.1299468972643},{"$f":"Computations!$F$19+Computations!$E$19*Computations!D818+Computations!$D$19*Computations!D818^2+Computations!$C$19*Computations!D818^3","v":3270.1299468972643},{"$f":"Computations!$J$15+Computations!$I$15*D818","v":450000},{"$f":"EXP(Computations!$J$16)*EXP(Computations!$I$16)^Computations!D818","v":450000.00000000035},{"$f":"Computations!$J$17+Computations!$I$17*LN(Computations!D818)","v":450000},{"$f":"Computations!$J$18+Computations!$I$18*Computations!D818+Computations!$H$18*Computations!D818^2","v":450000},{"$f":"Computations!$J$19+Computations!$I$19*Computations!D818+Computations!$H$19*Computations!D818^2+Computations!$G$19*Computations!D818^3","v":450000}]
[765,0.23405998880076934,0.23435183605770582,0.23420591242923758,0.99633376381360006,5.1146846039573646E-5,3634.288321437336,450000,{"$f":"G819-H819/User_entry!$E$18","v":2134.288321437336},2134.288321437336,null,{"$f":"HLOOKUP(User_entry!$B$56,Computations!$N$54:$R$1054,Computations!A819+1,FALSE)","v":3634.288321437336},{"$f":"HLOOKUP(User_entry!$E$56,Computations!$S$54:$W$1054,Computations!A819+1,FALSE)","v":450000},{"$f":"Computations!$F$15+Computations!$E$15*D819","v":3634.288321437336},{"$f":"EXP(Computations!$F$16)*EXP(Computations!$E$16)^Computations!D819","v":4389.8977033252941},{"$f":"Computations!$F$17+Computations!$E$17*LN(Computations!D819)","v":3197.4023884431826},{"$f":"Computations!$F$18+Computations!$E$18*Computations!D819+Computations!$D$18*Computations!D819^2","v":3271.4473672754993},{"$f":"Computations!$F$19+Computations!$E$19*Computations!D819+Computations!$D$19*Computations!D819^2+Computations!$C$19*Computations!D819^3","v":3271.4473672754993},{"$f":"Computations!$J$15+Computations!$I$15*D819","v":450000},{"$f":"EXP(Computations!$J$16)*EXP(Computations!$I$16)^Computations!D819","v":450000.00000000035},{"$f":"Computations!$J$17+Computations!$I$17*LN(Computations!D819)","v":450000},{"$f":"Computations!$J$18+Computations!$I$18*Computations!D819+Computations!$H$18*Computations!D819^2","v":450000},{"$f":"Computations!$J$19+Computations!$I$19*Computations!D819+Computations!$H$19*Computations!D819^2+Computations!$G$19*Computations!D819^3","v":450000}]
[766,0.23435183605770582,0.2346436833146423,0.23449775968617406,0.99638425320104473,5.048938744467435E-5,3638.1284169233422,450000,{"$f":"G820-H820/User_entry!$E$18","v":2138.1284169233422},2138.1284169233422,null,{"$f":"HLOOKUP(User_entry!$B$56,Computations!$N$54:$R$1054,Computations!A820+1,FALSE)","v":3638.1284169233422},{"$f":"HLOOKUP(User_entry!$E$56,Computations!$S$54:$W$1054,Computations!A820+1,FALSE)","v":450000},{"$f":"Computations!$F$15+Computations!$E$15*D820","v":3638.1284169233422},{"$f":"EXP(Computations!$F$16)*EXP(Computations!$E$16)^Computations!D820","v":4399.005481463395},{"$f":"Computations!$F$17+Computations!$E$17*LN(Computations!D820)","v":3198.9845167989215},{"$f":"Computations!$F$18+Computations!$E$18*Computations!D820+Computations!$D$18*Computations!D820^2","v":3272.7584784077062},{"$f":"Computations!$F$19+Computations!$E$19*Computations!D820+Computations!$D$19*Computations!D820^2+Computations!$C$19*Computations!D820^3","v":3272.7584784077062},{"$f":"Computations!$J$15+Computations!$I$15*D820","v":450000},{"$f":"EXP(Computations!$J$16)*EXP(Computations!$I$16)^Computations!D820","v":450000.00000000035},{"$f":"Computations!$J$17+Computations!$I$17*LN(Computations!D820)","v":450000},{"$f":"Computations!$J$18+Computations!$I$18*Computations!D820+Computations!$H$18*Computations!D820^2","v":450000},{"$f":"Computations!$J$19+Computations!$I$19*Computations!D820+Computations!$H$19*Computations!D820^2+Computations!$G$19*Computations!D820^3","v":450000}]
[767,0.2346436833146423,0.23493553057157879,0.23478960694311055,0.99643409287878171,4.983967773697362E-5,3641.9685124093485,450000,{"$f":"G821-H821/User_entry!$E$18","v":2141.9685124093485},2141.9685124093485,null,{"$f":"HLOOKUP(User_entry!$B$56,Computations!$N$54:$R$1054,Computations!A821+1,FALSE)","v":3641.9685124093485},{"$f":"HLOOKUP(User_entry!$E$56,Computations!$S$54:$W$1054,Computations!A821+1,FALSE)","v":450000},{"$f":"Computations!$F$15+Computations!$E$15*D821","v":3641.9685124093485},{"$f":"EXP(Computations!$F$16)*EXP(Computations!$E$16)^Computations!D821","v":4408.1321556278308},{"$f":"Computations!$F$17+Computations!$E$17*LN(Computations!D821)","v":3200.5646773201406},{"$f":"Computations!$F$18+Computations!$E$18*Computations!D821+Computations!$D$18*Computations!D821^2","v":3274.0632802938853},{"$f":"Computations!$F$19+Computations!$E$19*Computations!D821+Computations!$D$19*Computations!D821^2+Computations!$C$19*Computations!D821^3","v":3274.0632802938853},{"$f":"Computations!$J$15+Computations!$I$15*D821","v":450000},{"$f":"EXP(Computations!$J$16)*EXP(Computations!$I$16)^Computations!D821","v":450000.00000000035},{"$f":"Computations!$J$17+Computations!$I$17*LN(Computations!D821)","v":450000},{"$f":"Computations!$J$18+Computations!$I$18*Computations!D821+Computations!$H$18*Computations!D821^2","v":450000},{"$f":"Computations!$J$19+Computations!$I$19*Computations!D821+Computations!$H$19*Computations!D821^2+Computations!$G$19*Computations!D821^3","v":450000}]
[768,0.23493553057157879,0.23522737782851527,0.23508145420004703,0.99648329051476658,4.9197635984876698E-5,3645.8086078953547,450000,{"$f":"G822-H822/User_entry!$E$18","v":2145.8086078953547},2145.8086078953547,null,{"$f":"HLOOKUP(User_entry!$B$56,Computations!$N$54:$R$1054,Computations!A822+1,FALSE)","v":3645.8086078953547},{"$f":"HLOOKUP(User_entry!$E$56,Computations!$S$54:$W$1054,Computations!A822+1,FALSE)","v":450000},{"$f":"Computations!$F$15+Computations!$E$15*D822","v":3645.8086078953547},{"$f":"EXP(Computations!$F$16)*EXP(Computations!$E$16)^Computations!D822","v":4417.2777650224343},{"$f":"Computations!$F$17+Computations!$E$17*LN(Computations!D822)","v":3202.1428748959033},{"$f":"Computations!$F$18+Computations!$E$18*Computations!D822+Computations!$D$18*Computations!D822^2","v":3275.3617729340349},{"$f":"Computations!$F$19+Computations!$E$19*Computations!D822+Computations!$D$19*Computations!D822^2+Computations!$C$19*Computations!D822^3","v":3275.3617729340349},{"$f":"Computations!$J$15+Computations!$I$15*D822","v":450000},{"$f":"EXP(Computations!$J$16)*EXP(Computations!$I$16)^Computations!D822","v":450000.00000000035},{"$f":"Computations!$J$17+Computations!$I$17*LN(Computations!D822)","v":450000},{"$f":"Computations!$J$18+Computations!$I$18*Computations!D822+Computations!$H$18*Computations!D822^2","v":450000},{"$f":"Computations!$J$19+Computations!$I$19*Computations!D822+Computations!$H$19*Computations!D822^2+Computations!$G$19*Computations!D822^3","v":450000}]
[769,0.23522737782851527,0.23551922508545176,0.23537330145698351,0.9965318536967176,4.8563181951011281E-5,3649.648703381361,450000,{"$f":"G823-H823/User_entry!$E$18","v":2149.648703381361},2149.648703381361,null,{"$f":"HLOOKUP(User_entry!$B$56,Computations!$N$54:$R$1054,Computations!A823+1,FALSE)","v":3649.648703381361},{"$f":"HLOOKUP(User_entry!$E$56,Computations!$S$54:$W$1054,Computations!A823+1,FALSE)","v":450000},{"$f":"Computations!$F$15+Computations!$E$15*D823","v":3649.648703381361},{"$f":"EXP(Computations!$F$16)*EXP(Computations!$E$16)^Computations!D823","v":4426.4423489323772},{"$f":"Computations!$F$17+Computations!$E$17*LN(Computations!D823)","v":3203.7191143970754},{"$f":"Computations!$F$18+Computations!$E$18*Computations!D823+Computations!$D$18*Computations!D823^2","v":3276.6539563281576},{"$f":"Computations!$F$19+Computations!$E$19*Computations!D823+Computations!$D$19*Computations!D823^2+Computations!$C$19*Computations!D823^3","v":3276.6539563281576},{"$f":"Computations!$J$15+Computations!$I$15*D823","v":450000},{"$f":"EXP(Computations!$J$16)*EXP(Computations!$I$16)^Computations!D823","v":450000.00000000035},{"$f":"Computations!$J$17+Computations!$I$17*LN(Computations!D823)","v":450000},{"$f":"Computations!$J$18+Computations!$I$18*Computations!D823+Computations!$H$18*Computations!D823^2","v":450000},{"$f":"Computations!$J$19+Computations!$I$19*Computations!D823+Computations!$H$19*Computations!D823^2+Computations!$G$19*Computations!D823^3","v":450000}]
[770,0.23551922508545176,{"$f":"B824+$D$11","v":0.23581107234238824},{"$f":"AVERAGE(B824:C824)","v":0.23566514871392},{"$f":"IF($D$3=\"Beta\",_xlfn.BETA.DIST(C824,$D$4,$D$5,TRUE),IF($D$3=\"Gamma\",_xlfn.GAMMA.DIST(C824,$D$4,$D$5,TRUE),IF($D$3=\"Lognorm\",_xlfn.LOGNORM.DIST(C824,$D$4,$D$5,TRUE),_xlfn.NORM.DIST(C824,$D$4,$D$5,TRUE))))","v":0.99657978993280505},{"$f":"E824-E823","v":4.7936236087453565E-5},{"$f":"L824","v":3653.4887988673672},{"$f":"M824","v":450000},{"$f":"G824-H824/User_entry!$E$18","v":2153.4887988673672},{"$f":"MAX(I824,0)","v":2153.4887988673672},null,{"$f":"HLOOKUP(User_entry!$B$56,Computations!$N$54:$R$1054,Computations!A824+1,FALSE)","v":3653.4887988673672},{"$f":"HLOOKUP(User_entry!$E$56,Computations!$S$54:$W$1054,Computations!A824+1,FALSE)","v":450000},{"$f":"Computations!$F$15+Computations!$E$15*D824","v":3653.4887988673672},{"$f":"EXP(Computations!$F$16)*EXP(Computations!$E$16)^Computations!D824","v":4435.6259467243317},{"$f":"Computations!$F$17+Computations!$E$17*LN(Computations!D824)","v":3205.293400676414},{"$f":"Computations!$F$18+Computations!$E$18*Computations!D824+Computations!$D$18*Computations!D824^2","v":3277.9398304762517},{"$f":"Computations!$F$19+Computations!$E$19*Computations!D824+Computations!$D$19*Computations!D824^2+Computations!$C$19*Computations!D824^3","v":3277.9398304762517},{"$f":"Computations!$J$15+Computations!$I$15*D824","v":450000},{"$f":"EXP(Computations!$J$16)*EXP(Computations!$I$16)^Computations!D824","v":450000.00000000035},{"$f":"Computations!$J$17+Computations!$I$17*LN(Computations!D824)","v":450000},{"$f":"Computations!$J$18+Computations!$I$18*Computations!D824+Computations!$H$18*Computations!D824^2","v":450000},{"$f":"Computations!$J$19+Computations!$I$19*Computations!D824+Computations!$H$19*Computations!D824^2+Computations!$G$19*Computations!D824^3","v":450000}]
[771,{"$f":"C824","v":0.23581107234238824},0.23610291959932472,0.23595699597085648,0.99662710665233822,4.7316719533174734E-5,3657.3288943533744,450000,{"$f":"G825-H825/User_entry!$E$18","v":2157.3288943533744},2157.3288943533744,null,{"$f":"HLOOKUP(User_entry!$B$56,Computations!$N$54:$R$1054,Computations!A825+1,FALSE)","v":3657.3288943533744},{"$f":"HLOOKUP(User_entry!$E$56,Computations!$S$54:$W$1054,Computations!A825+1,FALSE)","v":450000},{"$f":"Computations!$F$15+Computations!$E$15*D825","v":3657.3288943533744},{"$f":"EXP(Computations!$F$16)*EXP(Computations!$E$16)^Computations!D825","v":4444.8285978466483},{"$f":"Computations!$F$17+Computations!$E$17*LN(Computations!D825)","v":3206.8657385686602},{"$f":"Computations!$F$18+Computations!$E$18*Computations!D825+Computations!$D$18*Computations!D825^2","v":3279.2193953783176},{"$f":"Computations!$F$19+Computations!$E$19*Computations!D825+Computations!$D$19*Computations!D825^2+Computations!$C$19*Computations!D825^3","v":3279.2193953783176},{"$f":"Computations!$J$15+Computations!$I$15*D825","v":450000},{"$f":"EXP(Computations!$J$16)*EXP(Computations!$I$16)^Computations!D825","v":450000.00000000035},{"$f":"Computations!$J$17+Computations!$I$17*LN(Computations!D825)","v":450000},{"$f":"Computations!$J$18+Computations!$I$18*Computations!D825+Computations!$H$18*Computations!D825^2","v":450000},{"$f":"Computations!$J$19+Computations!$I$19*Computations!D825+Computations!$H$19*Computations!D825^2+Computations!$G$19*Computations!D825^3","v":450000}]
[772,0.23610291959932472,0.23639476685626121,0.23624884322779297,0.99667381120644682,4.670455410860086E-5,3661.1689898393806,450000,{"$f":"G826-H826/User_entry!$E$18","v":2161.1689898393806},2161.1689898393806,null,{"$f":"HLOOKUP(User_entry!$B$56,Computations!$N$54:$R$1054,Computations!A826+1,FALSE)","v":3661.1689898393806},{"$f":"HLOOKUP(User_entry!$E$56,Computations!$S$54:$W$1054,Computations!A826+1,FALSE)","v":450000},{"$f":"Computations!$F$15+Computations!$E$15*D826","v":3661.1689898393806},{"$f":"EXP(Computations!$F$16)*EXP(Computations!$E$16)^Computations!D826","v":4454.050341829522},{"$f":"Computations!$F$17+Computations!$E$17*LN(Computations!D826)","v":3208.4361328906261},{"$f":"Computations!$F$18+Computations!$E$18*Computations!D826+Computations!$D$18*Computations!D826^2","v":3280.4926510343544},{"$f":"Computations!$F$19+Computations!$E$19*Computations!D826+Computations!$D$19*Computations!D826^2+Computations!$C$19*Computations!D826^3","v":3280.4926510343544},{"$f":"Computations!$J$15+Computations!$I$15*D826","v":450000},{"$f":"EXP(Computations!$J$16)*EXP(Computations!$I$16)^Computations!D826","v":450000.00000000035},{"$f":"Computations!$J$17+Computations!$I$17*LN(Computations!D826)","v":450000},{"$f":"Computations!$J$18+Computations!$I$18*Computations!D826+Computations!$H$18*Computations!D826^2","v":450000},{"$f":"Computations!$J$19+Computations!$I$19*Computations!D826+Computations!$H$19*Computations!D826^2+Computations!$G$19*Computations!D826^3","v":450000}]
[773,0.23639476685626121,0.23668661411319769,0.23654069048472945,0.99671991086876077,4.6099662313947576E-5,3665.0090853253869,450000,{"$f":"G827-H827/User_entry!$E$18","v":2165.0090853253869},2165.0090853253869,null,{"$f":"HLOOKUP(User_entry!$B$56,Computations!$N$54:$R$1054,Computations!A827+1,FALSE)","v":3665.0090853253869},{"$f":"HLOOKUP(User_entry!$E$56,Computations!$S$54:$W$1054,Computations!A827+1,FALSE)","v":450000},{"$f":"Computations!$F$15+Computations!$E$15*D827","v":3665.0090853253869},{"$f":"EXP(Computations!$F$16)*EXP(Computations!$E$16)^Computations!D827","v":4463.2912182851587},{"$f":"Computations!$F$17+Computations!$E$17*LN(Computations!D827)","v":3210.0045884412821},{"$f":"Computations!$F$18+Computations!$E$18*Computations!D827+Computations!$D$18*Computations!D827^2","v":3281.7595974443634},{"$f":"Computations!$F$19+Computations!$E$19*Computations!D827+Computations!$D$19*Computations!D827^2+Computations!$C$19*Computations!D827^3","v":3281.7595974443634},{"$f":"Computations!$J$15+Computations!$I$15*D827","v":450000},{"$f":"EXP(Computations!$J$16)*EXP(Computations!$I$16)^Computations!D827","v":450000.00000000035},{"$f":"Computations!$J$17+Computations!$I$17*LN(Computations!D827)","v":450000},{"$f":"Computations!$J$18+Computations!$I$18*Computations!D827+Computations!$H$18*Computations!D827^2","v":450000},{"$f":"Computations!$J$19+Computations!$I$19*Computations!D827+Computations!$H$19*Computations!D827^2+Computations!$G$19*Computations!D827^3","v":450000}]
[774,0.23668661411319769,0.23697846137013417,0.23683253774166593,0.99676541283608433,4.5501967323557935E-5,3668.8491808113931,450000,{"$f":"G828-H828/User_entry!$E$18","v":2168.8491808113931},2168.8491808113931,null,{"$f":"HLOOKUP(User_entry!$B$56,Computations!$N$54:$R$1054,Computations!A828+1,FALSE)","v":3668.8491808113931},{"$f":"HLOOKUP(User_entry!$E$56,Computations!$S$54:$W$1054,Computations!A828+1,FALSE)","v":450000},{"$f":"Computations!$F$15+Computations!$E$15*D828","v":3668.8491808113931},{"$f":"EXP(Computations!$F$16)*EXP(Computations!$E$16)^Computations!D828","v":4472.551266907949},{"$f":"Computations!$F$17+Computations!$E$17*LN(Computations!D828)","v":3211.571110001848},{"$f":"Computations!$F$18+Computations!$E$18*Computations!D828+Computations!$D$18*Computations!D828^2","v":3283.0202346083447},{"$f":"Computations!$F$19+Computations!$E$19*Computations!D828+Computations!$D$19*Computations!D828^2+Computations!$C$19*Computations!D828^3","v":3283.0202346083447},{"$f":"Computations!$J$15+Computations!$I$15*D828","v":450000},{"$f":"EXP(Computations!$J$16)*EXP(Computations!$I$16)^Computations!D828","v":450000.00000000035},{"$f":"Computations!$J$17+Computations!$I$17*LN(Computations!D828)","v":450000},{"$f":"Computations!$J$18+Computations!$I$18*Computations!D828+Computations!$H$18*Computations!D828^2","v":450000},{"$f":"Computations!$J$19+Computations!$I$19*Computations!D828+Computations!$H$19*Computations!D828^2+Computations!$G$19*Computations!D828^3","v":450000}]
[775,0.23697846137013417,0.23727030862707066,0.23712438499860242,0.99681032422906779,4.4911392983459919E-5,3672.6892762973994,450000,{"$f":"G829-H829/User_entry!$E$18","v":2172.6892762973994},2172.6892762973994,null,{"$f":"HLOOKUP(User_entry!$B$56,Computations!$N$54:$R$1054,Computations!A829+1,FALSE)","v":3672.6892762973994},{"$f":"HLOOKUP(User_entry!$E$56,Computations!$S$54:$W$1054,Computations!A829+1,FALSE)","v":450000},{"$f":"Computations!$F$15+Computations!$E$15*D829","v":3672.6892762973994},{"$f":"EXP(Computations!$F$16)*EXP(Computations!$E$16)^Computations!D829","v":4481.8305274746408},{"$f":"Computations!$F$17+Computations!$E$17*LN(Computations!D829)","v":3213.1357023358787},{"$f":"Computations!$F$18+Computations!$E$18*Computations!D829+Computations!$D$18*Computations!D829^2","v":3284.2745625262964},{"$f":"Computations!$F$19+Computations!$E$19*Computations!D829+Computations!$D$19*Computations!D829^2+Computations!$C$19*Computations!D829^3","v":3284.2745625262964},{"$f":"Computations!$J$15+Computations!$I$15*D829","v":450000},{"$f":"EXP(Computations!$J$16)*EXP(Computations!$I$16)^Computations!D829","v":450000.00000000035},{"$f":"Computations!$J$17+Computations!$I$17*LN(Computations!D829)","v":450000},{"$f":"Computations!$J$18+Computations!$I$18*Computations!D829+Computations!$H$18*Computations!D829^2","v":450000},{"$f":"Computations!$J$19+Computations!$I$19*Computations!D829+Computations!$H$19*Computations!D829^2+Computations!$G$19*Computations!D829^3","v":450000}]
[776,0.23727030862707066,0.23756215588400714,0.2374162322555389,0.99685465209287483,4.4327863807036572E-5,3676.5293717834056,450000,{"$f":"G830-H830/User_entry!$E$18","v":2176.5293717834056},2176.5293717834056,null,{"$f":"HLOOKUP(User_entry!$B$56,Computations!$N$54:$R$1054,Computations!A830+1,FALSE)","v":3676.5293717834056},{"$f":"HLOOKUP(User_entry!$E$56,Computations!$S$54:$W$1054,Computations!A830+1,FALSE)","v":450000},{"$f":"Computations!$F$15+Computations!$E$15*D830","v":3676.5293717834056},{"$f":"EXP(Computations!$F$16)*EXP(Computations!$E$16)^Computations!D830","v":4491.1290398445035},{"$f":"Computations!$F$17+Computations!$E$17*LN(Computations!D830)","v":3214.69837018935},{"$f":"Computations!$F$18+Computations!$E$18*Computations!D830+Computations!$D$18*Computations!D830^2","v":3285.5225811982214},{"$f":"Computations!$F$19+Computations!$E$19*Computations!D830+Computations!$D$19*Computations!D830^2+Computations!$C$19*Computations!D830^3","v":3285.5225811982214},{"$f":"Computations!$J$15+Computations!$I$15*D830","v":450000},{"$f":"EXP(Computations!$J$16)*EXP(Computations!$I$16)^Computations!D830","v":450000.00000000035},{"$f":"Computations!$J$17+Computations!$I$17*LN(Computations!D830)","v":450000},{"$f":"Computations!$J$18+Computations!$I$18*Computations!D830+Computations!$H$18*Computations!D830^2","v":450000},{"$f":"Computations!$J$19+Computations!$I$19*Computations!D830+Computations!$H$19*Computations!D830^2+Computations!$G$19*Computations!D830^3","v":450000}]
[777,0.23756215588400714,0.23785400314094363,0.23770807951247538,0.99689840339784552,4.3751304970696125E-5,3680.3694672694119,450000,{"$f":"G831-H831/User_entry!$E$18","v":2180.3694672694119},2180.3694672694119,null,{"$f":"HLOOKUP(User_entry!$B$56,Computations!$N$54:$R$1054,Computations!A831+1,FALSE)","v":3680.3694672694119},{"$f":"HLOOKUP(User_entry!$E$56,Computations!$S$54:$W$1054,Computations!A831+1,FALSE)","v":450000},{"$f":"Computations!$F$15+Computations!$E$15*D831","v":3680.3694672694119},{"$f":"EXP(Computations!$F$16)*EXP(Computations!$E$16)^Computations!D831","v":4500.4468439595048},{"$f":"Computations!$F$17+Computations!$E$17*LN(Computations!D831)","v":3216.2591182907481},{"$f":"Computations!$F$18+Computations!$E$18*Computations!D831+Computations!$D$18*Computations!D831^2","v":3286.7642906241176},{"$f":"Computations!$F$19+Computations!$E$19*Computations!D831+Computations!$D$19*Computations!D831^2+Computations!$C$19*Computations!D831^3","v":3286.7642906241176},{"$f":"Computations!$J$15+Computations!$I$15*D831","v":450000},{"$f":"EXP(Computations!$J$16)*EXP(Computations!$I$16)^Computations!D831","v":450000.00000000035},{"$f":"Computations!$J$17+Computations!$I$17*LN(Computations!D831)","v":450000},{"$f":"Computations!$J$18+Computations!$I$18*Computations!D831+Computations!$H$18*Computations!D831^2","v":450000},{"$f":"Computations!$J$19+Computations!$I$19*Computations!D831+Computations!$H$19*Computations!D831^2+Computations!$G$19*Computations!D831^3","v":450000}]
[778,0.23785400314094363,0.23814585039788011,0.23799992676941187,0.99694158504015673,4.3181642311207469E-5,3684.2095627554181,450000,{"$f":"G832-H832/User_entry!$E$18","v":2184.2095627554181},2184.2095627554181,null,{"$f":"HLOOKUP(User_entry!$B$56,Computations!$N$54:$R$1054,Computations!A832+1,FALSE)","v":3684.2095627554181},{"$f":"HLOOKUP(User_entry!$E$56,Computations!$S$54:$W$1054,Computations!A832+1,FALSE)","v":450000},{"$f":"Computations!$F$15+Computations!$E$15*D832","v":3684.2095627554181},{"$f":"EXP(Computations!$F$16)*EXP(Computations!$E$16)^Computations!D832","v":4509.7839798444811},{"$f":"Computations!$F$17+Computations!$E$17*LN(Computations!D832)","v":3217.8179513511532},{"$f":"Computations!$F$18+Computations!$E$18*Computations!D832+Computations!$D$18*Computations!D832^2","v":3287.9996908039857},{"$f":"Computations!$F$19+Computations!$E$19*Computations!D832+Computations!$D$19*Computations!D832^2+Computations!$C$19*Computations!D832^3","v":3287.9996908039857},{"$f":"Computations!$J$15+Computations!$I$15*D832","v":450000},{"$f":"EXP(Computations!$J$16)*EXP(Computations!$I$16)^Computations!D832","v":450000.00000000035},{"$f":"Computations!$J$17+Computations!$I$17*LN(Computations!D832)","v":450000},{"$f":"Computations!$J$18+Computations!$I$18*Computations!D832+Computations!$H$18*Computations!D832^2","v":450000},{"$f":"Computations!$J$19+Computations!$I$19*Computations!D832+Computations!$H$19*Computations!D832^2+Computations!$G$19*Computations!D832^3","v":450000}]
[779,0.23814585039788011,0.23843769765481659,0.23829177402634835,0.99698420384247766,4.2618802320926186E-5,3688.0496582414253,450000,{"$f":"G833-H833/User_entry!$E$18","v":2188.0496582414253},2188.0496582414253,null,{"$f":"HLOOKUP(User_entry!$B$56,Computations!$N$54:$R$1054,Computations!A833+1,FALSE)","v":3688.0496582414253},{"$f":"HLOOKUP(User_entry!$E$56,Computations!$S$54:$W$1054,Computations!A833+1,FALSE)","v":450000},{"$f":"Computations!$F$15+Computations!$E$15*D833","v":3688.0496582414253},{"$f":"EXP(Computations!$F$16)*EXP(Computations!$E$16)^Computations!D833","v":4519.1404876073093},{"$f":"Computations!$F$17+Computations!$E$17*LN(Computations!D833)","v":3219.3748740643232},{"$f":"Computations!$F$18+Computations!$E$18*Computations!D833+Computations!$D$18*Computations!D833^2","v":3289.2287817378246},{"$f":"Computations!$F$19+Computations!$E$19*Computations!D833+Computations!$D$19*Computations!D833^2+Computations!$C$19*Computations!D833^3","v":3289.2287817378246},{"$f":"Computations!$J$15+Computations!$I$15*D833","v":450000},{"$f":"EXP(Computations!$J$16)*EXP(Computations!$I$16)^Computations!D833","v":450000.00000000035},{"$f":"Computations!$J$17+Computations!$I$17*LN(Computations!D833)","v":450000},{"$f":"Computations!$J$18+Computations!$I$18*Computations!D833+Computations!$H$18*Computations!D833^2","v":450000},{"$f":"Computations!$J$19+Computations!$I$19*Computations!D833+Computations!$H$19*Computations!D833^2+Computations!$G$19*Computations!D833^3","v":450000}]
[780,0.23843769765481659,0.23872954491175308,0.23858362128328484,0.99702626655462201,4.2062712144352865E-5,3691.8897537274315,450000,{"$f":"G834-H834/User_entry!$E$18","v":2191.8897537274315},2191.8897537274315,null,{"$f":"HLOOKUP(User_entry!$B$56,Computations!$N$54:$R$1054,Computations!A834+1,FALSE)","v":3691.8897537274315},{"$f":"HLOOKUP(User_entry!$E$56,Computations!$S$54:$W$1054,Computations!A834+1,FALSE)","v":450000},{"$f":"Computations!$F$15+Computations!$E$15*D834","v":3691.8897537274315},{"$f":"EXP(Computations!$F$16)*EXP(Computations!$E$16)^Computations!D834","v":4528.516407439075},{"$f":"Computations!$F$17+Computations!$E$17*LN(Computations!D834)","v":3220.9298911067835},{"$f":"Computations!$F$18+Computations!$E$18*Computations!D834+Computations!$D$18*Computations!D834^2","v":3290.4515634256363},{"$f":"Computations!$F$19+Computations!$E$19*Computations!D834+Computations!$D$19*Computations!D834^2+Computations!$C$19*Computations!D834^3","v":3290.4515634256363},{"$f":"Computations!$J$15+Computations!$I$15*D834","v":450000},{"$f":"EXP(Computations!$J$16)*EXP(Computations!$I$16)^Computations!D834","v":450000.00000000035},{"$f":"Computations!$J$17+Computations!$I$17*LN(Computations!D834)","v":450000},{"$f":"Computations!$J$18+Computations!$I$18*Computations!D834+Computations!$H$18*Computations!D834^2","v":450000},{"$f":"Computations!$J$19+Computations!$I$19*Computations!D834+Computations!$H$19*Computations!D834^2+Computations!$G$19*Computations!D834^3","v":450000}]
[781,0.23872954491175308,0.23902139216868956,0.23887546854022132,0.99706777985419648,4.1513299574469364E-5,3695.7298492134378,450000,{"$f":"G835-H835/User_entry!$E$18","v":2195.7298492134378},2195.7298492134378,null,{"$f":"HLOOKUP(User_entry!$B$56,Computations!$N$54:$R$1054,Computations!A835+1,FALSE)","v":3695.7298492134378},{"$f":"HLOOKUP(User_entry!$E$56,Computations!$S$54:$W$1054,Computations!A835+1,FALSE)","v":450000},{"$f":"Computations!$F$15+Computations!$E$15*D835","v":3695.7298492134378},{"$f":"EXP(Computations!$F$16)*EXP(Computations!$E$16)^Computations!D835","v":4537.9117796142527},{"$f":"Computations!$F$17+Computations!$E$17*LN(Computations!D835)","v":3222.4830071379065},{"$f":"Computations!$F$18+Computations!$E$18*Computations!D835+Computations!$D$18*Computations!D835^2","v":3291.6680358674198},{"$f":"Computations!$F$19+Computations!$E$19*Computations!D835+Computations!$D$19*Computations!D835^2+Computations!$C$19*Computations!D835^3","v":3291.6680358674198},{"$f":"Computations!$J$15+Computations!$I$15*D835","v":450000},{"$f":"EXP(Computations!$J$16)*EXP(Computations!$I$16)^Computations!D835","v":450000.00000000035},{"$f":"Computations!$J$17+Computations!$I$17*LN(Computations!D835)","v":450000},{"$f":"Computations!$J$18+Computations!$I$18*Computations!D835+Computations!$H$18*Computations!D835^2","v":450000},{"$f":"Computations!$J$19+Computations!$I$19*Computations!D835+Computations!$H$19*Computations!D835^2+Computations!$G$19*Computations!D835^3","v":450000}]
[782,0.23902139216868956,0.23931323942562605,0.2391673157971578,0.99710875034724467,4.0970493048186896E-5,3699.569944699444,450000,{"$f":"G836-H836/User_entry!$E$18","v":2199.569944699444},2199.569944699444,null,{"$f":"HLOOKUP(User_entry!$B$56,Computations!$N$54:$R$1054,Computations!A836+1,FALSE)","v":3699.569944699444},{"$f":"HLOOKUP(User_entry!$E$56,Computations!$S$54:$W$1054,Computations!A836+1,FALSE)","v":450000},{"$f":"Computations!$F$15+Computations!$E$15*D836","v":3699.569944699444},{"$f":"EXP(Computations!$F$16)*EXP(Computations!$E$16)^Computations!D836","v":4547.3266444908741},{"$f":"Computations!$F$17+Computations!$E$17*LN(Computations!D836)","v":3224.0342267999977},{"$f":"Computations!$F$18+Computations!$E$18*Computations!D836+Computations!$D$18*Computations!D836^2","v":3292.8781990631751},{"$f":"Computations!$F$19+Computations!$E$19*Computations!D836+Computations!$D$19*Computations!D836^2+Computations!$C$19*Computations!D836^3","v":3292.8781990631751},{"$f":"Computations!$J$15+Computations!$I$15*D836","v":450000},{"$f":"EXP(Computations!$J$16)*EXP(Computations!$I$16)^Computations!D836","v":450000.00000000035},{"$f":"Computations!$J$17+Computations!$I$17*LN(Computations!D836)","v":450000},{"$f":"Computations!$J$18+Computations!$I$18*Computations!D836+Computations!$H$18*Computations!D836^2","v":450000},{"$f":"Computations!$J$19+Computations!$I$19*Computations!D836+Computations!$H$19*Computations!D836^2+Computations!$G$19*Computations!D836^3","v":450000}]
[783,0.23931323942562605,0.23960508668256253,0.23945916305409429,0.99714918456888801,4.0434221643348423E-5,3703.4100401854503,450000,{"$f":"G837-H837/User_entry!$E$18","v":2203.4100401854503},2203.4100401854503,null,{"$f":"HLOOKUP(User_entry!$B$56,Computations!$N$54:$R$1054,Computations!A837+1,FALSE)","v":3703.4100401854503},{"$f":"HLOOKUP(User_entry!$E$56,Computations!$S$54:$W$1054,Computations!A837+1,FALSE)","v":450000},{"$f":"Computations!$F$15+Computations!$E$15*D837","v":3703.4100401854503},{"$f":"EXP(Computations!$F$16)*EXP(Computations!$E$16)^Computations!D837","v":4556.7610425107005},{"$f":"Computations!$F$17+Computations!$E$17*LN(Computations!D837)","v":3225.5835547183779},{"$f":"Computations!$F$18+Computations!$E$18*Computations!D837+Computations!$D$18*Computations!D837^2","v":3294.0820530129013},{"$f":"Computations!$F$19+Computations!$E$19*Computations!D837+Computations!$D$19*Computations!D837^2+Computations!$C$19*Computations!D837^3","v":3294.0820530129013},{"$f":"Computations!$J$15+Computations!$I$15*D837","v":450000},{"$f":"EXP(Computations!$J$16)*EXP(Computations!$I$16)^Computations!D837","v":450000.00000000035},{"$f":"Computations!$J$17+Computations!$I$17*LN(Computations!D837)","v":450000},{"$f":"Computations!$J$18+Computations!$I$18*Computations!D837+Computations!$H$18*Computations!D837^2","v":450000},{"$f":"Computations!$J$19+Computations!$I$19*Computations!D837+Computations!$H$19*Computations!D837^2+Computations!$G$19*Computations!D837^3","v":450000}]
[784,0.23960508668256253,0.23989693393949901,0.23975101031103077,0.99718908898396219,3.9904415074176747E-5,3707.2501356714565,450000,{"$f":"G838-H838/User_entry!$E$18","v":2207.2501356714565},2207.2501356714565,null,{"$f":"HLOOKUP(User_entry!$B$56,Computations!$N$54:$R$1054,Computations!A838+1,FALSE)","v":3707.2501356714565},{"$f":"HLOOKUP(User_entry!$E$56,Computations!$S$54:$W$1054,Computations!A838+1,FALSE)","v":450000},{"$f":"Computations!$F$15+Computations!$E$15*D838","v":3707.2501356714565},{"$f":"EXP(Computations!$F$16)*EXP(Computations!$E$16)^Computations!D838","v":4566.2150141993998},{"$f":"Computations!$F$17+Computations!$E$17*LN(Computations!D838)","v":3227.1309955014667},{"$f":"Computations!$F$18+Computations!$E$18*Computations!D838+Computations!$D$18*Computations!D838^2","v":3295.2795977165993},{"$f":"Computations!$F$19+Computations!$E$19*Computations!D838+Computations!$D$19*Computations!D838^2+Computations!$C$19*Computations!D838^3","v":3295.2795977165993},{"$f":"Computations!$J$15+Computations!$I$15*D838","v":450000},{"$f":"EXP(Computations!$J$16)*EXP(Computations!$I$16)^Computations!D838","v":450000.00000000035},{"$f":"Computations!$J$17+Computations!$I$17*LN(Computations!D838)","v":450000},{"$f":"Computations!$J$18+Computations!$I$18*Computations!D838+Computations!$H$18*Computations!D838^2","v":450000},{"$f":"Computations!$J$19+Computations!$I$19*Computations!D838+Computations!$H$19*Computations!D838^2+Computations!$G$19*Computations!D838^3","v":450000}]
[785,0.23989693393949901,0.2401887811964355,0.24004285756796725,0.99722846998764991,3.9381003687721794E-5,3711.0902311574628,450000,{"$f":"G839-H839/User_entry!$E$18","v":2211.0902311574628},2211.0902311574628,null,{"$f":"HLOOKUP(User_entry!$B$56,Computations!$N$54:$R$1054,Computations!A839+1,FALSE)","v":3711.0902311574628},{"$f":"HLOOKUP(User_entry!$E$56,Computations!$S$54:$W$1054,Computations!A839+1,FALSE)","v":450000},{"$f":"Computations!$F$15+Computations!$E$15*D839","v":3711.0902311574628},{"$f":"EXP(Computations!$F$16)*EXP(Computations!$E$16)^Computations!D839","v":4575.6886001667199},{"$f":"Computations!$F$17+Computations!$E$17*LN(Computations!D839)","v":3228.676553740866},{"$f":"Computations!$F$18+Computations!$E$18*Computations!D839+Computations!$D$18*Computations!D839^2","v":3296.47083317427},{"$f":"Computations!$F$19+Computations!$E$19*Computations!D839+Computations!$D$19*Computations!D839^2+Computations!$C$19*Computations!D839^3","v":3296.47083317427},{"$f":"Computations!$J$15+Computations!$I$15*D839","v":450000},{"$f":"EXP(Computations!$J$16)*EXP(Computations!$I$16)^Computations!D839","v":450000.00000000035},{"$f":"Computations!$J$17+Computations!$I$17*LN(Computations!D839)","v":450000},{"$f":"Computations!$J$18+Computations!$I$18*Computations!D839+Computations!$H$18*Computations!D839^2","v":450000},{"$f":"Computations!$J$19+Computations!$I$19*Computations!D839+Computations!$H$19*Computations!D839^2+Computations!$G$19*Computations!D839^3","v":450000}]
[786,0.2401887811964355,0.24048062845337198,0.24033470482490374,0.99726733390611,3.8863918460085856E-5,3714.930326643469,450000,{"$f":"G840-H840/User_entry!$E$18","v":2214.930326643469},2214.930326643469,null,{"$f":"HLOOKUP(User_entry!$B$56,Computations!$N$54:$R$1054,Computations!A840+1,FALSE)","v":3714.930326643469},{"$f":"HLOOKUP(User_entry!$E$56,Computations!$S$54:$W$1054,Computations!A840+1,FALSE)","v":450000},{"$f":"Computations!$F$15+Computations!$E$15*D840","v":3714.930326643469},{"$f":"EXP(Computations!$F$16)*EXP(Computations!$E$16)^Computations!D840","v":4585.1818411066579},{"$f":"Computations!$F$17+Computations!$E$17*LN(Computations!D840)","v":3230.2202340114382},{"$f":"Computations!$F$18+Computations!$E$18*Computations!D840+Computations!$D$18*Computations!D840^2","v":3297.655759385912},{"$f":"Computations!$F$19+Computations!$E$19*Computations!D840+Computations!$D$19*Computations!D840^2+Computations!$C$19*Computations!D840^3","v":3297.655759385912},{"$f":"Computations!$J$15+Computations!$I$15*D840","v":450000},{"$f":"EXP(Computations!$J$16)*EXP(Computations!$I$16)^Computations!D840","v":450000.00000000035},{"$f":"Computations!$J$17+Computations!$I$17*LN(Computations!D840)","v":450000},{"$f":"Computations!$J$18+Computations!$I$18*Computations!D840+Computations!$H$18*Computations!D840^2","v":450000},{"$f":"Computations!$J$19+Computations!$I$19*Computations!D840+Computations!$H$19*Computations!D840^2+Computations!$G$19*Computations!D840^3","v":450000}]
[787,0.24048062845337198,0.24077247571030846,0.24062655208184022,0.99730568699710231,3.8353090992315764E-5,3718.7704221294762,450000,{"$f":"G841-H841/User_entry!$E$18","v":2218.7704221294762},2218.7704221294762,null,{"$f":"HLOOKUP(User_entry!$B$56,Computations!$N$54:$R$1054,Computations!A841+1,FALSE)","v":3718.7704221294762},{"$f":"HLOOKUP(User_entry!$E$56,Computations!$S$54:$W$1054,Computations!A841+1,FALSE)","v":450000},{"$f":"Computations!$F$15+Computations!$E$15*D841","v":3718.7704221294762},{"$f":"EXP(Computations!$F$16)*EXP(Computations!$E$16)^Computations!D841","v":4594.6947777976457},{"$f":"Computations!$F$17+Computations!$E$17*LN(Computations!D841)","v":3231.7620408713906},{"$f":"Computations!$F$18+Computations!$E$18*Computations!D841+Computations!$D$18*Computations!D841^2","v":3298.834376351525},{"$f":"Computations!$F$19+Computations!$E$19*Computations!D841+Computations!$D$19*Computations!D841^2+Computations!$C$19*Computations!D841^3","v":3298.834376351525},{"$f":"Computations!$J$15+Computations!$I$15*D841","v":450000},{"$f":"EXP(Computations!$J$16)*EXP(Computations!$I$16)^Computations!D841","v":450000.00000000035},{"$f":"Computations!$J$17+Computations!$I$17*LN(Computations!D841)","v":450000},{"$f":"Computations!$J$18+Computations!$I$18*Computations!D841+Computations!$H$18*Computations!D841^2","v":450000},{"$f":"Computations!$J$19+Computations!$I$19*Computations!D841+Computations!$H$19*Computations!D841^2+Computations!$G$19*Computations!D841^3","v":450000}]
[788,0.24077247571030846,0.24106432296724495,0.24091839933877671,0.99734353545060872,3.7848453506406088E-5,3722.6105176154824,450000,{"$f":"G842-H842/User_entry!$E$18","v":2222.6105176154824},2222.6105176154824,null,{"$f":"HLOOKUP(User_entry!$B$56,Computations!$N$54:$R$1054,Computations!A842+1,FALSE)","v":3722.6105176154824},{"$f":"HLOOKUP(User_entry!$E$56,Computations!$S$54:$W$1054,Computations!A842+1,FALSE)","v":450000},{"$f":"Computations!$F$15+Computations!$E$15*D842","v":3722.6105176154824},{"$f":"EXP(Computations!$F$16)*EXP(Computations!$E$16)^Computations!D842","v":4604.2274511027135},{"$f":"Computations!$F$17+Computations!$E$17*LN(Computations!D842)","v":3233.3019788623551},{"$f":"Computations!$F$18+Computations!$E$18*Computations!D842+Computations!$D$18*Computations!D842^2","v":3300.0066840711111},{"$f":"Computations!$F$19+Computations!$E$19*Computations!D842+Computations!$D$19*Computations!D842^2+Computations!$C$19*Computations!D842^3","v":3300.0066840711111},{"$f":"Computations!$J$15+Computations!$I$15*D842","v":450000},{"$f":"EXP(Computations!$J$16)*EXP(Computations!$I$16)^Computations!D842","v":450000.00000000035},{"$f":"Computations!$J$17+Computations!$I$17*LN(Computations!D842)","v":450000},{"$f":"Computations!$J$18+Computations!$I$18*Computations!D842+Computations!$H$18*Computations!D842^2","v":450000},{"$f":"Computations!$J$19+Computations!$I$19*Computations!D842+Computations!$H$19*Computations!D842^2+Computations!$G$19*Computations!D842^3","v":450000}]
[789,0.24106432296724495,0.24135617022418143,0.24121024659571319,0.99738088538945047,3.7349938841746422E-5,3726.4506131014887,450000,{"$f":"G843-H843/User_entry!$E$18","v":2226.4506131014887},2226.4506131014887,null,{"$f":"HLOOKUP(User_entry!$B$56,Computations!$N$54:$R$1054,Computations!A843+1,FALSE)","v":3726.4506131014887},{"$f":"HLOOKUP(User_entry!$E$56,Computations!$S$54:$W$1054,Computations!A843+1,FALSE)","v":450000},{"$f":"Computations!$F$15+Computations!$E$15*D843","v":3726.4506131014887},{"$f":"EXP(Computations!$F$16)*EXP(Computations!$E$16)^Computations!D843","v":4613.7799019696722},{"$f":"Computations!$F$17+Computations!$E$17*LN(Computations!D843)","v":3234.8400525094676},{"$f":"Computations!$F$18+Computations!$E$18*Computations!D843+Computations!$D$18*Computations!D843^2","v":3301.1726825446681},{"$f":"Computations!$F$19+Computations!$E$19*Computations!D843+Computations!$D$19*Computations!D843^2+Computations!$C$19*Computations!D843^3","v":3301.1726825446681},{"$f":"Computations!$J$15+Computations!$I$15*D843","v":450000},{"$f":"EXP(Computations!$J$16)*EXP(Computations!$I$16)^Computations!D843","v":450000.00000000035},{"$f":"Computations!$J$17+Computations!$I$17*LN(Computations!D843)","v":450000},{"$f":"Computations!$J$18+Computations!$I$18*Computations!D843+Computations!$H$18*Computations!D843^2","v":450000},{"$f":"Computations!$J$19+Computations!$I$19*Computations!D843+Computations!$H$19*Computations!D843^2+Computations!$G$19*Computations!D843^3","v":450000}]
[790,0.24135617022418143,0.24164801748111792,0.24150209385264967,0.99741774286990159,3.685748045112458E-5,3730.2907085874949,450000,{"$f":"G844-H844/User_entry!$E$18","v":2230.2907085874949},2230.2907085874949,null,{"$f":"HLOOKUP(User_entry!$B$56,Computations!$N$54:$R$1054,Computations!A844+1,FALSE)","v":3730.2907085874949},{"$f":"HLOOKUP(User_entry!$E$56,Computations!$S$54:$W$1054,Computations!A844+1,FALSE)","v":450000},{"$f":"Computations!$F$15+Computations!$E$15*D844","v":3730.2907085874949},{"$f":"EXP(Computations!$F$16)*EXP(Computations!$E$16)^Computations!D844","v":4623.3521714312901},{"$f":"Computations!$F$17+Computations!$E$17*LN(Computations!D844)","v":3236.3762663214493},{"$f":"Computations!$F$18+Computations!$E$18*Computations!D844+Computations!$D$18*Computations!D844^2","v":3302.3323717721973},{"$f":"Computations!$F$19+Computations!$E$19*Computations!D844+Computations!$D$19*Computations!D844^2+Computations!$C$19*Computations!D844^3","v":3302.3323717721973},{"$f":"Computations!$J$15+Computations!$I$15*D844","v":450000},{"$f":"EXP(Computations!$J$16)*EXP(Computations!$I$16)^Computations!D844","v":450000.00000000035},{"$f":"Computations!$J$17+Computations!$I$17*LN(Computations!D844)","v":450000},{"$f":"Computations!$J$18+Computations!$I$18*Computations!D844+Computations!$H$18*Computations!D844^2","v":450000},{"$f":"Computations!$J$19+Computations!$I$19*Computations!D844+Computations!$H$19*Computations!D844^2+Computations!$G$19*Computations!D844^3","v":450000}]
[791,0.24164801748111792,0.2419398647380544,0.24179394110958616,0.9974541138822981,3.6371012396507751E-5,3734.1308040735012,450000,{"$f":"G845-H845/User_entry!$E$18","v":2234.1308040735012},2234.1308040735012,null,{"$f":"HLOOKUP(User_entry!$B$56,Computations!$N$54:$R$1054,Computations!A845+1,FALSE)","v":3734.1308040735012},{"$f":"HLOOKUP(User_entry!$E$56,Computations!$S$54:$W$1054,Computations!A845+1,FALSE)","v":450000},{"$f":"Computations!$F$15+Computations!$E$15*D845","v":3734.1308040735012},{"$f":"EXP(Computations!$F$16)*EXP(Computations!$E$16)^Computations!D845","v":4632.9443006054626},{"$f":"Computations!$F$17+Computations!$E$17*LN(Computations!D845)","v":3237.9106247906861},{"$f":"Computations!$F$18+Computations!$E$18*Computations!D845+Computations!$D$18*Computations!D845^2","v":3303.4857517536975},{"$f":"Computations!$F$19+Computations!$E$19*Computations!D845+Computations!$D$19*Computations!D845^2+Computations!$C$19*Computations!D845^3","v":3303.4857517536975},{"$f":"Computations!$J$15+Computations!$I$15*D845","v":450000},{"$f":"EXP(Computations!$J$16)*EXP(Computations!$I$16)^Computations!D845","v":450000.00000000035},{"$f":"Computations!$J$17+Computations!$I$17*LN(Computations!D845)","v":450000},{"$f":"Computations!$J$18+Computations!$I$18*Computations!D845+Computations!$H$18*Computations!D845^2","v":450000},{"$f":"Computations!$J$19+Computations!$I$19*Computations!D845+Computations!$H$19*Computations!D845^2+Computations!$G$19*Computations!D845^3","v":450000}]
[792,0.2419398647380544,0.24223171199499088,0.24208578836652264,0.9974900043516437,3.5890469345600806E-5,3737.9708995595074,450000,{"$f":"G846-H846/User_entry!$E$18","v":2237.9708995595074},2237.9708995595074,null,{"$f":"HLOOKUP(User_entry!$B$56,Computations!$N$54:$R$1054,Computations!A846+1,FALSE)","v":3737.9708995595074},{"$f":"HLOOKUP(User_entry!$E$56,Computations!$S$54:$W$1054,Computations!A846+1,FALSE)","v":450000},{"$f":"Computations!$F$15+Computations!$E$15*D846","v":3737.9708995595074},{"$f":"EXP(Computations!$F$16)*EXP(Computations!$E$16)^Computations!D846","v":4642.5563306953945},{"$f":"Computations!$F$17+Computations!$E$17*LN(Computations!D846)","v":3239.4431323933059},{"$f":"Computations!$F$18+Computations!$E$18*Computations!D846+Computations!$D$18*Computations!D846^2","v":3304.6328224891699},{"$f":"Computations!$F$19+Computations!$E$19*Computations!D846+Computations!$D$19*Computations!D846^2+Computations!$C$19*Computations!D846^3","v":3304.6328224891699},{"$f":"Computations!$J$15+Computations!$I$15*D846","v":450000},{"$f":"EXP(Computations!$J$16)*EXP(Computations!$I$16)^Computations!D846","v":450000.00000000035},{"$f":"Computations!$J$17+Computations!$I$17*LN(Computations!D846)","v":450000},{"$f":"Computations!$J$18+Computations!$I$18*Computations!D846+Computations!$H$18*Computations!D846^2","v":450000},{"$f":"Computations!$J$19+Computations!$I$19*Computations!D846+Computations!$H$19*Computations!D846^2+Computations!$G$19*Computations!D846^3","v":450000}]
[793,0.24223171199499088,0.24252355925192737,0.24237763562345913,0.99752542013821155,3.5415786567849494E-5,3741.8109950455137,450000,{"$f":"G847-H847/User_entry!$E$18","v":2241.8109950455137},2241.8109950455137,null,{"$f":"HLOOKUP(User_entry!$B$56,Computations!$N$54:$R$1054,Computations!A847+1,FALSE)","v":3741.8109950455137},{"$f":"HLOOKUP(User_entry!$E$56,Computations!$S$54:$W$1054,Computations!A847+1,FALSE)","v":450000},{"$f":"Computations!$F$15+Computations!$E$15*D847","v":3741.8109950455137},{"$f":"EXP(Computations!$F$16)*EXP(Computations!$E$16)^Computations!D847","v":4652.1883029897772},{"$f":"Computations!$F$17+Computations!$E$17*LN(Computations!D847)","v":3240.9737935892567},{"$f":"Computations!$F$18+Computations!$E$18*Computations!D847+Computations!$D$18*Computations!D847^2","v":3305.7735839786146},{"$f":"Computations!$F$19+Computations!$E$19*Computations!D847+Computations!$D$19*Computations!D847^2+Computations!$C$19*Computations!D847^3","v":3305.7735839786146},{"$f":"Computations!$J$15+Computations!$I$15*D847","v":450000},{"$f":"EXP(Computations!$J$16)*EXP(Computations!$I$16)^Computations!D847","v":450000.00000000035},{"$f":"Computations!$J$17+Computations!$I$17*LN(Computations!D847)","v":450000},{"$f":"Computations!$J$18+Computations!$I$18*Computations!D847+Computations!$H$18*Computations!D847^2","v":450000},{"$f":"Computations!$J$19+Computations!$I$19*Computations!D847+Computations!$H$19*Computations!D847^2+Computations!$G$19*Computations!D847^3","v":450000}]
[794,0.24252355925192737,0.24281540650886385,0.24266948288039561,0.99756036703814166,3.4946899930110575E-5,3745.6510905315208,450000,{"$f":"G848-H848/User_entry!$E$18","v":2245.6510905315208},2245.6510905315208,null,{"$f":"HLOOKUP(User_entry!$B$56,Computations!$N$54:$R$1054,Computations!A848+1,FALSE)","v":3745.6510905315208},{"$f":"HLOOKUP(User_entry!$E$56,Computations!$S$54:$W$1054,Computations!A848+1,FALSE)","v":450000},{"$f":"Computations!$F$15+Computations!$E$15*D848","v":3745.6510905315208},{"$f":"EXP(Computations!$F$16)*EXP(Computations!$E$16)^Computations!D848","v":4661.8402588629633},{"$f":"Computations!$F$17+Computations!$E$17*LN(Computations!D848)","v":3242.5026128223872},{"$f":"Computations!$F$18+Computations!$E$18*Computations!D848+Computations!$D$18*Computations!D848^2","v":3306.9080362220307},{"$f":"Computations!$F$19+Computations!$E$19*Computations!D848+Computations!$D$19*Computations!D848^2+Computations!$C$19*Computations!D848^3","v":3306.9080362220307},{"$f":"Computations!$J$15+Computations!$I$15*D848","v":450000},{"$f":"EXP(Computations!$J$16)*EXP(Computations!$I$16)^Computations!D848","v":450000.00000000035},{"$f":"Computations!$J$17+Computations!$I$17*LN(Computations!D848)","v":450000},{"$f":"Computations!$J$18+Computations!$I$18*Computations!D848+Computations!$H$18*Computations!D848^2","v":450000},{"$f":"Computations!$J$19+Computations!$I$19*Computations!D848+Computations!$H$19*Computations!D848^2+Computations!$G$19*Computations!D848^3","v":450000}]
[795,0.24281540650886385,0.24310725376580034,0.24296133013733209,0.99759485078403487,3.4483745893210127E-5,3749.4911860175271,450000,{"$f":"G849-H849/User_entry!$E$18","v":2249.4911860175271},2249.4911860175271,null,{"$f":"HLOOKUP(User_entry!$B$56,Computations!$N$54:$R$1054,Computations!A849+1,FALSE)","v":3749.4911860175271},{"$f":"HLOOKUP(User_entry!$E$56,Computations!$S$54:$W$1054,Computations!A849+1,FALSE)","v":450000},{"$f":"Computations!$F$15+Computations!$E$15*D849","v":3749.4911860175271},{"$f":"EXP(Computations!$F$16)*EXP(Computations!$E$16)^Computations!D849","v":4671.5122397751429},{"$f":"Computations!$F$17+Computations!$E$17*LN(Computations!D849)","v":3244.0295945205216},{"$f":"Computations!$F$18+Computations!$E$18*Computations!D849+Computations!$D$18*Computations!D849^2","v":3308.0361792194176},{"$f":"Computations!$F$19+Computations!$E$19*Computations!D849+Computations!$D$19*Computations!D849^2+Computations!$C$19*Computations!D849^3","v":3308.0361792194176},{"$f":"Computations!$J$15+Computations!$I$15*D849","v":450000},{"$f":"EXP(Computations!$J$16)*EXP(Computations!$I$16)^Computations!D849","v":450000.00000000035},{"$f":"Computations!$J$17+Computations!$I$17*LN(Computations!D849)","v":450000},{"$f":"Computations!$J$18+Computations!$I$18*Computations!D849+Computations!$H$18*Computations!D849^2","v":450000},{"$f":"Computations!$J$19+Computations!$I$19*Computations!D849+Computations!$H$19*Computations!D849^2+Computations!$G$19*Computations!D849^3","v":450000}]
[796,0.24310725376580034,0.24339910102273682,0.24325317739426858,0.99762887704554259,3.4026261507724698E-5,3753.3312815035333,450000,{"$f":"G850-H850/User_entry!$E$18","v":2253.3312815035333},2253.3312815035333,null,{"$f":"HLOOKUP(User_entry!$B$56,Computations!$N$54:$R$1054,Computations!A850+1,FALSE)","v":3753.3312815035333},{"$f":"HLOOKUP(User_entry!$E$56,Computations!$S$54:$W$1054,Computations!A850+1,FALSE)","v":450000},{"$f":"Computations!$F$15+Computations!$E$15*D850","v":3753.3312815035333},{"$f":"EXP(Computations!$F$16)*EXP(Computations!$E$16)^Computations!D850","v":4681.2042872725287},{"$f":"Computations!$F$17+Computations!$E$17*LN(Computations!D850)","v":3245.554743095538},{"$f":"Computations!$F$18+Computations!$E$18*Computations!D850+Computations!$D$18*Computations!D850^2","v":3309.1580129707772},{"$f":"Computations!$F$19+Computations!$E$19*Computations!D850+Computations!$D$19*Computations!D850^2+Computations!$C$19*Computations!D850^3","v":3309.1580129707772},{"$f":"Computations!$J$15+Computations!$I$15*D850","v":450000},{"$f":"EXP(Computations!$J$16)*EXP(Computations!$I$16)^Computations!D850","v":450000.00000000035},{"$f":"Computations!$J$17+Computations!$I$17*LN(Computations!D850)","v":450000},{"$f":"Computations!$J$18+Computations!$I$18*Computations!D850+Computations!$H$18*Computations!D850^2","v":450000},{"$f":"Computations!$J$19+Computations!$I$19*Computations!D850+Computations!$H$19*Computations!D850^2+Computations!$G$19*Computations!D850^3","v":450000}]
[797,0.24339910102273682,0.2436909482796733,0.24354502465120506,0.99766245142995347,3.3574384410872682E-5,3757.1713769895396,450000,{"$f":"G851-H851/User_entry!$E$18","v":2257.1713769895396},2257.1713769895396,null,{"$f":"HLOOKUP(User_entry!$B$56,Computations!$N$54:$R$1054,Computations!A851+1,FALSE)","v":3757.1713769895396},{"$f":"HLOOKUP(User_entry!$E$56,Computations!$S$54:$W$1054,Computations!A851+1,FALSE)","v":450000},{"$f":"Computations!$F$15+Computations!$E$15*D851","v":3757.1713769895396},{"$f":"EXP(Computations!$F$16)*EXP(Computations!$E$16)^Computations!D851","v":4690.9164429875254},{"$f":"Computations!$F$17+Computations!$E$17*LN(Computations!D851)","v":3247.0780629434435},{"$f":"Computations!$F$18+Computations!$E$18*Computations!D851+Computations!$D$18*Computations!D851^2","v":3310.2735374761087},{"$f":"Computations!$F$19+Computations!$E$19*Computations!D851+Computations!$D$19*Computations!D851^2+Computations!$C$19*Computations!D851^3","v":3310.2735374761087},{"$f":"Computations!$J$15+Computations!$I$15*D851","v":450000},{"$f":"EXP(Computations!$J$16)*EXP(Computations!$I$16)^Computations!D851","v":450000.00000000035},{"$f":"Computations!$J$17+Computations!$I$17*LN(Computations!D851)","v":450000},{"$f":"Computations!$J$18+Computations!$I$18*Computations!D851+Computations!$H$18*Computations!D851^2","v":450000},{"$f":"Computations!$J$19+Computations!$I$19*Computations!D851+Computations!$H$19*Computations!D851^2+Computations!$G$19*Computations!D851^3","v":450000}]
[798,0.2436909482796733,0.24398279553660979,0.24383687190814154,0.99769557948277465,3.312805282118525E-5,3761.0114724755458,450000,{"$f":"G852-H852/User_entry!$E$18","v":2261.0114724755458},2261.0114724755458,null,{"$f":"HLOOKUP(User_entry!$B$56,Computations!$N$54:$R$1054,Computations!A852+1,FALSE)","v":3761.0114724755458},{"$f":"HLOOKUP(User_entry!$E$56,Computations!$S$54:$W$1054,Computations!A852+1,FALSE)","v":450000},{"$f":"Computations!$F$15+Computations!$E$15*D852","v":3761.0114724755458},{"$f":"EXP(Computations!$F$16)*EXP(Computations!$E$16)^Computations!D852","v":4700.6487486389142},{"$f":"Computations!$F$17+Computations!$E$17*LN(Computations!D852)","v":3248.5995584444518},{"$f":"Computations!$F$18+Computations!$E$18*Computations!D852+Computations!$D$18*Computations!D852^2","v":3311.3827527354119},{"$f":"Computations!$F$19+Computations!$E$19*Computations!D852+Computations!$D$19*Computations!D852^2+Computations!$C$19*Computations!D852^3","v":3311.3827527354119},{"$f":"Computations!$J$15+Computations!$I$15*D852","v":450000},{"$f":"EXP(Computations!$J$16)*EXP(Computations!$I$16)^Computations!D852","v":450000.00000000035},{"$f":"Computations!$J$17+Computations!$I$17*LN(Computations!D852)","v":450000},{"$f":"Computations!$J$18+Computations!$I$18*Computations!D852+Computations!$H$18*Computations!D852^2","v":450000},{"$f":"Computations!$J$19+Computations!$I$19*Computations!D852+Computations!$H$19*Computations!D852^2+Computations!$G$19*Computations!D852^3","v":450000}]
[799,0.24398279553660979,0.24427464279354627,0.24412871916507803,0.99772826668831027,3.2687205535619768E-5,3764.8515679615521,450000,{"$f":"G853-H853/User_entry!$E$18","v":2264.8515679615521},2264.8515679615521,null,{"$f":"HLOOKUP(User_entry!$B$56,Computations!$N$54:$R$1054,Computations!A853+1,FALSE)","v":3764.8515679615521},{"$f":"HLOOKUP(User_entry!$E$56,Computations!$S$54:$W$1054,Computations!A853+1,FALSE)","v":450000},{"$f":"Computations!$F$15+Computations!$E$15*D853","v":3764.8515679615521},{"$f":"EXP(Computations!$F$16)*EXP(Computations!$E$16)^Computations!D853","v":4710.4012460320337},{"$f":"Computations!$F$17+Computations!$E$17*LN(Computations!D853)","v":3250.1192339630575},{"$f":"Computations!$F$18+Computations!$E$18*Computations!D853+Computations!$D$18*Computations!D853^2","v":3312.4856587486861},{"$f":"Computations!$F$19+Computations!$E$19*Computations!D853+Computations!$D$19*Computations!D853^2+Computations!$C$19*Computations!D853^3","v":3312.4856587486861},{"$f":"Computations!$J$15+Computations!$I$15*D853","v":450000},{"$f":"EXP(Computations!$J$16)*EXP(Computations!$I$16)^Computations!D853","v":450000.00000000035},{"$f":"Computations!$J$17+Computations!$I$17*LN(Computations!D853)","v":450000},{"$f":"Computations!$J$18+Computations!$I$18*Computations!D853+Computations!$H$18*Computations!D853^2","v":450000},{"$f":"Computations!$J$19+Computations!$I$19*Computations!D853+Computations!$H$19*Computations!D853^2+Computations!$G$19*Computations!D853^3","v":450000}]
[800,0.24427464279354627,0.24456649005048275,0.24442056642201451,0.99776051847023628,3.2251781926007084E-5,3768.6916634475583,450000,{"$f":"G854-H854/User_entry!$E$18","v":2268.6916634475583},2268.6916634475583,null,{"$f":"HLOOKUP(User_entry!$B$56,Computations!$N$54:$R$1054,Computations!A854+1,FALSE)","v":3768.6916634475583},{"$f":"HLOOKUP(User_entry!$E$56,Computations!$S$54:$W$1054,Computations!A854+1,FALSE)","v":450000},{"$f":"Computations!$F$15+Computations!$E$15*D854","v":3768.6916634475583},{"$f":"EXP(Computations!$F$16)*EXP(Computations!$E$16)^Computations!D854","v":4720.1739770589538},{"$f":"Computations!$F$17+Computations!$E$17*LN(Computations!D854)","v":3251.6370938481123},{"$f":"Computations!$F$18+Computations!$E$18*Computations!D854+Computations!$D$18*Computations!D854^2","v":3313.5822555159325},{"$f":"Computations!$F$19+Computations!$E$19*Computations!D854+Computations!$D$19*Computations!D854^2+Computations!$C$19*Computations!D854^3","v":3313.5822555159325},{"$f":"Computations!$J$15+Computations!$I$15*D854","v":450000},{"$f":"EXP(Computations!$J$16)*EXP(Computations!$I$16)^Computations!D854","v":450000.00000000035},{"$f":"Computations!$J$17+Computations!$I$17*LN(Computations!D854)","v":450000},{"$f":"Computations!$J$18+Computations!$I$18*Computations!D854+Computations!$H$18*Computations!D854^2","v":450000},{"$f":"Computations!$J$19+Computations!$I$19*Computations!D854+Computations!$H$19*Computations!D854^2+Computations!$G$19*Computations!D854^3","v":450000}]
[801,0.24456649005048275,0.24485833730741924,0.244712413678951,0.99779234019217,3.1821721933722458E-5,3772.5317589335646,450000,{"$f":"G855-H855/User_entry!$E$18","v":2272.5317589335646},2272.5317589335646,null,{"$f":"HLOOKUP(User_entry!$B$56,Computations!$N$54:$R$1054,Computations!A855+1,FALSE)","v":3772.5317589335646},{"$f":"HLOOKUP(User_entry!$E$56,Computations!$S$54:$W$1054,Computations!A855+1,FALSE)","v":450000},{"$f":"Computations!$F$15+Computations!$E$15*D855","v":3772.5317589335646},{"$f":"EXP(Computations!$F$16)*EXP(Computations!$E$16)^Computations!D855","v":4729.9669836986568},{"$f":"Computations!$F$17+Computations!$E$17*LN(Computations!D855)","v":3253.1531424328987},{"$f":"Computations!$F$18+Computations!$E$18*Computations!D855+Computations!$D$18*Computations!D855^2","v":3314.6725430371507},{"$f":"Computations!$F$19+Computations!$E$19*Computations!D855+Computations!$D$19*Computations!D855^2+Computations!$C$19*Computations!D855^3","v":3314.6725430371507},{"$f":"Computations!$J$15+Computations!$I$15*D855","v":450000},{"$f":"EXP(Computations!$J$16)*EXP(Computations!$I$16)^Computations!D855","v":450000.00000000035},{"$f":"Computations!$J$17+Computations!$I$17*LN(Computations!D855)","v":450000},{"$f":"Computations!$J$18+Computations!$I$18*Computations!D855+Computations!$H$18*Computations!D855^2","v":450000},{"$f":"Computations!$J$19+Computations!$I$19*Computations!D855+Computations!$H$19*Computations!D855^2+Computations!$G$19*Computations!D855^3","v":450000}]
[802,0.24485833730741924,0.24515018456435572,0.24500426093588748,0.99782373715823747,3.1396966067465115E-5,3776.3718544195717,450000,{"$f":"G856-H856/User_entry!$E$18","v":2276.3718544195717},2276.3718544195717,null,{"$f":"HLOOKUP(User_entry!$B$56,Computations!$N$54:$R$1054,Computations!A856+1,FALSE)","v":3776.3718544195717},{"$f":"HLOOKUP(User_entry!$E$56,Computations!$S$54:$W$1054,Computations!A856+1,FALSE)","v":450000},{"$f":"Computations!$F$15+Computations!$E$15*D856","v":3776.3718544195717},{"$f":"EXP(Computations!$F$16)*EXP(Computations!$E$16)^Computations!D856","v":4739.7803080172243},{"$f":"Computations!$F$17+Computations!$E$17*LN(Computations!D856)","v":3254.667384035205},{"$f":"Computations!$F$18+Computations!$E$18*Computations!D856+Computations!$D$18*Computations!D856^2","v":3315.7565213123412},{"$f":"Computations!$F$19+Computations!$E$19*Computations!D856+Computations!$D$19*Computations!D856^2+Computations!$C$19*Computations!D856^3","v":3315.7565213123412},{"$f":"Computations!$J$15+Computations!$I$15*D856","v":450000},{"$f":"EXP(Computations!$J$16)*EXP(Computations!$I$16)^Computations!D856","v":450000.00000000035},{"$f":"Computations!$J$17+Computations!$I$17*LN(Computations!D856)","v":450000},{"$f":"Computations!$J$18+Computations!$I$18*Computations!D856+Computations!$H$18*Computations!D856^2","v":450000},{"$f":"Computations!$J$19+Computations!$I$19*Computations!D856+Computations!$H$19*Computations!D856^2+Computations!$G$19*Computations!D856^3","v":450000}]
[803,0.24515018456435572,0.24544203182129221,0.24529610819282396,0.9978547146136354,3.0977455397929177E-5,3780.211949905578,450000,{"$f":"G857-H857/User_entry!$E$18","v":2280.211949905578},2280.211949905578,null,{"$f":"HLOOKUP(User_entry!$B$56,Computations!$N$54:$R$1054,Computations!A857+1,FALSE)","v":3780.211949905578},{"$f":"HLOOKUP(User_entry!$E$56,Computations!$S$54:$W$1054,Computations!A857+1,FALSE)","v":450000},{"$f":"Computations!$F$15+Computations!$E$15*D857","v":3780.211949905578},{"$f":"EXP(Computations!$F$16)*EXP(Computations!$E$16)^Computations!D857","v":4749.6139921680096},{"$f":"Computations!$F$17+Computations!$E$17*LN(Computations!D857)","v":3256.1798229573978},{"$f":"Computations!$F$18+Computations!$E$18*Computations!D857+Computations!$D$18*Computations!D857^2","v":3316.8341903415021},{"$f":"Computations!$F$19+Computations!$E$19*Computations!D857+Computations!$D$19*Computations!D857^2+Computations!$C$19*Computations!D857^3","v":3316.8341903415021},{"$f":"Computations!$J$15+Computations!$I$15*D857","v":450000},{"$f":"EXP(Computations!$J$16)*EXP(Computations!$I$16)^Computations!D857","v":450000.00000000035},{"$f":"Computations!$J$17+Computations!$I$17*LN(Computations!D857)","v":450000},{"$f":"Computations!$J$18+Computations!$I$18*Computations!D857+Computations!$H$18*Computations!D857^2","v":450000},{"$f":"Computations!$J$19+Computations!$I$19*Computations!D857+Computations!$H$19*Computations!D857^2+Computations!$G$19*Computations!D857^3","v":450000}]
[804,0.24544203182129221,0.24573387907822869,0.24558795544976045,0.99788527774519054,3.0563131555139122E-5,3784.0520453915842,450000,{"$f":"G858-H858/User_entry!$E$18","v":2284.0520453915842},2284.0520453915842,null,{"$f":"HLOOKUP(User_entry!$B$56,Computations!$N$54:$R$1054,Computations!A858+1,FALSE)","v":3784.0520453915842},{"$f":"HLOOKUP(User_entry!$E$56,Computations!$S$54:$W$1054,Computations!A858+1,FALSE)","v":450000},{"$f":"Computations!$F$15+Computations!$E$15*D858","v":3784.0520453915842},{"$f":"EXP(Computations!$F$16)*EXP(Computations!$E$16)^Computations!D858","v":4759.4680783918211},{"$f":"Computations!$F$17+Computations!$E$17*LN(Computations!D858)","v":3257.6904634864982},{"$f":"Computations!$F$18+Computations!$E$18*Computations!D858+Computations!$D$18*Computations!D858^2","v":3317.9055501246357},{"$f":"Computations!$F$19+Computations!$E$19*Computations!D858+Computations!$D$19*Computations!D858^2+Computations!$C$19*Computations!D858^3","v":3317.9055501246357},{"$f":"Computations!$J$15+Computations!$I$15*D858","v":450000},{"$f":"EXP(Computations!$J$16)*EXP(Computations!$I$16)^Computations!D858","v":450000.00000000035},{"$f":"Computations!$J$17+Computations!$I$17*LN(Computations!D858)","v":450000},{"$f":"Computations!$J$18+Computations!$I$18*Computations!D858+Computations!$H$18*Computations!D858^2","v":450000},{"$f":"Computations!$J$19+Computations!$I$19*Computations!D858+Computations!$H$19*Computations!D858^2+Computations!$G$19*Computations!D858^3","v":450000}]
[805,0.24573387907822869,0.24602572633516517,0.24587980270669693,0.99791543168191388,3.0153936723342767E-5,3787.8921408775905,450000,{"$f":"G859-H859/User_entry!$E$18","v":2287.8921408775905},2287.8921408775905,null,{"$f":"HLOOKUP(User_entry!$B$56,Computations!$N$54:$R$1054,Computations!A859+1,FALSE)","v":3787.8921408775905},{"$f":"HLOOKUP(User_entry!$E$56,Computations!$S$54:$W$1054,Computations!A859+1,FALSE)","v":450000},{"$f":"Computations!$F$15+Computations!$E$15*D859","v":3787.8921408775905},{"$f":"EXP(Computations!$F$16)*EXP(Computations!$E$16)^Computations!D859","v":4769.3426090171079},{"$f":"Computations!$F$17+Computations!$E$17*LN(Computations!D859)","v":3259.1993098942503},{"$f":"Computations!$F$18+Computations!$E$18*Computations!D859+Computations!$D$18*Computations!D859^2","v":3318.9706006617412},{"$f":"Computations!$F$19+Computations!$E$19*Computations!D859+Computations!$D$19*Computations!D859^2+Computations!$C$19*Computations!D859^3","v":3318.9706006617412},{"$f":"Computations!$J$15+Computations!$I$15*D859","v":450000},{"$f":"EXP(Computations!$J$16)*EXP(Computations!$I$16)^Computations!D859","v":450000.00000000035},{"$f":"Computations!$J$17+Computations!$I$17*LN(Computations!D859)","v":450000},{"$f":"Computations!$J$18+Computations!$I$18*Computations!D859+Computations!$H$18*Computations!D859^2","v":450000},{"$f":"Computations!$J$19+Computations!$I$19*Computations!D859+Computations!$H$19*Computations!D859^2+Computations!$G$19*Computations!D859^3","v":450000}]
[806,0.24602572633516517,0.24631757359210166,0.24617164996363342,0.99794518149555245,2.9749813638568767E-5,3791.7322363635967,450000,{"$f":"G860-H860/User_entry!$E$18","v":2291.7322363635967},2291.7322363635967,null,{"$f":"HLOOKUP(User_entry!$B$56,Computations!$N$54:$R$1054,Computations!A860+1,FALSE)","v":3791.7322363635967},{"$f":"HLOOKUP(User_entry!$E$56,Computations!$S$54:$W$1054,Computations!A860+1,FALSE)","v":450000},{"$f":"Computations!$F$15+Computations!$E$15*D860","v":3791.7322363635967},{"$f":"EXP(Computations!$F$16)*EXP(Computations!$E$16)^Computations!D860","v":4779.2376264601362},{"$f":"Computations!$F$17+Computations!$E$17*LN(Computations!D860)","v":3260.7063664371976},{"$f":"Computations!$F$18+Computations!$E$18*Computations!D860+Computations!$D$18*Computations!D860^2","v":3320.0293419528175},{"$f":"Computations!$F$19+Computations!$E$19*Computations!D860+Computations!$D$19*Computations!D860^2+Computations!$C$19*Computations!D860^3","v":3320.0293419528175},{"$f":"Computations!$J$15+Computations!$I$15*D860","v":450000},{"$f":"EXP(Computations!$J$16)*EXP(Computations!$I$16)^Computations!D860","v":450000.00000000035},{"$f":"Computations!$J$17+Computations!$I$17*LN(Computations!D860)","v":450000},{"$f":"Computations!$J$18+Computations!$I$18*Computations!D860+Computations!$H$18*Computations!D860^2","v":450000},{"$f":"Computations!$J$19+Computations!$I$19*Computations!D860+Computations!$H$19*Computations!D860^2+Computations!$G$19*Computations!D860^3","v":450000}]
[807,0.24631757359210166,0.24660942084903814,0.2464634972205699,0.99797453220113574,2.9350705583297554E-5,3795.572331849603,450000,{"$f":"G861-H861/User_entry!$E$18","v":2295.572331849603},2295.572331849603,null,{"$f":"HLOOKUP(User_entry!$B$56,Computations!$N$54:$R$1054,Computations!A861+1,FALSE)","v":3795.572331849603},{"$f":"HLOOKUP(User_entry!$E$56,Computations!$S$54:$W$1054,Computations!A861+1,FALSE)","v":450000},{"$f":"Computations!$F$15+Computations!$E$15*D861","v":3795.572331849603},{"$f":"EXP(Computations!$F$16)*EXP(Computations!$E$16)^Computations!D861","v":4789.1531732251742},{"$f":"Computations!$F$17+Computations!$E$17*LN(Computations!D861)","v":3262.2116373567542},{"$f":"Computations!$F$18+Computations!$E$18*Computations!D861+Computations!$D$18*Computations!D861^2","v":3321.0817739978665},{"$f":"Computations!$F$19+Computations!$E$19*Computations!D861+Computations!$D$19*Computations!D861^2+Computations!$C$19*Computations!D861^3","v":3321.0817739978665},{"$f":"Computations!$J$15+Computations!$I$15*D861","v":450000},{"$f":"EXP(Computations!$J$16)*EXP(Computations!$I$16)^Computations!D861","v":450000.00000000035},{"$f":"Computations!$J$17+Computations!$I$17*LN(Computations!D861)","v":450000},{"$f":"Computations!$J$18+Computations!$I$18*Computations!D861+Computations!$H$18*Computations!D861^2","v":450000},{"$f":"Computations!$J$19+Computations!$I$19*Computations!D861+Computations!$H$19*Computations!D861^2+Computations!$G$19*Computations!D861^3","v":450000}]
[808,0.24660942084903814,0.24690126810597463,0.24675534447750638,0.99800348875751932,2.895655638357475E-5,3799.4124273356092,450000,{"$f":"G862-H862/User_entry!$E$18","v":2299.4124273356092},2299.4124273356092,null,{"$f":"HLOOKUP(User_entry!$B$56,Computations!$N$54:$R$1054,Computations!A862+1,FALSE)","v":3799.4124273356092},{"$f":"HLOOKUP(User_entry!$E$56,Computations!$S$54:$W$1054,Computations!A862+1,FALSE)","v":450000},{"$f":"Computations!$F$15+Computations!$E$15*D862","v":3799.4124273356092},{"$f":"EXP(Computations!$F$16)*EXP(Computations!$E$16)^Computations!D862","v":4799.0892919046764},{"$f":"Computations!$F$17+Computations!$E$17*LN(Computations!D862)","v":3263.7151268792741},{"$f":"Computations!$F$18+Computations!$E$18*Computations!D862+Computations!$D$18*Computations!D862^2","v":3322.1278967968874},{"$f":"Computations!$F$19+Computations!$E$19*Computations!D862+Computations!$D$19*Computations!D862^2+Computations!$C$19*Computations!D862^3","v":3322.1278967968874},{"$f":"Computations!$J$15+Computations!$I$15*D862","v":450000},{"$f":"EXP(Computations!$J$16)*EXP(Computations!$I$16)^Computations!D862","v":450000.00000000035},{"$f":"Computations!$J$17+Computations!$I$17*LN(Computations!D862)","v":450000},{"$f":"Computations!$J$18+Computations!$I$18*Computations!D862+Computations!$H$18*Computations!D862^2","v":450000},{"$f":"Computations!$J$19+Computations!$I$19*Computations!D862+Computations!$H$19*Computations!D862^2+Computations!$G$19*Computations!D862^3","v":450000}]
[809,0.24690126810597463,0.24719311536291111,0.24704719173444287,0.99803205606792389,2.8567310404570279E-5,3803.2525228216155,450000,{"$f":"G863-H863/User_entry!$E$18","v":2303.2525228216155},2303.2525228216155,null,{"$f":"HLOOKUP(User_entry!$B$56,Computations!$N$54:$R$1054,Computations!A863+1,FALSE)","v":3803.2525228216155},{"$f":"HLOOKUP(User_entry!$E$56,Computations!$S$54:$W$1054,Computations!A863+1,FALSE)","v":450000},{"$f":"Computations!$F$15+Computations!$E$15*D863","v":3803.2525228216155},{"$f":"EXP(Computations!$F$16)*EXP(Computations!$E$16)^Computations!D863","v":4809.0460251794611},{"$f":"Computations!$F$17+Computations!$E$17*LN(Computations!D863)","v":3265.2168392161257},{"$f":"Computations!$F$18+Computations!$E$18*Computations!D863+Computations!$D$18*Computations!D863^2","v":3323.1677103498796},{"$f":"Computations!$F$19+Computations!$E$19*Computations!D863+Computations!$D$19*Computations!D863^2+Computations!$C$19*Computations!D863^3","v":3323.1677103498796},{"$f":"Computations!$J$15+Computations!$I$15*D863","v":450000},{"$f":"EXP(Computations!$J$16)*EXP(Computations!$I$16)^Computations!D863","v":450000.00000000035},{"$f":"Computations!$J$17+Computations!$I$17*LN(Computations!D863)","v":450000},{"$f":"Computations!$J$18+Computations!$I$18*Computations!D863+Computations!$H$18*Computations!D863^2","v":450000},{"$f":"Computations!$J$19+Computations!$I$19*Computations!D863+Computations!$H$19*Computations!D863^2+Computations!$G$19*Computations!D863^3","v":450000}]
[810,0.24719311536291111,0.24748496261984759,0.24733903899137935,0.9980602389804718,2.818291254791383E-5,3807.0926183076226,450000,{"$f":"G864-H864/User_entry!$E$18","v":2307.0926183076226},2307.0926183076226,null,{"$f":"HLOOKUP(User_entry!$B$56,Computations!$N$54:$R$1054,Computations!A864+1,FALSE)","v":3807.0926183076226},{"$f":"HLOOKUP(User_entry!$E$56,Computations!$S$54:$W$1054,Computations!A864+1,FALSE)","v":450000},{"$f":"Computations!$F$15+Computations!$E$15*D864","v":3807.0926183076226},{"$f":"EXP(Computations!$F$16)*EXP(Computations!$E$16)^Computations!D864","v":4819.0234158188978},{"$f":"Computations!$F$17+Computations!$E$17*LN(Computations!D864)","v":3266.7167785637598},{"$f":"Computations!$F$18+Computations!$E$18*Computations!D864+Computations!$D$18*Computations!D864^2","v":3324.2012146568427},{"$f":"Computations!$F$19+Computations!$E$19*Computations!D864+Computations!$D$19*Computations!D864^2+Computations!$C$19*Computations!D864^3","v":3324.2012146568427},{"$f":"Computations!$J$15+Computations!$I$15*D864","v":450000},{"$f":"EXP(Computations!$J$16)*EXP(Computations!$I$16)^Computations!D864","v":450000.00000000035},{"$f":"Computations!$J$17+Computations!$I$17*LN(Computations!D864)","v":450000},{"$f":"Computations!$J$18+Computations!$I$18*Computations!D864+Computations!$H$18*Computations!D864^2","v":450000},{"$f":"Computations!$J$19+Computations!$I$19*Computations!D864+Computations!$H$19*Computations!D864^2+Computations!$G$19*Computations!D864^3","v":450000}]
[811,0.24748496261984759,0.24777680987678408,0.24763088624831583,0.99808804228871728,2.7803308245477609E-5,3810.9327137936289,450000,{"$f":"G865-H865/User_entry!$E$18","v":2310.9327137936289},2310.9327137936289,null,{"$f":"HLOOKUP(User_entry!$B$56,Computations!$N$54:$R$1054,Computations!A865+1,FALSE)","v":3810.9327137936289},{"$f":"HLOOKUP(User_entry!$E$56,Computations!$S$54:$W$1054,Computations!A865+1,FALSE)","v":450000},{"$f":"Computations!$F$15+Computations!$E$15*D865","v":3810.9327137936289},{"$f":"EXP(Computations!$F$16)*EXP(Computations!$E$16)^Computations!D865","v":4829.0215066810933},{"$f":"Computations!$F$17+Computations!$E$17*LN(Computations!D865)","v":3268.2149491037826},{"$f":"Computations!$F$18+Computations!$E$18*Computations!D865+Computations!$D$18*Computations!D865^2","v":3325.228409717779},{"$f":"Computations!$F$19+Computations!$E$19*Computations!D865+Computations!$D$19*Computations!D865^2+Computations!$C$19*Computations!D865^3","v":3325.228409717779},{"$f":"Computations!$J$15+Computations!$I$15*D865","v":450000},{"$f":"EXP(Computations!$J$16)*EXP(Computations!$I$16)^Computations!D865","v":450000.00000000035},{"$f":"Computations!$J$17+Computations!$I$17*LN(Computations!D865)","v":450000},{"$f":"Computations!$J$18+Computations!$I$18*Computations!D865+Computations!$H$18*Computations!D865^2","v":450000},{"$f":"Computations!$J$19+Computations!$I$19*Computations!D865+Computations!$H$19*Computations!D865^2+Computations!$G$19*Computations!D865^3","v":450000}]
[812,0.24777680987678408,0.24806865713372056,0.24792273350525232,0.99811547073217555,2.7428443458266116E-5,3814.7728092796351,450000,{"$f":"G866-H866/User_entry!$E$18","v":2314.7728092796351},2314.7728092796351,null,{"$f":"HLOOKUP(User_entry!$B$56,Computations!$N$54:$R$1054,Computations!A866+1,FALSE)","v":3814.7728092796351},{"$f":"HLOOKUP(User_entry!$E$56,Computations!$S$54:$W$1054,Computations!A866+1,FALSE)","v":450000},{"$f":"Computations!$F$15+Computations!$E$15*D866","v":3814.7728092796351},{"$f":"EXP(Computations!$F$16)*EXP(Computations!$E$16)^Computations!D866","v":4839.040340713068},{"$f":"Computations!$F$17+Computations!$E$17*LN(Computations!D866)","v":3269.7113550030217},{"$f":"Computations!$F$18+Computations!$E$18*Computations!D866+Computations!$D$18*Computations!D866^2","v":3326.2492955326866},{"$f":"Computations!$F$19+Computations!$E$19*Computations!D866+Computations!$D$19*Computations!D866^2+Computations!$C$19*Computations!D866^3","v":3326.2492955326866},{"$f":"Computations!$J$15+Computations!$I$15*D866","v":450000},{"$f":"EXP(Computations!$J$16)*EXP(Computations!$I$16)^Computations!D866","v":450000.00000000035},{"$f":"Computations!$J$17+Computations!$I$17*LN(Computations!D866)","v":450000},{"$f":"Computations!$J$18+Computations!$I$18*Computations!D866+Computations!$H$18*Computations!D866^2","v":450000},{"$f":"Computations!$J$19+Computations!$I$19*Computations!D866+Computations!$H$19*Computations!D866^2+Computations!$G$19*Computations!D866^3","v":450000}]
[813,0.24806865713372056,0.24836050439065704,0.2482145807621888,0.99814252899684641,2.7058264670865029E-5,3818.6129047656414,450000,{"$f":"G867-H867/User_entry!$E$18","v":2318.6129047656414},2318.6129047656414,null,{"$f":"HLOOKUP(User_entry!$B$56,Computations!$N$54:$R$1054,Computations!A867+1,FALSE)","v":3818.6129047656414},{"$f":"HLOOKUP(User_entry!$E$56,Computations!$S$54:$W$1054,Computations!A867+1,FALSE)","v":450000},{"$f":"Computations!$F$15+Computations!$E$15*D867","v":3818.6129047656414},{"$f":"EXP(Computations!$F$16)*EXP(Computations!$E$16)^Computations!D867","v":4849.0799609509486},{"$f":"Computations!$F$17+Computations!$E$17*LN(Computations!D867)","v":3271.2060004136019},{"$f":"Computations!$F$18+Computations!$E$18*Computations!D867+Computations!$D$18*Computations!D867^2","v":3327.263872101566},{"$f":"Computations!$F$19+Computations!$E$19*Computations!D867+Computations!$D$19*Computations!D867^2+Computations!$C$19*Computations!D867^3","v":3327.263872101566},{"$f":"Computations!$J$15+Computations!$I$15*D867","v":450000},{"$f":"EXP(Computations!$J$16)*EXP(Computations!$I$16)^Computations!D867","v":450000.00000000035},{"$f":"Computations!$J$17+Computations!$I$17*LN(Computations!D867)","v":450000},{"$f":"Computations!$J$18+Computations!$I$18*Computations!D867+Computations!$H$18*Computations!D867^2","v":450000},{"$f":"Computations!$J$19+Computations!$I$19*Computations!D867+Computations!$H$19*Computations!D867^2+Computations!$G$19*Computations!D867^3","v":450000}]
[814,0.24836050439065704,0.24865235164759353,0.24850642801912529,0.99816922171573419,2.6692718887777467E-5,3822.4530002516476,450000,{"$f":"G868-H868/User_entry!$E$18","v":2322.4530002516476},2322.4530002516476,null,{"$f":"HLOOKUP(User_entry!$B$56,Computations!$N$54:$R$1054,Computations!A868+1,FALSE)","v":3822.4530002516476},{"$f":"HLOOKUP(User_entry!$E$56,Computations!$S$54:$W$1054,Computations!A868+1,FALSE)","v":450000},{"$f":"Computations!$F$15+Computations!$E$15*D868","v":3822.4530002516476},{"$f":"EXP(Computations!$F$16)*EXP(Computations!$E$16)^Computations!D868","v":4859.1404105201482},{"$f":"Computations!$F$17+Computations!$E$17*LN(Computations!D868)","v":3272.6988894730075},{"$f":"Computations!$F$18+Computations!$E$18*Computations!D868+Computations!$D$18*Computations!D868^2","v":3328.2721394244163},{"$f":"Computations!$F$19+Computations!$E$19*Computations!D868+Computations!$D$19*Computations!D868^2+Computations!$C$19*Computations!D868^3","v":3328.2721394244163},{"$f":"Computations!$J$15+Computations!$I$15*D868","v":450000},{"$f":"EXP(Computations!$J$16)*EXP(Computations!$I$16)^Computations!D868","v":450000.00000000035},{"$f":"Computations!$J$17+Computations!$I$17*LN(Computations!D868)","v":450000},{"$f":"Computations!$J$18+Computations!$I$18*Computations!D868+Computations!$H$18*Computations!D868^2","v":450000},{"$f":"Computations!$J$19+Computations!$I$19*Computations!D868+Computations!$H$19*Computations!D868^2+Computations!$G$19*Computations!D868^3","v":450000}]
[815,0.24865235164759353,0.24894419890453001,0.24879827527606177,0.99819555346936473,2.6331753630537413E-5,3826.2930957376539,450000,{"$f":"G869-H869/User_entry!$E$18","v":2326.2930957376539},2326.2930957376539,null,{"$f":"HLOOKUP(User_entry!$B$56,Computations!$N$54:$R$1054,Computations!A869+1,FALSE)","v":3826.2930957376539},{"$f":"HLOOKUP(User_entry!$E$56,Computations!$S$54:$W$1054,Computations!A869+1,FALSE)","v":450000},{"$f":"Computations!$F$15+Computations!$E$15*D869","v":3826.2930957376539},{"$f":"EXP(Computations!$F$16)*EXP(Computations!$E$16)^Computations!D869","v":4869.2217326355521},{"$f":"Computations!$F$17+Computations!$E$17*LN(Computations!D869)","v":3274.1900263041548},{"$f":"Computations!$F$18+Computations!$E$18*Computations!D869+Computations!$D$18*Computations!D869^2","v":3329.2740975012393},{"$f":"Computations!$F$19+Computations!$E$19*Computations!D869+Computations!$D$19*Computations!D869^2+Computations!$C$19*Computations!D869^3","v":3329.2740975012393},{"$f":"Computations!$J$15+Computations!$I$15*D869","v":450000},{"$f":"EXP(Computations!$J$16)*EXP(Computations!$I$16)^Computations!D869","v":450000.00000000035},{"$f":"Computations!$J$17+Computations!$I$17*LN(Computations!D869)","v":450000},{"$f":"Computations!$J$18+Computations!$I$18*Computations!D869+Computations!$H$18*Computations!D869^2","v":450000},{"$f":"Computations!$J$19+Computations!$I$19*Computations!D869+Computations!$H$19*Computations!D869^2+Computations!$G$19*Computations!D869^3","v":450000}]
[816,0.24894419890453001,0.2492360461614665,0.24909012253299825,0.99822152878629766,2.5975316932935755E-5,3830.1331912236601,450000,{"$f":"G870-H870/User_entry!$E$18","v":2330.1331912236601},2330.1331912236601,null,{"$f":"HLOOKUP(User_entry!$B$56,Computations!$N$54:$R$1054,Computations!A870+1,FALSE)","v":3830.1331912236601},{"$f":"HLOOKUP(User_entry!$E$56,Computations!$S$54:$W$1054,Computations!A870+1,FALSE)","v":450000},{"$f":"Computations!$F$15+Computations!$E$15*D870","v":3830.1331912236601},{"$f":"EXP(Computations!$F$16)*EXP(Computations!$E$16)^Computations!D870","v":4879.3239706017039},{"$f":"Computations!$F$17+Computations!$E$17*LN(Computations!D870)","v":3275.6794150154601},{"$f":"Computations!$F$18+Computations!$E$18*Computations!D870+Computations!$D$18*Computations!D870^2","v":3330.2697463320337},{"$f":"Computations!$F$19+Computations!$E$19*Computations!D870+Computations!$D$19*Computations!D870^2+Computations!$C$19*Computations!D870^3","v":3330.2697463320337},{"$f":"Computations!$J$15+Computations!$I$15*D870","v":450000},{"$f":"EXP(Computations!$J$16)*EXP(Computations!$I$16)^Computations!D870","v":450000.00000000035},{"$f":"Computations!$J$17+Computations!$I$17*LN(Computations!D870)","v":450000},{"$f":"Computations!$J$18+Computations!$I$18*Computations!D870+Computations!$H$18*Computations!D870^2","v":450000},{"$f":"Computations!$J$19+Computations!$I$19*Computations!D870+Computations!$H$19*Computations!D870^2+Computations!$G$19*Computations!D870^3","v":450000}]
[817,0.2492360461614665,0.24952789341840298,0.24938196978993474,0.99824715214363502,2.5623357337356545E-5,3833.9732867096664,450000,{"$f":"G871-H871/User_entry!$E$18","v":2333.9732867096664},2333.9732867096664,null,{"$f":"HLOOKUP(User_entry!$B$56,Computations!$N$54:$R$1054,Computations!A871+1,FALSE)","v":3833.9732867096664},{"$f":"HLOOKUP(User_entry!$E$56,Computations!$S$54:$W$1054,Computations!A871+1,FALSE)","v":450000},{"$f":"Computations!$F$15+Computations!$E$15*D871","v":3833.9732867096664},{"$f":"EXP(Computations!$F$16)*EXP(Computations!$E$16)^Computations!D871","v":4889.4471678129948},{"$f":"Computations!$F$17+Computations!$E$17*LN(Computations!D871)","v":3277.1670597009074},{"$f":"Computations!$F$18+Computations!$E$18*Computations!D871+Computations!$D$18*Computations!D871^2","v":3331.2590859168004},{"$f":"Computations!$F$19+Computations!$E$19*Computations!D871+Computations!$D$19*Computations!D871^2+Computations!$C$19*Computations!D871^3","v":3331.2590859168004},{"$f":"Computations!$J$15+Computations!$I$15*D871","v":450000},{"$f":"EXP(Computations!$J$16)*EXP(Computations!$I$16)^Computations!D871","v":450000.00000000035},{"$f":"Computations!$J$17+Computations!$I$17*LN(Computations!D871)","v":450000},{"$f":"Computations!$J$18+Computations!$I$18*Computations!D871+Computations!$H$18*Computations!D871^2","v":450000},{"$f":"Computations!$J$19+Computations!$I$19*Computations!D871+Computations!$H$19*Computations!D871^2+Computations!$G$19*Computations!D871^3","v":450000}]
[818,0.24952789341840298,0.24981974067533946,0.24967381704687122,0.99827242796752658,2.5275823891557359E-5,3837.8133821956735,450000,{"$f":"G872-H872/User_entry!$E$18","v":2337.8133821956735},2337.8133821956735,null,{"$f":"HLOOKUP(User_entry!$B$56,Computations!$N$54:$R$1054,Computations!A872+1,FALSE)","v":3837.8133821956735},{"$f":"HLOOKUP(User_entry!$E$56,Computations!$S$54:$W$1054,Computations!A872+1,FALSE)","v":450000},{"$f":"Computations!$F$15+Computations!$E$15*D872","v":3837.8133821956735},{"$f":"EXP(Computations!$F$16)*EXP(Computations!$E$16)^Computations!D872","v":4899.5913677538429},{"$f":"Computations!$F$17+Computations!$E$17*LN(Computations!D872)","v":3278.6529644401153},{"$f":"Computations!$F$18+Computations!$E$18*Computations!D872+Computations!$D$18*Computations!D872^2","v":3332.2421162555379},{"$f":"Computations!$F$19+Computations!$E$19*Computations!D872+Computations!$D$19*Computations!D872^2+Computations!$C$19*Computations!D872^3","v":3332.2421162555379},{"$f":"Computations!$J$15+Computations!$I$15*D872","v":450000},{"$f":"EXP(Computations!$J$16)*EXP(Computations!$I$16)^Computations!D872","v":450000.00000000035},{"$f":"Computations!$J$17+Computations!$I$17*LN(Computations!D872)","v":450000},{"$f":"Computations!$J$18+Computations!$I$18*Computations!D872+Computations!$H$18*Computations!D872^2","v":450000},{"$f":"Computations!$J$19+Computations!$I$19*Computations!D872+Computations!$H$19*Computations!D872^2+Computations!$G$19*Computations!D872^3","v":450000}]
[819,0.24981974067533946,0.25011158793227595,0.24996566430380771,0.99829736063367114,2.4932666144561466E-5,3841.6534776816798,450000,{"$f":"G873-H873/User_entry!$E$18","v":2341.6534776816798},2341.6534776816798,null,{"$f":"HLOOKUP(User_entry!$B$56,Computations!$N$54:$R$1054,Computations!A873+1,FALSE)","v":3841.6534776816798},{"$f":"HLOOKUP(User_entry!$E$56,Computations!$S$54:$W$1054,Computations!A873+1,FALSE)","v":450000},{"$f":"Computations!$F$15+Computations!$E$15*D873","v":3841.6534776816798},{"$f":"EXP(Computations!$F$16)*EXP(Computations!$E$16)^Computations!D873","v":4909.7566139988867},{"$f":"Computations!$F$17+Computations!$E$17*LN(Computations!D873)","v":3280.1371332984045},{"$f":"Computations!$F$18+Computations!$E$18*Computations!D873+Computations!$D$18*Computations!D873^2","v":3333.2188373482477},{"$f":"Computations!$F$19+Computations!$E$19*Computations!D873+Computations!$D$19*Computations!D873^2+Computations!$C$19*Computations!D873^3","v":3333.2188373482477},{"$f":"Computations!$J$15+Computations!$I$15*D873","v":450000},{"$f":"EXP(Computations!$J$16)*EXP(Computations!$I$16)^Computations!D873","v":450000.00000000035},{"$f":"Computations!$J$17+Computations!$I$17*LN(Computations!D873)","v":450000},{"$f":"Computations!$J$18+Computations!$I$18*Computations!D873+Computations!$H$18*Computations!D873^2","v":450000},{"$f":"Computations!$J$19+Computations!$I$19*Computations!D873+Computations!$H$19*Computations!D873^2+Computations!$G$19*Computations!D873^3","v":450000}]
[820,0.25011158793227595,0.25040343518921243,0.25025751156074416,0.99832195446781391,2.4593834142772053E-5,3845.4935731676851,450000,{"$f":"G874-H874/User_entry!$E$18","v":2345.4935731676851},2345.4935731676851,null,{"$f":"HLOOKUP(User_entry!$B$56,Computations!$N$54:$R$1054,Computations!A874+1,FALSE)","v":3845.4935731676851},{"$f":"HLOOKUP(User_entry!$E$56,Computations!$S$54:$W$1054,Computations!A874+1,FALSE)","v":450000},{"$f":"Computations!$F$15+Computations!$E$15*D874","v":3845.4935731676851},{"$f":"EXP(Computations!$F$16)*EXP(Computations!$E$16)^Computations!D874","v":4919.9429502131661},{"$f":"Computations!$F$17+Computations!$E$17*LN(Computations!D874)","v":3281.619570326865},{"$f":"Computations!$F$18+Computations!$E$18*Computations!D874+Computations!$D$18*Computations!D874^2","v":3334.1892491949288},{"$f":"Computations!$F$19+Computations!$E$19*Computations!D874+Computations!$D$19*Computations!D874^2+Computations!$C$19*Computations!D874^3","v":3334.1892491949288},{"$f":"Computations!$J$15+Computations!$I$15*D874","v":450000},{"$f":"EXP(Computations!$J$16)*EXP(Computations!$I$16)^Computations!D874","v":450000.00000000035},{"$f":"Computations!$J$17+Computations!$I$17*LN(Computations!D874)","v":450000},{"$f":"Computations!$J$18+Computations!$I$18*Computations!D874+Computations!$H$18*Computations!D874^2","v":450000},{"$f":"Computations!$J$19+Computations!$I$19*Computations!D874+Computations!$H$19*Computations!D874^2+Computations!$G$19*Computations!D874^3","v":450000}]
[821,0.25040343518921243,0.25069528244614891,0.2505493588176807,0.99834621374623966,2.4259278425753372E-5,3849.3336686536923,450000,{"$f":"G875-H875/User_entry!$E$18","v":2349.3336686536923},2349.3336686536923,null,{"$f":"HLOOKUP(User_entry!$B$56,Computations!$N$54:$R$1054,Computations!A875+1,FALSE)","v":3849.3336686536923},{"$f":"HLOOKUP(User_entry!$E$56,Computations!$S$54:$W$1054,Computations!A875+1,FALSE)","v":450000},{"$f":"Computations!$F$15+Computations!$E$15*D875","v":3849.3336686536923},{"$f":"EXP(Computations!$F$16)*EXP(Computations!$E$16)^Computations!D875","v":4930.1504201523203},{"$f":"Computations!$F$17+Computations!$E$17*LN(Computations!D875)","v":3283.1002795624217},{"$f":"Computations!$F$18+Computations!$E$18*Computations!D875+Computations!$D$18*Computations!D875^2","v":3335.1533517955822},{"$f":"Computations!$F$19+Computations!$E$19*Computations!D875+Computations!$D$19*Computations!D875^2+Computations!$C$19*Computations!D875^3","v":3335.1533517955822},{"$f":"Computations!$J$15+Computations!$I$15*D875","v":450000},{"$f":"EXP(Computations!$J$16)*EXP(Computations!$I$16)^Computations!D875","v":450000.00000000035},{"$f":"Computations!$J$17+Computations!$I$17*LN(Computations!D875)","v":450000},{"$f":"Computations!$J$18+Computations!$I$18*Computations!D875+Computations!$H$18*Computations!D875^2","v":450000},{"$f":"Computations!$J$19+Computations!$I$19*Computations!D875+Computations!$H$19*Computations!D875^2+Computations!$G$19*Computations!D875^3","v":450000}]
[822,0.25069528244614891,0.2509871297030854,0.25084120607461713,0.9983701426962639,2.3928950024232343E-5,3853.1737641396985,450000,{"$f":"G876-H876/User_entry!$E$18","v":2353.1737641396985},2353.1737641396985,null,{"$f":"HLOOKUP(User_entry!$B$56,Computations!$N$54:$R$1054,Computations!A876+1,FALSE)","v":3853.1737641396985},{"$f":"HLOOKUP(User_entry!$E$56,Computations!$S$54:$W$1054,Computations!A876+1,FALSE)","v":450000},{"$f":"Computations!$F$15+Computations!$E$15*D876","v":3853.1737641396985},{"$f":"EXP(Computations!$F$16)*EXP(Computations!$E$16)^Computations!D876","v":4940.3790676627596},{"$f":"Computations!$F$17+Computations!$E$17*LN(Computations!D876)","v":3284.5792650279018},{"$f":"Computations!$F$18+Computations!$E$18*Computations!D876+Computations!$D$18*Computations!D876^2","v":3336.1111451502079},{"$f":"Computations!$F$19+Computations!$E$19*Computations!D876+Computations!$D$19*Computations!D876^2+Computations!$C$19*Computations!D876^3","v":3336.1111451502079},{"$f":"Computations!$J$15+Computations!$I$15*D876","v":450000},{"$f":"EXP(Computations!$J$16)*EXP(Computations!$I$16)^Computations!D876","v":450000.00000000035},{"$f":"Computations!$J$17+Computations!$I$17*LN(Computations!D876)","v":450000},{"$f":"Computations!$J$18+Computations!$I$18*Computations!D876+Computations!$H$18*Computations!D876^2","v":450000},{"$f":"Computations!$J$19+Computations!$I$19*Computations!D876+Computations!$H$19*Computations!D876^2+Computations!$G$19*Computations!D876^3","v":450000}]
[823,0.2509871297030854,0.25127897696002188,0.25113305333155367,0.99839374549671822,2.360280045432539E-5,3857.0138596257057,450000,{"$f":"G877-H877/User_entry!$E$18","v":2357.0138596257057},2357.0138596257057,null,{"$f":"HLOOKUP(User_entry!$B$56,Computations!$N$54:$R$1054,Computations!A877+1,FALSE)","v":3857.0138596257057},{"$f":"HLOOKUP(User_entry!$E$56,Computations!$S$54:$W$1054,Computations!A877+1,FALSE)","v":450000},{"$f":"Computations!$F$15+Computations!$E$15*D877","v":3857.0138596257057},{"$f":"EXP(Computations!$F$16)*EXP(Computations!$E$16)^Computations!D877","v":4950.6289366818737},{"$f":"Computations!$F$17+Computations!$E$17*LN(Computations!D877)","v":3286.0565307320976},{"$f":"Computations!$F$18+Computations!$E$18*Computations!D877+Computations!$D$18*Computations!D877^2","v":3337.0626292588045},{"$f":"Computations!$F$19+Computations!$E$19*Computations!D877+Computations!$D$19*Computations!D877^2+Computations!$C$19*Computations!D877^3","v":3337.0626292588045},{"$f":"Computations!$J$15+Computations!$I$15*D877","v":450000},{"$f":"EXP(Computations!$J$16)*EXP(Computations!$I$16)^Computations!D877","v":450000.00000000035},{"$f":"Computations!$J$17+Computations!$I$17*LN(Computations!D877)","v":450000},{"$f":"Computations!$J$18+Computations!$I$18*Computations!D877+Computations!$H$18*Computations!D877^2","v":450000},{"$f":"Computations!$J$19+Computations!$I$19*Computations!D877+Computations!$H$19*Computations!D877^2+Computations!$G$19*Computations!D877^3","v":450000}]
[824,0.25127897696002188,0.25157082421695837,0.2514249005884901,0.99841702627843276,2.3280781714540844E-5,3860.853955111711,450000,{"$f":"G878-H878/User_entry!$E$18","v":2360.853955111711},2360.853955111711,null,{"$f":"HLOOKUP(User_entry!$B$56,Computations!$N$54:$R$1054,Computations!A878+1,FALSE)","v":3860.853955111711},{"$f":"HLOOKUP(User_entry!$E$56,Computations!$S$54:$W$1054,Computations!A878+1,FALSE)","v":450000},{"$f":"Computations!$F$15+Computations!$E$15*D878","v":3860.853955111711},{"$f":"EXP(Computations!$F$16)*EXP(Computations!$E$16)^Computations!D878","v":4960.9000712381967},{"$f":"Computations!$F$17+Computations!$E$17*LN(Computations!D878)","v":3287.5320806698337},{"$f":"Computations!$F$18+Computations!$E$18*Computations!D878+Computations!$D$18*Computations!D878^2","v":3338.0078041213724},{"$f":"Computations!$F$19+Computations!$E$19*Computations!D878+Computations!$D$19*Computations!D878^2+Computations!$C$19*Computations!D878^3","v":3338.0078041213724},{"$f":"Computations!$J$15+Computations!$I$15*D878","v":450000},{"$f":"EXP(Computations!$J$16)*EXP(Computations!$I$16)^Computations!D878","v":450000.00000000035},{"$f":"Computations!$J$17+Computations!$I$17*LN(Computations!D878)","v":450000},{"$f":"Computations!$J$18+Computations!$I$18*Computations!D878+Computations!$H$18*Computations!D878^2","v":450000},{"$f":"Computations!$J$19+Computations!$I$19*Computations!D878+Computations!$H$19*Computations!D878^2+Computations!$G$19*Computations!D878^3","v":450000}]
[825,0.25157082421695837,0.25186267147389485,0.25171674784542664,0.99843998912471577,2.296284628300338E-5,3864.6940505977182,450000,{"$f":"G879-H879/User_entry!$E$18","v":2364.6940505977182},2364.6940505977182,null,{"$f":"HLOOKUP(User_entry!$B$56,Computations!$N$54:$R$1054,Computations!A879+1,FALSE)","v":3864.6940505977182},{"$f":"HLOOKUP(User_entry!$E$56,Computations!$S$54:$W$1054,Computations!A879+1,FALSE)","v":450000},{"$f":"Computations!$F$15+Computations!$E$15*D879","v":3864.6940505977182},{"$f":"EXP(Computations!$F$16)*EXP(Computations!$E$16)^Computations!D879","v":4971.1925154516239},{"$f":"Computations!$F$17+Computations!$E$17*LN(Computations!D879)","v":3289.0059188220339},{"$f":"Computations!$F$18+Computations!$E$18*Computations!D879+Computations!$D$18*Computations!D879^2","v":3338.9466697379125},{"$f":"Computations!$F$19+Computations!$E$19*Computations!D879+Computations!$D$19*Computations!D879^2+Computations!$C$19*Computations!D879^3","v":3338.9466697379125},{"$f":"Computations!$J$15+Computations!$I$15*D879","v":450000},{"$f":"EXP(Computations!$J$16)*EXP(Computations!$I$16)^Computations!D879","v":450000.00000000035},{"$f":"Computations!$J$17+Computations!$I$17*LN(Computations!D879)","v":450000},{"$f":"Computations!$J$18+Computations!$I$18*Computations!D879+Computations!$H$18*Computations!D879^2","v":450000},{"$f":"Computations!$J$19+Computations!$I$19*Computations!D879+Computations!$H$19*Computations!D879^2+Computations!$G$19*Computations!D879^3","v":450000}]
[826,0.25186267147389485,0.25215451873083133,0.25200859510236306,0.99846263807182778,2.2648947112013929E-5,3868.5341460837235,450000,{"$f":"G880-H880/User_entry!$E$18","v":2368.5341460837235},2368.5341460837235,null,{"$f":"HLOOKUP(User_entry!$B$56,Computations!$N$54:$R$1054,Computations!A880+1,FALSE)","v":3868.5341460837235},{"$f":"HLOOKUP(User_entry!$E$56,Computations!$S$54:$W$1054,Computations!A880+1,FALSE)","v":450000},{"$f":"Computations!$F$15+Computations!$E$15*D880","v":3868.5341460837235},{"$f":"EXP(Computations!$F$16)*EXP(Computations!$E$16)^Computations!D880","v":4981.5063135335731},{"$f":"Computations!$F$17+Computations!$E$17*LN(Computations!D880)","v":3290.4780491557794},{"$f":"Computations!$F$18+Computations!$E$18*Computations!D880+Computations!$D$18*Computations!D880^2","v":3339.879226108425},{"$f":"Computations!$F$19+Computations!$E$19*Computations!D880+Computations!$D$19*Computations!D880^2+Computations!$C$19*Computations!D880^3","v":3339.879226108425},{"$f":"Computations!$J$15+Computations!$I$15*D880","v":450000},{"$f":"EXP(Computations!$J$16)*EXP(Computations!$I$16)^Computations!D880","v":450000.00000000035},{"$f":"Computations!$J$17+Computations!$I$17*LN(Computations!D880)","v":450000},{"$f":"Computations!$J$18+Computations!$I$18*Computations!D880+Computations!$H$18*Computations!D880^2","v":450000},{"$f":"Computations!$J$19+Computations!$I$19*Computations!D880+Computations!$H$19*Computations!D880^2+Computations!$G$19*Computations!D880^3","v":450000}]
[827,0.25215451873083133,0.25244636598776782,0.2523004423592996,0.99848497710945405,2.2339037626273317E-5,3872.3742415697307,450000,{"$f":"G881-H881/User_entry!$E$18","v":2372.3742415697307},2372.3742415697307,null,{"$f":"HLOOKUP(User_entry!$B$56,Computations!$N$54:$R$1054,Computations!A881+1,FALSE)","v":3872.3742415697307},{"$f":"HLOOKUP(User_entry!$E$56,Computations!$S$54:$W$1054,Computations!A881+1,FALSE)","v":450000},{"$f":"Computations!$F$15+Computations!$E$15*D881","v":3872.3742415697307},{"$f":"EXP(Computations!$F$16)*EXP(Computations!$E$16)^Computations!D881","v":4991.8415097872003},{"$f":"Computations!$F$17+Computations!$E$17*LN(Computations!D881)","v":3291.9484756243796},{"$f":"Computations!$F$18+Computations!$E$18*Computations!D881+Computations!$D$18*Computations!D881^2","v":3340.8054732329092},{"$f":"Computations!$F$19+Computations!$E$19*Computations!D881+Computations!$D$19*Computations!D881^2+Computations!$C$19*Computations!D881^3","v":3340.8054732329092},{"$f":"Computations!$J$15+Computations!$I$15*D881","v":450000},{"$f":"EXP(Computations!$J$16)*EXP(Computations!$I$16)^Computations!D881","v":450000.00000000035},{"$f":"Computations!$J$17+Computations!$I$17*LN(Computations!D881)","v":450000},{"$f":"Computations!$J$18+Computations!$I$18*Computations!D881+Computations!$H$18*Computations!D881^2","v":450000},{"$f":"Computations!$J$19+Computations!$I$19*Computations!D881+Computations!$H$19*Computations!D881^2+Computations!$G$19*Computations!D881^3","v":450000}]
[828,0.25244636598776782,0.2527382132447043,0.25259228961623603,0.99850701018117127,2.2033071717220132E-5,3876.214337055736,450000,{"$f":"G882-H882/User_entry!$E$18","v":2376.214337055736},2376.214337055736,null,{"$f":"HLOOKUP(User_entry!$B$56,Computations!$N$54:$R$1054,Computations!A882+1,FALSE)","v":3876.214337055736},{"$f":"HLOOKUP(User_entry!$E$56,Computations!$S$54:$W$1054,Computations!A882+1,FALSE)","v":450000},{"$f":"Computations!$F$15+Computations!$E$15*D882","v":3876.214337055736},{"$f":"EXP(Computations!$F$16)*EXP(Computations!$E$16)^Computations!D882","v":5002.1981486075656},{"$f":"Computations!$F$17+Computations!$E$17*LN(Computations!D882)","v":3293.4172021674312},{"$f":"Computations!$F$18+Computations!$E$18*Computations!D882+Computations!$D$18*Computations!D882^2","v":3341.7254111113639},{"$f":"Computations!$F$19+Computations!$E$19*Computations!D882+Computations!$D$19*Computations!D882^2+Computations!$C$19*Computations!D882^3","v":3341.7254111113639},{"$f":"Computations!$J$15+Computations!$I$15*D882","v":450000},{"$f":"EXP(Computations!$J$16)*EXP(Computations!$I$16)^Computations!D882","v":450000.00000000035},{"$f":"Computations!$J$17+Computations!$I$17*LN(Computations!D882)","v":450000},{"$f":"Computations!$J$18+Computations!$I$18*Computations!D882+Computations!$H$18*Computations!D882^2","v":450000},{"$f":"Computations!$J$19+Computations!$I$19*Computations!D882+Computations!$H$19*Computations!D882^2+Computations!$G$19*Computations!D882^3","v":450000}]
[829,0.2527382132447043,0.25303006050164079,0.25288413687317257,0.99852874118491219,2.1731003740921295E-5,3880.0544325417432,450000,{"$f":"G883-H883/User_entry!$E$18","v":2380.0544325417432},2380.0544325417432,null,{"$f":"HLOOKUP(User_entry!$B$56,Computations!$N$54:$R$1054,Computations!A883+1,FALSE)","v":3880.0544325417432},{"$f":"HLOOKUP(User_entry!$E$56,Computations!$S$54:$W$1054,Computations!A883+1,FALSE)","v":450000},{"$f":"Computations!$F$15+Computations!$E$15*D883","v":3880.0544325417432},{"$f":"EXP(Computations!$F$16)*EXP(Computations!$E$16)^Computations!D883","v":5012.5762744818503},{"$f":"Computations!$F$17+Computations!$E$17*LN(Computations!D883)","v":3294.884232710886},{"$f":"Computations!$F$18+Computations!$E$18*Computations!D883+Computations!$D$18*Computations!D883^2","v":3342.6390397437913},{"$f":"Computations!$F$19+Computations!$E$19*Computations!D883+Computations!$D$19*Computations!D883^2+Computations!$C$19*Computations!D883^3","v":3342.6390397437913},{"$f":"Computations!$J$15+Computations!$I$15*D883","v":450000},{"$f":"EXP(Computations!$J$16)*EXP(Computations!$I$16)^Computations!D883","v":450000.00000000035},{"$f":"Computations!$J$17+Computations!$I$17*LN(Computations!D883)","v":450000},{"$f":"Computations!$J$18+Computations!$I$18*Computations!D883+Computations!$H$18*Computations!D883^2","v":450000},{"$f":"Computations!$J$19+Computations!$I$19*Computations!D883+Computations!$H$19*Computations!D883^2+Computations!$G$19*Computations!D883^3","v":450000}]
[830,0.25303006050164079,0.25332190775857727,0.253175984130109,0.99855017397342627,2.1432788514075263E-5,3883.8945280277494,450000,{"$f":"G884-H884/User_entry!$E$18","v":2383.8945280277494},2383.8945280277494,null,{"$f":"HLOOKUP(User_entry!$B$56,Computations!$N$54:$R$1054,Computations!A884+1,FALSE)","v":3883.8945280277494},{"$f":"HLOOKUP(User_entry!$E$56,Computations!$S$54:$W$1054,Computations!A884+1,FALSE)","v":450000},{"$f":"Computations!$F$15+Computations!$E$15*D884","v":3883.8945280277494},{"$f":"EXP(Computations!$F$16)*EXP(Computations!$E$16)^Computations!D884","v":5022.9759319895165},{"$f":"Computations!$F$17+Computations!$E$17*LN(Computations!D884)","v":3296.3495711671067},{"$f":"Computations!$F$18+Computations!$E$18*Computations!D884+Computations!$D$18*Computations!D884^2","v":3343.5463591301909},{"$f":"Computations!$F$19+Computations!$E$19*Computations!D884+Computations!$D$19*Computations!D884^2+Computations!$C$19*Computations!D884^3","v":3343.5463591301909},{"$f":"Computations!$J$15+Computations!$I$15*D884","v":450000},{"$f":"EXP(Computations!$J$16)*EXP(Computations!$I$16)^Computations!D884","v":450000.00000000035},{"$f":"Computations!$J$17+Computations!$I$17*LN(Computations!D884)","v":450000},{"$f":"Computations!$J$18+Computations!$I$18*Computations!D884+Computations!$H$18*Computations!D884^2","v":450000},{"$f":"Computations!$J$19+Computations!$I$19*Computations!D884+Computations!$H$19*Computations!D884^2+Computations!$G$19*Computations!D884^3","v":450000}]
[831,0.25332190775857727,0.25361375501551375,0.25346783138704554,0.99857131235473606,2.1138381309793175E-5,3887.7346235137566,450000,{"$f":"G885-H885/User_entry!$E$18","v":2387.7346235137566},2387.7346235137566,null,{"$f":"HLOOKUP(User_entry!$B$56,Computations!$N$54:$R$1054,Computations!A885+1,FALSE)","v":3887.7346235137566},{"$f":"HLOOKUP(User_entry!$E$56,Computations!$S$54:$W$1054,Computations!A885+1,FALSE)","v":450000},{"$f":"Computations!$F$15+Computations!$E$15*D885","v":3887.7346235137566},{"$f":"EXP(Computations!$F$16)*EXP(Computations!$E$16)^Computations!D885","v":5033.3971658025348},{"$f":"Computations!$F$17+Computations!$E$17*LN(Computations!D885)","v":3297.813221434938},{"$f":"Computations!$F$18+Computations!$E$18*Computations!D885+Computations!$D$18*Computations!D885^2","v":3344.4473692705615},{"$f":"Computations!$F$19+Computations!$E$19*Computations!D885+Computations!$D$19*Computations!D885^2+Computations!$C$19*Computations!D885^3","v":3344.4473692705615},{"$f":"Computations!$J$15+Computations!$I$15*D885","v":450000},{"$f":"EXP(Computations!$J$16)*EXP(Computations!$I$16)^Computations!D885","v":450000.00000000035},{"$f":"Computations!$J$17+Computations!$I$17*LN(Computations!D885)","v":450000},{"$f":"Computations!$J$18+Computations!$I$18*Computations!D885+Computations!$H$18*Computations!D885^2","v":450000},{"$f":"Computations!$J$19+Computations!$I$19*Computations!D885+Computations!$H$19*Computations!D885^2+Computations!$G$19*Computations!D885^3","v":450000}]
[832,0.25361375501551375,0.25390560227245024,0.25375967864398197,0.99859216009259044,2.0847737854379211E-5,3891.5747189997619,450000,{"$f":"G886-H886/User_entry!$E$18","v":2391.5747189997619},2391.5747189997619,null,{"$f":"HLOOKUP(User_entry!$B$56,Computations!$N$54:$R$1054,Computations!A886+1,FALSE)","v":3891.5747189997619},{"$f":"HLOOKUP(User_entry!$E$56,Computations!$S$54:$W$1054,Computations!A886+1,FALSE)","v":450000},{"$f":"Computations!$F$15+Computations!$E$15*D886","v":3891.5747189997619},{"$f":"EXP(Computations!$F$16)*EXP(Computations!$E$16)^Computations!D886","v":5043.8400206855404},{"$f":"Computations!$F$17+Computations!$E$17*LN(Computations!D886)","v":3299.2751873997622},{"$f":"Computations!$F$18+Computations!$E$18*Computations!D886+Computations!$D$18*Computations!D886^2","v":3345.3420701649034},{"$f":"Computations!$F$19+Computations!$E$19*Computations!D886+Computations!$D$19*Computations!D886^2+Computations!$C$19*Computations!D886^3","v":3345.3420701649034},{"$f":"Computations!$J$15+Computations!$I$15*D886","v":450000},{"$f":"EXP(Computations!$J$16)*EXP(Computations!$I$16)^Computations!D886","v":450000.00000000035},{"$f":"Computations!$J$17+Computations!$I$17*LN(Computations!D886)","v":450000},{"$f":"Computations!$J$18+Computations!$I$18*Computations!D886+Computations!$H$18*Computations!D886^2","v":450000},{"$f":"Computations!$J$19+Computations!$I$19*Computations!D886+Computations!$H$19*Computations!D886^2+Computations!$G$19*Computations!D886^3","v":450000}]
[833,0.25390560227245024,0.25419744952938672,0.25405152590091851,0.99861272090691444,2.0560814323999921E-5,3895.4148144857691,450000,{"$f":"G887-H887/User_entry!$E$18","v":2395.4148144857691},2395.4148144857691,null,{"$f":"HLOOKUP(User_entry!$B$56,Computations!$N$54:$R$1054,Computations!A887+1,FALSE)","v":3895.4148144857691},{"$f":"HLOOKUP(User_entry!$E$56,Computations!$S$54:$W$1054,Computations!A887+1,FALSE)","v":450000},{"$f":"Computations!$F$15+Computations!$E$15*D887","v":3895.4148144857691},{"$f":"EXP(Computations!$F$16)*EXP(Computations!$E$16)^Computations!D887","v":5054.3045414960543},{"$f":"Computations!$F$17+Computations!$E$17*LN(Computations!D887)","v":3300.7354729335657},{"$f":"Computations!$F$18+Computations!$E$18*Computations!D887+Computations!$D$18*Computations!D887^2","v":3346.230461813218},{"$f":"Computations!$F$19+Computations!$E$19*Computations!D887+Computations!$D$19*Computations!D887^2+Computations!$C$19*Computations!D887^3","v":3346.230461813218},{"$f":"Computations!$J$15+Computations!$I$15*D887","v":450000},{"$f":"EXP(Computations!$J$16)*EXP(Computations!$I$16)^Computations!D887","v":450000.00000000035},{"$f":"Computations!$J$17+Computations!$I$17*LN(Computations!D887)","v":450000},{"$f":"Computations!$J$18+Computations!$I$18*Computations!D887+Computations!$H$18*Computations!D887^2","v":450000},{"$f":"Computations!$J$19+Computations!$I$19*Computations!D887+Computations!$H$19*Computations!D887^2+Computations!$G$19*Computations!D887^3","v":450000}]
[834,0.25419744952938672,{"$f":"B888+$D$11","v":0.2544892967863232},{"$f":"AVERAGE(B888:C888)","v":0.25434337315785494},{"$f":"IF($D$3=\"Beta\",_xlfn.BETA.DIST(C888,$D$4,$D$5,TRUE),IF($D$3=\"Gamma\",_xlfn.GAMMA.DIST(C888,$D$4,$D$5,TRUE),IF($D$3=\"Lognorm\",_xlfn.LOGNORM.DIST(C888,$D$4,$D$5,TRUE),_xlfn.NORM.DIST(C888,$D$4,$D$5,TRUE))))","v":0.99863299847425457},{"$f":"E888-E887","v":2.0277567340132308E-5},{"$f":"L888","v":3899.2549099717744},{"$f":"M888","v":450000},{"$f":"G888-H888/User_entry!$E$18","v":2399.2549099717744},{"$f":"MAX(I888,0)","v":2399.2549099717744},null,{"$f":"HLOOKUP(User_entry!$B$56,Computations!$N$54:$R$1054,Computations!A888+1,FALSE)","v":3899.2549099717744},{"$f":"HLOOKUP(User_entry!$E$56,Computations!$S$54:$W$1054,Computations!A888+1,FALSE)","v":450000},{"$f":"Computations!$F$15+Computations!$E$15*D888","v":3899.2549099717744},{"$f":"EXP(Computations!$F$16)*EXP(Computations!$E$16)^Computations!D888","v":5064.7907731846562},{"$f":"Computations!$F$17+Computations!$E$17*LN(Computations!D888)","v":3302.1940818949956},{"$f":"Computations!$F$18+Computations!$E$18*Computations!D888+Computations!$D$18*Computations!D888^2","v":3347.1125442155039},{"$f":"Computations!$F$19+Computations!$E$19*Computations!D888+Computations!$D$19*Computations!D888^2+Computations!$C$19*Computations!D888^3","v":3347.1125442155039},{"$f":"Computations!$J$15+Computations!$I$15*D888","v":450000},{"$f":"EXP(Computations!$J$16)*EXP(Computations!$I$16)^Computations!D888","v":450000.00000000035},{"$f":"Computations!$J$17+Computations!$I$17*LN(Computations!D888)","v":450000},{"$f":"Computations!$J$18+Computations!$I$18*Computations!D888+Computations!$H$18*Computations!D888^2","v":450000},{"$f":"Computations!$J$19+Computations!$I$19*Computations!D888+Computations!$H$19*Computations!D888^2+Computations!$G$19*Computations!D888^3","v":450000}]
[835,{"$f":"C888","v":0.2544892967863232},0.25478114404325969,0.25463522041479147,0.99865299642822247,1.9997953967898496E-5,3903.0950054577816,450000,{"$f":"G889-H889/User_entry!$E$18","v":2403.0950054577816},2403.0950054577816,null,{"$f":"HLOOKUP(User_entry!$B$56,Computations!$N$54:$R$1054,Computations!A889+1,FALSE)","v":3903.0950054577816},{"$f":"HLOOKUP(User_entry!$E$56,Computations!$S$54:$W$1054,Computations!A889+1,FALSE)","v":450000},{"$f":"Computations!$F$15+Computations!$E$15*D889","v":3903.0950054577816},{"$f":"EXP(Computations!$F$16)*EXP(Computations!$E$16)^Computations!D889","v":5075.2987607951945},{"$f":"Computations!$F$17+Computations!$E$17*LN(Computations!D889)","v":3303.651018129427},{"$f":"Computations!$F$18+Computations!$E$18*Computations!D889+Computations!$D$18*Computations!D889^2","v":3347.9883173717622},{"$f":"Computations!$F$19+Computations!$E$19*Computations!D889+Computations!$D$19*Computations!D889^2+Computations!$C$19*Computations!D889^3","v":3347.9883173717622},{"$f":"Computations!$J$15+Computations!$I$15*D889","v":450000},{"$f":"EXP(Computations!$J$16)*EXP(Computations!$I$16)^Computations!D889","v":450000.00000000035},{"$f":"Computations!$J$17+Computations!$I$17*LN(Computations!D889)","v":450000},{"$f":"Computations!$J$18+Computations!$I$18*Computations!D889+Computations!$H$18*Computations!D889^2","v":450000},{"$f":"Computations!$J$19+Computations!$I$19*Computations!D889+Computations!$H$19*Computations!D889^2+Computations!$G$19*Computations!D889^3","v":450000}]
[836,0.25478114404325969,0.25507299130019617,0.2549270676717279,0.99867271835993199,1.9721931709515417E-5,3906.9351009437869,450000,{"$f":"G890-H890/User_entry!$E$18","v":2406.9351009437869},2406.9351009437869,null,{"$f":"HLOOKUP(User_entry!$B$56,Computations!$N$54:$R$1054,Computations!A890+1,FALSE)","v":3906.9351009437869},{"$f":"HLOOKUP(User_entry!$E$56,Computations!$S$54:$W$1054,Computations!A890+1,FALSE)","v":450000},{"$f":"Computations!$F$15+Computations!$E$15*D890","v":3906.9351009437869},{"$f":"EXP(Computations!$F$16)*EXP(Computations!$E$16)^Computations!D890","v":5085.8285494649563},{"$f":"Computations!$F$17+Computations!$E$17*LN(Computations!D890)","v":3305.1062854690181},{"$f":"Computations!$F$18+Computations!$E$18*Computations!D890+Computations!$D$18*Computations!D890^2","v":3348.8577812819908},{"$f":"Computations!$F$19+Computations!$E$19*Computations!D890+Computations!$D$19*Computations!D890^2+Computations!$C$19*Computations!D890^3","v":3348.8577812819908},{"$f":"Computations!$J$15+Computations!$I$15*D890","v":450000},{"$f":"EXP(Computations!$J$16)*EXP(Computations!$I$16)^Computations!D890","v":450000.00000000035},{"$f":"Computations!$J$17+Computations!$I$17*LN(Computations!D890)","v":450000},{"$f":"Computations!$J$18+Computations!$I$18*Computations!D890+Computations!$H$18*Computations!D890^2","v":450000},{"$f":"Computations!$J$19+Computations!$I$19*Computations!D890+Computations!$H$19*Computations!D890^2+Computations!$G$19*Computations!D890^3","v":450000}]
[837,0.25507299130019617,0.25536483855713266,0.25521891492866444,0.99869216781843617,1.9449458504183781E-5,3910.7751964297941,450000,{"$f":"G891-H891/User_entry!$E$18","v":2410.7751964297941},2410.7751964297941,null,{"$f":"HLOOKUP(User_entry!$B$56,Computations!$N$54:$R$1054,Computations!A891+1,FALSE)","v":3910.7751964297941},{"$f":"HLOOKUP(User_entry!$E$56,Computations!$S$54:$W$1054,Computations!A891+1,FALSE)","v":450000},{"$f":"Computations!$F$15+Computations!$E$15*D891","v":3910.7751964297941},{"$f":"EXP(Computations!$F$16)*EXP(Computations!$E$16)^Computations!D891","v":5096.3801844248919},{"$f":"Computations!$F$17+Computations!$E$17*LN(Computations!D891)","v":3306.5598877327757},{"$f":"Computations!$F$18+Computations!$E$18*Computations!D891+Computations!$D$18*Computations!D891^2","v":3349.7209359461922},{"$f":"Computations!$F$19+Computations!$E$19*Computations!D891+Computations!$D$19*Computations!D891^2+Computations!$C$19*Computations!D891^3","v":3349.7209359461922},{"$f":"Computations!$J$15+Computations!$I$15*D891","v":450000},{"$f":"EXP(Computations!$J$16)*EXP(Computations!$I$16)^Computations!D891","v":450000.00000000035},{"$f":"Computations!$J$17+Computations!$I$17*LN(Computations!D891)","v":450000},{"$f":"Computations!$J$18+Computations!$I$18*Computations!D891+Computations!$H$18*Computations!D891^2","v":450000},{"$f":"Computations!$J$19+Computations!$I$19*Computations!D891+Computations!$H$19*Computations!D891^2+Computations!$G$19*Computations!D891^3","v":450000}]
[838,0.25536483855713266,0.25565668581406914,0.25551076218560087,0.9987113483111576,1.9180492721426745E-5,3914.6152919158003,450000,{"$f":"G892-H892/User_entry!$E$18","v":2414.6152919158003},2414.6152919158003,null,{"$f":"HLOOKUP(User_entry!$B$56,Computations!$N$54:$R$1054,Computations!A892+1,FALSE)","v":3914.6152919158003},{"$f":"HLOOKUP(User_entry!$E$56,Computations!$S$54:$W$1054,Computations!A892+1,FALSE)","v":450000},{"$f":"Computations!$F$15+Computations!$E$15*D892","v":3914.6152919158003},{"$f":"EXP(Computations!$F$16)*EXP(Computations!$E$16)^Computations!D892","v":5106.9537109997782},{"$f":"Computations!$F$17+Computations!$E$17*LN(Computations!D892)","v":3308.0118287266087},{"$f":"Computations!$F$18+Computations!$E$18*Computations!D892+Computations!$D$18*Computations!D892^2","v":3350.5777813643658},{"$f":"Computations!$F$19+Computations!$E$19*Computations!D892+Computations!$D$19*Computations!D892^2+Computations!$C$19*Computations!D892^3","v":3350.5777813643658},{"$f":"Computations!$J$15+Computations!$I$15*D892","v":450000},{"$f":"EXP(Computations!$J$16)*EXP(Computations!$I$16)^Computations!D892","v":450000.00000000035},{"$f":"Computations!$J$17+Computations!$I$17*LN(Computations!D892)","v":450000},{"$f":"Computations!$J$18+Computations!$I$18*Computations!D892+Computations!$H$18*Computations!D892^2","v":450000},{"$f":"Computations!$J$19+Computations!$I$19*Computations!D892+Computations!$H$19*Computations!D892^2+Computations!$G$19*Computations!D892^3","v":450000}]
[839,0.25565668581406914,0.25594853307100562,0.25580260944253741,0.99873026330431736,1.8914993159757643E-5,3918.4553874018075,450000,{"$f":"G893-H893/User_entry!$E$18","v":2418.4553874018075},2418.4553874018075,null,{"$f":"HLOOKUP(User_entry!$B$56,Computations!$N$54:$R$1054,Computations!A893+1,FALSE)","v":3918.4553874018075},{"$f":"HLOOKUP(User_entry!$E$56,Computations!$S$54:$W$1054,Computations!A893+1,FALSE)","v":450000},{"$f":"Computations!$F$15+Computations!$E$15*D893","v":3918.4553874018075},{"$f":"EXP(Computations!$F$16)*EXP(Computations!$E$16)^Computations!D893","v":5117.5491746084417},{"$f":"Computations!$F$17+Computations!$E$17*LN(Computations!D893)","v":3309.4621122433969},{"$f":"Computations!$F$18+Computations!$E$18*Computations!D893+Computations!$D$18*Computations!D893^2","v":3351.4283175365103},{"$f":"Computations!$F$19+Computations!$E$19*Computations!D893+Computations!$D$19*Computations!D893^2+Computations!$C$19*Computations!D893^3","v":3351.4283175365103},{"$f":"Computations!$J$15+Computations!$I$15*D893","v":450000},{"$f":"EXP(Computations!$J$16)*EXP(Computations!$I$16)^Computations!D893","v":450000.00000000035},{"$f":"Computations!$J$17+Computations!$I$17*LN(Computations!D893)","v":450000},{"$f":"Computations!$J$18+Computations!$I$18*Computations!D893+Computations!$H$18*Computations!D893^2","v":450000},{"$f":"Computations!$J$19+Computations!$I$19*Computations!D893+Computations!$H$19*Computations!D893^2+Computations!$G$19*Computations!D893^3","v":450000}]
[840,0.25594853307100562,0.25624038032794211,0.25609445669947384,0.99874891622335982,1.8652919042461136E-5,3922.2954828878128,450000,{"$f":"G894-H894/User_entry!$E$18","v":2422.2954828878128},2422.2954828878128,null,{"$f":"HLOOKUP(User_entry!$B$56,Computations!$N$54:$R$1054,Computations!A894+1,FALSE)","v":3922.2954828878128},{"$f":"HLOOKUP(User_entry!$E$56,Computations!$S$54:$W$1054,Computations!A894+1,FALSE)","v":450000},{"$f":"Computations!$F$15+Computations!$E$15*D894","v":3922.2954828878128},{"$f":"EXP(Computations!$F$16)*EXP(Computations!$E$16)^Computations!D894","v":5128.1666207639264},{"$f":"Computations!$F$17+Computations!$E$17*LN(Computations!D894)","v":3310.9107420630407},{"$f":"Computations!$F$18+Computations!$E$18*Computations!D894+Computations!$D$18*Computations!D894^2","v":3352.2725444626267},{"$f":"Computations!$F$19+Computations!$E$19*Computations!D894+Computations!$D$19*Computations!D894^2+Computations!$C$19*Computations!D894^3","v":3352.2725444626267},{"$f":"Computations!$J$15+Computations!$I$15*D894","v":450000},{"$f":"EXP(Computations!$J$16)*EXP(Computations!$I$16)^Computations!D894","v":450000.00000000035},{"$f":"Computations!$J$17+Computations!$I$17*LN(Computations!D894)","v":450000},{"$f":"Computations!$J$18+Computations!$I$18*Computations!D894+Computations!$H$18*Computations!D894^2","v":450000},{"$f":"Computations!$J$19+Computations!$I$19*Computations!D894+Computations!$H$19*Computations!D894^2+Computations!$G$19*Computations!D894^3","v":450000}]
[841,0.25624038032794211,0.25653222758487859,0.25638630395641038,0.99876731045337297,1.8394230013152324E-5,3926.13557837382,450000,{"$f":"G895-H895/User_entry!$E$18","v":2426.13557837382},2426.13557837382,null,{"$f":"HLOOKUP(User_entry!$B$56,Computations!$N$54:$R$1054,Computations!A895+1,FALSE)","v":3926.13557837382},{"$f":"HLOOKUP(User_entry!$E$56,Computations!$S$54:$W$1054,Computations!A895+1,FALSE)","v":450000},{"$f":"Computations!$F$15+Computations!$E$15*D895","v":3926.13557837382},{"$f":"EXP(Computations!$F$16)*EXP(Computations!$E$16)^Computations!D895","v":5138.8060950737172},{"$f":"Computations!$F$17+Computations!$E$17*LN(Computations!D895)","v":3312.35772195253},{"$f":"Computations!$F$18+Computations!$E$18*Computations!D895+Computations!$D$18*Computations!D895^2","v":3353.1104621427148},{"$f":"Computations!$F$19+Computations!$E$19*Computations!D895+Computations!$D$19*Computations!D895^2+Computations!$C$19*Computations!D895^3","v":3353.1104621427148},{"$f":"Computations!$J$15+Computations!$I$15*D895","v":450000},{"$f":"EXP(Computations!$J$16)*EXP(Computations!$I$16)^Computations!D895","v":450000.00000000035},{"$f":"Computations!$J$17+Computations!$I$17*LN(Computations!D895)","v":450000},{"$f":"Computations!$J$18+Computations!$I$18*Computations!D895+Computations!$H$18*Computations!D895^2","v":450000},{"$f":"Computations!$J$19+Computations!$I$19*Computations!D895+Computations!$H$19*Computations!D895^2+Computations!$G$19*Computations!D895^3","v":450000}]
[842,0.25653222758487859,0.25682407484181508,0.25667815121334681,0.99878544933950741,1.8138886134444476E-5,3929.9756738598253,450000,{"$f":"G896-H896/User_entry!$E$18","v":2429.9756738598253},2429.9756738598253,null,{"$f":"HLOOKUP(User_entry!$B$56,Computations!$N$54:$R$1054,Computations!A896+1,FALSE)","v":3929.9756738598253},{"$f":"HLOOKUP(User_entry!$E$56,Computations!$S$54:$W$1054,Computations!A896+1,FALSE)","v":450000},{"$f":"Computations!$F$15+Computations!$E$15*D896","v":3929.9756738598253},{"$f":"EXP(Computations!$F$16)*EXP(Computations!$E$16)^Computations!D896","v":5149.4676432399046},{"$f":"Computations!$F$17+Computations!$E$17*LN(Computations!D896)","v":3313.8030556659933},{"$f":"Computations!$F$18+Computations!$E$18*Computations!D896+Computations!$D$18*Computations!D896^2","v":3353.9420705767752},{"$f":"Computations!$F$19+Computations!$E$19*Computations!D896+Computations!$D$19*Computations!D896^2+Computations!$C$19*Computations!D896^3","v":3353.9420705767752},{"$f":"Computations!$J$15+Computations!$I$15*D896","v":450000},{"$f":"EXP(Computations!$J$16)*EXP(Computations!$I$16)^Computations!D896","v":450000.00000000035},{"$f":"Computations!$J$17+Computations!$I$17*LN(Computations!D896)","v":450000},{"$f":"Computations!$J$18+Computations!$I$18*Computations!D896+Computations!$H$18*Computations!D896^2","v":450000},{"$f":"Computations!$J$19+Computations!$I$19*Computations!D896+Computations!$H$19*Computations!D896^2+Computations!$G$19*Computations!D896^3","v":450000}]
[843,0.25682407484181508,0.25711592209875156,0.25696999847028335,0.99880333618738915,1.7886847881731782E-5,3933.8157693458325,450000,{"$f":"G897-H897/User_entry!$E$18","v":2433.8157693458325},2433.8157693458325,null,{"$f":"HLOOKUP(User_entry!$B$56,Computations!$N$54:$R$1054,Computations!A897+1,FALSE)","v":3933.8157693458325},{"$f":"HLOOKUP(User_entry!$E$56,Computations!$S$54:$W$1054,Computations!A897+1,FALSE)","v":450000},{"$f":"Computations!$F$15+Computations!$E$15*D897","v":3933.8157693458325},{"$f":"EXP(Computations!$F$16)*EXP(Computations!$E$16)^Computations!D897","v":5160.1513110594151},{"$f":"Computations!$F$17+Computations!$E$17*LN(Computations!D897)","v":3315.2467469447643},{"$f":"Computations!$F$18+Computations!$E$18*Computations!D897+Computations!$D$18*Computations!D897^2","v":3354.7673697648074},{"$f":"Computations!$F$19+Computations!$E$19*Computations!D897+Computations!$D$19*Computations!D897^2+Computations!$C$19*Computations!D897^3","v":3354.7673697648074},{"$f":"Computations!$J$15+Computations!$I$15*D897","v":450000},{"$f":"EXP(Computations!$J$16)*EXP(Computations!$I$16)^Computations!D897","v":450000.00000000035},{"$f":"Computations!$J$17+Computations!$I$17*LN(Computations!D897)","v":450000},{"$f":"Computations!$J$18+Computations!$I$18*Computations!D897+Computations!$H$18*Computations!D897^2","v":450000},{"$f":"Computations!$J$19+Computations!$I$19*Computations!D897+Computations!$H$19*Computations!D897^2+Computations!$G$19*Computations!D897^3","v":450000}]
[844,0.25711592209875156,0.25740776935568804,0.25726184572721977,0.99882097426353167,1.7638076142523218E-5,3937.6558648318378,450000,{"$f":"G898-H898/User_entry!$E$18","v":2437.6558648318378},2437.6558648318378,null,{"$f":"HLOOKUP(User_entry!$B$56,Computations!$N$54:$R$1054,Computations!A898+1,FALSE)","v":3937.6558648318378},{"$f":"HLOOKUP(User_entry!$E$56,Computations!$S$54:$W$1054,Computations!A898+1,FALSE)","v":450000},{"$f":"Computations!$F$15+Computations!$E$15*D898","v":3937.6558648318378},{"$f":"EXP(Computations!$F$16)*EXP(Computations!$E$16)^Computations!D898","v":5170.8571444241761},{"$f":"Computations!$F$17+Computations!$E$17*LN(Computations!D898)","v":3316.6887995174338},{"$f":"Computations!$F$18+Computations!$E$18*Computations!D898+Computations!$D$18*Computations!D898^2","v":3355.5863597068101},{"$f":"Computations!$F$19+Computations!$E$19*Computations!D898+Computations!$D$19*Computations!D898^2+Computations!$C$19*Computations!D898^3","v":3355.5863597068101},{"$f":"Computations!$J$15+Computations!$I$15*D898","v":450000},{"$f":"EXP(Computations!$J$16)*EXP(Computations!$I$16)^Computations!D898","v":450000.00000000035},{"$f":"Computations!$J$17+Computations!$I$17*LN(Computations!D898)","v":450000},{"$f":"Computations!$J$18+Computations!$I$18*Computations!D898+Computations!$H$18*Computations!D898^2","v":450000},{"$f":"Computations!$J$19+Computations!$I$19*Computations!D898+Computations!$H$19*Computations!D898^2+Computations!$G$19*Computations!D898^3","v":450000}]
[845,0.25740776935568804,0.25769961661262453,0.25755369298415631,0.99883836679574256,1.7392532210891432E-5,3941.4959603178449,450000,{"$f":"G899-H899/User_entry!$E$18","v":2441.4959603178449},2441.4959603178449,null,{"$f":"HLOOKUP(User_entry!$B$56,Computations!$N$54:$R$1054,Computations!A899+1,FALSE)","v":3941.4959603178449},{"$f":"HLOOKUP(User_entry!$E$56,Computations!$S$54:$W$1054,Computations!A899+1,FALSE)","v":450000},{"$f":"Computations!$F$15+Computations!$E$15*D899","v":3941.4959603178449},{"$f":"EXP(Computations!$F$16)*EXP(Computations!$E$16)^Computations!D899","v":5181.5851893213403},{"$f":"Computations!$F$17+Computations!$E$17*LN(Computations!D899)","v":3318.1292170999141},{"$f":"Computations!$F$18+Computations!$E$18*Computations!D899+Computations!$D$18*Computations!D899^2","v":3356.3990404027854},{"$f":"Computations!$F$19+Computations!$E$19*Computations!D899+Computations!$D$19*Computations!D899^2+Computations!$C$19*Computations!D899^3","v":3356.3990404027854},{"$f":"Computations!$J$15+Computations!$I$15*D899","v":450000},{"$f":"EXP(Computations!$J$16)*EXP(Computations!$I$16)^Computations!D899","v":450000.00000000035},{"$f":"Computations!$J$17+Computations!$I$17*LN(Computations!D899)","v":450000},{"$f":"Computations!$J$18+Computations!$I$18*Computations!D899+Computations!$H$18*Computations!D899^2","v":450000},{"$f":"Computations!$J$19+Computations!$I$19*Computations!D899+Computations!$H$19*Computations!D899^2+Computations!$G$19*Computations!D899^3","v":450000}]
[846,0.25769961661262453,0.25799146386956101,0.25784554024109274,0.99885551697352803,1.7150177785474341E-5,3945.3360558038512,450000,{"$f":"G900-H900/User_entry!$E$18","v":2445.3360558038512},2445.3360558038512,null,{"$f":"HLOOKUP(User_entry!$B$56,Computations!$N$54:$R$1054,Computations!A900+1,FALSE)","v":3945.3360558038512},{"$f":"HLOOKUP(User_entry!$E$56,Computations!$S$54:$W$1054,Computations!A900+1,FALSE)","v":450000},{"$f":"Computations!$F$15+Computations!$E$15*D900","v":3945.3360558038512},{"$f":"EXP(Computations!$F$16)*EXP(Computations!$E$16)^Computations!D900","v":5192.3354918334571},{"$f":"Computations!$F$17+Computations!$E$17*LN(Computations!D900)","v":3319.5680033954873},{"$f":"Computations!$F$18+Computations!$E$18*Computations!D900+Computations!$D$18*Computations!D900^2","v":3357.2054118527326},{"$f":"Computations!$F$19+Computations!$E$19*Computations!D900+Computations!$D$19*Computations!D900^2+Computations!$C$19*Computations!D900^3","v":3357.2054118527326},{"$f":"Computations!$J$15+Computations!$I$15*D900","v":450000},{"$f":"EXP(Computations!$J$16)*EXP(Computations!$I$16)^Computations!D900","v":450000.00000000035},{"$f":"Computations!$J$17+Computations!$I$17*LN(Computations!D900)","v":450000},{"$f":"Computations!$J$18+Computations!$I$18*Computations!D900+Computations!$H$18*Computations!D900^2","v":450000},{"$f":"Computations!$J$19+Computations!$I$19*Computations!D900+Computations!$H$19*Computations!D900^2+Computations!$G$19*Computations!D900^3","v":450000}]
[847,0.25799146386956101,0.25828331112649749,0.25813738749802928,0.99887242794849251,1.6910974964479131E-5,3949.1761512898584,450000,{"$f":"G901-H901/User_entry!$E$18","v":2449.1761512898584},2449.1761512898584,null,{"$f":"HLOOKUP(User_entry!$B$56,Computations!$N$54:$R$1054,Computations!A901+1,FALSE)","v":3949.1761512898584},{"$f":"HLOOKUP(User_entry!$E$56,Computations!$S$54:$W$1054,Computations!A901+1,FALSE)","v":450000},{"$f":"Computations!$F$15+Computations!$E$15*D901","v":3949.1761512898584},{"$f":"EXP(Computations!$F$16)*EXP(Computations!$E$16)^Computations!D901","v":5203.1080981386995},{"$f":"Computations!$F$17+Computations!$E$17*LN(Computations!D901)","v":3321.0051620948725},{"$f":"Computations!$F$18+Computations!$E$18*Computations!D901+Computations!$D$18*Computations!D901^2","v":3358.0054740566516},{"$f":"Computations!$F$19+Computations!$E$19*Computations!D901+Computations!$D$19*Computations!D901^2+Computations!$C$19*Computations!D901^3","v":3358.0054740566516},{"$f":"Computations!$J$15+Computations!$I$15*D901","v":450000},{"$f":"EXP(Computations!$J$16)*EXP(Computations!$I$16)^Computations!D901","v":450000.00000000035},{"$f":"Computations!$J$17+Computations!$I$17*LN(Computations!D901)","v":450000},{"$f":"Computations!$J$18+Computations!$I$18*Computations!D901+Computations!$H$18*Computations!D901^2","v":450000},{"$f":"Computations!$J$19+Computations!$I$19*Computations!D901+Computations!$H$19*Computations!D901^2+Computations!$G$19*Computations!D901^3","v":450000}]
[848,0.25828331112649749,0.25857515838343398,0.25842923475496571,0.99888910283473697,1.6674886244461007E-5,3953.0162467758637,450000,{"$f":"G902-H902/User_entry!$E$18","v":2453.0162467758637},2453.0162467758637,null,{"$f":"HLOOKUP(User_entry!$B$56,Computations!$N$54:$R$1054,Computations!A902+1,FALSE)","v":3953.0162467758637},{"$f":"HLOOKUP(User_entry!$E$56,Computations!$S$54:$W$1054,Computations!A902+1,FALSE)","v":450000},{"$f":"Computations!$F$15+Computations!$E$15*D902","v":3953.0162467758637},{"$f":"EXP(Computations!$F$16)*EXP(Computations!$E$16)^Computations!D902","v":5213.9030545110299},{"$f":"Computations!$F$17+Computations!$E$17*LN(Computations!D902)","v":3322.4406968762751},{"$f":"Computations!$F$18+Computations!$E$18*Computations!D902+Computations!$D$18*Computations!D902^2","v":3358.7992270145414},{"$f":"Computations!$F$19+Computations!$E$19*Computations!D902+Computations!$D$19*Computations!D902^2+Computations!$C$19*Computations!D902^3","v":3358.7992270145414},{"$f":"Computations!$J$15+Computations!$I$15*D902","v":450000},{"$f":"EXP(Computations!$J$16)*EXP(Computations!$I$16)^Computations!D902","v":450000.00000000035},{"$f":"Computations!$J$17+Computations!$I$17*LN(Computations!D902)","v":450000},{"$f":"Computations!$J$18+Computations!$I$18*Computations!D902+Computations!$H$18*Computations!D902^2","v":450000},{"$f":"Computations!$J$19+Computations!$I$19*Computations!D902+Computations!$H$19*Computations!D902^2+Computations!$G$19*Computations!D902^3","v":450000}]
[849,0.25857515838343398,0.25886700564037046,0.25872108201190225,0.99890554470925186,1.6441874514883104E-5,3956.8563422618709,450000,{"$f":"G903-H903/User_entry!$E$18","v":2456.8563422618709},2456.8563422618709,null,{"$f":"HLOOKUP(User_entry!$B$56,Computations!$N$54:$R$1054,Computations!A903+1,FALSE)","v":3956.8563422618709},{"$f":"HLOOKUP(User_entry!$E$56,Computations!$S$54:$W$1054,Computations!A903+1,FALSE)","v":450000},{"$f":"Computations!$F$15+Computations!$E$15*D903","v":3956.8563422618709},{"$f":"EXP(Computations!$F$16)*EXP(Computations!$E$16)^Computations!D903","v":5224.7204073204321},{"$f":"Computations!$F$17+Computations!$E$17*LN(Computations!D903)","v":3323.874611405447},{"$f":"Computations!$F$18+Computations!$E$18*Computations!D903+Computations!$D$18*Computations!D903^2","v":3359.5866707264045},{"$f":"Computations!$F$19+Computations!$E$19*Computations!D903+Computations!$D$19*Computations!D903^2+Computations!$C$19*Computations!D903^3","v":3359.5866707264045},{"$f":"Computations!$J$15+Computations!$I$15*D903","v":450000},{"$f":"EXP(Computations!$J$16)*EXP(Computations!$I$16)^Computations!D903","v":450000.00000000035},{"$f":"Computations!$J$17+Computations!$I$17*LN(Computations!D903)","v":450000},{"$f":"Computations!$J$18+Computations!$I$18*Computations!D903+Computations!$H$18*Computations!D903^2","v":450000},{"$f":"Computations!$J$19+Computations!$I$19*Computations!D903+Computations!$H$19*Computations!D903^2+Computations!$G$19*Computations!D903^3","v":450000}]
[850,0.25886700564037046,0.25915885289730695,0.25901292926883868,0.99892175661230831,1.6211903056451149E-5,3960.6964377478762,450000,{"$f":"G904-H904/User_entry!$E$18","v":2460.6964377478762},2460.6964377478762,null,{"$f":"HLOOKUP(User_entry!$B$56,Computations!$N$54:$R$1054,Computations!A904+1,FALSE)","v":3960.6964377478762},{"$f":"HLOOKUP(User_entry!$E$56,Computations!$S$54:$W$1054,Computations!A904+1,FALSE)","v":450000},{"$f":"Computations!$F$15+Computations!$E$15*D904","v":3960.6964377478762},{"$f":"EXP(Computations!$F$16)*EXP(Computations!$E$16)^Computations!D904","v":5235.5602030330811},{"$f":"Computations!$F$17+Computations!$E$17*LN(Computations!D904)","v":3325.3069093357412},{"$f":"Computations!$F$18+Computations!$E$18*Computations!D904+Computations!$D$18*Computations!D904^2","v":3360.3678051922375},{"$f":"Computations!$F$19+Computations!$E$19*Computations!D904+Computations!$D$19*Computations!D904^2+Computations!$C$19*Computations!D904^3","v":3360.3678051922375},{"$f":"Computations!$J$15+Computations!$I$15*D904","v":450000},{"$f":"EXP(Computations!$J$16)*EXP(Computations!$I$16)^Computations!D904","v":450000.00000000035},{"$f":"Computations!$J$17+Computations!$I$17*LN(Computations!D904)","v":450000},{"$f":"Computations!$J$18+Computations!$I$18*Computations!D904+Computations!$H$18*Computations!D904^2","v":450000},{"$f":"Computations!$J$19+Computations!$I$19*Computations!D904+Computations!$H$19*Computations!D904^2+Computations!$G$19*Computations!D904^3","v":450000}]
[851,0.25915885289730695,0.25945070015424343,0.25930477652577522,0.99893774154784398,1.5984935535673372E-5,3964.5365332338833,450000,{"$f":"G905-H905/User_entry!$E$18","v":2464.5365332338833},2464.5365332338833,null,{"$f":"HLOOKUP(User_entry!$B$56,Computations!$N$54:$R$1054,Computations!A905+1,FALSE)","v":3964.5365332338833},{"$f":"HLOOKUP(User_entry!$E$56,Computations!$S$54:$W$1054,Computations!A905+1,FALSE)","v":450000},{"$f":"Computations!$F$15+Computations!$E$15*D905","v":3964.5365332338833},{"$f":"EXP(Computations!$F$16)*EXP(Computations!$E$16)^Computations!D905","v":5246.4224882115659},{"$f":"Computations!$F$17+Computations!$E$17*LN(Computations!D905)","v":3326.7375943081693},{"$f":"Computations!$F$18+Computations!$E$18*Computations!D905+Computations!$D$18*Computations!D905^2","v":3361.1426304120441},{"$f":"Computations!$F$19+Computations!$E$19*Computations!D905+Computations!$D$19*Computations!D905^2+Computations!$C$19*Computations!D905^3","v":3361.1426304120441},{"$f":"Computations!$J$15+Computations!$I$15*D905","v":450000},{"$f":"EXP(Computations!$J$16)*EXP(Computations!$I$16)^Computations!D905","v":450000.00000000035},{"$f":"Computations!$J$17+Computations!$I$17*LN(Computations!D905)","v":450000},{"$f":"Computations!$J$18+Computations!$I$18*Computations!D905+Computations!$H$18*Computations!D905^2","v":450000},{"$f":"Computations!$J$19+Computations!$I$19*Computations!D905+Computations!$H$19*Computations!D905^2+Computations!$G$19*Computations!D905^3","v":450000}]
[852,0.25945070015424343,0.25974254741117991,0.25959662378271164,0.99895350248384862,1.5760936004638459E-5,3968.3766287198896,450000,{"$f":"G906-H906/User_entry!$E$18","v":2468.3766287198896},2468.3766287198896,null,{"$f":"HLOOKUP(User_entry!$B$56,Computations!$N$54:$R$1054,Computations!A906+1,FALSE)","v":3968.3766287198896},{"$f":"HLOOKUP(User_entry!$E$56,Computations!$S$54:$W$1054,Computations!A906+1,FALSE)","v":450000},{"$f":"Computations!$F$15+Computations!$E$15*D906","v":3968.3766287198896},{"$f":"EXP(Computations!$F$16)*EXP(Computations!$E$16)^Computations!D906","v":5257.3073095150703},{"$f":"Computations!$F$17+Computations!$E$17*LN(Computations!D906)","v":3328.1666699514544},{"$f":"Computations!$F$18+Computations!$E$18*Computations!D906+Computations!$D$18*Computations!D906^2","v":3361.9111463858217},{"$f":"Computations!$F$19+Computations!$E$19*Computations!D906+Computations!$D$19*Computations!D906^2+Computations!$C$19*Computations!D906^3","v":3361.9111463858217},{"$f":"Computations!$J$15+Computations!$I$15*D906","v":450000},{"$f":"EXP(Computations!$J$16)*EXP(Computations!$I$16)^Computations!D906","v":450000.00000000035},{"$f":"Computations!$J$17+Computations!$I$17*LN(Computations!D906)","v":450000},{"$f":"Computations!$J$18+Computations!$I$18*Computations!D906+Computations!$H$18*Computations!D906^2","v":450000},{"$f":"Computations!$J$19+Computations!$I$19*Computations!D906+Computations!$H$19*Computations!D906^2+Computations!$G$19*Computations!D906^3","v":450000}]
[853,0.25974254741117991,0.2600343946681164,0.25988847103964818,0.99896904235274309,1.5539868894465236E-5,3972.2167242058958,450000,{"$f":"G907-H907/User_entry!$E$18","v":2472.2167242058958},2472.2167242058958,null,{"$f":"HLOOKUP(User_entry!$B$56,Computations!$N$54:$R$1054,Computations!A907+1,FALSE)","v":3972.2167242058958},{"$f":"HLOOKUP(User_entry!$E$56,Computations!$S$54:$W$1054,Computations!A907+1,FALSE)","v":450000},{"$f":"Computations!$F$15+Computations!$E$15*D907","v":3972.2167242058958},{"$f":"EXP(Computations!$F$16)*EXP(Computations!$E$16)^Computations!D907","v":5268.2147136995945},{"$f":"Computations!$F$17+Computations!$E$17*LN(Computations!D907)","v":3329.5941398820892},{"$f":"Computations!$F$18+Computations!$E$18*Computations!D907+Computations!$D$18*Computations!D907^2","v":3362.673353113571},{"$f":"Computations!$F$19+Computations!$E$19*Computations!D907+Computations!$D$19*Computations!D907^2+Computations!$C$19*Computations!D907^3","v":3362.673353113571},{"$f":"Computations!$J$15+Computations!$I$15*D907","v":450000},{"$f":"EXP(Computations!$J$16)*EXP(Computations!$I$16)^Computations!D907","v":450000.00000000035},{"$f":"Computations!$J$17+Computations!$I$17*LN(Computations!D907)","v":450000},{"$f":"Computations!$J$18+Computations!$I$18*Computations!D907+Computations!$H$18*Computations!D907^2","v":450000},{"$f":"Computations!$J$19+Computations!$I$19*Computations!D907+Computations!$H$19*Computations!D907^2+Computations!$G$19*Computations!D907^3","v":450000}]
[854,0.2600343946681164,0.26032624192505288,0.26018031829658461,0.99898436405175706,1.5321699013970402E-5,3976.0568196919021,450000,{"$f":"G908-H908/User_entry!$E$18","v":2476.0568196919021},2476.0568196919021,null,{"$f":"HLOOKUP(User_entry!$B$56,Computations!$N$54:$R$1054,Computations!A908+1,FALSE)","v":3976.0568196919021},{"$f":"HLOOKUP(User_entry!$E$56,Computations!$S$54:$W$1054,Computations!A908+1,FALSE)","v":450000},{"$f":"Computations!$F$15+Computations!$E$15*D908","v":3976.0568196919021},{"$f":"EXP(Computations!$F$16)*EXP(Computations!$E$16)^Computations!D908","v":5279.1447476181293},{"$f":"Computations!$F$17+Computations!$E$17*LN(Computations!D908)","v":3331.0200077043883},{"$f":"Computations!$F$18+Computations!$E$18*Computations!D908+Computations!$D$18*Computations!D908^2","v":3363.4292505952913},{"$f":"Computations!$F$19+Computations!$E$19*Computations!D908+Computations!$D$19*Computations!D908^2+Computations!$C$19*Computations!D908^3","v":3363.4292505952913},{"$f":"Computations!$J$15+Computations!$I$15*D908","v":450000},{"$f":"EXP(Computations!$J$16)*EXP(Computations!$I$16)^Computations!D908","v":450000.00000000035},{"$f":"Computations!$J$17+Computations!$I$17*LN(Computations!D908)","v":450000},{"$f":"Computations!$J$18+Computations!$I$18*Computations!D908+Computations!$H$18*Computations!D908^2","v":450000},{"$f":"Computations!$J$19+Computations!$I$19*Computations!D908+Computations!$H$19*Computations!D908^2+Computations!$G$19*Computations!D908^3","v":450000}]
[855,0.26032624192505288,0.26061808918198937,0.26047216555352115,0.99899947044330328,1.5106391546226838E-5,3979.8969151779092,450000,{"$f":"G909-H909/User_entry!$E$18","v":2479.8969151779092},2479.8969151779092,null,{"$f":"HLOOKUP(User_entry!$B$56,Computations!$N$54:$R$1054,Computations!A909+1,FALSE)","v":3979.8969151779092},{"$f":"HLOOKUP(User_entry!$E$56,Computations!$S$54:$W$1054,Computations!A909+1,FALSE)","v":450000},{"$f":"Computations!$F$15+Computations!$E$15*D909","v":3979.8969151779092},{"$f":"EXP(Computations!$F$16)*EXP(Computations!$E$16)^Computations!D909","v":5290.0974582208855},{"$f":"Computations!$F$17+Computations!$E$17*LN(Computations!D909)","v":3332.4442770105461},{"$f":"Computations!$F$18+Computations!$E$18*Computations!D909+Computations!$D$18*Computations!D909^2","v":3364.1788388309851},{"$f":"Computations!$F$19+Computations!$E$19*Computations!D909+Computations!$D$19*Computations!D909^2+Computations!$C$19*Computations!D909^3","v":3364.1788388309851},{"$f":"Computations!$J$15+Computations!$I$15*D909","v":450000},{"$f":"EXP(Computations!$J$16)*EXP(Computations!$I$16)^Computations!D909","v":450000.00000000035},{"$f":"Computations!$J$17+Computations!$I$17*LN(Computations!D909)","v":450000},{"$f":"Computations!$J$18+Computations!$I$18*Computations!D909+Computations!$H$18*Computations!D909^2","v":450000},{"$f":"Computations!$J$19+Computations!$I$19*Computations!D909+Computations!$H$19*Computations!D909^2+Computations!$G$19*Computations!D909^3","v":450000}]
[856,0.26061808918198937,0.26090993643892585,0.26076401281045758,0.99901436435534796,1.4893912044677826E-5,3983.7370106639146,450000,{"$f":"G910-H910/User_entry!$E$18","v":2483.7370106639146},2483.7370106639146,null,{"$f":"HLOOKUP(User_entry!$B$56,Computations!$N$54:$R$1054,Computations!A910+1,FALSE)","v":3983.7370106639146},{"$f":"HLOOKUP(User_entry!$E$56,Computations!$S$54:$W$1054,Computations!A910+1,FALSE)","v":450000},{"$f":"Computations!$F$15+Computations!$E$15*D910","v":3983.7370106639146},{"$f":"EXP(Computations!$F$16)*EXP(Computations!$E$16)^Computations!D910","v":5301.0728925554713},{"$f":"Computations!$F$17+Computations!$E$17*LN(Computations!D910)","v":3333.8669513806863},{"$f":"Computations!$F$18+Computations!$E$18*Computations!D910+Computations!$D$18*Computations!D910^2","v":3364.9221178206494},{"$f":"Computations!$F$19+Computations!$E$19*Computations!D910+Computations!$D$19*Computations!D910^2+Computations!$C$19*Computations!D910^3","v":3364.9221178206494},{"$f":"Computations!$J$15+Computations!$I$15*D910","v":450000},{"$f":"EXP(Computations!$J$16)*EXP(Computations!$I$16)^Computations!D910","v":450000.00000000035},{"$f":"Computations!$J$17+Computations!$I$17*LN(Computations!D910)","v":450000},{"$f":"Computations!$J$18+Computations!$I$18*Computations!D910+Computations!$H$18*Computations!D910^2","v":450000},{"$f":"Computations!$J$19+Computations!$I$19*Computations!D910+Computations!$H$19*Computations!D910^2+Computations!$G$19*Computations!D910^3","v":450000}]
[857,0.26090993643892585,0.26120178369586233,0.26105586006739412,0.99902904858177788,1.4684226429917402E-5,3987.5771061499217,450000,{"$f":"G911-H911/User_entry!$E$18","v":2487.5771061499217},2487.5771061499217,null,{"$f":"HLOOKUP(User_entry!$B$56,Computations!$N$54:$R$1054,Computations!A911+1,FALSE)","v":3987.5771061499217},{"$f":"HLOOKUP(User_entry!$E$56,Computations!$S$54:$W$1054,Computations!A911+1,FALSE)","v":450000},{"$f":"Computations!$F$15+Computations!$E$15*D911","v":3987.5771061499217},{"$f":"EXP(Computations!$F$16)*EXP(Computations!$E$16)^Computations!D911","v":5312.0710977671151},{"$f":"Computations!$F$17+Computations!$E$17*LN(Computations!D911)","v":3335.288034382922},{"$f":"Computations!$F$18+Computations!$E$18*Computations!D911+Computations!$D$18*Computations!D911^2","v":3365.6590875642855},{"$f":"Computations!$F$19+Computations!$E$19*Computations!D911+Computations!$D$19*Computations!D911^2+Computations!$C$19*Computations!D911^3","v":3365.6590875642855},{"$f":"Computations!$J$15+Computations!$I$15*D911","v":450000},{"$f":"EXP(Computations!$J$16)*EXP(Computations!$I$16)^Computations!D911","v":450000.00000000035},{"$f":"Computations!$J$17+Computations!$I$17*LN(Computations!D911)","v":450000},{"$f":"Computations!$J$18+Computations!$I$18*Computations!D911+Computations!$H$18*Computations!D911^2","v":450000},{"$f":"Computations!$J$19+Computations!$I$19*Computations!D911+Computations!$H$19*Computations!D911^2+Computations!$G$19*Computations!D911^3","v":450000}]
[858,0.26120178369586233,0.26149363095279882,0.26134770732433055,0.99904352588276546,1.4477300987580932E-5,3991.4172016359271,450000,{"$f":"G912-H912/User_entry!$E$18","v":2491.4172016359271},2491.4172016359271,null,{"$f":"HLOOKUP(User_entry!$B$56,Computations!$N$54:$R$1054,Computations!A912+1,FALSE)","v":3991.4172016359271},{"$f":"HLOOKUP(User_entry!$E$56,Computations!$S$54:$W$1054,Computations!A912+1,FALSE)","v":450000},{"$f":"Computations!$F$15+Computations!$E$15*D912","v":3991.4172016359271},{"$f":"EXP(Computations!$F$16)*EXP(Computations!$E$16)^Computations!D912","v":5323.0921210988481},{"$f":"Computations!$F$17+Computations!$E$17*LN(Computations!D912)","v":3336.7075295734026},{"$f":"Computations!$F$18+Computations!$E$18*Computations!D912+Computations!$D$18*Computations!D912^2","v":3366.389748061893},{"$f":"Computations!$F$19+Computations!$E$19*Computations!D912+Computations!$D$19*Computations!D912^2+Computations!$C$19*Computations!D912^3","v":3366.389748061893},{"$f":"Computations!$J$15+Computations!$I$15*D912","v":450000},{"$f":"EXP(Computations!$J$16)*EXP(Computations!$I$16)^Computations!D912","v":450000.00000000035},{"$f":"Computations!$J$17+Computations!$I$17*LN(Computations!D912)","v":450000},{"$f":"Computations!$J$18+Computations!$I$18*Computations!D912+Computations!$H$18*Computations!D912^2","v":450000},{"$f":"Computations!$J$19+Computations!$I$19*Computations!D912+Computations!$H$19*Computations!D912^2+Computations!$G$19*Computations!D912^3","v":450000}]
[859,0.26149363095279882,0.2617854782097353,0.26163955458126709,0.99905779898512925,1.42731023637932E-5,3995.2572971219342,450000,{"$f":"G913-H913/User_entry!$E$18","v":2495.2572971219342},2495.2572971219342,null,{"$f":"HLOOKUP(User_entry!$B$56,Computations!$N$54:$R$1054,Computations!A913+1,FALSE)","v":3995.2572971219342},{"$f":"HLOOKUP(User_entry!$E$56,Computations!$S$54:$W$1054,Computations!A913+1,FALSE)","v":450000},{"$f":"Computations!$F$15+Computations!$E$15*D913","v":3995.2572971219342},{"$f":"EXP(Computations!$F$16)*EXP(Computations!$E$16)^Computations!D913","v":5334.1360098917294},{"$f":"Computations!$F$17+Computations!$E$17*LN(Computations!D913)","v":3338.1254404963729},{"$f":"Computations!$F$18+Computations!$E$18*Computations!D913+Computations!$D$18*Computations!D913^2","v":3367.1140993134741},{"$f":"Computations!$F$19+Computations!$E$19*Computations!D913+Computations!$D$19*Computations!D913^2+Computations!$C$19*Computations!D913^3","v":3367.1140993134741},{"$f":"Computations!$J$15+Computations!$I$15*D913","v":450000},{"$f":"EXP(Computations!$J$16)*EXP(Computations!$I$16)^Computations!D913","v":450000.00000000035},{"$f":"Computations!$J$17+Computations!$I$17*LN(Computations!D913)","v":450000},{"$f":"Computations!$J$18+Computations!$I$18*Computations!D913+Computations!$H$18*Computations!D913^2","v":450000},{"$f":"Computations!$J$19+Computations!$I$19*Computations!D913+Computations!$H$19*Computations!D913^2+Computations!$G$19*Computations!D913^3","v":450000}]
[860,0.2617854782097353,0.26207732546667178,0.26193140183820351,0.99907187058269153,1.4071597562281823E-5,3999.0973926079405,450000,{"$f":"G914-H914/User_entry!$E$18","v":2499.0973926079405},2499.0973926079405,null,{"$f":"HLOOKUP(User_entry!$B$56,Computations!$N$54:$R$1054,Computations!A914+1,FALSE)","v":3999.0973926079405},{"$f":"HLOOKUP(User_entry!$E$56,Computations!$S$54:$W$1054,Computations!A914+1,FALSE)","v":450000},{"$f":"Computations!$F$15+Computations!$E$15*D914","v":3999.0973926079405},{"$f":"EXP(Computations!$F$16)*EXP(Computations!$E$16)^Computations!D914","v":5345.2028115850208},{"$f":"Computations!$F$17+Computations!$E$17*LN(Computations!D914)","v":3339.541770684224},{"$f":"Computations!$F$18+Computations!$E$18*Computations!D914+Computations!$D$18*Computations!D914^2","v":3367.8321413190247},{"$f":"Computations!$F$19+Computations!$E$19*Computations!D914+Computations!$D$19*Computations!D914^2+Computations!$C$19*Computations!D914^3","v":3367.8321413190247},{"$f":"Computations!$J$15+Computations!$I$15*D914","v":450000},{"$f":"EXP(Computations!$J$16)*EXP(Computations!$I$16)^Computations!D914","v":450000.00000000035},{"$f":"Computations!$J$17+Computations!$I$17*LN(Computations!D914)","v":450000},{"$f":"Computations!$J$18+Computations!$I$18*Computations!D914+Computations!$H$18*Computations!D914^2","v":450000},{"$f":"Computations!$J$19+Computations!$I$19*Computations!D914+Computations!$H$19*Computations!D914^2+Computations!$G$19*Computations!D914^3","v":450000}]
[861,0.26207732546667178,0.26236917272360827,0.26222324909514005,0.99908574333663391,1.3872753942378857E-5,4002.9374880939467,450000,{"$f":"G915-H915/User_entry!$E$18","v":2502.9374880939467},2502.9374880939467,null,{"$f":"HLOOKUP(User_entry!$B$56,Computations!$N$54:$R$1054,Computations!A915+1,FALSE)","v":4002.9374880939467},{"$f":"HLOOKUP(User_entry!$E$56,Computations!$S$54:$W$1054,Computations!A915+1,FALSE)","v":450000},{"$f":"Computations!$F$15+Computations!$E$15*D915","v":4002.9374880939467},{"$f":"EXP(Computations!$F$16)*EXP(Computations!$E$16)^Computations!D915","v":5356.2925737164232},{"$f":"Computations!$F$17+Computations!$E$17*LN(Computations!D915)","v":3340.9565236575454},{"$f":"Computations!$F$18+Computations!$E$18*Computations!D915+Computations!$D$18*Computations!D915^2","v":3368.543874078548},{"$f":"Computations!$F$19+Computations!$E$19*Computations!D915+Computations!$D$19*Computations!D915^2+Computations!$C$19*Computations!D915^3","v":3368.543874078548},{"$f":"Computations!$J$15+Computations!$I$15*D915","v":450000},{"$f":"EXP(Computations!$J$16)*EXP(Computations!$I$16)^Computations!D915","v":450000.00000000035},{"$f":"Computations!$J$17+Computations!$I$17*LN(Computations!D915)","v":450000},{"$f":"Computations!$J$18+Computations!$I$18*Computations!D915+Computations!$H$18*Computations!D915^2","v":450000},{"$f":"Computations!$J$19+Computations!$I$19*Computations!D915+Computations!$H$19*Computations!D915^2+Computations!$G$19*Computations!D915^3","v":450000}]
[862,0.26236917272360827,0.26266101998054475,0.26251509635207648,0.99909941987584794,1.3676539214024785E-5,4006.777583579953,450000,{"$f":"G916-H916/User_entry!$E$18","v":2506.777583579953},2506.777583579953,null,{"$f":"HLOOKUP(User_entry!$B$56,Computations!$N$54:$R$1054,Computations!A916+1,FALSE)","v":4006.777583579953},{"$f":"HLOOKUP(User_entry!$E$56,Computations!$S$54:$W$1054,Computations!A916+1,FALSE)","v":450000},{"$f":"Computations!$F$15+Computations!$E$15*D916","v":4006.777583579953},{"$f":"EXP(Computations!$F$16)*EXP(Computations!$E$16)^Computations!D916","v":5367.4053439222525},{"$f":"Computations!$F$17+Computations!$E$17*LN(Computations!D916)","v":3342.3697029251771},{"$f":"Computations!$F$18+Computations!$E$18*Computations!D916+Computations!$D$18*Computations!D916^2","v":3369.2492975920431},{"$f":"Computations!$F$19+Computations!$E$19*Computations!D916+Computations!$D$19*Computations!D916^2+Computations!$C$19*Computations!D916^3","v":3369.2492975920431},{"$f":"Computations!$J$15+Computations!$I$15*D916","v":450000},{"$f":"EXP(Computations!$J$16)*EXP(Computations!$I$16)^Computations!D916","v":450000.00000000035},{"$f":"Computations!$J$17+Computations!$I$17*LN(Computations!D916)","v":450000},{"$f":"Computations!$J$18+Computations!$I$18*Computations!D916+Computations!$H$18*Computations!D916^2","v":450000},{"$f":"Computations!$J$19+Computations!$I$19*Computations!D916+Computations!$H$19*Computations!D916^2+Computations!$G$19*Computations!D916^3","v":450000}]
[863,0.26266101998054475,0.26295286723748124,0.26280694360901302,0.99911290279728404,1.348292143610319E-5,4010.6176790659601,450000,{"$f":"G917-H917/User_entry!$E$18","v":2510.6176790659601},2510.6176790659601,null,{"$f":"HLOOKUP(User_entry!$B$56,Computations!$N$54:$R$1054,Computations!A917+1,FALSE)","v":4010.6176790659601},{"$f":"HLOOKUP(User_entry!$E$56,Computations!$S$54:$W$1054,Computations!A917+1,FALSE)","v":450000},{"$f":"Computations!$F$15+Computations!$E$15*D917","v":4010.6176790659601},{"$f":"EXP(Computations!$F$16)*EXP(Computations!$E$16)^Computations!D917","v":5378.5411699376682},{"$f":"Computations!$F$17+Computations!$E$17*LN(Computations!D917)","v":3343.7813119842654},{"$f":"Computations!$F$18+Computations!$E$18*Computations!D917+Computations!$D$18*Computations!D917^2","v":3369.9484118595096},{"$f":"Computations!$F$19+Computations!$E$19*Computations!D917+Computations!$D$19*Computations!D917^2+Computations!$C$19*Computations!D917^3","v":3369.9484118595096},{"$f":"Computations!$J$15+Computations!$I$15*D917","v":450000},{"$f":"EXP(Computations!$J$16)*EXP(Computations!$I$16)^Computations!D917","v":450000.00000000035},{"$f":"Computations!$J$17+Computations!$I$17*LN(Computations!D917)","v":450000},{"$f":"Computations!$J$18+Computations!$I$18*Computations!D917+Computations!$H$18*Computations!D917^2","v":450000},{"$f":"Computations!$J$19+Computations!$I$19*Computations!D917+Computations!$H$19*Computations!D917^2+Computations!$G$19*Computations!D917^3","v":450000}]
[864,0.26295286723748124,0.26324471449441772,0.26309879086594945,0.99912619466629693,1.3291869012888036E-5,4014.4577745519655,450000,{"$f":"G918-H918/User_entry!$E$18","v":2514.4577745519655},2514.4577745519655,null,{"$f":"HLOOKUP(User_entry!$B$56,Computations!$N$54:$R$1054,Computations!A918+1,FALSE)","v":4014.4577745519655},{"$f":"HLOOKUP(User_entry!$E$56,Computations!$S$54:$W$1054,Computations!A918+1,FALSE)","v":450000},{"$f":"Computations!$F$15+Computations!$E$15*D918","v":4014.4577745519655},{"$f":"EXP(Computations!$F$16)*EXP(Computations!$E$16)^Computations!D918","v":5389.7000995968519},{"$f":"Computations!$F$17+Computations!$E$17*LN(Computations!D918)","v":3345.19135432031},{"$f":"Computations!$F$18+Computations!$E$18*Computations!D918+Computations!$D$18*Computations!D918^2","v":3370.6412168809484},{"$f":"Computations!$F$19+Computations!$E$19*Computations!D918+Computations!$D$19*Computations!D918^2+Computations!$C$19*Computations!D918^3","v":3370.6412168809484},{"$f":"Computations!$J$15+Computations!$I$15*D918","v":450000},{"$f":"EXP(Computations!$J$16)*EXP(Computations!$I$16)^Computations!D918","v":450000.00000000035},{"$f":"Computations!$J$17+Computations!$I$17*LN(Computations!D918)","v":450000},{"$f":"Computations!$J$18+Computations!$I$18*Computations!D918+Computations!$H$18*Computations!D918^2","v":450000},{"$f":"Computations!$J$19+Computations!$I$19*Computations!D918+Computations!$H$19*Computations!D918^2+Computations!$G$19*Computations!D918^3","v":450000}]
[865,0.26324471449441772,0.2635365617513542,0.26339063812288599,0.99913929801698731,1.3103350690379933E-5,4018.2978700379726,450000,{"$f":"G919-H919/User_entry!$E$18","v":2518.2978700379726},2518.2978700379726,null,{"$f":"HLOOKUP(User_entry!$B$56,Computations!$N$54:$R$1054,Computations!A919+1,FALSE)","v":4018.2978700379726},{"$f":"HLOOKUP(User_entry!$E$56,Computations!$S$54:$W$1054,Computations!A919+1,FALSE)","v":450000},{"$f":"Computations!$F$15+Computations!$E$15*D919","v":4018.2978700379726},{"$f":"EXP(Computations!$F$16)*EXP(Computations!$E$16)^Computations!D919","v":5400.8821808332441},{"$f":"Computations!$F$17+Computations!$E$17*LN(Computations!D919)","v":3346.5998334072201},{"$f":"Computations!$F$18+Computations!$E$18*Computations!D919+Computations!$D$18*Computations!D919^2","v":3371.3277126563589},{"$f":"Computations!$F$19+Computations!$E$19*Computations!D919+Computations!$D$19*Computations!D919^2+Computations!$C$19*Computations!D919^3","v":3371.3277126563589},{"$f":"Computations!$J$15+Computations!$I$15*D919","v":450000},{"$f":"EXP(Computations!$J$16)*EXP(Computations!$I$16)^Computations!D919","v":450000.00000000035},{"$f":"Computations!$J$17+Computations!$I$17*LN(Computations!D919)","v":450000},{"$f":"Computations!$J$18+Computations!$I$18*Computations!D919+Computations!$H$18*Computations!D919^2","v":450000},{"$f":"Computations!$J$19+Computations!$I$19*Computations!D919+Computations!$H$19*Computations!D919^2+Computations!$G$19*Computations!D919^3","v":450000}]
[866,0.2635365617513542,0.26382840900829069,0.26368248537982242,0.99915221535254162,1.2917335554307741E-5,4022.137965523978,450000,{"$f":"G920-H920/User_entry!$E$18","v":2522.137965523978},2522.137965523978,null,{"$f":"HLOOKUP(User_entry!$B$56,Computations!$N$54:$R$1054,Computations!A920+1,FALSE)","v":4022.137965523978},{"$f":"HLOOKUP(User_entry!$E$56,Computations!$S$54:$W$1054,Computations!A920+1,FALSE)","v":450000},{"$f":"Computations!$F$15+Computations!$E$15*D920","v":4022.137965523978},{"$f":"EXP(Computations!$F$16)*EXP(Computations!$E$16)^Computations!D920","v":5412.0874616797155},{"$f":"Computations!$F$17+Computations!$E$17*LN(Computations!D920)","v":3348.0067527073606},{"$f":"Computations!$F$18+Computations!$E$18*Computations!D920+Computations!$D$18*Computations!D920^2","v":3372.0078991857408},{"$f":"Computations!$F$19+Computations!$E$19*Computations!D920+Computations!$D$19*Computations!D920^2+Computations!$C$19*Computations!D920^3","v":3372.0078991857408},{"$f":"Computations!$J$15+Computations!$I$15*D920","v":450000},{"$f":"EXP(Computations!$J$16)*EXP(Computations!$I$16)^Computations!D920","v":450000.00000000035},{"$f":"Computations!$J$17+Computations!$I$17*LN(Computations!D920)","v":450000},{"$f":"Computations!$J$18+Computations!$I$18*Computations!D920+Computations!$H$18*Computations!D920^2","v":450000},{"$f":"Computations!$J$19+Computations!$I$19*Computations!D920+Computations!$H$19*Computations!D920^2+Computations!$G$19*Computations!D920^3","v":450000}]
[867,0.26382840900829069,0.26412025626522717,0.26397433263675896,0.99916494914556775,1.2733793026131757E-5,4025.9780610099851,450000,{"$f":"G921-H921/User_entry!$E$18","v":2525.9780610099851},2525.9780610099851,null,{"$f":"HLOOKUP(User_entry!$B$56,Computations!$N$54:$R$1054,Computations!A921+1,FALSE)","v":4025.9780610099851},{"$f":"HLOOKUP(User_entry!$E$56,Computations!$S$54:$W$1054,Computations!A921+1,FALSE)","v":450000},{"$f":"Computations!$F$15+Computations!$E$15*D921","v":4025.9780610099851},{"$f":"EXP(Computations!$F$16)*EXP(Computations!$E$16)^Computations!D921","v":5423.3159902688076},{"$f":"Computations!$F$17+Computations!$E$17*LN(Computations!D921)","v":3349.4121156716105},{"$f":"Computations!$F$18+Computations!$E$18*Computations!D921+Computations!$D$18*Computations!D921^2","v":3372.6817764690941},{"$f":"Computations!$F$19+Computations!$E$19*Computations!D921+Computations!$D$19*Computations!D921^2+Computations!$C$19*Computations!D921^3","v":3372.6817764690941},{"$f":"Computations!$J$15+Computations!$I$15*D921","v":450000},{"$f":"EXP(Computations!$J$16)*EXP(Computations!$I$16)^Computations!D921","v":450000.00000000035},{"$f":"Computations!$J$17+Computations!$I$17*LN(Computations!D921)","v":450000},{"$f":"Computations!$J$18+Computations!$I$18*Computations!D921+Computations!$H$18*Computations!D921^2","v":450000},{"$f":"Computations!$J$19+Computations!$I$19*Computations!D921+Computations!$H$19*Computations!D921^2+Computations!$G$19*Computations!D921^3","v":450000}]
[868,0.26412025626522717,0.26441210352216366,0.26426617989369539,0.99917750183842813,1.2552692860379189E-5,4029.8181564959914,450000,{"$f":"G922-H922/User_entry!$E$18","v":2529.8181564959914},2529.8181564959914,null,{"$f":"HLOOKUP(User_entry!$B$56,Computations!$N$54:$R$1054,Computations!A922+1,FALSE)","v":4029.8181564959914},{"$f":"HLOOKUP(User_entry!$E$56,Computations!$S$54:$W$1054,Computations!A922+1,FALSE)","v":450000},{"$f":"Computations!$F$15+Computations!$E$15*D922","v":4029.8181564959914},{"$f":"EXP(Computations!$F$16)*EXP(Computations!$E$16)^Computations!D922","v":5434.5678148329089},{"$f":"Computations!$F$17+Computations!$E$17*LN(Computations!D922)","v":3350.8159257394045},{"$f":"Computations!$F$18+Computations!$E$18*Computations!D922+Computations!$D$18*Computations!D922^2","v":3373.3493445064205},{"$f":"Computations!$F$19+Computations!$E$19*Computations!D922+Computations!$D$19*Computations!D922^2+Computations!$C$19*Computations!D922^3","v":3373.3493445064205},{"$f":"Computations!$J$15+Computations!$I$15*D922","v":450000},{"$f":"EXP(Computations!$J$16)*EXP(Computations!$I$16)^Computations!D922","v":450000.00000000035},{"$f":"Computations!$J$17+Computations!$I$17*LN(Computations!D922)","v":450000},{"$f":"Computations!$J$18+Computations!$I$18*Computations!D922+Computations!$H$18*Computations!D922^2","v":450000},{"$f":"Computations!$J$19+Computations!$I$19*Computations!D922+Computations!$H$19*Computations!D922^2+Computations!$G$19*Computations!D922^3","v":450000}]
[869,0.26441210352216366,0.26470395077910014,0.26455802715063192,0.99918987584357,1.2374005141868594E-5,4033.6582519819976,450000,{"$f":"G923-H923/User_entry!$E$18","v":2533.6582519819976},2533.6582519819976,null,{"$f":"HLOOKUP(User_entry!$B$56,Computations!$N$54:$R$1054,Computations!A923+1,FALSE)","v":4033.6582519819976},{"$f":"HLOOKUP(User_entry!$E$56,Computations!$S$54:$W$1054,Computations!A923+1,FALSE)","v":450000},{"$f":"Computations!$F$15+Computations!$E$15*D923","v":4033.6582519819976},{"$f":"EXP(Computations!$F$16)*EXP(Computations!$E$16)^Computations!D923","v":5445.8429837044914},{"$f":"Computations!$F$17+Computations!$E$17*LN(Computations!D923)","v":3352.2181863387923},{"$f":"Computations!$F$18+Computations!$E$18*Computations!D923+Computations!$D$18*Computations!D923^2","v":3374.0106032977178},{"$f":"Computations!$F$19+Computations!$E$19*Computations!D923+Computations!$D$19*Computations!D923^2+Computations!$C$19*Computations!D923^3","v":3374.0106032977178},{"$f":"Computations!$J$15+Computations!$I$15*D923","v":450000},{"$f":"EXP(Computations!$J$16)*EXP(Computations!$I$16)^Computations!D923","v":450000.00000000035},{"$f":"Computations!$J$17+Computations!$I$17*LN(Computations!D923)","v":450000},{"$f":"Computations!$J$18+Computations!$I$18*Computations!D923+Computations!$H$18*Computations!D923^2","v":450000},{"$f":"Computations!$J$19+Computations!$I$19*Computations!D923+Computations!$H$19*Computations!D923^2+Computations!$G$19*Computations!D923^3","v":450000}]
[870,0.26470395077910014,0.26499579803603662,0.26484987440756835,0.99920207354385204,1.2197700282046142E-5,4037.4983474680039,450000,{"$f":"G924-H924/User_entry!$E$18","v":2537.4983474680039},2537.4983474680039,null,{"$f":"HLOOKUP(User_entry!$B$56,Computations!$N$54:$R$1054,Computations!A924+1,FALSE)","v":4037.4983474680039},{"$f":"HLOOKUP(User_entry!$E$56,Computations!$S$54:$W$1054,Computations!A924+1,FALSE)","v":450000},{"$f":"Computations!$F$15+Computations!$E$15*D924","v":4037.4983474680039},{"$f":"EXP(Computations!$F$16)*EXP(Computations!$E$16)^Computations!D924","v":5457.1415453162872},{"$f":"Computations!$F$17+Computations!$E$17*LN(Computations!D924)","v":3353.6189008864822},{"$f":"Computations!$F$18+Computations!$E$18*Computations!D924+Computations!$D$18*Computations!D924^2","v":3374.6655528429865},{"$f":"Computations!$F$19+Computations!$E$19*Computations!D924+Computations!$D$19*Computations!D924^2+Computations!$C$19*Computations!D924^3","v":3374.6655528429865},{"$f":"Computations!$J$15+Computations!$I$15*D924","v":450000},{"$f":"EXP(Computations!$J$16)*EXP(Computations!$I$16)^Computations!D924","v":450000.00000000035},{"$f":"Computations!$J$17+Computations!$I$17*LN(Computations!D924)","v":450000},{"$f":"Computations!$J$18+Computations!$I$18*Computations!D924+Computations!$H$18*Computations!D924^2","v":450000},{"$f":"Computations!$J$19+Computations!$I$19*Computations!D924+Computations!$H$19*Computations!D924^2+Computations!$G$19*Computations!D924^3","v":450000}]
[871,0.26499579803603662,0.26528764529297311,0.26514172166450489,0.99921409729286914,1.202374901709824E-5,4041.338442954011,450000,{"$f":"G925-H925/User_entry!$E$18","v":2541.338442954011},2541.338442954011,null,{"$f":"HLOOKUP(User_entry!$B$56,Computations!$N$54:$R$1054,Computations!A925+1,FALSE)","v":4041.338442954011},{"$f":"HLOOKUP(User_entry!$E$56,Computations!$S$54:$W$1054,Computations!A925+1,FALSE)","v":450000},{"$f":"Computations!$F$15+Computations!$E$15*D925","v":4041.338442954011},{"$f":"EXP(Computations!$F$16)*EXP(Computations!$E$16)^Computations!D925","v":5468.4635482015274},{"$f":"Computations!$F$17+Computations!$E$17*LN(Computations!D925)","v":3355.0180727878956},{"$f":"Computations!$F$18+Computations!$E$18*Computations!D925+Computations!$D$18*Computations!D925^2","v":3375.3141931422269},{"$f":"Computations!$F$19+Computations!$E$19*Computations!D925+Computations!$D$19*Computations!D925^2+Computations!$C$19*Computations!D925^3","v":3375.3141931422269},{"$f":"Computations!$J$15+Computations!$I$15*D925","v":450000},{"$f":"EXP(Computations!$J$16)*EXP(Computations!$I$16)^Computations!D925","v":450000.00000000035},{"$f":"Computations!$J$17+Computations!$I$17*LN(Computations!D925)","v":450000},{"$f":"Computations!$J$18+Computations!$I$18*Computations!D925+Computations!$H$18*Computations!D925^2","v":450000},{"$f":"Computations!$J$19+Computations!$I$19*Computations!D925+Computations!$H$19*Computations!D925^2+Computations!$G$19*Computations!D925^3","v":450000}]
[872,0.26528764529297311,0.26557949254990959,0.26543356892144132,0.99922594941527243,1.185212240328859E-5,4045.1785384400164,450000,{"$f":"G926-H926/User_entry!$E$18","v":2545.1785384400164},2545.1785384400164,null,{"$f":"HLOOKUP(User_entry!$B$56,Computations!$N$54:$R$1054,Computations!A926+1,FALSE)","v":4045.1785384400164},{"$f":"HLOOKUP(User_entry!$E$56,Computations!$S$54:$W$1054,Computations!A926+1,FALSE)","v":450000},{"$f":"Computations!$F$15+Computations!$E$15*D926","v":4045.1785384400164},{"$f":"EXP(Computations!$F$16)*EXP(Computations!$E$16)^Computations!D926","v":5479.8090409941206},{"$f":"Computations!$F$17+Computations!$E$17*LN(Computations!D926)","v":3356.4157054372135},{"$f":"Computations!$F$18+Computations!$E$18*Computations!D926+Computations!$D$18*Computations!D926^2","v":3375.9565241954406},{"$f":"Computations!$F$19+Computations!$E$19*Computations!D926+Computations!$D$19*Computations!D926^2+Computations!$C$19*Computations!D926^3","v":3375.9565241954406},{"$f":"Computations!$J$15+Computations!$I$15*D926","v":450000},{"$f":"EXP(Computations!$J$16)*EXP(Computations!$I$16)^Computations!D926","v":450000.00000000035},{"$f":"Computations!$J$17+Computations!$I$17*LN(Computations!D926)","v":450000},{"$f":"Computations!$J$18+Computations!$I$18*Computations!D926+Computations!$H$18*Computations!D926^2","v":450000},{"$f":"Computations!$J$19+Computations!$I$19*Computations!D926+Computations!$H$19*Computations!D926^2+Computations!$G$19*Computations!D926^3","v":450000}]
[873,0.26557949254990959,0.26587133980684607,0.26572541617837786,0.99923763220708817,1.1682791815736948E-5,4049.0186339260235,450000,{"$f":"G927-H927/User_entry!$E$18","v":2549.0186339260235},2549.0186339260235,null,{"$f":"HLOOKUP(User_entry!$B$56,Computations!$N$54:$R$1054,Computations!A927+1,FALSE)","v":4049.0186339260235},{"$f":"HLOOKUP(User_entry!$E$56,Computations!$S$54:$W$1054,Computations!A927+1,FALSE)","v":450000},{"$f":"Computations!$F$15+Computations!$E$15*D927","v":4049.0186339260235},{"$f":"EXP(Computations!$F$16)*EXP(Computations!$E$16)^Computations!D927","v":5491.1780724288919},{"$f":"Computations!$F$17+Computations!$E$17*LN(Computations!D927)","v":3357.8118022174294},{"$f":"Computations!$F$18+Computations!$E$18*Computations!D927+Computations!$D$18*Computations!D927^2","v":3376.5925460026247},{"$f":"Computations!$F$19+Computations!$E$19*Computations!D927+Computations!$D$19*Computations!D927^2+Computations!$C$19*Computations!D927^3","v":3376.5925460026247},{"$f":"Computations!$J$15+Computations!$I$15*D927","v":450000},{"$f":"EXP(Computations!$J$16)*EXP(Computations!$I$16)^Computations!D927","v":450000.00000000035},{"$f":"Computations!$J$17+Computations!$I$17*LN(Computations!D927)","v":450000},{"$f":"Computations!$J$18+Computations!$I$18*Computations!D927+Computations!$H$18*Computations!D927^2","v":450000},{"$f":"Computations!$J$19+Computations!$I$19*Computations!D927+Computations!$H$19*Computations!D927^2+Computations!$G$19*Computations!D927^3","v":450000}]
[874,0.26587133980684607,0.26616318706378256,0.26601726343531429,0.99924914793603326,1.1515728945088455E-5,4052.8587294120289,450000,{"$f":"G928-H928/User_entry!$E$18","v":2552.8587294120289},2552.8587294120289,null,{"$f":"HLOOKUP(User_entry!$B$56,Computations!$N$54:$R$1054,Computations!A928+1,FALSE)","v":4052.8587294120289},{"$f":"HLOOKUP(User_entry!$E$56,Computations!$S$54:$W$1054,Computations!A928+1,FALSE)","v":450000},{"$f":"Computations!$F$15+Computations!$E$15*D928","v":4052.8587294120289},{"$f":"EXP(Computations!$F$16)*EXP(Computations!$E$16)^Computations!D928","v":5502.5706913417625},{"$f":"Computations!$F$17+Computations!$E$17*LN(Computations!D928)","v":3359.2063665003921},{"$f":"Computations!$F$18+Computations!$E$18*Computations!D928+Computations!$D$18*Computations!D928^2","v":3377.2222585637801},{"$f":"Computations!$F$19+Computations!$E$19*Computations!D928+Computations!$D$19*Computations!D928^2+Computations!$C$19*Computations!D928^3","v":3377.2222585637801},{"$f":"Computations!$J$15+Computations!$I$15*D928","v":450000},{"$f":"EXP(Computations!$J$16)*EXP(Computations!$I$16)^Computations!D928","v":450000.00000000035},{"$f":"Computations!$J$17+Computations!$I$17*LN(Computations!D928)","v":450000},{"$f":"Computations!$J$18+Computations!$I$18*Computations!D928+Computations!$H$18*Computations!D928^2","v":450000},{"$f":"Computations!$J$19+Computations!$I$19*Computations!D928+Computations!$H$19*Computations!D928^2+Computations!$G$19*Computations!D928^3","v":450000}]
[875,0.26616318706378256,0.26645503432071904,0.26630911069225083,0.99926049884182655,1.1350905793294785E-5,4056.698824898036,450000,{"$f":"G929-H929/User_entry!$E$18","v":2556.698824898036},2556.698824898036,null,{"$f":"HLOOKUP(User_entry!$B$56,Computations!$N$54:$R$1054,Computations!A929+1,FALSE)","v":4056.698824898036},{"$f":"HLOOKUP(User_entry!$E$56,Computations!$S$54:$W$1054,Computations!A929+1,FALSE)","v":450000},{"$f":"Computations!$F$15+Computations!$E$15*D929","v":4056.698824898036},{"$f":"EXP(Computations!$F$16)*EXP(Computations!$E$16)^Computations!D929","v":5513.9869466699902},{"$f":"Computations!$F$17+Computations!$E$17*LN(Computations!D929)","v":3360.5994016468635},{"$f":"Computations!$F$18+Computations!$E$18*Computations!D929+Computations!$D$18*Computations!D929^2","v":3377.8456618789082},{"$f":"Computations!$F$19+Computations!$E$19*Computations!D929+Computations!$D$19*Computations!D929^2+Computations!$C$19*Computations!D929^3","v":3377.8456618789082},{"$f":"Computations!$J$15+Computations!$I$15*D929","v":450000},{"$f":"EXP(Computations!$J$16)*EXP(Computations!$I$16)^Computations!D929","v":450000.00000000035},{"$f":"Computations!$J$17+Computations!$I$17*LN(Computations!D929)","v":450000},{"$f":"Computations!$J$18+Computations!$I$18*Computations!D929+Computations!$H$18*Computations!D929^2","v":450000},{"$f":"Computations!$J$19+Computations!$I$19*Computations!D929+Computations!$H$19*Computations!D929^2+Computations!$G$19*Computations!D929^3","v":450000}]
[876,0.26645503432071904,0.26674688157765553,0.26660095794918726,0.99927168713649894,1.1188294672392907E-5,4060.5389203840423,450000,{"$f":"G930-H930/User_entry!$E$18","v":2560.5389203840423},2560.5389203840423,null,{"$f":"HLOOKUP(User_entry!$B$56,Computations!$N$54:$R$1054,Computations!A930+1,FALSE)","v":4060.5389203840423},{"$f":"HLOOKUP(User_entry!$E$56,Computations!$S$54:$W$1054,Computations!A930+1,FALSE)","v":450000},{"$f":"Computations!$F$15+Computations!$E$15*D930","v":4060.5389203840423},{"$f":"EXP(Computations!$F$16)*EXP(Computations!$E$16)^Computations!D930","v":5525.4268874523459},{"$f":"Computations!$F$17+Computations!$E$17*LN(Computations!D930)","v":3361.9909110065591},{"$f":"Computations!$F$18+Computations!$E$18*Computations!D930+Computations!$D$18*Computations!D930^2","v":3378.4627559480082},{"$f":"Computations!$F$19+Computations!$E$19*Computations!D930+Computations!$D$19*Computations!D930^2+Computations!$C$19*Computations!D930^3","v":3378.4627559480082},{"$f":"Computations!$J$15+Computations!$I$15*D930","v":450000},{"$f":"EXP(Computations!$J$16)*EXP(Computations!$I$16)^Computations!D930","v":450000.00000000035},{"$f":"Computations!$J$17+Computations!$I$17*LN(Computations!D930)","v":450000},{"$f":"Computations!$J$18+Computations!$I$18*Computations!D930+Computations!$H$18*Computations!D930^2","v":450000},{"$f":"Computations!$J$19+Computations!$I$19*Computations!D930+Computations!$H$19*Computations!D930^2+Computations!$G$19*Computations!D930^3","v":450000}]
[877,0.26674688157765553,0.26703872883459201,0.2668928052061238,0.99928271500469967,1.1027868200730317E-5,4064.3790158700494,450000,{"$f":"G931-H931/User_entry!$E$18","v":2564.3790158700494},2564.3790158700494,null,{"$f":"HLOOKUP(User_entry!$B$56,Computations!$N$54:$R$1054,Computations!A931+1,FALSE)","v":4064.3790158700494},{"$f":"HLOOKUP(User_entry!$E$56,Computations!$S$54:$W$1054,Computations!A931+1,FALSE)","v":450000},{"$f":"Computations!$F$15+Computations!$E$15*D931","v":4064.3790158700494},{"$f":"EXP(Computations!$F$16)*EXP(Computations!$E$16)^Computations!D931","v":5536.8905628293596},{"$f":"Computations!$F$17+Computations!$E$17*LN(Computations!D931)","v":3363.3808979182013},{"$f":"Computations!$F$18+Computations!$E$18*Computations!D931+Computations!$D$18*Computations!D931^2","v":3379.0735407710795},{"$f":"Computations!$F$19+Computations!$E$19*Computations!D931+Computations!$D$19*Computations!D931^2+Computations!$C$19*Computations!D931^3","v":3379.0735407710795},{"$f":"Computations!$J$15+Computations!$I$15*D931","v":450000},{"$f":"EXP(Computations!$J$16)*EXP(Computations!$I$16)^Computations!D931","v":450000.00000000035},{"$f":"Computations!$J$17+Computations!$I$17*LN(Computations!D931)","v":450000},{"$f":"Computations!$J$18+Computations!$I$18*Computations!D931+Computations!$H$18*Computations!D931^2","v":450000},{"$f":"Computations!$J$19+Computations!$I$19*Computations!D931+Computations!$H$19*Computations!D931^2+Computations!$G$19*Computations!D931^3","v":450000}]
[878,0.26703872883459201,0.26733057609152849,0.26718465246306022,0.99929358460400031,1.0869599300633581E-5,4068.2191113560548,450000,{"$f":"G932-H932/User_entry!$E$18","v":2568.2191113560548},2568.2191113560548,null,{"$f":"HLOOKUP(User_entry!$B$56,Computations!$N$54:$R$1054,Computations!A932+1,FALSE)","v":4068.2191113560548},{"$f":"HLOOKUP(User_entry!$E$56,Computations!$S$54:$W$1054,Computations!A932+1,FALSE)","v":450000},{"$f":"Computations!$F$15+Computations!$E$15*D932","v":4068.2191113560548},{"$f":"EXP(Computations!$F$16)*EXP(Computations!$E$16)^Computations!D932","v":5548.3780220434955},{"$f":"Computations!$F$17+Computations!$E$17*LN(Computations!D932)","v":3364.7693657095642},{"$f":"Computations!$F$18+Computations!$E$18*Computations!D932+Computations!$D$18*Computations!D932^2","v":3379.6780163481221},{"$f":"Computations!$F$19+Computations!$E$19*Computations!D932+Computations!$D$19*Computations!D932^2+Computations!$C$19*Computations!D932^3","v":3379.6780163481221},{"$f":"Computations!$J$15+Computations!$I$15*D932","v":450000},{"$f":"EXP(Computations!$J$16)*EXP(Computations!$I$16)^Computations!D932","v":450000.00000000035},{"$f":"Computations!$J$17+Computations!$I$17*LN(Computations!D932)","v":450000},{"$f":"Computations!$J$18+Computations!$I$18*Computations!D932+Computations!$H$18*Computations!D932^2","v":450000},{"$f":"Computations!$J$19+Computations!$I$19*Computations!D932+Computations!$H$19*Computations!D932^2+Computations!$G$19*Computations!D932^3","v":450000}]
[879,0.26733057609152849,0.26762242334846498,0.26747649971999676,0.99930429806519494,1.0713461194633567E-5,4072.0592068420619,450000,{"$f":"G933-H933/User_entry!$E$18","v":2572.0592068420619},2572.0592068420619,null,{"$f":"HLOOKUP(User_entry!$B$56,Computations!$N$54:$R$1054,Computations!A933+1,FALSE)","v":4072.0592068420619},{"$f":"HLOOKUP(User_entry!$E$56,Computations!$S$54:$W$1054,Computations!A933+1,FALSE)","v":450000},{"$f":"Computations!$F$15+Computations!$E$15*D933","v":4072.0592068420619},{"$f":"EXP(Computations!$F$16)*EXP(Computations!$E$16)^Computations!D933","v":5559.8893144394006},{"$f":"Computations!$F$17+Computations!$E$17*LN(Computations!D933)","v":3366.1563176975251},{"$f":"Computations!$F$18+Computations!$E$18*Computations!D933+Computations!$D$18*Computations!D933^2","v":3380.276182679137},{"$f":"Computations!$F$19+Computations!$E$19*Computations!D933+Computations!$D$19*Computations!D933^2+Computations!$C$19*Computations!D933^3","v":3380.276182679137},{"$f":"Computations!$J$15+Computations!$I$15*D933","v":450000},{"$f":"EXP(Computations!$J$16)*EXP(Computations!$I$16)^Computations!D933","v":450000.00000000035},{"$f":"Computations!$J$17+Computations!$I$17*LN(Computations!D933)","v":450000},{"$f":"Computations!$J$18+Computations!$I$18*Computations!D933+Computations!$H$18*Computations!D933^2","v":450000},{"$f":"Computations!$J$19+Computations!$I$19*Computations!D933+Computations!$H$19*Computations!D933^2+Computations!$G$19*Computations!D933^3","v":450000}]
[880,0.26762242334846498,0.26791427060540146,0.26776834697693319,0.99931485749259896,1.0559427404022159E-5,4075.8993023280673,450000,{"$f":"G934-H934/User_entry!$E$18","v":2575.8993023280673},2575.8993023280673,null,{"$f":"HLOOKUP(User_entry!$B$56,Computations!$N$54:$R$1054,Computations!A934+1,FALSE)","v":4075.8993023280673},{"$f":"HLOOKUP(User_entry!$E$56,Computations!$S$54:$W$1054,Computations!A934+1,FALSE)","v":450000},{"$f":"Computations!$F$15+Computations!$E$15*D934","v":4075.8993023280673},{"$f":"EXP(Computations!$F$16)*EXP(Computations!$E$16)^Computations!D934","v":5571.4244894640806},{"$f":"Computations!$F$17+Computations!$E$17*LN(Computations!D934)","v":3367.5417571881085},{"$f":"Computations!$F$18+Computations!$E$18*Computations!D934+Computations!$D$18*Computations!D934^2","v":3380.8680397641242},{"$f":"Computations!$F$19+Computations!$E$19*Computations!D934+Computations!$D$19*Computations!D934^2+Computations!$C$19*Computations!D934^3","v":3380.8680397641242},{"$f":"Computations!$J$15+Computations!$I$15*D934","v":450000},{"$f":"EXP(Computations!$J$16)*EXP(Computations!$I$16)^Computations!D934","v":450000.00000000035},{"$f":"Computations!$J$17+Computations!$I$17*LN(Computations!D934)","v":450000},{"$f":"Computations!$J$18+Computations!$I$18*Computations!D934+Computations!$H$18*Computations!D934^2","v":450000},{"$f":"Computations!$J$19+Computations!$I$19*Computations!D934+Computations!$H$19*Computations!D934^2+Computations!$G$19*Computations!D934^3","v":450000}]
[881,0.26791427060540146,0.26820611786233794,0.26806019423386973,0.99932526496434393,1.0407471744966479E-5,4079.7393978140744,450000,{"$f":"G935-H935/User_entry!$E$18","v":2579.7393978140744},2579.7393978140744,null,{"$f":"HLOOKUP(User_entry!$B$56,Computations!$N$54:$R$1054,Computations!A935+1,FALSE)","v":4079.7393978140744},{"$f":"HLOOKUP(User_entry!$E$56,Computations!$S$54:$W$1054,Computations!A935+1,FALSE)","v":450000},{"$f":"Computations!$F$15+Computations!$E$15*D935","v":4079.7393978140744},{"$f":"EXP(Computations!$F$16)*EXP(Computations!$E$16)^Computations!D935","v":5582.9835966671453},{"$f":"Computations!$F$17+Computations!$E$17*LN(Computations!D935)","v":3368.9256874765356},{"$f":"Computations!$F$18+Computations!$E$18*Computations!D935+Computations!$D$18*Computations!D935^2","v":3381.4535876030823},{"$f":"Computations!$F$19+Computations!$E$19*Computations!D935+Computations!$D$19*Computations!D935^2+Computations!$C$19*Computations!D935^3","v":3381.4535876030823},{"$f":"Computations!$J$15+Computations!$I$15*D935","v":450000},{"$f":"EXP(Computations!$J$16)*EXP(Computations!$I$16)^Computations!D935","v":450000.00000000035},{"$f":"Computations!$J$17+Computations!$I$17*LN(Computations!D935)","v":450000},{"$f":"Computations!$J$18+Computations!$I$18*Computations!D935+Computations!$H$18*Computations!D935^2","v":450000},{"$f":"Computations!$J$19+Computations!$I$19*Computations!D935+Computations!$H$19*Computations!D935^2+Computations!$G$19*Computations!D935^3","v":450000}]
[882,0.26820611786233794,0.26849796511927443,0.26835204149080616,0.99933552253266988,1.0257568325955368E-5,4083.5794933000798,450000,{"$f":"G936-H936/User_entry!$E$18","v":2583.5794933000798},2583.5794933000798,null,{"$f":"HLOOKUP(User_entry!$B$56,Computations!$N$54:$R$1054,Computations!A936+1,FALSE)","v":4083.5794933000798},{"$f":"HLOOKUP(User_entry!$E$56,Computations!$S$54:$W$1054,Computations!A936+1,FALSE)","v":450000},{"$f":"Computations!$F$15+Computations!$E$15*D936","v":4083.5794933000798},{"$f":"EXP(Computations!$F$16)*EXP(Computations!$E$16)^Computations!D936","v":5594.5666857009892},{"$f":"Computations!$F$17+Computations!$E$17*LN(Computations!D936)","v":3370.3081118472692},{"$f":"Computations!$F$18+Computations!$E$18*Computations!D936+Computations!$D$18*Computations!D936^2","v":3382.0328261960121},{"$f":"Computations!$F$19+Computations!$E$19*Computations!D936+Computations!$D$19*Computations!D936^2+Computations!$C$19*Computations!D936^3","v":3382.0328261960121},{"$f":"Computations!$J$15+Computations!$I$15*D936","v":450000},{"$f":"EXP(Computations!$J$16)*EXP(Computations!$I$16)^Computations!D936","v":450000.00000000035},{"$f":"Computations!$J$17+Computations!$I$17*LN(Computations!D936)","v":450000},{"$f":"Computations!$J$18+Computations!$I$18*Computations!D936+Computations!$H$18*Computations!D936^2","v":450000},{"$f":"Computations!$J$19+Computations!$I$19*Computations!D936+Computations!$H$19*Computations!D936^2+Computations!$G$19*Computations!D936^3","v":450000}]
[883,0.26849796511927443,0.26878981237621091,0.2686438887477427,0.99934563222421513,1.010969154524588E-5,4087.4195887860869,450000,{"$f":"G937-H937/User_entry!$E$18","v":2587.4195887860869},2587.4195887860869,null,{"$f":"HLOOKUP(User_entry!$B$56,Computations!$N$54:$R$1054,Computations!A937+1,FALSE)","v":4087.4195887860869},{"$f":"HLOOKUP(User_entry!$E$56,Computations!$S$54:$W$1054,Computations!A937+1,FALSE)","v":450000},{"$f":"Computations!$F$15+Computations!$E$15*D937","v":4087.4195887860869},{"$f":"EXP(Computations!$F$16)*EXP(Computations!$E$16)^Computations!D937","v":5606.1738063210405},{"$f":"Computations!$F$17+Computations!$E$17*LN(Computations!D937)","v":3371.6890335740645},{"$f":"Computations!$F$18+Computations!$E$18*Computations!D937+Computations!$D$18*Computations!D937^2","v":3382.6057555429138},{"$f":"Computations!$F$19+Computations!$E$19*Computations!D937+Computations!$D$19*Computations!D937^2+Computations!$C$19*Computations!D937^3","v":3382.6057555429138},{"$f":"Computations!$J$15+Computations!$I$15*D937","v":450000},{"$f":"EXP(Computations!$J$16)*EXP(Computations!$I$16)^Computations!D937","v":450000.00000000035},{"$f":"Computations!$J$17+Computations!$I$17*LN(Computations!D937)","v":450000},{"$f":"Computations!$J$18+Computations!$I$18*Computations!D937+Computations!$H$18*Computations!D937^2","v":450000},{"$f":"Computations!$J$19+Computations!$I$19*Computations!D937+Computations!$H$19*Computations!D937^2+Computations!$G$19*Computations!D937^3","v":450000}]
[884,0.26878981237621091,0.2690816596331474,0.26893573600467913,0.99935559604030355,9.9638160884207849E-6,4091.2596842720932,450000,{"$f":"G938-H938/User_entry!$E$18","v":2591.2596842720932},2591.2596842720932,null,{"$f":"HLOOKUP(User_entry!$B$56,Computations!$N$54:$R$1054,Computations!A938+1,FALSE)","v":4091.2596842720932},{"$f":"HLOOKUP(User_entry!$E$56,Computations!$S$54:$W$1054,Computations!A938+1,FALSE)","v":450000},{"$f":"Computations!$F$15+Computations!$E$15*D938","v":4091.2596842720932},{"$f":"EXP(Computations!$F$16)*EXP(Computations!$E$16)^Computations!D938","v":5617.8050083859343},{"$f":"Computations!$F$17+Computations!$E$17*LN(Computations!D938)","v":3373.068455920009},{"$f":"Computations!$F$18+Computations!$E$18*Computations!D938+Computations!$D$18*Computations!D938^2","v":3383.1723756437877},{"$f":"Computations!$F$19+Computations!$E$19*Computations!D938+Computations!$D$19*Computations!D938^2+Computations!$C$19*Computations!D938^3","v":3383.1723756437877},{"$f":"Computations!$J$15+Computations!$I$15*D938","v":450000},{"$f":"EXP(Computations!$J$16)*EXP(Computations!$I$16)^Computations!D938","v":450000.00000000035},{"$f":"Computations!$J$17+Computations!$I$17*LN(Computations!D938)","v":450000},{"$f":"Computations!$J$18+Computations!$I$18*Computations!D938+Computations!$H$18*Computations!D938^2","v":450000},{"$f":"Computations!$J$19+Computations!$I$19*Computations!D938+Computations!$H$19*Computations!D938^2+Computations!$G$19*Computations!D938^3","v":450000}]
[885,0.2690816596331474,0.26937350689008388,0.26922758326161567,0.99936541595722794,9.8199169243917694E-6,4095.0997797581003,450000,{"$f":"G939-H939/User_entry!$E$18","v":2595.0997797581003},2595.0997797581003,null,{"$f":"HLOOKUP(User_entry!$B$56,Computations!$N$54:$R$1054,Computations!A939+1,FALSE)","v":4095.0997797581003},{"$f":"HLOOKUP(User_entry!$E$56,Computations!$S$54:$W$1054,Computations!A939+1,FALSE)","v":450000},{"$f":"Computations!$F$15+Computations!$E$15*D939","v":4095.0997797581003},{"$f":"EXP(Computations!$F$16)*EXP(Computations!$E$16)^Computations!D939","v":5629.4603418577681},{"$f":"Computations!$F$17+Computations!$E$17*LN(Computations!D939)","v":3374.4463821375775},{"$f":"Computations!$F$18+Computations!$E$18*Computations!D939+Computations!$D$18*Computations!D939^2","v":3383.732686498633},{"$f":"Computations!$F$19+Computations!$E$19*Computations!D939+Computations!$D$19*Computations!D939^2+Computations!$C$19*Computations!D939^3","v":3383.732686498633},{"$f":"Computations!$J$15+Computations!$I$15*D939","v":450000},{"$f":"EXP(Computations!$J$16)*EXP(Computations!$I$16)^Computations!D939","v":450000.00000000035},{"$f":"Computations!$J$17+Computations!$I$17*LN(Computations!D939)","v":450000},{"$f":"Computations!$J$18+Computations!$I$18*Computations!D939+Computations!$H$18*Computations!D939^2","v":450000},{"$f":"Computations!$J$19+Computations!$I$19*Computations!D939+Computations!$H$19*Computations!D939^2+Computations!$G$19*Computations!D939^3","v":450000}]
[886,0.26937350689008388,0.26966535414702036,0.26951943051855209,0.99937509392653257,9.6779693046222803E-6,4098.9398752441057,450000,{"$f":"G940-H940/User_entry!$E$18","v":2598.9398752441057},2598.9398752441057,null,{"$f":"HLOOKUP(User_entry!$B$56,Computations!$N$54:$R$1054,Computations!A940+1,FALSE)","v":4098.9398752441057},{"$f":"HLOOKUP(User_entry!$E$56,Computations!$S$54:$W$1054,Computations!A940+1,FALSE)","v":450000},{"$f":"Computations!$F$15+Computations!$E$15*D940","v":4098.9398752441057},{"$f":"EXP(Computations!$F$16)*EXP(Computations!$E$16)^Computations!D940","v":5641.1398568022787},{"$f":"Computations!$F$17+Computations!$E$17*LN(Computations!D940)","v":3375.8228154686681},{"$f":"Computations!$F$18+Computations!$E$18*Computations!D940+Computations!$D$18*Computations!D940^2","v":3384.2866881074501},{"$f":"Computations!$F$19+Computations!$E$19*Computations!D940+Computations!$D$19*Computations!D940^2+Computations!$C$19*Computations!D940^3","v":3384.2866881074501},{"$f":"Computations!$J$15+Computations!$I$15*D940","v":450000},{"$f":"EXP(Computations!$J$16)*EXP(Computations!$I$16)^Computations!D940","v":450000.00000000035},{"$f":"Computations!$J$17+Computations!$I$17*LN(Computations!D940)","v":450000},{"$f":"Computations!$J$18+Computations!$I$18*Computations!D940+Computations!$H$18*Computations!D940^2","v":450000},{"$f":"Computations!$J$19+Computations!$I$19*Computations!D940+Computations!$H$19*Computations!D940^2+Computations!$G$19*Computations!D940^3","v":450000}]
[887,0.26966535414702036,0.26995720140395685,0.26981127777548863,0.99938463187529103,9.5379487584645872E-6,4102.7799707301128,450000,{"$f":"G941-H941/User_entry!$E$18","v":2602.7799707301128},2602.7799707301128,null,{"$f":"HLOOKUP(User_entry!$B$56,Computations!$N$54:$R$1054,Computations!A941+1,FALSE)","v":4102.7799707301128},{"$f":"HLOOKUP(User_entry!$E$56,Computations!$S$54:$W$1054,Computations!A941+1,FALSE)","v":450000},{"$f":"Computations!$F$15+Computations!$E$15*D941","v":4102.7799707301128},{"$f":"EXP(Computations!$F$16)*EXP(Computations!$E$16)^Computations!D941","v":5652.843603389093},{"$f":"Computations!$F$17+Computations!$E$17*LN(Computations!D941)","v":3377.197759144658},{"$f":"Computations!$F$18+Computations!$E$18*Computations!D941+Computations!$D$18*Computations!D941^2","v":3384.8343804702386},{"$f":"Computations!$F$19+Computations!$E$19*Computations!D941+Computations!$D$19*Computations!D941^2+Computations!$C$19*Computations!D941^3","v":3384.8343804702386},{"$f":"Computations!$J$15+Computations!$I$15*D941","v":450000},{"$f":"EXP(Computations!$J$16)*EXP(Computations!$I$16)^Computations!D941","v":450000.00000000035},{"$f":"Computations!$J$17+Computations!$I$17*LN(Computations!D941)","v":450000},{"$f":"Computations!$J$18+Computations!$I$18*Computations!D941+Computations!$H$18*Computations!D941^2","v":450000},{"$f":"Computations!$J$19+Computations!$I$19*Computations!D941+Computations!$H$19*Computations!D941^2+Computations!$G$19*Computations!D941^3","v":450000}]
[888,0.26995720140395685,0.27024904866089333,0.27010312503242506,0.99939403170638319,9.3998310921605821E-6,4106.6200662161182,450000,{"$f":"G942-H942/User_entry!$E$18","v":2606.6200662161182},2606.6200662161182,null,{"$f":"HLOOKUP(User_entry!$B$56,Computations!$N$54:$R$1054,Computations!A942+1,FALSE)","v":4106.6200662161182},{"$f":"HLOOKUP(User_entry!$E$56,Computations!$S$54:$W$1054,Computations!A942+1,FALSE)","v":450000},{"$f":"Computations!$F$15+Computations!$E$15*D942","v":4106.6200662161182},{"$f":"EXP(Computations!$F$16)*EXP(Computations!$E$16)^Computations!D942","v":5664.5716318919067},{"$f":"Computations!$F$17+Computations!$E$17*LN(Computations!D942)","v":3378.5712163864409},{"$f":"Computations!$F$18+Computations!$E$18*Computations!D942+Computations!$D$18*Computations!D942^2","v":3385.3757635870002},{"$f":"Computations!$F$19+Computations!$E$19*Computations!D942+Computations!$D$19*Computations!D942^2+Computations!$C$19*Computations!D942^3","v":3385.3757635870002},{"$f":"Computations!$J$15+Computations!$I$15*D942","v":450000},{"$f":"EXP(Computations!$J$16)*EXP(Computations!$I$16)^Computations!D942","v":450000.00000000035},{"$f":"Computations!$J$17+Computations!$I$17*LN(Computations!D942)","v":450000},{"$f":"Computations!$J$18+Computations!$I$18*Computations!D942+Computations!$H$18*Computations!D942^2","v":450000},{"$f":"Computations!$J$19+Computations!$I$19*Computations!D942+Computations!$H$19*Computations!D942^2+Computations!$G$19*Computations!D942^3","v":450000}]
[889,0.27024904866089333,0.27054089591782982,0.2703949722893616,0.99940329529876792,9.2635923847339541E-6,4110.4601617021253,450000,{"$f":"G943-H943/User_entry!$E$18","v":2610.4601617021253},2610.4601617021253,null,{"$f":"HLOOKUP(User_entry!$B$56,Computations!$N$54:$R$1054,Computations!A943+1,FALSE)","v":4110.4601617021253},{"$f":"HLOOKUP(User_entry!$E$56,Computations!$S$54:$W$1054,Computations!A943+1,FALSE)","v":450000},{"$f":"Computations!$F$15+Computations!$E$15*D943","v":4110.4601617021253},{"$f":"EXP(Computations!$F$16)*EXP(Computations!$E$16)^Computations!D943","v":5676.3239926887381},{"$f":"Computations!$F$17+Computations!$E$17*LN(Computations!D943)","v":3379.9431904044777},{"$f":"Computations!$F$18+Computations!$E$18*Computations!D943+Computations!$D$18*Computations!D943^2","v":3385.9108374577322},{"$f":"Computations!$F$19+Computations!$E$19*Computations!D943+Computations!$D$19*Computations!D943^2+Computations!$C$19*Computations!D943^3","v":3385.9108374577322},{"$f":"Computations!$J$15+Computations!$I$15*D943","v":450000},{"$f":"EXP(Computations!$J$16)*EXP(Computations!$I$16)^Computations!D943","v":450000.00000000035},{"$f":"Computations!$J$17+Computations!$I$17*LN(Computations!D943)","v":450000},{"$f":"Computations!$J$18+Computations!$I$18*Computations!D943+Computations!$H$18*Computations!D943^2","v":450000},{"$f":"Computations!$J$19+Computations!$I$19*Computations!D943+Computations!$H$19*Computations!D943^2+Computations!$G$19*Computations!D943^3","v":450000}]
[890,0.27054089591782982,0.2708327431747663,0.27068681954629803,0.9994124245077548,9.1292089868799664E-6,4114.3002571881307,450000,{"$f":"G944-H944/User_entry!$E$18","v":2614.3002571881307},2614.3002571881307,null,{"$f":"HLOOKUP(User_entry!$B$56,Computations!$N$54:$R$1054,Computations!A944+1,FALSE)","v":4114.3002571881307},{"$f":"HLOOKUP(User_entry!$E$56,Computations!$S$54:$W$1054,Computations!A944+1,FALSE)","v":450000},{"$f":"Computations!$F$15+Computations!$E$15*D944","v":4114.3002571881307},{"$f":"EXP(Computations!$F$16)*EXP(Computations!$E$16)^Computations!D944","v":5688.1007362621049},{"$f":"Computations!$F$17+Computations!$E$17*LN(Computations!D944)","v":3381.3136843988373},{"$f":"Computations!$F$18+Computations!$E$18*Computations!D944+Computations!$D$18*Computations!D944^2","v":3386.4396020824356},{"$f":"Computations!$F$19+Computations!$E$19*Computations!D944+Computations!$D$19*Computations!D944^2+Computations!$C$19*Computations!D944^3","v":3386.4396020824356},{"$f":"Computations!$J$15+Computations!$I$15*D944","v":450000},{"$f":"EXP(Computations!$J$16)*EXP(Computations!$I$16)^Computations!D944","v":450000.00000000035},{"$f":"Computations!$J$17+Computations!$I$17*LN(Computations!D944)","v":450000},{"$f":"Computations!$J$18+Computations!$I$18*Computations!D944+Computations!$H$18*Computations!D944^2","v":450000},{"$f":"Computations!$J$19+Computations!$I$19*Computations!D944+Computations!$H$19*Computations!D944^2+Computations!$G$19*Computations!D944^3","v":450000}]
[891,0.2708327431747663,0.27112459043170278,0.27097866680323457,0.99942142116527144,8.9966575166355867E-6,4118.1403526741378,450000,{"$f":"G945-H945/User_entry!$E$18","v":2618.1403526741378},2618.1403526741378,null,{"$f":"HLOOKUP(User_entry!$B$56,Computations!$N$54:$R$1054,Computations!A945+1,FALSE)","v":4118.1403526741378},{"$f":"HLOOKUP(User_entry!$E$56,Computations!$S$54:$W$1054,Computations!A945+1,FALSE)","v":450000},{"$f":"Computations!$F$15+Computations!$E$15*D945","v":4118.1403526741378},{"$f":"EXP(Computations!$F$16)*EXP(Computations!$E$16)^Computations!D945","v":5699.90191319928},{"$f":"Computations!$F$17+Computations!$E$17*LN(Computations!D945)","v":3382.6827015592457},{"$f":"Computations!$F$18+Computations!$E$18*Computations!D945+Computations!$D$18*Computations!D945^2","v":3386.9620574611117},{"$f":"Computations!$F$19+Computations!$E$19*Computations!D945+Computations!$D$19*Computations!D945^2+Computations!$C$19*Computations!D945^3","v":3386.9620574611117},{"$f":"Computations!$J$15+Computations!$I$15*D945","v":450000},{"$f":"EXP(Computations!$J$16)*EXP(Computations!$I$16)^Computations!D945","v":450000.00000000035},{"$f":"Computations!$J$17+Computations!$I$17*LN(Computations!D945)","v":450000},{"$f":"Computations!$J$18+Computations!$I$18*Computations!D945+Computations!$H$18*Computations!D945^2","v":450000},{"$f":"Computations!$J$19+Computations!$I$19*Computations!D945+Computations!$H$19*Computations!D945^2+Computations!$G$19*Computations!D945^3","v":450000}]
[892,0.27112459043170278,0.27141643768863927,0.271270514060171,0.99943028708012971,8.8659148582692637E-6,4121.9804481601441,450000,{"$f":"G946-H946/User_entry!$E$18","v":2621.9804481601441},2621.9804481601441,null,{"$f":"HLOOKUP(User_entry!$B$56,Computations!$N$54:$R$1054,Computations!A946+1,FALSE)","v":4121.9804481601441},{"$f":"HLOOKUP(User_entry!$E$56,Computations!$S$54:$W$1054,Computations!A946+1,FALSE)","v":450000},{"$f":"Computations!$F$15+Computations!$E$15*D946","v":4121.9804481601441},{"$f":"EXP(Computations!$F$16)*EXP(Computations!$E$16)^Computations!D946","v":5711.7275741924777},{"$f":"Computations!$F$17+Computations!$E$17*LN(Computations!D946)","v":3384.0502450651265},{"$f":"Computations!$F$18+Computations!$E$18*Computations!D946+Computations!$D$18*Computations!D946^2","v":3387.4782035937601},{"$f":"Computations!$F$19+Computations!$E$19*Computations!D946+Computations!$D$19*Computations!D946^2+Computations!$C$19*Computations!D946^3","v":3387.4782035937601},{"$f":"Computations!$J$15+Computations!$I$15*D946","v":450000},{"$f":"EXP(Computations!$J$16)*EXP(Computations!$I$16)^Computations!D946","v":450000.00000000035},{"$f":"Computations!$J$17+Computations!$I$17*LN(Computations!D946)","v":450000},{"$f":"Computations!$J$18+Computations!$I$18*Computations!D946+Computations!$H$18*Computations!D946^2","v":450000},{"$f":"Computations!$J$19+Computations!$I$19*Computations!D946+Computations!$H$19*Computations!D946^2+Computations!$G$19*Computations!D946^3","v":450000}]
[893,0.27141643768863927,0.27170828494557575,0.27156236131710754,0.99943902403828888,8.7369581591723033E-6,4125.8205436461512,450000,{"$f":"G947-H947/User_entry!$E$18","v":2625.8205436461512},2625.8205436461512,null,{"$f":"HLOOKUP(User_entry!$B$56,Computations!$N$54:$R$1054,Computations!A947+1,FALSE)","v":4125.8205436461512},{"$f":"HLOOKUP(User_entry!$E$56,Computations!$S$54:$W$1054,Computations!A947+1,FALSE)","v":450000},{"$f":"Computations!$F$15+Computations!$E$15*D947","v":4125.8205436461512},{"$f":"EXP(Computations!$F$16)*EXP(Computations!$E$16)^Computations!D947","v":5723.5777700390954},{"$f":"Computations!$F$17+Computations!$E$17*LN(Computations!D947)","v":3385.4163180856485},{"$f":"Computations!$F$18+Computations!$E$18*Computations!D947+Computations!$D$18*Computations!D947^2","v":3387.9880404803794},{"$f":"Computations!$F$19+Computations!$E$19*Computations!D947+Computations!$D$19*Computations!D947^2+Computations!$C$19*Computations!D947^3","v":3387.9880404803794},{"$f":"Computations!$J$15+Computations!$I$15*D947","v":450000},{"$f":"EXP(Computations!$J$16)*EXP(Computations!$I$16)^Computations!D947","v":450000.00000000035},{"$f":"Computations!$J$17+Computations!$I$17*LN(Computations!D947)","v":450000},{"$f":"Computations!$J$18+Computations!$I$18*Computations!D947+Computations!$H$18*Computations!D947^2","v":450000},{"$f":"Computations!$J$19+Computations!$I$19*Computations!D947+Computations!$H$19*Computations!D947^2+Computations!$G$19*Computations!D947^3","v":450000}]
[894,0.27170828494557575,0.27200013220251223,0.27185420857404397,0.99944763380311574,8.6097648268612659E-6,4129.6606391321566,450000,{"$f":"G948-H948/User_entry!$E$18","v":2629.6606391321566},2629.6606391321566,null,{"$f":"HLOOKUP(User_entry!$B$56,Computations!$N$54:$R$1054,Computations!A948+1,FALSE)","v":4129.6606391321566},{"$f":"HLOOKUP(User_entry!$E$56,Computations!$S$54:$W$1054,Computations!A948+1,FALSE)","v":450000},{"$f":"Computations!$F$15+Computations!$E$15*D948","v":4129.6606391321566},{"$f":"EXP(Computations!$F$16)*EXP(Computations!$E$16)^Computations!D948","v":5735.4525516419053},{"$f":"Computations!$F$17+Computations!$E$17*LN(Computations!D948)","v":3386.780923779766},{"$f":"Computations!$F$18+Computations!$E$18*Computations!D948+Computations!$D$18*Computations!D948^2","v":3388.49156812097},{"$f":"Computations!$F$19+Computations!$E$19*Computations!D948+Computations!$D$19*Computations!D948^2+Computations!$C$19*Computations!D948^3","v":3388.49156812097},{"$f":"Computations!$J$15+Computations!$I$15*D948","v":450000},{"$f":"EXP(Computations!$J$16)*EXP(Computations!$I$16)^Computations!D948","v":450000.00000000035},{"$f":"Computations!$J$17+Computations!$I$17*LN(Computations!D948)","v":450000},{"$f":"Computations!$J$18+Computations!$I$18*Computations!D948+Computations!$H$18*Computations!D948^2","v":450000},{"$f":"Computations!$J$19+Computations!$I$19*Computations!D948+Computations!$H$19*Computations!D948^2+Computations!$G$19*Computations!D948^3","v":450000}]
[895,0.27200013220251223,0.27229197945944872,0.2721460558309805,0.99945611811564272,8.484312526979565E-6,4133.5007346181637,450000,{"$f":"G949-H949/User_entry!$E$18","v":2633.5007346181637},2633.5007346181637,null,{"$f":"HLOOKUP(User_entry!$B$56,Computations!$N$54:$R$1054,Computations!A949+1,FALSE)","v":4133.5007346181637},{"$f":"HLOOKUP(User_entry!$E$56,Computations!$S$54:$W$1054,Computations!A949+1,FALSE)","v":450000},{"$f":"Computations!$F$15+Computations!$E$15*D949","v":4133.5007346181637},{"$f":"EXP(Computations!$F$16)*EXP(Computations!$E$16)^Computations!D949","v":5747.3519700093084},{"$f":"Computations!$F$17+Computations!$E$17*LN(Computations!D949)","v":3388.1440652962683},{"$f":"Computations!$F$18+Computations!$E$18*Computations!D949+Computations!$D$18*Computations!D949^2","v":3388.9887865155329},{"$f":"Computations!$F$19+Computations!$E$19*Computations!D949+Computations!$D$19*Computations!D949^2+Computations!$C$19*Computations!D949^3","v":3388.9887865155329},{"$f":"Computations!$J$15+Computations!$I$15*D949","v":450000},{"$f":"EXP(Computations!$J$16)*EXP(Computations!$I$16)^Computations!D949","v":450000.00000000035},{"$f":"Computations!$J$17+Computations!$I$17*LN(Computations!D949)","v":450000},{"$f":"Computations!$J$18+Computations!$I$18*Computations!D949+Computations!$H$18*Computations!D949^2","v":450000},{"$f":"Computations!$J$19+Computations!$I$19*Computations!D949+Computations!$H$19*Computations!D949^2+Computations!$G$19*Computations!D949^3","v":450000}]
[896,0.27229197945944872,0.2725838267163852,0.27243790308791693,0.99946447869482336,8.3605791806329322E-6,4137.3408301041691,450000,{"$f":"G950-H950/User_entry!$E$18","v":2637.3408301041691},2637.3408301041691,null,{"$f":"HLOOKUP(User_entry!$B$56,Computations!$N$54:$R$1054,Computations!A950+1,FALSE)","v":4137.3408301041691},{"$f":"HLOOKUP(User_entry!$E$56,Computations!$S$54:$W$1054,Computations!A950+1,FALSE)","v":450000},{"$f":"Computations!$F$15+Computations!$E$15*D950","v":4137.3408301041691},{"$f":"EXP(Computations!$F$16)*EXP(Computations!$E$16)^Computations!D950","v":5759.2760762555099},{"$f":"Computations!$F$17+Computations!$E$17*LN(Computations!D950)","v":3389.5057457738176},{"$f":"Computations!$F$18+Computations!$E$18*Computations!D950+Computations!$D$18*Computations!D950^2","v":3389.479695664068},{"$f":"Computations!$F$19+Computations!$E$19*Computations!D950+Computations!$D$19*Computations!D950^2+Computations!$C$19*Computations!D950^3","v":3389.479695664068},{"$f":"Computations!$J$15+Computations!$I$15*D950","v":450000},{"$f":"EXP(Computations!$J$16)*EXP(Computations!$I$16)^Computations!D950","v":450000.00000000035},{"$f":"Computations!$J$17+Computations!$I$17*LN(Computations!D950)","v":450000},{"$f":"Computations!$J$18+Computations!$I$18*Computations!D950+Computations!$H$18*Computations!D950^2","v":450000},{"$f":"Computations!$J$19+Computations!$I$19*Computations!D950+Computations!$H$19*Computations!D950^2+Computations!$G$19*Computations!D950^3","v":450000}]
[897,0.2725838267163852,0.27287567397332169,0.27272975034485347,0.99947271723778519,8.2385429618359041E-6,4141.1809255901762,450000,{"$f":"G951-H951/User_entry!$E$18","v":2641.1809255901762},2641.1809255901762,null,{"$f":"HLOOKUP(User_entry!$B$56,Computations!$N$54:$R$1054,Computations!A951+1,FALSE)","v":4141.1809255901762},{"$f":"HLOOKUP(User_entry!$E$56,Computations!$S$54:$W$1054,Computations!A951+1,FALSE)","v":450000},{"$f":"Computations!$F$15+Computations!$E$15*D951","v":4141.1809255901762},{"$f":"EXP(Computations!$F$16)*EXP(Computations!$E$16)^Computations!D951","v":5771.224921600784},{"$f":"Computations!$F$17+Computations!$E$17*LN(Computations!D951)","v":3390.8659683409951},{"$f":"Computations!$F$18+Computations!$E$18*Computations!D951+Computations!$D$18*Computations!D951^2","v":3389.964295566574},{"$f":"Computations!$F$19+Computations!$E$19*Computations!D951+Computations!$D$19*Computations!D951^2+Computations!$C$19*Computations!D951^3","v":3389.964295566574},{"$f":"Computations!$J$15+Computations!$I$15*D951","v":450000},{"$f":"EXP(Computations!$J$16)*EXP(Computations!$I$16)^Computations!D951","v":450000.00000000035},{"$f":"Computations!$J$17+Computations!$I$17*LN(Computations!D951)","v":450000},{"$f":"Computations!$J$18+Computations!$I$18*Computations!D951+Computations!$H$18*Computations!D951^2","v":450000},{"$f":"Computations!$J$19+Computations!$I$19*Computations!D951+Computations!$H$19*Computations!D951^2+Computations!$G$19*Computations!D951^3","v":450000}]
[898,0.27287567397332169,{"$f":"B952+$D$11","v":0.27316752123025817},{"$f":"AVERAGE(B952:C952)","v":0.2730215976017899},{"$f":"IF($D$3=\"Beta\",_xlfn.BETA.DIST(C952,$D$4,$D$5,TRUE),IF($D$3=\"Gamma\",_xlfn.GAMMA.DIST(C952,$D$4,$D$5,TRUE),IF($D$3=\"Lognorm\",_xlfn.LOGNORM.DIST(C952,$D$4,$D$5,TRUE),_xlfn.NORM.DIST(C952,$D$4,$D$5,TRUE))))","v":0.99948083542008037},{"$f":"E952-E951","v":8.1181822951803539E-6},{"$f":"L952","v":4145.0210210761816},{"$f":"M952","v":450000},{"$f":"G952-H952/User_entry!$E$18","v":2645.0210210761816},{"$f":"MAX(I952,0)","v":2645.0210210761816},null,{"$f":"HLOOKUP(User_entry!$B$56,Computations!$N$54:$R$1054,Computations!A952+1,FALSE)","v":4145.0210210761816},{"$f":"HLOOKUP(User_entry!$E$56,Computations!$S$54:$W$1054,Computations!A952+1,FALSE)","v":450000},{"$f":"Computations!$F$15+Computations!$E$15*D952","v":4145.0210210761816},{"$f":"EXP(Computations!$F$16)*EXP(Computations!$E$16)^Computations!D952","v":5783.1985573716556},{"$f":"Computations!$F$17+Computations!$E$17*LN(Computations!D952)","v":3392.2247361163436},{"$f":"Computations!$F$18+Computations!$E$18*Computations!D952+Computations!$D$18*Computations!D952^2","v":3390.4425862230514},{"$f":"Computations!$F$19+Computations!$E$19*Computations!D952+Computations!$D$19*Computations!D952^2+Computations!$C$19*Computations!D952^3","v":3390.4425862230514},{"$f":"Computations!$J$15+Computations!$I$15*D952","v":450000},{"$f":"EXP(Computations!$J$16)*EXP(Computations!$I$16)^Computations!D952","v":450000.00000000035},{"$f":"Computations!$J$17+Computations!$I$17*LN(Computations!D952)","v":450000},{"$f":"Computations!$J$18+Computations!$I$18*Computations!D952+Computations!$H$18*Computations!D952^2","v":450000},{"$f":"Computations!$J$19+Computations!$I$19*Computations!D952+Computations!$H$19*Computations!D952^2+Computations!$G$19*Computations!D952^3","v":450000}]
[899,{"$f":"C952","v":0.27316752123025817},0.27345936848719465,0.27331344485872644,0.99948883489593332,7.9994758529489118E-6,4148.8611165621887,450000,{"$f":"G953-H953/User_entry!$E$18","v":2648.8611165621887},2648.8611165621887,null,{"$f":"HLOOKUP(User_entry!$B$56,Computations!$N$54:$R$1054,Computations!A953+1,FALSE)","v":4148.8611165621887},{"$f":"HLOOKUP(User_entry!$E$56,Computations!$S$54:$W$1054,Computations!A953+1,FALSE)","v":450000},{"$f":"Computations!$F$15+Computations!$E$15*D953","v":4148.8611165621887},{"$f":"EXP(Computations!$F$16)*EXP(Computations!$E$16)^Computations!D953","v":5795.1970350011525},{"$f":"Computations!$F$17+Computations!$E$17*LN(Computations!D953)","v":3393.5820522084109},{"$f":"Computations!$F$18+Computations!$E$18*Computations!D953+Computations!$D$18*Computations!D953^2","v":3390.914567633502},{"$f":"Computations!$F$19+Computations!$E$19*Computations!D953+Computations!$D$19*Computations!D953^2+Computations!$C$19*Computations!D953^3","v":3390.914567633502},{"$f":"Computations!$J$15+Computations!$I$15*D953","v":450000},{"$f":"EXP(Computations!$J$16)*EXP(Computations!$I$16)^Computations!D953","v":450000.00000000035},{"$f":"Computations!$J$17+Computations!$I$17*LN(Computations!D953)","v":450000},{"$f":"Computations!$J$18+Computations!$I$18*Computations!D953+Computations!$H$18*Computations!D953^2","v":450000},{"$f":"Computations!$J$19+Computations!$I$19*Computations!D953+Computations!$H$19*Computations!D953^2+Computations!$G$19*Computations!D953^3","v":450000}]
[900,0.27345936848719465,0.27375121574413114,0.27360529211566287,0.99949671729848655,7.8824025532275854E-6,4152.701212048195,450000,{"$f":"G954-H954/User_entry!$E$18","v":2652.701212048195},2652.701212048195,null,{"$f":"HLOOKUP(User_entry!$B$56,Computations!$N$54:$R$1054,Computations!A954+1,FALSE)","v":4152.701212048195},{"$f":"HLOOKUP(User_entry!$E$56,Computations!$S$54:$W$1054,Computations!A954+1,FALSE)","v":450000},{"$f":"Computations!$F$15+Computations!$E$15*D954","v":4152.701212048195},{"$f":"EXP(Computations!$F$16)*EXP(Computations!$E$16)^Computations!D954","v":5807.220406028996},{"$f":"Computations!$F$17+Computations!$E$17*LN(Computations!D954)","v":3394.9379197157918},{"$f":"Computations!$F$18+Computations!$E$18*Computations!D954+Computations!$D$18*Computations!D954^2","v":3391.3802397979234},{"$f":"Computations!$F$19+Computations!$E$19*Computations!D954+Computations!$D$19*Computations!D954^2+Computations!$C$19*Computations!D954^3","v":3391.3802397979234},{"$f":"Computations!$J$15+Computations!$I$15*D954","v":450000},{"$f":"EXP(Computations!$J$16)*EXP(Computations!$I$16)^Computations!D954","v":450000.00000000035},{"$f":"Computations!$J$17+Computations!$I$17*LN(Computations!D954)","v":450000},{"$f":"Computations!$J$18+Computations!$I$18*Computations!D954+Computations!$H$18*Computations!D954^2","v":450000},{"$f":"Computations!$J$19+Computations!$I$19*Computations!D954+Computations!$H$19*Computations!D954^2+Computations!$G$19*Computations!D954^3","v":450000}]
[901,0.27375121574413114,0.27404306300106762,0.27389713937259941,0.99950448424004357,7.7669415570191802E-6,4156.5413075342021,450000,{"$f":"G955-H955/User_entry!$E$18","v":2656.5413075342021},2656.5413075342021,null,{"$f":"HLOOKUP(User_entry!$B$56,Computations!$N$54:$R$1054,Computations!A955+1,FALSE)","v":4156.5413075342021},{"$f":"HLOOKUP(User_entry!$E$56,Computations!$S$54:$W$1054,Computations!A955+1,FALSE)","v":450000},{"$f":"Computations!$F$15+Computations!$E$15*D955","v":4156.5413075342021},{"$f":"EXP(Computations!$F$16)*EXP(Computations!$E$16)^Computations!D955","v":5819.2687221018523},{"$f":"Computations!$F$17+Computations!$E$17*LN(Computations!D955)","v":3396.2923417271713},{"$f":"Computations!$F$18+Computations!$E$18*Computations!D955+Computations!$D$18*Computations!D955^2","v":3391.8396027163171},{"$f":"Computations!$F$19+Computations!$E$19*Computations!D955+Computations!$D$19*Computations!D955^2+Computations!$C$19*Computations!D955^3","v":3391.8396027163171},{"$f":"Computations!$J$15+Computations!$I$15*D955","v":450000},{"$f":"EXP(Computations!$J$16)*EXP(Computations!$I$16)^Computations!D955","v":450000.00000000035},{"$f":"Computations!$J$17+Computations!$I$17*LN(Computations!D955)","v":450000},{"$f":"Computations!$J$18+Computations!$I$18*Computations!D955+Computations!$H$18*Computations!D955^2","v":450000},{"$f":"Computations!$J$19+Computations!$I$19*Computations!D955+Computations!$H$19*Computations!D955^2+Computations!$G$19*Computations!D955^3","v":450000}]
[902,0.27404306300106762,0.27433491025800411,0.27418898662953584,0.99951213731230948,7.6530722659118311E-6,4160.3814030202075,450000,{"$f":"G956-H956/User_entry!$E$18","v":2660.3814030202075},2660.3814030202075,null,{"$f":"HLOOKUP(User_entry!$B$56,Computations!$N$54:$R$1054,Computations!A956+1,FALSE)","v":4160.3814030202075},{"$f":"HLOOKUP(User_entry!$E$56,Computations!$S$54:$W$1054,Computations!A956+1,FALSE)","v":450000},{"$f":"Computations!$F$15+Computations!$E$15*D956","v":4160.3814030202075},{"$f":"EXP(Computations!$F$16)*EXP(Computations!$E$16)^Computations!D956","v":5831.3420349735243},{"$f":"Computations!$F$17+Computations!$E$17*LN(Computations!D956)","v":3397.6453213213654},{"$f":"Computations!$F$18+Computations!$E$18*Computations!D956+Computations!$D$18*Computations!D956^2","v":3392.2926563886822},{"$f":"Computations!$F$19+Computations!$E$19*Computations!D956+Computations!$D$19*Computations!D956^2+Computations!$C$19*Computations!D956^3","v":3392.2926563886822},{"$f":"Computations!$J$15+Computations!$I$15*D956","v":450000},{"$f":"EXP(Computations!$J$16)*EXP(Computations!$I$16)^Computations!D956","v":450000.00000000035},{"$f":"Computations!$J$17+Computations!$I$17*LN(Computations!D956)","v":450000},{"$f":"Computations!$J$18+Computations!$I$18*Computations!D956+Computations!$H$18*Computations!D956^2","v":450000},{"$f":"Computations!$J$19+Computations!$I$19*Computations!D956+Computations!$H$19*Computations!D956^2+Computations!$G$19*Computations!D956^3","v":450000}]
[903,0.27433491025800411,0.27462675751494059,0.27448083388647238,0.99951967808663,7.5407743205246902E-6,4164.2214985062146,450000,{"$f":"G957-H957/User_entry!$E$18","v":2664.2214985062146},2664.2214985062146,null,{"$f":"HLOOKUP(User_entry!$B$56,Computations!$N$54:$R$1054,Computations!A957+1,FALSE)","v":4164.2214985062146},{"$f":"HLOOKUP(User_entry!$E$56,Computations!$S$54:$W$1054,Computations!A957+1,FALSE)","v":450000},{"$f":"Computations!$F$15+Computations!$E$15*D957","v":4164.2214985062146},{"$f":"EXP(Computations!$F$16)*EXP(Computations!$E$16)^Computations!D957","v":5843.4403965052043},{"$f":"Computations!$F$17+Computations!$E$17*LN(Computations!D957)","v":3398.9968615673656},{"$f":"Computations!$F$18+Computations!$E$18*Computations!D957+Computations!$D$18*Computations!D957^2","v":3392.7394008150191},{"$f":"Computations!$F$19+Computations!$E$19*Computations!D957+Computations!$D$19*Computations!D957^2+Computations!$C$19*Computations!D957^3","v":3392.7394008150191},{"$f":"Computations!$J$15+Computations!$I$15*D957","v":450000},{"$f":"EXP(Computations!$J$16)*EXP(Computations!$I$16)^Computations!D957","v":450000.00000000035},{"$f":"Computations!$J$17+Computations!$I$17*LN(Computations!D957)","v":450000},{"$f":"Computations!$J$18+Computations!$I$18*Computations!D957+Computations!$H$18*Computations!D957^2","v":450000},{"$f":"Computations!$J$19+Computations!$I$19*Computations!D957+Computations!$H$19*Computations!D957^2+Computations!$G$19*Computations!D957^3","v":450000}]
[904,0.27462675751494059,0.27491860477187707,0.2747726811434088,0.99952710811422607,7.4300275960670348E-6,4168.06159399222,450000,{"$f":"G958-H958/User_entry!$E$18","v":2668.06159399222},2668.06159399222,null,{"$f":"HLOOKUP(User_entry!$B$56,Computations!$N$54:$R$1054,Computations!A958+1,FALSE)","v":4168.06159399222},{"$f":"HLOOKUP(User_entry!$E$56,Computations!$S$54:$W$1054,Computations!A958+1,FALSE)","v":450000},{"$f":"Computations!$F$15+Computations!$E$15*D958","v":4168.06159399222},{"$f":"EXP(Computations!$F$16)*EXP(Computations!$E$16)^Computations!D958","v":5855.5638586656678},{"$f":"Computations!$F$17+Computations!$E$17*LN(Computations!D958)","v":3400.3469655243771},{"$f":"Computations!$F$18+Computations!$E$18*Computations!D958+Computations!$D$18*Computations!D958^2","v":3393.1798359953277},{"$f":"Computations!$F$19+Computations!$E$19*Computations!D958+Computations!$D$19*Computations!D958^2+Computations!$C$19*Computations!D958^3","v":3393.1798359953277},{"$f":"Computations!$J$15+Computations!$I$15*D958","v":450000},{"$f":"EXP(Computations!$J$16)*EXP(Computations!$I$16)^Computations!D958","v":450000.00000000035},{"$f":"Computations!$J$17+Computations!$I$17*LN(Computations!D958)","v":450000},{"$f":"Computations!$J$18+Computations!$I$18*Computations!D958+Computations!$H$18*Computations!D958^2","v":450000},{"$f":"Computations!$J$19+Computations!$I$19*Computations!D958+Computations!$H$19*Computations!D958^2+Computations!$G$19*Computations!D958^3","v":450000}]
[905,0.27491860477187707,0.27521045202881356,0.27506452840034534,0.99953442892642852,7.3208122024492894E-6,4171.9016894782271,450000,{"$f":"G959-H959/User_entry!$E$18","v":2671.9016894782271},2671.9016894782271,null,{"$f":"HLOOKUP(User_entry!$B$56,Computations!$N$54:$R$1054,Computations!A959+1,FALSE)","v":4171.9016894782271},{"$f":"HLOOKUP(User_entry!$E$56,Computations!$S$54:$W$1054,Computations!A959+1,FALSE)","v":450000},{"$f":"Computations!$F$15+Computations!$E$15*D959","v":4171.9016894782271},{"$f":"EXP(Computations!$F$16)*EXP(Computations!$E$16)^Computations!D959","v":5867.7124735315256},{"$f":"Computations!$F$17+Computations!$E$17*LN(Computations!D959)","v":3401.6956362418641},{"$f":"Computations!$F$18+Computations!$E$18*Computations!D959+Computations!$D$18*Computations!D959^2","v":3393.6139619296082},{"$f":"Computations!$F$19+Computations!$E$19*Computations!D959+Computations!$D$19*Computations!D959^2+Computations!$C$19*Computations!D959^3","v":3393.6139619296082},{"$f":"Computations!$J$15+Computations!$I$15*D959","v":450000},{"$f":"EXP(Computations!$J$16)*EXP(Computations!$I$16)^Computations!D959","v":450000.00000000035},{"$f":"Computations!$J$17+Computations!$I$17*LN(Computations!D959)","v":450000},{"$f":"Computations!$J$18+Computations!$I$18*Computations!D959+Computations!$H$18*Computations!D959^2","v":450000},{"$f":"Computations!$J$19+Computations!$I$19*Computations!D959+Computations!$H$19*Computations!D959^2+Computations!$G$19*Computations!D959^3","v":450000}]
[906,0.27521045202881356,0.27550229928575004,0.27535637565728177,0.99954164203490858,7.2131084800641787E-6,4175.7417849642325,450000,{"$f":"G960-H960/User_entry!$E$18","v":2675.7417849642325},2675.7417849642325,null,{"$f":"HLOOKUP(User_entry!$B$56,Computations!$N$54:$R$1054,Computations!A960+1,FALSE)","v":4175.7417849642325},{"$f":"HLOOKUP(User_entry!$E$56,Computations!$S$54:$W$1054,Computations!A960+1,FALSE)","v":450000},{"$f":"Computations!$F$15+Computations!$E$15*D960","v":4175.7417849642325},{"$f":"EXP(Computations!$F$16)*EXP(Computations!$E$16)^Computations!D960","v":5879.8862932874154},{"$f":"Computations!$F$17+Computations!$E$17*LN(Computations!D960)","v":3403.0428767595877},{"$f":"Computations!$F$18+Computations!$E$18*Computations!D960+Computations!$D$18*Computations!D960^2","v":3394.0417786178596},{"$f":"Computations!$F$19+Computations!$E$19*Computations!D960+Computations!$D$19*Computations!D960^2+Computations!$C$19*Computations!D960^3","v":3394.0417786178596},{"$f":"Computations!$J$15+Computations!$I$15*D960","v":450000},{"$f":"EXP(Computations!$J$16)*EXP(Computations!$I$16)^Computations!D960","v":450000.00000000035},{"$f":"Computations!$J$17+Computations!$I$17*LN(Computations!D960)","v":450000},{"$f":"Computations!$J$18+Computations!$I$18*Computations!D960+Computations!$H$18*Computations!D960^2","v":450000},{"$f":"Computations!$J$19+Computations!$I$19*Computations!D960+Computations!$H$19*Computations!D960^2+Computations!$G$19*Computations!D960^3","v":450000}]
[907,0.27550229928575004,0.27579414654268652,0.27564822291421831,0.99954874893190748,7.1068969988985486E-6,4179.5818804502396,450000,{"$f":"G961-H961/User_entry!$E$18","v":2679.5818804502396},2679.5818804502396,null,{"$f":"HLOOKUP(User_entry!$B$56,Computations!$N$54:$R$1054,Computations!A961+1,FALSE)","v":4179.5818804502396},{"$f":"HLOOKUP(User_entry!$E$56,Computations!$S$54:$W$1054,Computations!A961+1,FALSE)","v":450000},{"$f":"Computations!$F$15+Computations!$E$15*D961","v":4179.5818804502396},{"$f":"EXP(Computations!$F$16)*EXP(Computations!$E$16)^Computations!D961","v":5892.0853702262621},{"$f":"Computations!$F$17+Computations!$E$17*LN(Computations!D961)","v":3404.3886901076503},{"$f":"Computations!$F$18+Computations!$E$18*Computations!D961+Computations!$D$18*Computations!D961^2","v":3394.4632860600841},{"$f":"Computations!$F$19+Computations!$E$19*Computations!D961+Computations!$D$19*Computations!D961^2+Computations!$C$19*Computations!D961^3","v":3394.4632860600841},{"$f":"Computations!$J$15+Computations!$I$15*D961","v":450000},{"$f":"EXP(Computations!$J$16)*EXP(Computations!$I$16)^Computations!D961","v":450000.00000000035},{"$f":"Computations!$J$17+Computations!$I$17*LN(Computations!D961)","v":450000},{"$f":"Computations!$J$18+Computations!$I$18*Computations!D961+Computations!$H$18*Computations!D961^2","v":450000},{"$f":"Computations!$J$19+Computations!$I$19*Computations!D961+Computations!$H$19*Computations!D961^2+Computations!$G$19*Computations!D961^3","v":450000}]
[908,0.27579414654268652,0.27608599379962301,0.27594007017115474,0.99955575109046202,7.0021585545365639E-6,4183.4219759362459,450000,{"$f":"G962-H962/User_entry!$E$18","v":2683.4219759362459},2683.4219759362459,null,{"$f":"HLOOKUP(User_entry!$B$56,Computations!$N$54:$R$1054,Computations!A962+1,FALSE)","v":4183.4219759362459},{"$f":"HLOOKUP(User_entry!$E$56,Computations!$S$54:$W$1054,Computations!A962+1,FALSE)","v":450000},{"$f":"Computations!$F$15+Computations!$E$15*D962","v":4183.4219759362459},{"$f":"EXP(Computations!$F$16)*EXP(Computations!$E$16)^Computations!D962","v":5904.3097567494615},{"$f":"Computations!$F$17+Computations!$E$17*LN(Computations!D962)","v":3405.7330793065344},{"$f":"Computations!$F$18+Computations!$E$18*Computations!D962+Computations!$D$18*Computations!D962^2","v":3394.87848425628},{"$f":"Computations!$F$19+Computations!$E$19*Computations!D962+Computations!$D$19*Computations!D962^2+Computations!$C$19*Computations!D962^3","v":3394.87848425628},{"$f":"Computations!$J$15+Computations!$I$15*D962","v":450000},{"$f":"EXP(Computations!$J$16)*EXP(Computations!$I$16)^Computations!D962","v":450000.00000000035},{"$f":"Computations!$J$17+Computations!$I$17*LN(Computations!D962)","v":450000},{"$f":"Computations!$J$18+Computations!$I$18*Computations!D962+Computations!$H$18*Computations!D962^2","v":450000},{"$f":"Computations!$J$19+Computations!$I$19*Computations!D962+Computations!$H$19*Computations!D962^2+Computations!$G$19*Computations!D962^3","v":450000}]
[909,0.27608599379962301,0.27637784105655949,0.27623191742809128,0.99956264996462996,6.8988741679376631E-6,4187.262071422253,450000,{"$f":"G963-H963/User_entry!$E$18","v":2687.262071422253},2687.262071422253,null,{"$f":"HLOOKUP(User_entry!$B$56,Computations!$N$54:$R$1054,Computations!A963+1,FALSE)","v":4187.262071422253},{"$f":"HLOOKUP(User_entry!$E$56,Computations!$S$54:$W$1054,Computations!A963+1,FALSE)","v":450000},{"$f":"Computations!$F$15+Computations!$E$15*D963","v":4187.262071422253},{"$f":"EXP(Computations!$F$16)*EXP(Computations!$E$16)^Computations!D963","v":5916.5595053671495},{"$f":"Computations!$F$17+Computations!$E$17*LN(Computations!D963)","v":3407.0760473671435},{"$f":"Computations!$F$18+Computations!$E$18*Computations!D963+Computations!$D$18*Computations!D963^2","v":3395.2873732064472},{"$f":"Computations!$F$19+Computations!$E$19*Computations!D963+Computations!$D$19*Computations!D963^2+Computations!$C$19*Computations!D963^3","v":3395.2873732064472},{"$f":"Computations!$J$15+Computations!$I$15*D963","v":450000},{"$f":"EXP(Computations!$J$16)*EXP(Computations!$I$16)^Computations!D963","v":450000.00000000035},{"$f":"Computations!$J$17+Computations!$I$17*LN(Computations!D963)","v":450000},{"$f":"Computations!$J$18+Computations!$I$18*Computations!D963+Computations!$H$18*Computations!D963^2","v":450000},{"$f":"Computations!$J$19+Computations!$I$19*Computations!D963+Computations!$H$19*Computations!D963^2+Computations!$G$19*Computations!D963^3","v":450000}]
[910,0.27637784105655949,0.27666968831349598,0.27652376468502771,0.99956944698971117,6.7970250812177113E-6,4191.1021669082584,450000,{"$f":"G964-H964/User_entry!$E$18","v":2691.1021669082584},2691.1021669082584,null,{"$f":"HLOOKUP(User_entry!$B$56,Computations!$N$54:$R$1054,Computations!A964+1,FALSE)","v":4191.1021669082584},{"$f":"HLOOKUP(User_entry!$E$56,Computations!$S$54:$W$1054,Computations!A964+1,FALSE)","v":450000},{"$f":"Computations!$F$15+Computations!$E$15*D964","v":4191.1021669082584},{"$f":"EXP(Computations!$F$16)*EXP(Computations!$E$16)^Computations!D964","v":5928.8346686983868},{"$f":"Computations!$F$17+Computations!$E$17*LN(Computations!D964)","v":3408.4175972908415},{"$f":"Computations!$F$18+Computations!$E$18*Computations!D964+Computations!$D$18*Computations!D964^2","v":3395.6899529105858},{"$f":"Computations!$F$19+Computations!$E$19*Computations!D964+Computations!$D$19*Computations!D964^2+Computations!$C$19*Computations!D964^3","v":3395.6899529105858},{"$f":"Computations!$J$15+Computations!$I$15*D964","v":450000},{"$f":"EXP(Computations!$J$16)*EXP(Computations!$I$16)^Computations!D964","v":450000.00000000035},{"$f":"Computations!$J$17+Computations!$I$17*LN(Computations!D964)","v":450000},{"$f":"Computations!$J$18+Computations!$I$18*Computations!D964+Computations!$H$18*Computations!D964^2","v":450000},{"$f":"Computations!$J$19+Computations!$I$19*Computations!D964+Computations!$H$19*Computations!D964^2+Computations!$G$19*Computations!D964^3","v":450000}]
[911,0.27666968831349598,0.27696153557043246,0.27681561194196425,0.99957614358246749,6.6965927563167327E-6,4194.9422623942655,450000,{"$f":"G965-H965/User_entry!$E$18","v":2694.9422623942655},2694.9422623942655,null,{"$f":"HLOOKUP(User_entry!$B$56,Computations!$N$54:$R$1054,Computations!A965+1,FALSE)","v":4194.9422623942655},{"$f":"HLOOKUP(User_entry!$E$56,Computations!$S$54:$W$1054,Computations!A965+1,FALSE)","v":450000},{"$f":"Computations!$F$15+Computations!$E$15*D965","v":4194.9422623942655},{"$f":"EXP(Computations!$F$16)*EXP(Computations!$E$16)^Computations!D965","v":5941.1352994714189},{"$f":"Computations!$F$17+Computations!$E$17*LN(Computations!D965)","v":3409.7577320694973},{"$f":"Computations!$F$18+Computations!$E$18*Computations!D965+Computations!$D$18*Computations!D965^2","v":3396.0862233686971},{"$f":"Computations!$F$19+Computations!$E$19*Computations!D965+Computations!$D$19*Computations!D965^2+Computations!$C$19*Computations!D965^3","v":3396.0862233686971},{"$f":"Computations!$J$15+Computations!$I$15*D965","v":450000},{"$f":"EXP(Computations!$J$16)*EXP(Computations!$I$16)^Computations!D965","v":450000.00000000035},{"$f":"Computations!$J$17+Computations!$I$17*LN(Computations!D965)","v":450000},{"$f":"Computations!$J$18+Computations!$I$18*Computations!D965+Computations!$H$18*Computations!D965^2","v":450000},{"$f":"Computations!$J$19+Computations!$I$19*Computations!D965+Computations!$H$19*Computations!D965^2+Computations!$G$19*Computations!D965^3","v":450000}]
[912,0.27696153557043246,0.27725338282736894,0.27710745919890067,0.99958274114134105,6.5975588735556201E-6,4198.7823578802709,450000,{"$f":"G966-H966/User_entry!$E$18","v":2698.7823578802709},2698.7823578802709,null,{"$f":"HLOOKUP(User_entry!$B$56,Computations!$N$54:$R$1054,Computations!A966+1,FALSE)","v":4198.7823578802709},{"$f":"HLOOKUP(User_entry!$E$56,Computations!$S$54:$W$1054,Computations!A966+1,FALSE)","v":450000},{"$f":"Computations!$F$15+Computations!$E$15*D966","v":4198.7823578802709},{"$f":"EXP(Computations!$F$16)*EXP(Computations!$E$16)^Computations!D966","v":5953.4614505238733},{"$f":"Computations!$F$17+Computations!$E$17*LN(Computations!D966)","v":3411.0964546855193},{"$f":"Computations!$F$18+Computations!$E$18*Computations!D966+Computations!$D$18*Computations!D966^2","v":3396.4761845807798},{"$f":"Computations!$F$19+Computations!$E$19*Computations!D966+Computations!$D$19*Computations!D966^2+Computations!$C$19*Computations!D966^3","v":3396.4761845807798},{"$f":"Computations!$J$15+Computations!$I$15*D966","v":450000},{"$f":"EXP(Computations!$J$16)*EXP(Computations!$I$16)^Computations!D966","v":450000.00000000035},{"$f":"Computations!$J$17+Computations!$I$17*LN(Computations!D966)","v":450000},{"$f":"Computations!$J$18+Computations!$I$18*Computations!D966+Computations!$H$18*Computations!D966^2","v":450000},{"$f":"Computations!$J$19+Computations!$I$19*Computations!D966+Computations!$H$19*Computations!D966^2+Computations!$G$19*Computations!D966^3","v":450000}]
[913,0.27725338282736894,0.27754523008430543,0.27739930645583721,0.99958924104666846,6.499905327417288E-6,4202.622453366278,450000,{"$f":"G967-H967/User_entry!$E$18","v":2702.622453366278},2702.622453366278,null,{"$f":"HLOOKUP(User_entry!$B$56,Computations!$N$54:$R$1054,Computations!A967+1,FALSE)","v":4202.622453366278},{"$f":"HLOOKUP(User_entry!$E$56,Computations!$S$54:$W$1054,Computations!A967+1,FALSE)","v":450000},{"$f":"Computations!$F$15+Computations!$E$15*D967","v":4202.622453366278},{"$f":"EXP(Computations!$F$16)*EXP(Computations!$E$16)^Computations!D967","v":5965.8131748030155},{"$f":"Computations!$F$17+Computations!$E$17*LN(Computations!D967)","v":3412.4337681118991},{"$f":"Computations!$F$18+Computations!$E$18*Computations!D967+Computations!$D$18*Computations!D967^2","v":3396.8598365468347},{"$f":"Computations!$F$19+Computations!$E$19*Computations!D967+Computations!$D$19*Computations!D967^2+Computations!$C$19*Computations!D967^3","v":3396.8598365468347},{"$f":"Computations!$J$15+Computations!$I$15*D967","v":450000},{"$f":"EXP(Computations!$J$16)*EXP(Computations!$I$16)^Computations!D967","v":450000.00000000035},{"$f":"Computations!$J$17+Computations!$I$17*LN(Computations!D967)","v":450000},{"$f":"Computations!$J$18+Computations!$I$18*Computations!D967+Computations!$H$18*Computations!D967^2","v":450000},{"$f":"Computations!$J$19+Computations!$I$19*Computations!D967+Computations!$H$19*Computations!D967^2+Computations!$G$19*Computations!D967^3","v":450000}]
[914,0.27754523008430543,0.27783707734124191,0.27769115371277364,0.99959564466089468,6.4036142262136053E-6,4206.4625488522834,450000,{"$f":"G968-H968/User_entry!$E$18","v":2706.4625488522834},2706.4625488522834,null,{"$f":"HLOOKUP(User_entry!$B$56,Computations!$N$54:$R$1054,Computations!A968+1,FALSE)","v":4206.4625488522834},{"$f":"HLOOKUP(User_entry!$E$56,Computations!$S$54:$W$1054,Computations!A968+1,FALSE)","v":450000},{"$f":"Computations!$F$15+Computations!$E$15*D968","v":4206.4625488522834},{"$f":"EXP(Computations!$F$16)*EXP(Computations!$E$16)^Computations!D968","v":5978.1905253659443},{"$f":"Computations!$F$17+Computations!$E$17*LN(Computations!D968)","v":3413.7696753122482},{"$f":"Computations!$F$18+Computations!$E$18*Computations!D968+Computations!$D$18*Computations!D968^2","v":3397.2371792668605},{"$f":"Computations!$F$19+Computations!$E$19*Computations!D968+Computations!$D$19*Computations!D968^2+Computations!$C$19*Computations!D968^3","v":3397.2371792668605},{"$f":"Computations!$J$15+Computations!$I$15*D968","v":450000},{"$f":"EXP(Computations!$J$16)*EXP(Computations!$I$16)^Computations!D968","v":450000.00000000035},{"$f":"Computations!$J$17+Computations!$I$17*LN(Computations!D968)","v":450000},{"$f":"Computations!$J$18+Computations!$I$18*Computations!D968+Computations!$H$18*Computations!D968^2","v":450000},{"$f":"Computations!$J$19+Computations!$I$19*Computations!D968+Computations!$H$19*Computations!D968^2+Computations!$G$19*Computations!D968^3","v":450000}]
[915,0.27783707734124191,0.2781289245981784,0.27798300096971018,0.99960195332878365,6.3086678889767711E-6,4210.3026443382905,450000,{"$f":"G969-H969/User_entry!$E$18","v":2710.3026443382905},2710.3026443382905,null,{"$f":"HLOOKUP(User_entry!$B$56,Computations!$N$54:$R$1054,Computations!A969+1,FALSE)","v":4210.3026443382905},{"$f":"HLOOKUP(User_entry!$E$56,Computations!$S$54:$W$1054,Computations!A969+1,FALSE)","v":450000},{"$f":"Computations!$F$15+Computations!$E$15*D969","v":4210.3026443382905},{"$f":"EXP(Computations!$F$16)*EXP(Computations!$E$16)^Computations!D969","v":5990.5935553798518},{"$f":"Computations!$F$17+Computations!$E$17*LN(Computations!D969)","v":3415.1041792408405},{"$f":"Computations!$F$18+Computations!$E$18*Computations!D969+Computations!$D$18*Computations!D969^2","v":3397.6082127408581},{"$f":"Computations!$F$19+Computations!$E$19*Computations!D969+Computations!$D$19*Computations!D969^2+Computations!$C$19*Computations!D969^3","v":3397.6082127408581},{"$f":"Computations!$J$15+Computations!$I$15*D969","v":450000},{"$f":"EXP(Computations!$J$16)*EXP(Computations!$I$16)^Computations!D969","v":450000.00000000035},{"$f":"Computations!$J$17+Computations!$I$17*LN(Computations!D969)","v":450000},{"$f":"Computations!$J$18+Computations!$I$18*Computations!D969+Computations!$H$18*Computations!D969^2","v":450000},{"$f":"Computations!$J$19+Computations!$I$19*Computations!D969+Computations!$H$19*Computations!D969^2+Computations!$G$19*Computations!D969^3","v":450000}]
[916,0.2781289245981784,0.27842077185511488,0.27827484822664661,0.999608168377627,6.2150488433498907E-6,4214.1427398242968,450000,{"$f":"G970-H970/User_entry!$E$18","v":2714.1427398242968},2714.1427398242968,null,{"$f":"HLOOKUP(User_entry!$B$56,Computations!$N$54:$R$1054,Computations!A970+1,FALSE)","v":4214.1427398242968},{"$f":"HLOOKUP(User_entry!$E$56,Computations!$S$54:$W$1054,Computations!A970+1,FALSE)","v":450000},{"$f":"Computations!$F$15+Computations!$E$15*D970","v":4214.1427398242968},{"$f":"EXP(Computations!$F$16)*EXP(Computations!$E$16)^Computations!D970","v":6003.0223181222264},{"$f":"Computations!$F$17+Computations!$E$17*LN(Computations!D970)","v":3416.4372828426485},{"$f":"Computations!$F$18+Computations!$E$18*Computations!D970+Computations!$D$18*Computations!D970^2","v":3397.9729369688271},{"$f":"Computations!$F$19+Computations!$E$19*Computations!D970+Computations!$D$19*Computations!D970^2+Computations!$C$19*Computations!D970^3","v":3397.9729369688271},{"$f":"Computations!$J$15+Computations!$I$15*D970","v":450000},{"$f":"EXP(Computations!$J$16)*EXP(Computations!$I$16)^Computations!D970","v":450000.00000000035},{"$f":"Computations!$J$17+Computations!$I$17*LN(Computations!D970)","v":450000},{"$f":"Computations!$J$18+Computations!$I$18*Computations!D970+Computations!$H$18*Computations!D970^2","v":450000},{"$f":"Computations!$J$19+Computations!$I$19*Computations!D970+Computations!$H$19*Computations!D970^2+Computations!$G$19*Computations!D970^3","v":450000}]
[917,0.27842077185511488,0.27871261911205136,0.27856669548358315,0.99961429111745093,6.1227398239216413E-6,4217.9828353103039,450000,{"$f":"G971-H971/User_entry!$E$18","v":2717.9828353103039},2717.9828353103039,null,{"$f":"HLOOKUP(User_entry!$B$56,Computations!$N$54:$R$1054,Computations!A971+1,FALSE)","v":4217.9828353103039},{"$f":"HLOOKUP(User_entry!$E$56,Computations!$S$54:$W$1054,Computations!A971+1,FALSE)","v":450000},{"$f":"Computations!$F$15+Computations!$E$15*D971","v":4217.9828353103039},{"$f":"EXP(Computations!$F$16)*EXP(Computations!$E$16)^Computations!D971","v":6015.4768669811001},{"$f":"Computations!$F$17+Computations!$E$17*LN(Computations!D971)","v":3417.7689890533857},{"$f":"Computations!$F$18+Computations!$E$18*Computations!D971+Computations!$D$18*Computations!D971^2","v":3398.3313519507697},{"$f":"Computations!$F$19+Computations!$E$19*Computations!D971+Computations!$D$19*Computations!D971^2+Computations!$C$19*Computations!D971^3","v":3398.3313519507697},{"$f":"Computations!$J$15+Computations!$I$15*D971","v":450000},{"$f":"EXP(Computations!$J$16)*EXP(Computations!$I$16)^Computations!D971","v":450000.00000000035},{"$f":"Computations!$J$17+Computations!$I$17*LN(Computations!D971)","v":450000},{"$f":"Computations!$J$18+Computations!$I$18*Computations!D971+Computations!$H$18*Computations!D971^2","v":450000},{"$f":"Computations!$J$19+Computations!$I$19*Computations!D971+Computations!$H$19*Computations!D971^2+Computations!$G$19*Computations!D971^3","v":450000}]
[918,0.27871261911205136,0.27900446636898785,0.27885854274051958,0.99962032284122038,6.0317237694507142E-6,4221.8229307963093,450000,{"$f":"G972-H972/User_entry!$E$18","v":2721.8229307963093},2721.8229307963093,null,{"$f":"HLOOKUP(User_entry!$B$56,Computations!$N$54:$R$1054,Computations!A972+1,FALSE)","v":4221.8229307963093},{"$f":"HLOOKUP(User_entry!$E$56,Computations!$S$54:$W$1054,Computations!A972+1,FALSE)","v":450000},{"$f":"Computations!$F$15+Computations!$E$15*D972","v":4221.8229307963093},{"$f":"EXP(Computations!$F$16)*EXP(Computations!$E$16)^Computations!D972","v":6027.9572554552615},{"$f":"Computations!$F$17+Computations!$E$17*LN(Computations!D972)","v":3419.0993007995412},{"$f":"Computations!$F$18+Computations!$E$18*Computations!D972+Computations!$D$18*Computations!D972^2","v":3398.6834576866822},{"$f":"Computations!$F$19+Computations!$E$19*Computations!D972+Computations!$D$19*Computations!D972^2+Computations!$C$19*Computations!D972^3","v":3398.6834576866822},{"$f":"Computations!$J$15+Computations!$I$15*D972","v":450000},{"$f":"EXP(Computations!$J$16)*EXP(Computations!$I$16)^Computations!D972","v":450000.00000000035},{"$f":"Computations!$J$17+Computations!$I$17*LN(Computations!D972)","v":450000},{"$f":"Computations!$J$18+Computations!$I$18*Computations!D972+Computations!$H$18*Computations!D972^2","v":450000},{"$f":"Computations!$J$19+Computations!$I$19*Computations!D972+Computations!$H$19*Computations!D972^2+Computations!$G$19*Computations!D972^3","v":450000}]
[919,0.27900446636898785,0.27929631362592433,0.27915038999745612,0.99962626482504158,5.9419838212004805E-6,4225.6630262823164,450000,{"$f":"G973-H973/User_entry!$E$18","v":2725.6630262823164},2725.6630262823164,null,{"$f":"HLOOKUP(User_entry!$B$56,Computations!$N$54:$R$1054,Computations!A973+1,FALSE)","v":4225.6630262823164},{"$f":"HLOOKUP(User_entry!$E$56,Computations!$S$54:$W$1054,Computations!A973+1,FALSE)","v":450000},{"$f":"Computations!$F$15+Computations!$E$15*D973","v":4225.6630262823164},{"$f":"EXP(Computations!$F$16)*EXP(Computations!$E$16)^Computations!D973","v":6040.4635371545055},{"$f":"Computations!$F$17+Computations!$E$17*LN(Computations!D973)","v":3420.4282209984221},{"$f":"Computations!$F$18+Computations!$E$18*Computations!D973+Computations!$D$18*Computations!D973^2","v":3399.0292541765671},{"$f":"Computations!$F$19+Computations!$E$19*Computations!D973+Computations!$D$19*Computations!D973^2+Computations!$C$19*Computations!D973^3","v":3399.0292541765671},{"$f":"Computations!$J$15+Computations!$I$15*D973","v":450000},{"$f":"EXP(Computations!$J$16)*EXP(Computations!$I$16)^Computations!D973","v":450000.00000000035},{"$f":"Computations!$J$17+Computations!$I$17*LN(Computations!D973)","v":450000},{"$f":"Computations!$J$18+Computations!$I$18*Computations!D973+Computations!$H$18*Computations!D973^2","v":450000},{"$f":"Computations!$J$19+Computations!$I$19*Computations!D973+Computations!$H$19*Computations!D973^2+Computations!$G$19*Computations!D973^3","v":450000}]
[920,0.27929631362592433,0.27958816088286081,0.27944223725439254,0.99963211832836207,5.8535033204965004E-6,4229.5031217683218,450000,{"$f":"G974-H974/User_entry!$E$18","v":2729.5031217683218},2729.5031217683218,null,{"$f":"HLOOKUP(User_entry!$B$56,Computations!$N$54:$R$1054,Computations!A974+1,FALSE)","v":4229.5031217683218},{"$f":"HLOOKUP(User_entry!$E$56,Computations!$S$54:$W$1054,Computations!A974+1,FALSE)","v":450000},{"$f":"Computations!$F$15+Computations!$E$15*D974","v":4229.5031217683218},{"$f":"EXP(Computations!$F$16)*EXP(Computations!$E$16)^Computations!D974","v":6052.9957657998339},{"$f":"Computations!$F$17+Computations!$E$17*LN(Computations!D974)","v":3421.7557525581897},{"$f":"Computations!$F$18+Computations!$E$18*Computations!D974+Computations!$D$18*Computations!D974^2","v":3399.3687414204237},{"$f":"Computations!$F$19+Computations!$E$19*Computations!D974+Computations!$D$19*Computations!D974^2+Computations!$C$19*Computations!D974^3","v":3399.3687414204237},{"$f":"Computations!$J$15+Computations!$I$15*D974","v":450000},{"$f":"EXP(Computations!$J$16)*EXP(Computations!$I$16)^Computations!D974","v":450000.00000000035},{"$f":"Computations!$J$17+Computations!$I$17*LN(Computations!D974)","v":450000},{"$f":"Computations!$J$18+Computations!$I$18*Computations!D974+Computations!$H$18*Computations!D974^2","v":450000},{"$f":"Computations!$J$19+Computations!$I$19*Computations!D974+Computations!$H$19*Computations!D974^2+Computations!$G$19*Computations!D974^3","v":450000}]
[921,0.27958816088286081,0.2798800081397973,0.27973408451132908,0.99963788459416958,5.7662658075052775E-6,4233.3432172543289,450000,{"$f":"G975-H975/User_entry!$E$18","v":2733.3432172543289},2733.3432172543289,null,{"$f":"HLOOKUP(User_entry!$B$56,Computations!$N$54:$R$1054,Computations!A975+1,FALSE)","v":4233.3432172543289},{"$f":"HLOOKUP(User_entry!$E$56,Computations!$S$54:$W$1054,Computations!A975+1,FALSE)","v":450000},{"$f":"Computations!$F$15+Computations!$E$15*D975","v":4233.3432172543289},{"$f":"EXP(Computations!$F$16)*EXP(Computations!$E$16)^Computations!D975","v":6065.553995223725},{"$f":"Computations!$F$17+Computations!$E$17*LN(Computations!D975)","v":3423.0818983778981},{"$f":"Computations!$F$18+Computations!$E$18*Computations!D975+Computations!$D$18*Computations!D975^2","v":3399.7019194182531},{"$f":"Computations!$F$19+Computations!$E$19*Computations!D975+Computations!$D$19*Computations!D975^2+Computations!$C$19*Computations!D975^3","v":3399.7019194182531},{"$f":"Computations!$J$15+Computations!$I$15*D975","v":450000},{"$f":"EXP(Computations!$J$16)*EXP(Computations!$I$16)^Computations!D975","v":450000.00000000035},{"$f":"Computations!$J$17+Computations!$I$17*LN(Computations!D975)","v":450000},{"$f":"Computations!$J$18+Computations!$I$18*Computations!D975+Computations!$H$18*Computations!D975^2","v":450000},{"$f":"Computations!$J$19+Computations!$I$19*Computations!D975+Computations!$H$19*Computations!D975^2+Computations!$G$19*Computations!D975^3","v":450000}]
[922,0.2798800081397973,0.28017185539673378,0.28002593176826551,0.99964356484918682,5.6802550172374566E-6,4237.1833127403343,450000,{"$f":"G976-H976/User_entry!$E$18","v":2737.1833127403343},2737.1833127403343,null,{"$f":"HLOOKUP(User_entry!$B$56,Computations!$N$54:$R$1054,Computations!A976+1,FALSE)","v":4237.1833127403343},{"$f":"HLOOKUP(User_entry!$E$56,Computations!$S$54:$W$1054,Computations!A976+1,FALSE)","v":450000},{"$f":"Computations!$F$15+Computations!$E$15*D976","v":4237.1833127403343},{"$f":"EXP(Computations!$F$16)*EXP(Computations!$E$16)^Computations!D976","v":6078.1382793703251},{"$f":"Computations!$F$17+Computations!$E$17*LN(Computations!D976)","v":3424.4066613475325},{"$f":"Computations!$F$18+Computations!$E$18*Computations!D976+Computations!$D$18*Computations!D976^2","v":3400.0287881700524},{"$f":"Computations!$F$19+Computations!$E$19*Computations!D976+Computations!$D$19*Computations!D976^2+Computations!$C$19*Computations!D976^3","v":3400.0287881700524},{"$f":"Computations!$J$15+Computations!$I$15*D976","v":450000},{"$f":"EXP(Computations!$J$16)*EXP(Computations!$I$16)^Computations!D976","v":450000.00000000035},{"$f":"Computations!$J$17+Computations!$I$17*LN(Computations!D976)","v":450000},{"$f":"Computations!$J$18+Computations!$I$18*Computations!D976+Computations!$H$18*Computations!D976^2","v":450000},{"$f":"Computations!$J$19+Computations!$I$19*Computations!D976+Computations!$H$19*Computations!D976^2+Computations!$G$19*Computations!D976^3","v":450000}]
[923,0.28017185539673378,0.28046370265367027,0.28031777902520205,0.99964916030406692,5.5954548801029347E-6,4241.0234082263414,450000,{"$f":"G977-H977/User_entry!$E$18","v":2741.0234082263414},2741.0234082263414,null,{"$f":"HLOOKUP(User_entry!$B$56,Computations!$N$54:$R$1054,Computations!A977+1,FALSE)","v":4241.0234082263414},{"$f":"HLOOKUP(User_entry!$E$56,Computations!$S$54:$W$1054,Computations!A977+1,FALSE)","v":450000},{"$f":"Computations!$F$15+Computations!$E$15*D977","v":4241.0234082263414},{"$f":"EXP(Computations!$F$16)*EXP(Computations!$E$16)^Computations!D977","v":6090.7486722957165},{"$f":"Computations!$F$17+Computations!$E$17*LN(Computations!D977)","v":3425.7300443480472},{"$f":"Computations!$F$18+Computations!$E$18*Computations!D977+Computations!$D$18*Computations!D977^2","v":3400.3493476758244},{"$f":"Computations!$F$19+Computations!$E$19*Computations!D977+Computations!$D$19*Computations!D977^2+Computations!$C$19*Computations!D977^3","v":3400.3493476758244},{"$f":"Computations!$J$15+Computations!$I$15*D977","v":450000},{"$f":"EXP(Computations!$J$16)*EXP(Computations!$I$16)^Computations!D977","v":450000.00000000035},{"$f":"Computations!$J$17+Computations!$I$17*LN(Computations!D977)","v":450000},{"$f":"Computations!$J$18+Computations!$I$18*Computations!D977+Computations!$H$18*Computations!D977^2","v":450000},{"$f":"Computations!$J$19+Computations!$I$19*Computations!D977+Computations!$H$19*Computations!D977^2+Computations!$G$19*Computations!D977^3","v":450000}]
[924,0.28046370265367027,0.28075554991060675,0.28060962628213848,0.99965467215358506,5.5118495181361027E-6,4244.8635037123477,450000,{"$f":"G978-H978/User_entry!$E$18","v":2744.8635037123477},2744.8635037123477,null,{"$f":"HLOOKUP(User_entry!$B$56,Computations!$N$54:$R$1054,Computations!A978+1,FALSE)","v":4244.8635037123477},{"$f":"HLOOKUP(User_entry!$E$56,Computations!$S$54:$W$1054,Computations!A978+1,FALSE)","v":450000},{"$f":"Computations!$F$15+Computations!$E$15*D978","v":4244.8635037123477},{"$f":"EXP(Computations!$F$16)*EXP(Computations!$E$16)^Computations!D978","v":6103.3852281681156},{"$f":"Computations!$F$17+Computations!$E$17*LN(Computations!D978)","v":3427.0520502514014},{"$f":"Computations!$F$18+Computations!$E$18*Computations!D978+Computations!$D$18*Computations!D978^2","v":3400.6635979355674},{"$f":"Computations!$F$19+Computations!$E$19*Computations!D978+Computations!$D$19*Computations!D978^2+Computations!$C$19*Computations!D978^3","v":3400.6635979355674},{"$f":"Computations!$J$15+Computations!$I$15*D978","v":450000},{"$f":"EXP(Computations!$J$16)*EXP(Computations!$I$16)^Computations!D978","v":450000.00000000035},{"$f":"Computations!$J$17+Computations!$I$17*LN(Computations!D978)","v":450000},{"$f":"Computations!$J$18+Computations!$I$18*Computations!D978+Computations!$H$18*Computations!D978^2","v":450000},{"$f":"Computations!$J$19+Computations!$I$19*Computations!D978+Computations!$H$19*Computations!D978^2+Computations!$G$19*Computations!D978^3","v":450000}]
[925,0.28075554991060675,0.28104739716754323,0.28090147353907502,0.99966010157682805,5.4294232429974443E-6,4248.7035991983548,450000,{"$f":"G979-H979/User_entry!$E$18","v":2748.7035991983548},2748.7035991983548,null,{"$f":"HLOOKUP(User_entry!$B$56,Computations!$N$54:$R$1054,Computations!A979+1,FALSE)","v":4248.7035991983548},{"$f":"HLOOKUP(User_entry!$E$56,Computations!$S$54:$W$1054,Computations!A979+1,FALSE)","v":450000},{"$f":"Computations!$F$15+Computations!$E$15*D979","v":4248.7035991983548},{"$f":"EXP(Computations!$F$16)*EXP(Computations!$E$16)^Computations!D979","v":6116.0480012681401},{"$f":"Computations!$F$17+Computations!$E$17*LN(Computations!D979)","v":3428.3726819206004},{"$f":"Computations!$F$18+Computations!$E$18*Computations!D979+Computations!$D$18*Computations!D979^2","v":3400.9715389492831},{"$f":"Computations!$F$19+Computations!$E$19*Computations!D979+Computations!$D$19*Computations!D979^2+Computations!$C$19*Computations!D979^3","v":3400.9715389492831},{"$f":"Computations!$J$15+Computations!$I$15*D979","v":450000},{"$f":"EXP(Computations!$J$16)*EXP(Computations!$I$16)^Computations!D979","v":450000.00000000035},{"$f":"Computations!$J$17+Computations!$I$17*LN(Computations!D979)","v":450000},{"$f":"Computations!$J$18+Computations!$I$18*Computations!D979+Computations!$H$18*Computations!D979^2","v":450000},{"$f":"Computations!$J$19+Computations!$I$19*Computations!D979+Computations!$H$19*Computations!D979^2+Computations!$G$19*Computations!D979^3","v":450000}]
[926,0.28104739716754323,0.28133924442447972,0.28119332079601145,0.99966544973738269,5.348160554641268E-6,4252.5436946843602,450000,{"$f":"G980-H980/User_entry!$E$18","v":2752.5436946843602},2752.5436946843602,null,{"$f":"HLOOKUP(User_entry!$B$56,Computations!$N$54:$R$1054,Computations!A980+1,FALSE)","v":4252.5436946843602},{"$f":"HLOOKUP(User_entry!$E$56,Computations!$S$54:$W$1054,Computations!A980+1,FALSE)","v":450000},{"$f":"Computations!$F$15+Computations!$E$15*D980","v":4252.5436946843602},{"$f":"EXP(Computations!$F$16)*EXP(Computations!$E$16)^Computations!D980","v":6128.7370459890035},{"$f":"Computations!$F$17+Computations!$E$17*LN(Computations!D980)","v":3429.6919422097289},{"$f":"Computations!$F$18+Computations!$E$18*Computations!D980+Computations!$D$18*Computations!D980^2","v":3401.273170716971},{"$f":"Computations!$F$19+Computations!$E$19*Computations!D980+Computations!$D$19*Computations!D980^2+Computations!$C$19*Computations!D980^3","v":3401.273170716971},{"$f":"Computations!$J$15+Computations!$I$15*D980","v":450000},{"$f":"EXP(Computations!$J$16)*EXP(Computations!$I$16)^Computations!D980","v":450000.00000000035},{"$f":"Computations!$J$17+Computations!$I$17*LN(Computations!D980)","v":450000},{"$f":"Computations!$J$18+Computations!$I$18*Computations!D980+Computations!$H$18*Computations!D980^2","v":450000},{"$f":"Computations!$J$19+Computations!$I$19*Computations!D980+Computations!$H$19*Computations!D980^2+Computations!$G$19*Computations!D980^3","v":450000}]
[927,0.28133924442447972,0.2816310916814162,0.28148516805294799,0.99967071778352201,5.2680461393173061E-6,4256.3837901703673,450000,{"$f":"G981-H981/User_entry!$E$18","v":2756.3837901703673},2756.3837901703673,null,{"$f":"HLOOKUP(User_entry!$B$56,Computations!$N$54:$R$1054,Computations!A981+1,FALSE)","v":4256.3837901703673},{"$f":"HLOOKUP(User_entry!$E$56,Computations!$S$54:$W$1054,Computations!A981+1,FALSE)","v":450000},{"$f":"Computations!$F$15+Computations!$E$15*D981","v":4256.3837901703673},{"$f":"EXP(Computations!$F$16)*EXP(Computations!$E$16)^Computations!D981","v":6141.4524168367898},{"$f":"Computations!$F$17+Computations!$E$17*LN(Computations!D981)","v":3431.0098339639899},{"$f":"Computations!$F$18+Computations!$E$18*Computations!D981+Computations!$D$18*Computations!D981^2","v":3401.5684932386293},{"$f":"Computations!$F$19+Computations!$E$19*Computations!D981+Computations!$D$19*Computations!D981^2+Computations!$C$19*Computations!D981^3","v":3401.5684932386293},{"$f":"Computations!$J$15+Computations!$I$15*D981","v":450000},{"$f":"EXP(Computations!$J$16)*EXP(Computations!$I$16)^Computations!D981","v":450000.00000000035},{"$f":"Computations!$J$17+Computations!$I$17*LN(Computations!D981)","v":450000},{"$f":"Computations!$J$18+Computations!$I$18*Computations!D981+Computations!$H$18*Computations!D981^2","v":450000},{"$f":"Computations!$J$19+Computations!$I$19*Computations!D981+Computations!$H$19*Computations!D981^2+Computations!$G$19*Computations!D981^3","v":450000}]
[928,0.2816310916814162,0.28192293893835269,0.28177701530988442,0.99967590684838914,5.1890648671282236E-6,4260.2238856563727,450000,{"$f":"G982-H982/User_entry!$E$18","v":2760.2238856563727},2760.2238856563727,null,{"$f":"HLOOKUP(User_entry!$B$56,Computations!$N$54:$R$1054,Computations!A982+1,FALSE)","v":4260.2238856563727},{"$f":"HLOOKUP(User_entry!$E$56,Computations!$S$54:$W$1054,Computations!A982+1,FALSE)","v":450000},{"$f":"Computations!$F$15+Computations!$E$15*D982","v":4260.2238856563727},{"$f":"EXP(Computations!$F$16)*EXP(Computations!$E$16)^Computations!D982","v":6154.1941684306521},{"$f":"Computations!$F$17+Computations!$E$17*LN(Computations!D982)","v":3432.3263600197402},{"$f":"Computations!$F$18+Computations!$E$18*Computations!D982+Computations!$D$18*Computations!D982^2","v":3401.85750651426},{"$f":"Computations!$F$19+Computations!$E$19*Computations!D982+Computations!$D$19*Computations!D982^2+Computations!$C$19*Computations!D982^3","v":3401.85750651426},{"$f":"Computations!$J$15+Computations!$I$15*D982","v":450000},{"$f":"EXP(Computations!$J$16)*EXP(Computations!$I$16)^Computations!D982","v":450000.00000000035},{"$f":"Computations!$J$17+Computations!$I$17*LN(Computations!D982)","v":450000},{"$f":"Computations!$J$18+Computations!$I$18*Computations!D982+Computations!$H$18*Computations!D982^2","v":450000},{"$f":"Computations!$J$19+Computations!$I$19*Computations!D982+Computations!$H$19*Computations!D982^2+Computations!$G$19*Computations!D982^3","v":450000}]
[929,0.28192293893835269,0.28221478619528917,0.28206886256682095,0.9996810180501795,5.1112017903642837E-6,4264.0639811423798,450000,{"$f":"G983-H983/User_entry!$E$18","v":2764.0639811423798},2764.0639811423798,null,{"$f":"HLOOKUP(User_entry!$B$56,Computations!$N$54:$R$1054,Computations!A983+1,FALSE)","v":4264.0639811423798},{"$f":"HLOOKUP(User_entry!$E$56,Computations!$S$54:$W$1054,Computations!A983+1,FALSE)","v":450000},{"$f":"Computations!$F$15+Computations!$E$15*D983","v":4264.0639811423798},{"$f":"EXP(Computations!$F$16)*EXP(Computations!$E$16)^Computations!D983","v":6166.9623555030767},{"$f":"Computations!$F$17+Computations!$E$17*LN(Computations!D983)","v":3433.6415232045301},{"$f":"Computations!$F$18+Computations!$E$18*Computations!D983+Computations!$D$18*Computations!D983^2","v":3402.1402105438624},{"$f":"Computations!$F$19+Computations!$E$19*Computations!D983+Computations!$D$19*Computations!D983^2+Computations!$C$19*Computations!D983^3","v":3402.1402105438624},{"$f":"Computations!$J$15+Computations!$I$15*D983","v":450000},{"$f":"EXP(Computations!$J$16)*EXP(Computations!$I$16)^Computations!D983","v":450000.00000000035},{"$f":"Computations!$J$17+Computations!$I$17*LN(Computations!D983)","v":450000},{"$f":"Computations!$J$18+Computations!$I$18*Computations!D983+Computations!$H$18*Computations!D983^2","v":450000},{"$f":"Computations!$J$19+Computations!$I$19*Computations!D983+Computations!$H$19*Computations!D983^2+Computations!$G$19*Computations!D983^3","v":450000}]
[930,0.28221478619528917,0.28250663345222565,0.28236070982375738,0.99968605249232123,5.0344421417269913E-6,4267.9040766283852,450000,{"$f":"G984-H984/User_entry!$E$18","v":2767.9040766283852},2767.9040766283852,null,{"$f":"HLOOKUP(User_entry!$B$56,Computations!$N$54:$R$1054,Computations!A984+1,FALSE)","v":4267.9040766283852},{"$f":"HLOOKUP(User_entry!$E$56,Computations!$S$54:$W$1054,Computations!A984+1,FALSE)","v":450000},{"$f":"Computations!$F$15+Computations!$E$15*D984","v":4267.9040766283852},{"$f":"EXP(Computations!$F$16)*EXP(Computations!$E$16)^Computations!D984","v":6179.7570329000891},{"$f":"Computations!$F$17+Computations!$E$17*LN(Computations!D984)","v":3434.9553263371354},{"$f":"Computations!$F$18+Computations!$E$18*Computations!D984+Computations!$D$18*Computations!D984^2","v":3402.4166053274371},{"$f":"Computations!$F$19+Computations!$E$19*Computations!D984+Computations!$D$19*Computations!D984^2+Computations!$C$19*Computations!D984^3","v":3402.4166053274371},{"$f":"Computations!$J$15+Computations!$I$15*D984","v":450000},{"$f":"EXP(Computations!$J$16)*EXP(Computations!$I$16)^Computations!D984","v":450000.00000000035},{"$f":"Computations!$J$17+Computations!$I$17*LN(Computations!D984)","v":450000},{"$f":"Computations!$J$18+Computations!$I$18*Computations!D984+Computations!$H$18*Computations!D984^2","v":450000},{"$f":"Computations!$J$19+Computations!$I$19*Computations!D984+Computations!$H$19*Computations!D984^2+Computations!$G$19*Computations!D984^3","v":450000}]
[931,0.28250663345222565,0.28279848070916214,0.28265255708069392,0.99969101126365312,4.9587713318866022E-6,4271.7441721143923,450000,{"$f":"G985-H985/User_entry!$E$18","v":2771.7441721143923},2771.7441721143923,null,{"$f":"HLOOKUP(User_entry!$B$56,Computations!$N$54:$R$1054,Computations!A985+1,FALSE)","v":4271.7441721143923},{"$f":"HLOOKUP(User_entry!$E$56,Computations!$S$54:$W$1054,Computations!A985+1,FALSE)","v":450000},{"$f":"Computations!$F$15+Computations!$E$15*D985","v":4271.7441721143923},{"$f":"EXP(Computations!$F$16)*EXP(Computations!$E$16)^Computations!D985","v":6192.5782555815167},{"$f":"Computations!$F$17+Computations!$E$17*LN(Computations!D985)","v":3436.2677722275976},{"$f":"Computations!$F$18+Computations!$E$18*Computations!D985+Computations!$D$18*Computations!D985^2","v":3402.6866908649827},{"$f":"Computations!$F$19+Computations!$E$19*Computations!D985+Computations!$D$19*Computations!D985^2+Computations!$C$19*Computations!D985^3","v":3402.6866908649827},{"$f":"Computations!$J$15+Computations!$I$15*D985","v":450000},{"$f":"EXP(Computations!$J$16)*EXP(Computations!$I$16)^Computations!D985","v":450000.00000000035},{"$f":"Computations!$J$17+Computations!$I$17*LN(Computations!D985)","v":450000},{"$f":"Computations!$J$18+Computations!$I$18*Computations!D985+Computations!$H$18*Computations!D985^2","v":450000},{"$f":"Computations!$J$19+Computations!$I$19*Computations!D985+Computations!$H$19*Computations!D985^2+Computations!$G$19*Computations!D985^3","v":450000}]
[932,0.28279848070916214,0.28309032796609862,0.28294440433763035,0.99969589543860127,4.8841749481498553E-6,4275.5842676003986,450000,{"$f":"G986-H986/User_entry!$E$18","v":2775.5842676003986},2775.5842676003986,null,{"$f":"HLOOKUP(User_entry!$B$56,Computations!$N$54:$R$1054,Computations!A986+1,FALSE)","v":4275.5842676003986},{"$f":"HLOOKUP(User_entry!$E$56,Computations!$S$54:$W$1054,Computations!A986+1,FALSE)","v":450000},{"$f":"Computations!$F$15+Computations!$E$15*D986","v":4275.5842676003986},{"$f":"EXP(Computations!$F$16)*EXP(Computations!$E$16)^Computations!D986","v":6205.4260786212017},{"$f":"Computations!$F$17+Computations!$E$17*LN(Computations!D986)","v":3437.5788636772577},{"$f":"Computations!$F$18+Computations!$E$18*Computations!D986+Computations!$D$18*Computations!D986^2","v":3402.9504671565005},{"$f":"Computations!$F$19+Computations!$E$19*Computations!D986+Computations!$D$19*Computations!D986^2+Computations!$C$19*Computations!D986^3","v":3402.9504671565005},{"$f":"Computations!$J$15+Computations!$I$15*D986","v":450000},{"$f":"EXP(Computations!$J$16)*EXP(Computations!$I$16)^Computations!D986","v":450000.00000000035},{"$f":"Computations!$J$17+Computations!$I$17*LN(Computations!D986)","v":450000},{"$f":"Computations!$J$18+Computations!$I$18*Computations!D986+Computations!$H$18*Computations!D986^2","v":450000},{"$f":"Computations!$J$19+Computations!$I$19*Computations!D986+Computations!$H$19*Computations!D986^2+Computations!$G$19*Computations!D986^3","v":450000}]
[933,0.28309032796609862,0.2833821752230351,0.28323625159456689,0.99970070607735384,4.8106387525725935E-6,4279.4243630864057,450000,{"$f":"G987-H987/User_entry!$E$18","v":2779.4243630864057},2779.4243630864057,null,{"$f":"HLOOKUP(User_entry!$B$56,Computations!$N$54:$R$1054,Computations!A987+1,FALSE)","v":4279.4243630864057},{"$f":"HLOOKUP(User_entry!$E$56,Computations!$S$54:$W$1054,Computations!A987+1,FALSE)","v":450000},{"$f":"Computations!$F$15+Computations!$E$15*D987","v":4279.4243630864057},{"$f":"EXP(Computations!$F$16)*EXP(Computations!$E$16)^Computations!D987","v":6218.300557207268},{"$f":"Computations!$F$17+Computations!$E$17*LN(Computations!D987)","v":3438.8886034787934},{"$f":"Computations!$F$18+Computations!$E$18*Computations!D987+Computations!$D$18*Computations!D987^2","v":3403.2079342019897},{"$f":"Computations!$F$19+Computations!$E$19*Computations!D987+Computations!$D$19*Computations!D987^2+Computations!$C$19*Computations!D987^3","v":3403.2079342019897},{"$f":"Computations!$J$15+Computations!$I$15*D987","v":450000},{"$f":"EXP(Computations!$J$16)*EXP(Computations!$I$16)^Computations!D987","v":450000.00000000035},{"$f":"Computations!$J$17+Computations!$I$17*LN(Computations!D987)","v":450000},{"$f":"Computations!$J$18+Computations!$I$18*Computations!D987+Computations!$H$18*Computations!D987^2","v":450000},{"$f":"Computations!$J$19+Computations!$I$19*Computations!D987+Computations!$H$19*Computations!D987^2+Computations!$G$19*Computations!D987^3","v":450000}]
[934,0.2833821752230351,0.28367402247997159,0.28352809885150332,0.99970544422603314,4.7381486792952288E-6,4283.2644585724111,450000,{"$f":"G988-H988/User_entry!$E$18","v":2783.2644585724111},2783.2644585724111,null,{"$f":"HLOOKUP(User_entry!$B$56,Computations!$N$54:$R$1054,Computations!A988+1,FALSE)","v":4283.2644585724111},{"$f":"HLOOKUP(User_entry!$E$56,Computations!$S$54:$W$1054,Computations!A988+1,FALSE)","v":450000},{"$f":"Computations!$F$15+Computations!$E$15*D988","v":4283.2644585724111},{"$f":"EXP(Computations!$F$16)*EXP(Computations!$E$16)^Computations!D988","v":6231.2017466423085},{"$f":"Computations!$F$17+Computations!$E$17*LN(Computations!D988)","v":3440.196994416252},{"$f":"Computations!$F$18+Computations!$E$18*Computations!D988+Computations!$D$18*Computations!D988^2","v":3403.4590920014512},{"$f":"Computations!$F$19+Computations!$E$19*Computations!D988+Computations!$D$19*Computations!D988^2+Computations!$C$19*Computations!D988^3","v":3403.4590920014512},{"$f":"Computations!$J$15+Computations!$I$15*D988","v":450000},{"$f":"EXP(Computations!$J$16)*EXP(Computations!$I$16)^Computations!D988","v":450000.00000000035},{"$f":"Computations!$J$17+Computations!$I$17*LN(Computations!D988)","v":450000},{"$f":"Computations!$J$18+Computations!$I$18*Computations!D988+Computations!$H$18*Computations!D988^2","v":450000},{"$f":"Computations!$J$19+Computations!$I$19*Computations!D988+Computations!$H$19*Computations!D988^2+Computations!$G$19*Computations!D988^3","v":450000}]
[935,0.28367402247997159,0.28396586973690807,0.28381994610843986,0.9997101109168669,4.6666908337655855E-6,4287.1045540584182,450000,{"$f":"G989-H989/User_entry!$E$18","v":2787.1045540584182},2787.1045540584182,null,{"$f":"HLOOKUP(User_entry!$B$56,Computations!$N$54:$R$1054,Computations!A989+1,FALSE)","v":4287.1045540584182},{"$f":"HLOOKUP(User_entry!$E$56,Computations!$S$54:$W$1054,Computations!A989+1,FALSE)","v":450000},{"$f":"Computations!$F$15+Computations!$E$15*D989","v":4287.1045540584182},{"$f":"EXP(Computations!$F$16)*EXP(Computations!$E$16)^Computations!D989","v":6244.1297023436855},{"$f":"Computations!$F$17+Computations!$E$17*LN(Computations!D989)","v":3441.5040392650917},{"$f":"Computations!$F$18+Computations!$E$18*Computations!D989+Computations!$D$18*Computations!D989^2","v":3403.7039405548844},{"$f":"Computations!$F$19+Computations!$E$19*Computations!D989+Computations!$D$19*Computations!D989^2+Computations!$C$19*Computations!D989^3","v":3403.7039405548844},{"$f":"Computations!$J$15+Computations!$I$15*D989","v":450000},{"$f":"EXP(Computations!$J$16)*EXP(Computations!$I$16)^Computations!D989","v":450000.00000000035},{"$f":"Computations!$J$17+Computations!$I$17*LN(Computations!D989)","v":450000},{"$f":"Computations!$J$18+Computations!$I$18*Computations!D989+Computations!$H$18*Computations!D989^2","v":450000},{"$f":"Computations!$J$19+Computations!$I$19*Computations!D989+Computations!$H$19*Computations!D989^2+Computations!$G$19*Computations!D989^3","v":450000}]
[936,0.28396586973690807,0.28425771699384456,0.28411179336537629,0.99971470716835742,4.5962514905184548E-6,4290.9446495444236,450000,{"$f":"G990-H990/User_entry!$E$18","v":2790.9446495444236},2790.9446495444236,null,{"$f":"HLOOKUP(User_entry!$B$56,Computations!$N$54:$R$1054,Computations!A990+1,FALSE)","v":4290.9446495444236},{"$f":"HLOOKUP(User_entry!$E$56,Computations!$S$54:$W$1054,Computations!A990+1,FALSE)","v":450000},{"$f":"Computations!$F$15+Computations!$E$15*D990","v":4290.9446495444236},{"$f":"EXP(Computations!$F$16)*EXP(Computations!$E$16)^Computations!D990","v":6257.0844798437138},{"$f":"Computations!$F$17+Computations!$E$17*LN(Computations!D990)","v":3442.8097407922087},{"$f":"Computations!$F$18+Computations!$E$18*Computations!D990+Computations!$D$18*Computations!D990^2","v":3403.9424798622886},{"$f":"Computations!$F$19+Computations!$E$19*Computations!D990+Computations!$D$19*Computations!D990^2+Computations!$C$19*Computations!D990^3","v":3403.9424798622886},{"$f":"Computations!$J$15+Computations!$I$15*D990","v":450000},{"$f":"EXP(Computations!$J$16)*EXP(Computations!$I$16)^Computations!D990","v":450000.00000000035},{"$f":"Computations!$J$17+Computations!$I$17*LN(Computations!D990)","v":450000},{"$f":"Computations!$J$18+Computations!$I$18*Computations!D990+Computations!$H$18*Computations!D990^2","v":450000},{"$f":"Computations!$J$19+Computations!$I$19*Computations!D990+Computations!$H$19*Computations!D990^2+Computations!$G$19*Computations!D990^3","v":450000}]
[937,0.28425771699384456,0.28454956425078104,0.28440364062231283,0.99971923398544815,4.526817090733104E-6,4294.7847450304307,450000,{"$f":"G991-H991/User_entry!$E$18","v":2794.7847450304307},2794.7847450304307,null,{"$f":"HLOOKUP(User_entry!$B$56,Computations!$N$54:$R$1054,Computations!A991+1,FALSE)","v":4294.7847450304307},{"$f":"HLOOKUP(User_entry!$E$56,Computations!$S$54:$W$1054,Computations!A991+1,FALSE)","v":450000},{"$f":"Computations!$F$15+Computations!$E$15*D991","v":4294.7847450304307},{"$f":"EXP(Computations!$F$16)*EXP(Computations!$E$16)^Computations!D991","v":6270.0661347899331},{"$f":"Computations!$F$17+Computations!$E$17*LN(Computations!D991)","v":3444.1141017559812},{"$f":"Computations!$F$18+Computations!$E$18*Computations!D991+Computations!$D$18*Computations!D991^2","v":3404.174709923665},{"$f":"Computations!$F$19+Computations!$E$19*Computations!D991+Computations!$D$19*Computations!D991^2+Computations!$C$19*Computations!D991^3","v":3404.174709923665},{"$f":"Computations!$J$15+Computations!$I$15*D991","v":450000},{"$f":"EXP(Computations!$J$16)*EXP(Computations!$I$16)^Computations!D991","v":450000.00000000035},{"$f":"Computations!$J$17+Computations!$I$17*LN(Computations!D991)","v":450000},{"$f":"Computations!$J$18+Computations!$I$18*Computations!D991+Computations!$H$18*Computations!D991^2","v":450000},{"$f":"Computations!$J$19+Computations!$I$19*Computations!D991+Computations!$H$19*Computations!D991^2+Computations!$G$19*Computations!D991^3","v":450000}]
[938,0.28454956425078104,0.28484141150771752,0.28469548787924925,0.99972369235968972,4.4583742415671423E-6,4298.6248405164361,450000,{"$f":"G992-H992/User_entry!$E$18","v":2798.6248405164361},2798.6248405164361,null,{"$f":"HLOOKUP(User_entry!$B$56,Computations!$N$54:$R$1054,Computations!A992+1,FALSE)","v":4298.6248405164361},{"$f":"HLOOKUP(User_entry!$E$56,Computations!$S$54:$W$1054,Computations!A992+1,FALSE)","v":450000},{"$f":"Computations!$F$15+Computations!$E$15*D992","v":4298.6248405164361},{"$f":"EXP(Computations!$F$16)*EXP(Computations!$E$16)^Computations!D992","v":6283.0747229453273},{"$f":"Computations!$F$17+Computations!$E$17*LN(Computations!D992)","v":3445.4171249062965},{"$f":"Computations!$F$18+Computations!$E$18*Computations!D992+Computations!$D$18*Computations!D992^2","v":3404.4006307390136},{"$f":"Computations!$F$19+Computations!$E$19*Computations!D992+Computations!$D$19*Computations!D992^2+Computations!$C$19*Computations!D992^3","v":3404.4006307390136},{"$f":"Computations!$J$15+Computations!$I$15*D992","v":450000},{"$f":"EXP(Computations!$J$16)*EXP(Computations!$I$16)^Computations!D992","v":450000.00000000035},{"$f":"Computations!$J$17+Computations!$I$17*LN(Computations!D992)","v":450000},{"$f":"Computations!$J$18+Computations!$I$18*Computations!D992+Computations!$H$18*Computations!D992^2","v":450000},{"$f":"Computations!$J$19+Computations!$I$19*Computations!D992+Computations!$H$19*Computations!D992^2+Computations!$G$19*Computations!D992^3","v":450000}]
[939,0.28484141150771752,0.28513325876465401,0.28498733513618579,0.9997280832694031,4.3909097133809638E-6,4302.4649360024432,450000,{"$f":"G993-H993/User_entry!$E$18","v":2802.4649360024432},2802.4649360024432,null,{"$f":"HLOOKUP(User_entry!$B$56,Computations!$N$54:$R$1054,Computations!A993+1,FALSE)","v":4302.4649360024432},{"$f":"HLOOKUP(User_entry!$E$56,Computations!$S$54:$W$1054,Computations!A993+1,FALSE)","v":450000},{"$f":"Computations!$F$15+Computations!$E$15*D993","v":4302.4649360024432},{"$f":"EXP(Computations!$F$16)*EXP(Computations!$E$16)^Computations!D993","v":6296.1103001885867},{"$f":"Computations!$F$17+Computations!$E$17*LN(Computations!D993)","v":3446.7188129845918},{"$f":"Computations!$F$18+Computations!$E$18*Computations!D993+Computations!$D$18*Computations!D993^2","v":3404.6202423083332},{"$f":"Computations!$F$19+Computations!$E$19*Computations!D993+Computations!$D$19*Computations!D993^2+Computations!$C$19*Computations!D993^3","v":3404.6202423083332},{"$f":"Computations!$J$15+Computations!$I$15*D993","v":450000},{"$f":"EXP(Computations!$J$16)*EXP(Computations!$I$16)^Computations!D993","v":450000.00000000035},{"$f":"Computations!$J$17+Computations!$I$17*LN(Computations!D993)","v":450000},{"$f":"Computations!$J$18+Computations!$I$18*Computations!D993+Computations!$H$18*Computations!D993^2","v":450000},{"$f":"Computations!$J$19+Computations!$I$19*Computations!D993+Computations!$H$19*Computations!D993^2+Computations!$G$19*Computations!D993^3","v":450000}]
[940,0.28513325876465401,0.28542510602159049,0.28527918239312222,0.99973240767984139,4.324410438294457E-6,4306.3050314884495,450000,{"$f":"G994-H994/User_entry!$E$18","v":2806.3050314884495},2806.3050314884495,null,{"$f":"HLOOKUP(User_entry!$B$56,Computations!$N$54:$R$1054,Computations!A994+1,FALSE)","v":4306.3050314884495},{"$f":"HLOOKUP(User_entry!$E$56,Computations!$S$54:$W$1054,Computations!A994+1,FALSE)","v":450000},{"$f":"Computations!$F$15+Computations!$E$15*D994","v":4306.3050314884495},{"$f":"EXP(Computations!$F$16)*EXP(Computations!$E$16)^Computations!D994","v":6309.1729225143126},{"$f":"Computations!$F$17+Computations!$E$17*LN(Computations!D994)","v":3448.0191687238848},{"$f":"Computations!$F$18+Computations!$E$18*Computations!D994+Computations!$D$18*Computations!D994^2","v":3404.8335446316246},{"$f":"Computations!$F$19+Computations!$E$19*Computations!D994+Computations!$D$19*Computations!D994^2+Computations!$C$19*Computations!D994^3","v":3404.8335446316246},{"$f":"Computations!$J$15+Computations!$I$15*D994","v":450000},{"$f":"EXP(Computations!$J$16)*EXP(Computations!$I$16)^Computations!D994","v":450000.00000000035},{"$f":"Computations!$J$17+Computations!$I$17*LN(Computations!D994)","v":450000},{"$f":"Computations!$J$18+Computations!$I$18*Computations!D994+Computations!$H$18*Computations!D994^2","v":450000},{"$f":"Computations!$J$19+Computations!$I$19*Computations!D994+Computations!$H$19*Computations!D994^2+Computations!$G$19*Computations!D994^3","v":450000}]
[941,0.28542510602159049,0.28571695327852697,0.28557102965005876,0.99973666654335047,4.2588635090767823E-6,4310.1451269744566,450000,{"$f":"G995-H995/User_entry!$E$18","v":2810.1451269744566},2810.1451269744566,null,{"$f":"HLOOKUP(User_entry!$B$56,Computations!$N$54:$R$1054,Computations!A995+1,FALSE)","v":4310.1451269744566},{"$f":"HLOOKUP(User_entry!$E$56,Computations!$S$54:$W$1054,Computations!A995+1,FALSE)","v":450000},{"$f":"Computations!$F$15+Computations!$E$15*D995","v":4310.1451269744566},{"$f":"EXP(Computations!$F$16)*EXP(Computations!$E$16)^Computations!D995","v":6322.2626460333022},{"$f":"Computations!$F$17+Computations!$E$17*LN(Computations!D995)","v":3449.3181948488109},{"$f":"Computations!$F$18+Computations!$E$18*Computations!D995+Computations!$D$18*Computations!D995^2","v":3405.0405377088882},{"$f":"Computations!$F$19+Computations!$E$19*Computations!D995+Computations!$D$19*Computations!D995^2+Computations!$C$19*Computations!D995^3","v":3405.0405377088882},{"$f":"Computations!$J$15+Computations!$I$15*D995","v":450000},{"$f":"EXP(Computations!$J$16)*EXP(Computations!$I$16)^Computations!D995","v":450000.00000000035},{"$f":"Computations!$J$17+Computations!$I$17*LN(Computations!D995)","v":450000},{"$f":"Computations!$J$18+Computations!$I$18*Computations!D995+Computations!$H$18*Computations!D995^2","v":450000},{"$f":"Computations!$J$19+Computations!$I$19*Computations!D995+Computations!$H$19*Computations!D995^2+Computations!$G$19*Computations!D995^3","v":450000}]
[942,0.28571695327852697,0.28600880053546346,0.28586287690699519,0.99974086079952662,4.1942561761487696E-6,4313.985222460462,450000,{"$f":"G996-H996/User_entry!$E$18","v":2813.985222460462},2813.985222460462,null,{"$f":"HLOOKUP(User_entry!$B$56,Computations!$N$54:$R$1054,Computations!A996+1,FALSE)","v":4313.985222460462},{"$f":"HLOOKUP(User_entry!$E$56,Computations!$S$54:$W$1054,Computations!A996+1,FALSE)","v":450000},{"$f":"Computations!$F$15+Computations!$E$15*D996","v":4313.985222460462},{"$f":"EXP(Computations!$F$16)*EXP(Computations!$E$16)^Computations!D996","v":6335.379526972748},{"$f":"Computations!$F$17+Computations!$E$17*LN(Computations!D996)","v":3450.615894075655},{"$f":"Computations!$F$18+Computations!$E$18*Computations!D996+Computations!$D$18*Computations!D996^2","v":3405.2412215401237},{"$f":"Computations!$F$19+Computations!$E$19*Computations!D996+Computations!$D$19*Computations!D996^2+Computations!$C$19*Computations!D996^3","v":3405.2412215401237},{"$f":"Computations!$J$15+Computations!$I$15*D996","v":450000},{"$f":"EXP(Computations!$J$16)*EXP(Computations!$I$16)^Computations!D996","v":450000.00000000035},{"$f":"Computations!$J$17+Computations!$I$17*LN(Computations!D996)","v":450000},{"$f":"Computations!$J$18+Computations!$I$18*Computations!D996+Computations!$H$18*Computations!D996^2","v":450000},{"$f":"Computations!$J$19+Computations!$I$19*Computations!D996+Computations!$H$19*Computations!D996^2+Computations!$G$19*Computations!D996^3","v":450000}]
[943,0.28600880053546346,0.28630064779239994,0.28615472416393173,0.99974499137537376,4.1305758471388287E-6,4317.8253179464691,450000,{"$f":"G997-H997/User_entry!$E$18","v":2817.8253179464691},2817.8253179464691,null,{"$f":"HLOOKUP(User_entry!$B$56,Computations!$N$54:$R$1054,Computations!A997+1,FALSE)","v":4317.8253179464691},{"$f":"HLOOKUP(User_entry!$E$56,Computations!$S$54:$W$1054,Computations!A997+1,FALSE)","v":450000},{"$f":"Computations!$F$15+Computations!$E$15*D997","v":4317.8253179464691},{"$f":"EXP(Computations!$F$16)*EXP(Computations!$E$16)^Computations!D997","v":6348.5236216765097},{"$f":"Computations!$F$17+Computations!$E$17*LN(Computations!D997)","v":3451.9122691123885},{"$f":"Computations!$F$18+Computations!$E$18*Computations!D997+Computations!$D$18*Computations!D997^2","v":3405.4355961253314},{"$f":"Computations!$F$19+Computations!$E$19*Computations!D997+Computations!$D$19*Computations!D997^2+Computations!$C$19*Computations!D997^3","v":3405.4355961253314},{"$f":"Computations!$J$15+Computations!$I$15*D997","v":450000},{"$f":"EXP(Computations!$J$16)*EXP(Computations!$I$16)^Computations!D997","v":450000.00000000035},{"$f":"Computations!$J$17+Computations!$I$17*LN(Computations!D997)","v":450000},{"$f":"Computations!$J$18+Computations!$I$18*Computations!D997+Computations!$H$18*Computations!D997^2","v":450000},{"$f":"Computations!$J$19+Computations!$I$19*Computations!D997+Computations!$H$19*Computations!D997^2+Computations!$G$19*Computations!D997^3","v":450000}]
[944,0.28630064779239994,0.28659249504933643,0.28644657142086816,0.99974905918545764,4.0678100838853481E-6,4321.6654134324745,450000,{"$f":"G998-H998/User_entry!$E$18","v":2821.6654134324745},2821.6654134324745,null,{"$f":"HLOOKUP(User_entry!$B$56,Computations!$N$54:$R$1054,Computations!A998+1,FALSE)","v":4321.6654134324745},{"$f":"HLOOKUP(User_entry!$E$56,Computations!$S$54:$W$1054,Computations!A998+1,FALSE)","v":450000},{"$f":"Computations!$F$15+Computations!$E$15*D998","v":4321.6654134324745},{"$f":"EXP(Computations!$F$16)*EXP(Computations!$E$16)^Computations!D998","v":6361.6949866053337},{"$f":"Computations!$F$17+Computations!$E$17*LN(Computations!D998)","v":3453.2073226586986},{"$f":"Computations!$F$18+Computations!$E$18*Computations!D998+Computations!$D$18*Computations!D998^2","v":3405.6236614645095},{"$f":"Computations!$F$19+Computations!$E$19*Computations!D998+Computations!$D$19*Computations!D998^2+Computations!$C$19*Computations!D998^3","v":3405.6236614645095},{"$f":"Computations!$J$15+Computations!$I$15*D998","v":450000},{"$f":"EXP(Computations!$J$16)*EXP(Computations!$I$16)^Computations!D998","v":450000.00000000035},{"$f":"Computations!$J$17+Computations!$I$17*LN(Computations!D998)","v":450000},{"$f":"Computations!$J$18+Computations!$I$18*Computations!D998+Computations!$H$18*Computations!D998^2","v":450000},{"$f":"Computations!$J$19+Computations!$I$19*Computations!D998+Computations!$H$19*Computations!D998^2+Computations!$G$19*Computations!D998^3","v":450000}]
[945,0.28659249504933643,0.28688434230627291,0.2867384186778047,0.99975306513205964,4.0059466019926049E-6,4325.5055089184816,450000,{"$f":"G999-H999/User_entry!$E$18","v":2825.5055089184816},2825.5055089184816,null,{"$f":"HLOOKUP(User_entry!$B$56,Computations!$N$54:$R$1054,Computations!A999+1,FALSE)","v":4325.5055089184816},{"$f":"HLOOKUP(User_entry!$E$56,Computations!$S$54:$W$1054,Computations!A999+1,FALSE)","v":450000},{"$f":"Computations!$F$15+Computations!$E$15*D999","v":4325.5055089184816},{"$f":"EXP(Computations!$F$16)*EXP(Computations!$E$16)^Computations!D999","v":6374.8936783371237},{"$f":"Computations!$F$17+Computations!$E$17*LN(Computations!D999)","v":3454.5010574060288},{"$f":"Computations!$F$18+Computations!$E$18*Computations!D999+Computations!$D$18*Computations!D999^2","v":3405.8054175576594},{"$f":"Computations!$F$19+Computations!$E$19*Computations!D999+Computations!$D$19*Computations!D999^2+Computations!$C$19*Computations!D999^3","v":3405.8054175576594},{"$f":"Computations!$J$15+Computations!$I$15*D999","v":450000},{"$f":"EXP(Computations!$J$16)*EXP(Computations!$I$16)^Computations!D999","v":450000.00000000035},{"$f":"Computations!$J$17+Computations!$I$17*LN(Computations!D999)","v":450000},{"$f":"Computations!$J$18+Computations!$I$18*Computations!D999+Computations!$H$18*Computations!D999^2","v":450000},{"$f":"Computations!$J$19+Computations!$I$19*Computations!D999+Computations!$H$19*Computations!D999^2+Computations!$G$19*Computations!D999^3","v":450000}]
[946,0.28688434230627291,0.28717618956320939,0.28703026593474112,0.99975701010532858,3.9449732689433858E-6,4329.3456044044879,450000,{"$f":"G1000-H1000/User_entry!$E$18","v":2829.3456044044879},2829.3456044044879,null,{"$f":"HLOOKUP(User_entry!$B$56,Computations!$N$54:$R$1054,Computations!A1000+1,FALSE)","v":4329.3456044044879},{"$f":"HLOOKUP(User_entry!$E$56,Computations!$S$54:$W$1054,Computations!A1000+1,FALSE)","v":450000},{"$f":"Computations!$F$15+Computations!$E$15*D1000","v":4329.3456044044879},{"$f":"EXP(Computations!$F$16)*EXP(Computations!$E$16)^Computations!D1000","v":6388.119753567139},{"$f":"Computations!$F$17+Computations!$E$17*LN(Computations!D1000)","v":3455.7934760376043},{"$f":"Computations!$F$18+Computations!$E$18*Computations!D1000+Computations!$D$18*Computations!D1000^2","v":3405.9808644047821},{"$f":"Computations!$F$19+Computations!$E$19*Computations!D1000+Computations!$D$19*Computations!D1000^2+Computations!$C$19*Computations!D1000^3","v":3405.9808644047821},{"$f":"Computations!$J$15+Computations!$I$15*D1000","v":450000},{"$f":"EXP(Computations!$J$16)*EXP(Computations!$I$16)^Computations!D1000","v":450000.00000000035},{"$f":"Computations!$J$17+Computations!$I$17*LN(Computations!D1000)","v":450000},{"$f":"Computations!$J$18+Computations!$I$18*Computations!D1000+Computations!$H$18*Computations!D1000^2","v":450000},{"$f":"Computations!$J$19+Computations!$I$19*Computations!D1000+Computations!$H$19*Computations!D1000^2+Computations!$G$19*Computations!D1000^3","v":450000}]
[947,0.28717618956320939,0.28746803682014588,0.28732211319167766,0.99976089498342935,3.8848781007683186E-6,4333.1856998904941,450000,{"$f":"G1001-H1001/User_entry!$E$18","v":2833.1856998904941},2833.1856998904941,null,{"$f":"HLOOKUP(User_entry!$B$56,Computations!$N$54:$R$1054,Computations!A1001+1,FALSE)","v":4333.1856998904941},{"$f":"HLOOKUP(User_entry!$E$56,Computations!$S$54:$W$1054,Computations!A1001+1,FALSE)","v":450000},{"$f":"Computations!$F$15+Computations!$E$15*D1001","v":4333.1856998904941},{"$f":"EXP(Computations!$F$16)*EXP(Computations!$E$16)^Computations!D1001","v":6401.373269108296},{"$f":"Computations!$F$17+Computations!$E$17*LN(Computations!D1001)","v":3457.0845812284738},{"$f":"Computations!$F$18+Computations!$E$18*Computations!D1001+Computations!$D$18*Computations!D1001^2","v":3406.1500020058766},{"$f":"Computations!$F$19+Computations!$E$19*Computations!D1001+Computations!$D$19*Computations!D1001^2+Computations!$C$19*Computations!D1001^3","v":3406.1500020058766},{"$f":"Computations!$J$15+Computations!$I$15*D1001","v":450000},{"$f":"EXP(Computations!$J$16)*EXP(Computations!$I$16)^Computations!D1001","v":450000.00000000035},{"$f":"Computations!$J$17+Computations!$I$17*LN(Computations!D1001)","v":450000},{"$f":"Computations!$J$18+Computations!$I$18*Computations!D1001+Computations!$H$18*Computations!D1001^2","v":450000},{"$f":"Computations!$J$19+Computations!$I$19*Computations!D1001+Computations!$H$19*Computations!D1001^2+Computations!$G$19*Computations!D1001^3","v":450000}]
[948,0.28746803682014588,0.28775988407708236,0.28761396044861409,0.99976472063269273,3.8256492633781392E-6,4337.0257953765004,450000,{"$f":"G1002-H1002/User_entry!$E$18","v":2837.0257953765004},2837.0257953765004,null,{"$f":"HLOOKUP(User_entry!$B$56,Computations!$N$54:$R$1054,Computations!A1002+1,FALSE)","v":4337.0257953765004},{"$f":"HLOOKUP(User_entry!$E$56,Computations!$S$54:$W$1054,Computations!A1002+1,FALSE)","v":450000},{"$f":"Computations!$F$15+Computations!$E$15*D1002","v":4337.0257953765004},{"$f":"EXP(Computations!$F$16)*EXP(Computations!$E$16)^Computations!D1002","v":6414.6542818913586},{"$f":"Computations!$F$17+Computations!$E$17*LN(Computations!D1002)","v":3458.3743756455351},{"$f":"Computations!$F$18+Computations!$E$18*Computations!D1002+Computations!$D$18*Computations!D1002^2","v":3406.3128303609415},{"$f":"Computations!$F$19+Computations!$E$19*Computations!D1002+Computations!$D$19*Computations!D1002^2+Computations!$C$19*Computations!D1002^3","v":3406.3128303609415},{"$f":"Computations!$J$15+Computations!$I$15*D1002","v":450000},{"$f":"EXP(Computations!$J$16)*EXP(Computations!$I$16)^Computations!D1002","v":450000.00000000035},{"$f":"Computations!$J$17+Computations!$I$17*LN(Computations!D1002)","v":450000},{"$f":"Computations!$J$18+Computations!$I$18*Computations!D1002+Computations!$H$18*Computations!D1002^2","v":450000},{"$f":"Computations!$J$19+Computations!$I$19*Computations!D1002+Computations!$H$19*Computations!D1002^2+Computations!$G$19*Computations!D1002^3","v":450000}]
[949,0.28775988407708236,0.28805173133401885,0.28790580770555063,0.99976848790776085,3.7672750681227996E-6,4340.8658908625075,450000,{"$f":"G1003-H1003/User_entry!$E$18","v":2840.8658908625075},2840.8658908625075,null,{"$f":"HLOOKUP(User_entry!$B$56,Computations!$N$54:$R$1054,Computations!A1003+1,FALSE)","v":4340.8658908625075},{"$f":"HLOOKUP(User_entry!$E$56,Computations!$S$54:$W$1054,Computations!A1003+1,FALSE)","v":450000},{"$f":"Computations!$F$15+Computations!$E$15*D1003","v":4340.8658908625075},{"$f":"EXP(Computations!$F$16)*EXP(Computations!$E$16)^Computations!D1003","v":6427.9628489652177},{"$f":"Computations!$F$17+Computations!$E$17*LN(Computations!D1003)","v":3459.662861947575},{"$f":"Computations!$F$18+Computations!$E$18*Computations!D1003+Computations!$D$18*Computations!D1003^2","v":3406.4693494699791},{"$f":"Computations!$F$19+Computations!$E$19*Computations!D1003+Computations!$D$19*Computations!D1003^2+Computations!$C$19*Computations!D1003^3","v":3406.4693494699791},{"$f":"Computations!$J$15+Computations!$I$15*D1003","v":450000},{"$f":"EXP(Computations!$J$16)*EXP(Computations!$I$16)^Computations!D1003","v":450000.00000000035},{"$f":"Computations!$J$17+Computations!$I$17*LN(Computations!D1003)","v":450000},{"$f":"Computations!$J$18+Computations!$I$18*Computations!D1003+Computations!$H$18*Computations!D1003^2","v":450000},{"$f":"Computations!$J$19+Computations!$I$19*Computations!D1003+Computations!$H$19*Computations!D1003^2+Computations!$G$19*Computations!D1003^3","v":450000}]
[950,0.28805173133401885,0.28834357859095533,0.28819765496248706,0.99977219765173242,3.7097439715694236E-6,4344.7059863485129,450000,{"$f":"G1004-H1004/User_entry!$E$18","v":2844.7059863485129},2844.7059863485129,null,{"$f":"HLOOKUP(User_entry!$B$56,Computations!$N$54:$R$1054,Computations!A1004+1,FALSE)","v":4344.7059863485129},{"$f":"HLOOKUP(User_entry!$E$56,Computations!$S$54:$W$1054,Computations!A1004+1,FALSE)","v":450000},{"$f":"Computations!$F$15+Computations!$E$15*D1004","v":4344.7059863485129},{"$f":"EXP(Computations!$F$16)*EXP(Computations!$E$16)^Computations!D1004","v":6441.2990274971144},{"$f":"Computations!$F$17+Computations!$E$17*LN(Computations!D1004)","v":3460.9500427852954},{"$f":"Computations!$F$18+Computations!$E$18*Computations!D1004+Computations!$D$18*Computations!D1004^2","v":3406.619559332989},{"$f":"Computations!$F$19+Computations!$E$19*Computations!D1004+Computations!$D$19*Computations!D1004^2+Computations!$C$19*Computations!D1004^3","v":3406.619559332989},{"$f":"Computations!$J$15+Computations!$I$15*D1004","v":450000},{"$f":"EXP(Computations!$J$16)*EXP(Computations!$I$16)^Computations!D1004","v":450000.00000000035},{"$f":"Computations!$J$17+Computations!$I$17*LN(Computations!D1004)","v":450000},{"$f":"Computations!$J$18+Computations!$I$18*Computations!D1004+Computations!$H$18*Computations!D1004^2","v":450000},{"$f":"Computations!$J$19+Computations!$I$19*Computations!D1004+Computations!$H$19*Computations!D1004^2+Computations!$G$19*Computations!D1004^3","v":450000}]
[951,0.28834357859095533,0.28863542584789181,0.2884895022194236,0.99977585069630681,3.6530445743920836E-6,4348.54608183452,450000,{"$f":"G1005-H1005/User_entry!$E$18","v":2848.54608183452},2848.54608183452,null,{"$f":"HLOOKUP(User_entry!$B$56,Computations!$N$54:$R$1054,Computations!A1005+1,FALSE)","v":4348.54608183452},{"$f":"HLOOKUP(User_entry!$E$56,Computations!$S$54:$W$1054,Computations!A1005+1,FALSE)","v":450000},{"$f":"Computations!$F$15+Computations!$E$15*D1005","v":4348.54608183452},{"$f":"EXP(Computations!$F$16)*EXP(Computations!$E$16)^Computations!D1005","v":6454.6628747729137},{"$f":"Computations!$F$17+Computations!$E$17*LN(Computations!D1005)","v":3462.2359208013522},{"$f":"Computations!$F$18+Computations!$E$18*Computations!D1005+Computations!$D$18*Computations!D1005^2","v":3406.7634599499697},{"$f":"Computations!$F$19+Computations!$E$19*Computations!D1005+Computations!$D$19*Computations!D1005^2+Computations!$C$19*Computations!D1005^3","v":3406.7634599499697},{"$f":"Computations!$J$15+Computations!$I$15*D1005","v":450000},{"$f":"EXP(Computations!$J$16)*EXP(Computations!$I$16)^Computations!D1005","v":450000.00000000035},{"$f":"Computations!$J$17+Computations!$I$17*LN(Computations!D1005)","v":450000},{"$f":"Computations!$J$18+Computations!$I$18*Computations!D1005+Computations!$H$18*Computations!D1005^2","v":450000},{"$f":"Computations!$J$19+Computations!$I$19*Computations!D1005+Computations!$H$19*Computations!D1005^2+Computations!$G$19*Computations!D1005^3","v":450000}]
[952,0.28863542584789181,0.2889272731048283,0.28878134947636003,0.99977944786192485,3.5971656180411316E-6,4352.3861773205253,450000,{"$f":"G1006-H1006/User_entry!$E$18","v":2852.3861773205253},2852.3861773205253,null,{"$f":"HLOOKUP(User_entry!$B$56,Computations!$N$54:$R$1054,Computations!A1006+1,FALSE)","v":4352.3861773205253},{"$f":"HLOOKUP(User_entry!$E$56,Computations!$S$54:$W$1054,Computations!A1006+1,FALSE)","v":450000},{"$f":"Computations!$F$15+Computations!$E$15*D1006","v":4352.3861773205253},{"$f":"EXP(Computations!$F$16)*EXP(Computations!$E$16)^Computations!D1006","v":6468.0544481973047},{"$f":"Computations!$F$17+Computations!$E$17*LN(Computations!D1006)","v":3463.5204986303834},{"$f":"Computations!$F$18+Computations!$E$18*Computations!D1006+Computations!$D$18*Computations!D1006^2","v":3406.9010513209223},{"$f":"Computations!$F$19+Computations!$E$19*Computations!D1006+Computations!$D$19*Computations!D1006^2+Computations!$C$19*Computations!D1006^3","v":3406.9010513209223},{"$f":"Computations!$J$15+Computations!$I$15*D1006","v":450000},{"$f":"EXP(Computations!$J$16)*EXP(Computations!$I$16)^Computations!D1006","v":450000.00000000035},{"$f":"Computations!$J$17+Computations!$I$17*LN(Computations!D1006)","v":450000},{"$f":"Computations!$J$18+Computations!$I$18*Computations!D1006+Computations!$H$18*Computations!D1006^2","v":450000},{"$f":"Computations!$J$19+Computations!$I$19*Computations!D1006+Computations!$H$19*Computations!D1006^2+Computations!$G$19*Computations!D1006^3","v":450000}]
[953,0.2889272731048283,0.28921912036176478,0.28907319673329657,0.99978298995790948,3.5420959846321765E-6,4356.2262728065325,450000,{"$f":"G1007-H1007/User_entry!$E$18","v":2856.2262728065325},2856.2262728065325,null,{"$f":"HLOOKUP(User_entry!$B$56,Computations!$N$54:$R$1054,Computations!A1007+1,FALSE)","v":4356.2262728065325},{"$f":"HLOOKUP(User_entry!$E$56,Computations!$S$54:$W$1054,Computations!A1007+1,FALSE)","v":450000},{"$f":"Computations!$F$15+Computations!$E$15*D1007","v":4356.2262728065325},{"$f":"EXP(Computations!$F$16)*EXP(Computations!$E$16)^Computations!D1007","v":6481.4738052941038},{"$f":"Computations!$F$17+Computations!$E$17*LN(Computations!D1007)","v":3464.8037788990441},{"$f":"Computations!$F$18+Computations!$E$18*Computations!D1007+Computations!$D$18*Computations!D1007^2","v":3407.0323334458462},{"$f":"Computations!$F$19+Computations!$E$19*Computations!D1007+Computations!$D$19*Computations!D1007^2+Computations!$C$19*Computations!D1007^3","v":3407.0323334458462},{"$f":"Computations!$J$15+Computations!$I$15*D1007","v":450000},{"$f":"EXP(Computations!$J$16)*EXP(Computations!$I$16)^Computations!D1007","v":450000.00000000035},{"$f":"Computations!$J$17+Computations!$I$17*LN(Computations!D1007)","v":450000},{"$f":"Computations!$J$18+Computations!$I$18*Computations!D1007+Computations!$H$18*Computations!D1007^2","v":450000},{"$f":"Computations!$J$19+Computations!$I$19*Computations!D1007+Computations!$H$19*Computations!D1007^2+Computations!$G$19*Computations!D1007^3","v":450000}]
[954,0.28921912036176478,0.28951096761870126,0.289365043990233,0.99978647778260465,3.4878246951697278E-6,4360.0663682925388,450000,{"$f":"G1008-H1008/User_entry!$E$18","v":2860.0663682925388},2860.0663682925388,null,{"$f":"HLOOKUP(User_entry!$B$56,Computations!$N$54:$R$1054,Computations!A1008+1,FALSE)","v":4360.0663682925388},{"$f":"HLOOKUP(User_entry!$E$56,Computations!$S$54:$W$1054,Computations!A1008+1,FALSE)","v":450000},{"$f":"Computations!$F$15+Computations!$E$15*D1008","v":4360.0663682925388},{"$f":"EXP(Computations!$F$16)*EXP(Computations!$E$16)^Computations!D1008","v":6494.9210037064504},{"$f":"Computations!$F$17+Computations!$E$17*LN(Computations!D1008)","v":3466.085764226038},{"$f":"Computations!$F$18+Computations!$E$18*Computations!D1008+Computations!$D$18*Computations!D1008^2","v":3407.1573063247433},{"$f":"Computations!$F$19+Computations!$E$19*Computations!D1008+Computations!$D$19*Computations!D1008^2+Computations!$C$19*Computations!D1008^3","v":3407.1573063247433},{"$f":"Computations!$J$15+Computations!$I$15*D1008","v":450000},{"$f":"EXP(Computations!$J$16)*EXP(Computations!$I$16)^Computations!D1008","v":450000.00000000035},{"$f":"Computations!$J$17+Computations!$I$17*LN(Computations!D1008)","v":450000},{"$f":"Computations!$J$18+Computations!$I$18*Computations!D1008+Computations!$H$18*Computations!D1008^2","v":450000},{"$f":"Computations!$J$19+Computations!$I$19*Computations!D1008+Computations!$H$19*Computations!D1008^2+Computations!$G$19*Computations!D1008^3","v":450000}]
[955,0.28951096761870126,0.28980281487563775,0.28965689124716953,0.99978991212351231,3.4343409076598164E-6,4363.906463778545,450000,{"$f":"G1009-H1009/User_entry!$E$18","v":2863.906463778545},2863.906463778545,null,{"$f":"HLOOKUP(User_entry!$B$56,Computations!$N$54:$R$1054,Computations!A1009+1,FALSE)","v":4363.906463778545},{"$f":"HLOOKUP(User_entry!$E$56,Computations!$S$54:$W$1054,Computations!A1009+1,FALSE)","v":450000},{"$f":"Computations!$F$15+Computations!$E$15*D1009","v":4363.906463778545},{"$f":"EXP(Computations!$F$16)*EXP(Computations!$E$16)^Computations!D1009","v":6508.3961011970914},{"$f":"Computations!$F$17+Computations!$E$17*LN(Computations!D1009)","v":3467.3664572221487},{"$f":"Computations!$F$18+Computations!$E$18*Computations!D1009+Computations!$D$18*Computations!D1009^2","v":3407.2759699576113},{"$f":"Computations!$F$19+Computations!$E$19*Computations!D1009+Computations!$D$19*Computations!D1009^2+Computations!$C$19*Computations!D1009^3","v":3407.2759699576113},{"$f":"Computations!$J$15+Computations!$I$15*D1009","v":450000},{"$f":"EXP(Computations!$J$16)*EXP(Computations!$I$16)^Computations!D1009","v":450000.00000000035},{"$f":"Computations!$J$17+Computations!$I$17*LN(Computations!D1009)","v":450000},{"$f":"Computations!$J$18+Computations!$I$18*Computations!D1009+Computations!$H$18*Computations!D1009^2","v":450000},{"$f":"Computations!$J$19+Computations!$I$19*Computations!D1009+Computations!$H$19*Computations!D1009^2+Computations!$G$19*Computations!D1009^3","v":450000}]
[956,0.28980281487563775,0.29009466213257423,0.28994873850410596,0.99979329375742754,3.3816339152226149E-6,4367.7465592645513,450000,{"$f":"G1010-H1010/User_entry!$E$18","v":2867.7465592645513},2867.7465592645513,null,{"$f":"HLOOKUP(User_entry!$B$56,Computations!$N$54:$R$1054,Computations!A1010+1,FALSE)","v":4367.7465592645513},{"$f":"HLOOKUP(User_entry!$E$56,Computations!$S$54:$W$1054,Computations!A1010+1,FALSE)","v":450000},{"$f":"Computations!$F$15+Computations!$E$15*D1010","v":4367.7465592645513},{"$f":"EXP(Computations!$F$16)*EXP(Computations!$E$16)^Computations!D1010","v":6521.8991556486017},{"$f":"Computations!$F$17+Computations!$E$17*LN(Computations!D1010)","v":3468.6458604902723},{"$f":"Computations!$F$18+Computations!$E$18*Computations!D1010+Computations!$D$18*Computations!D1010^2","v":3407.3883243444507},{"$f":"Computations!$F$19+Computations!$E$19*Computations!D1010+Computations!$D$19*Computations!D1010^2+Computations!$C$19*Computations!D1010^3","v":3407.3883243444507},{"$f":"Computations!$J$15+Computations!$I$15*D1010","v":450000},{"$f":"EXP(Computations!$J$16)*EXP(Computations!$I$16)^Computations!D1010","v":450000.00000000035},{"$f":"Computations!$J$17+Computations!$I$17*LN(Computations!D1010)","v":450000},{"$f":"Computations!$J$18+Computations!$I$18*Computations!D1010+Computations!$H$18*Computations!D1010^2","v":450000},{"$f":"Computations!$J$19+Computations!$I$19*Computations!D1010+Computations!$H$19*Computations!D1010^2+Computations!$G$19*Computations!D1010^3","v":450000}]
[957,0.29009466213257423,0.29038650938951072,0.2902405857610425,0.99979662345057352,3.3296931459814161E-6,4371.5866547505584,450000,{"$f":"G1011-H1011/User_entry!$E$18","v":2871.5866547505584},2871.5866547505584,null,{"$f":"HLOOKUP(User_entry!$B$56,Computations!$N$54:$R$1054,Computations!A1011+1,FALSE)","v":4371.5866547505584},{"$f":"HLOOKUP(User_entry!$E$56,Computations!$S$54:$W$1054,Computations!A1011+1,FALSE)","v":450000},{"$f":"Computations!$F$15+Computations!$E$15*D1011","v":4371.5866547505584},{"$f":"EXP(Computations!$F$16)*EXP(Computations!$E$16)^Computations!D1011","v":6535.4302250636674},{"$f":"Computations!$F$17+Computations!$E$17*LN(Computations!D1011)","v":3469.9239766254486},{"$f":"Computations!$F$18+Computations!$E$18*Computations!D1011+Computations!$D$18*Computations!D1011^2","v":3407.4943694852618},{"$f":"Computations!$F$19+Computations!$E$19*Computations!D1011+Computations!$D$19*Computations!D1011^2+Computations!$C$19*Computations!D1011^3","v":3407.4943694852618},{"$f":"Computations!$J$15+Computations!$I$15*D1011","v":450000},{"$f":"EXP(Computations!$J$16)*EXP(Computations!$I$16)^Computations!D1011","v":450000.00000000035},{"$f":"Computations!$J$17+Computations!$I$17*LN(Computations!D1011)","v":450000},{"$f":"Computations!$J$18+Computations!$I$18*Computations!D1011+Computations!$H$18*Computations!D1011^2","v":450000},{"$f":"Computations!$J$19+Computations!$I$19*Computations!D1011+Computations!$H$19*Computations!D1011^2+Computations!$G$19*Computations!D1011^3","v":450000}]
[958,0.29038650938951072,0.2906783566464472,0.29053243301797893,0.99979990195873336,3.2785081598429855E-6,4375.4267502365637,450000,{"$f":"G1012-H1012/User_entry!$E$18","v":2875.4267502365637},2875.4267502365637,null,{"$f":"HLOOKUP(User_entry!$B$56,Computations!$N$54:$R$1054,Computations!A1012+1,FALSE)","v":4375.4267502365637},{"$f":"HLOOKUP(User_entry!$E$56,Computations!$S$54:$W$1054,Computations!A1012+1,FALSE)","v":450000},{"$f":"Computations!$F$15+Computations!$E$15*D1012","v":4375.4267502365637},{"$f":"EXP(Computations!$F$16)*EXP(Computations!$E$16)^Computations!D1012","v":6548.9893675652811},{"$f":"Computations!$F$17+Computations!$E$17*LN(Computations!D1012)","v":3471.2008082148941},{"$f":"Computations!$F$18+Computations!$E$18*Computations!D1012+Computations!$D$18*Computations!D1012^2","v":3407.5941053800457},{"$f":"Computations!$F$19+Computations!$E$19*Computations!D1012+Computations!$D$19*Computations!D1012^2+Computations!$C$19*Computations!D1012^3","v":3407.5941053800457},{"$f":"Computations!$J$15+Computations!$I$15*D1012","v":450000},{"$f":"EXP(Computations!$J$16)*EXP(Computations!$I$16)^Computations!D1012","v":450000.00000000035},{"$f":"Computations!$J$17+Computations!$I$17*LN(Computations!D1012)","v":450000},{"$f":"Computations!$J$18+Computations!$I$18*Computations!D1012+Computations!$H$18*Computations!D1012^2","v":450000},{"$f":"Computations!$J$19+Computations!$I$19*Computations!D1012+Computations!$H$19*Computations!D1012^2+Computations!$G$19*Computations!D1012^3","v":450000}]
[959,0.2906783566464472,0.29097020390338368,0.29082428027491547,0.99980313002738153,3.2280686481644949E-6,4379.2668457225709,450000,{"$f":"G1013-H1013/User_entry!$E$18","v":2879.2668457225709},2879.2668457225709,null,{"$f":"HLOOKUP(User_entry!$B$56,Computations!$N$54:$R$1054,Computations!A1013+1,FALSE)","v":4379.2668457225709},{"$f":"HLOOKUP(User_entry!$E$56,Computations!$S$54:$W$1054,Computations!A1013+1,FALSE)","v":450000},{"$f":"Computations!$F$15+Computations!$E$15*D1013","v":4379.2668457225709},{"$f":"EXP(Computations!$F$16)*EXP(Computations!$E$16)^Computations!D1013","v":6562.5766413970578},{"$f":"Computations!$F$17+Computations!$E$17*LN(Computations!D1013)","v":3472.4763578380325},{"$f":"Computations!$F$18+Computations!$E$18*Computations!D1013+Computations!$D$18*Computations!D1013^2","v":3407.6875320288004},{"$f":"Computations!$F$19+Computations!$E$19*Computations!D1013+Computations!$D$19*Computations!D1013^2+Computations!$C$19*Computations!D1013^3","v":3407.6875320288004},{"$f":"Computations!$J$15+Computations!$I$15*D1013","v":450000},{"$f":"EXP(Computations!$J$16)*EXP(Computations!$I$16)^Computations!D1013","v":450000.00000000035},{"$f":"Computations!$J$17+Computations!$I$17*LN(Computations!D1013)","v":450000},{"$f":"Computations!$J$18+Computations!$I$18*Computations!D1013+Computations!$H$18*Computations!D1013^2","v":450000},{"$f":"Computations!$J$19+Computations!$I$19*Computations!D1013+Computations!$H$19*Computations!D1013^2+Computations!$G$19*Computations!D1013^3","v":450000}]
[960,0.29097020390338368,0.29126205116032017,0.2911161275318519,0.99980630839181339,3.178364431866143E-6,4383.1069412085762,450000,{"$f":"G1014-H1014/User_entry!$E$18","v":2883.1069412085762},2883.1069412085762,null,{"$f":"HLOOKUP(User_entry!$B$56,Computations!$N$54:$R$1054,Computations!A1014+1,FALSE)","v":4383.1069412085762},{"$f":"HLOOKUP(User_entry!$E$56,Computations!$S$54:$W$1054,Computations!A1014+1,FALSE)","v":450000},{"$f":"Computations!$F$15+Computations!$E$15*D1014","v":4383.1069412085762},{"$f":"EXP(Computations!$F$16)*EXP(Computations!$E$16)^Computations!D1014","v":6576.192104923427},{"$f":"Computations!$F$17+Computations!$E$17*LN(Computations!D1014)","v":3473.7506280665248},{"$f":"Computations!$F$18+Computations!$E$18*Computations!D1014+Computations!$D$18*Computations!D1014^2","v":3407.774649431527},{"$f":"Computations!$F$19+Computations!$E$19*Computations!D1014+Computations!$D$19*Computations!D1014^2+Computations!$C$19*Computations!D1014^3","v":3407.774649431527},{"$f":"Computations!$J$15+Computations!$I$15*D1014","v":450000},{"$f":"EXP(Computations!$J$16)*EXP(Computations!$I$16)^Computations!D1014","v":450000.00000000035},{"$f":"Computations!$J$17+Computations!$I$17*LN(Computations!D1014)","v":450000},{"$f":"Computations!$J$18+Computations!$I$18*Computations!D1014+Computations!$H$18*Computations!D1014^2","v":450000},{"$f":"Computations!$J$19+Computations!$I$19*Computations!D1014+Computations!$H$19*Computations!D1014^2+Computations!$G$19*Computations!D1014^3","v":450000}]
[961,0.29126205116032017,0.29155389841725665,0.29140797478878844,0.99980943777727349,3.129385460098888E-6,4386.9470366945834,450000,{"$f":"G1015-H1015/User_entry!$E$18","v":2886.9470366945834},2886.9470366945834,null,{"$f":"HLOOKUP(User_entry!$B$56,Computations!$N$54:$R$1054,Computations!A1015+1,FALSE)","v":4386.9470366945834},{"$f":"HLOOKUP(User_entry!$E$56,Computations!$S$54:$W$1054,Computations!A1015+1,FALSE)","v":450000},{"$f":"Computations!$F$15+Computations!$E$15*D1015","v":4386.9470366945834},{"$f":"EXP(Computations!$F$16)*EXP(Computations!$E$16)^Computations!D1015","v":6589.8358166299222},{"$f":"Computations!$F$17+Computations!$E$17*LN(Computations!D1015)","v":3475.0236214643019},{"$f":"Computations!$F$18+Computations!$E$18*Computations!D1015+Computations!$D$18*Computations!D1015^2","v":3407.8554575882254},{"$f":"Computations!$F$19+Computations!$E$19*Computations!D1015+Computations!$D$19*Computations!D1015^2+Computations!$C$19*Computations!D1015^3","v":3407.8554575882254},{"$f":"Computations!$J$15+Computations!$I$15*D1015","v":450000},{"$f":"EXP(Computations!$J$16)*EXP(Computations!$I$16)^Computations!D1015","v":450000.00000000035},{"$f":"Computations!$J$17+Computations!$I$17*LN(Computations!D1015)","v":450000},{"$f":"Computations!$J$18+Computations!$I$18*Computations!D1015+Computations!$H$18*Computations!D1015^2","v":450000},{"$f":"Computations!$J$19+Computations!$I$19*Computations!D1015+Computations!$H$19*Computations!D1015^2+Computations!$G$19*Computations!D1015^3","v":450000}]
[962,0.29155389841725665,{"$f":"B1016+$D$11","v":0.29184574567419314},{"$f":"AVERAGE(B1016:C1016)","v":0.29169982204572487},{"$f":"IF($D$3=\"Beta\",_xlfn.BETA.DIST(C1016,$D$4,$D$5,TRUE),IF($D$3=\"Gamma\",_xlfn.GAMMA.DIST(C1016,$D$4,$D$5,TRUE),IF($D$3=\"Lognorm\",_xlfn.LOGNORM.DIST(C1016,$D$4,$D$5,TRUE),_xlfn.NORM.DIST(C1016,$D$4,$D$5,TRUE))))","v":0.99981251889908207},{"$f":"E1016-E1015","v":3.0811218085791126E-6},{"$f":"L1016","v":4390.7871321805897},{"$f":"M1016","v":450000},{"$f":"G1016-H1016/User_entry!$E$18","v":2890.7871321805897},{"$f":"MAX(I1016,0)","v":2890.7871321805897},null,{"$f":"HLOOKUP(User_entry!$B$56,Computations!$N$54:$R$1054,Computations!A1016+1,FALSE)","v":4390.7871321805897},{"$f":"HLOOKUP(User_entry!$E$56,Computations!$S$54:$W$1054,Computations!A1016+1,FALSE)","v":450000},{"$f":"Computations!$F$15+Computations!$E$15*D1016","v":4390.7871321805897},{"$f":"EXP(Computations!$F$16)*EXP(Computations!$E$16)^Computations!D1016","v":6603.5078351234033},{"$f":"Computations!$F$17+Computations!$E$17*LN(Computations!D1016)","v":3476.2953405875951},{"$f":"Computations!$F$18+Computations!$E$18*Computations!D1016+Computations!$D$18*Computations!D1016^2","v":3407.929956498896},{"$f":"Computations!$F$19+Computations!$E$19*Computations!D1016+Computations!$D$19*Computations!D1016^2+Computations!$C$19*Computations!D1016^3","v":3407.929956498896},{"$f":"Computations!$J$15+Computations!$I$15*D1016","v":450000},{"$f":"EXP(Computations!$J$16)*EXP(Computations!$I$16)^Computations!D1016","v":450000.00000000035},{"$f":"Computations!$J$17+Computations!$I$17*LN(Computations!D1016)","v":450000},{"$f":"Computations!$J$18+Computations!$I$18*Computations!D1016+Computations!$H$18*Computations!D1016^2","v":450000},{"$f":"Computations!$J$19+Computations!$I$19*Computations!D1016+Computations!$H$19*Computations!D1016^2+Computations!$G$19*Computations!D1016^3","v":450000}]
[963,{"$f":"C1016","v":0.29184574567419314},0.29213759293112962,0.29199166930266141,0.99981555246276033,3.0335636782563569E-6,4394.6272276665959,450000,{"$f":"G1017-H1017/User_entry!$E$18","v":2894.6272276665959},2894.6272276665959,null,{"$f":"HLOOKUP(User_entry!$B$56,Computations!$N$54:$R$1054,Computations!A1017+1,FALSE)","v":4394.6272276665959},{"$f":"HLOOKUP(User_entry!$E$56,Computations!$S$54:$W$1054,Computations!A1017+1,FALSE)","v":450000},{"$f":"Computations!$F$15+Computations!$E$15*D1017","v":4394.6272276665959},{"$f":"EXP(Computations!$F$16)*EXP(Computations!$E$16)^Computations!D1017","v":6617.2082191323443},{"$f":"Computations!$F$17+Computations!$E$17*LN(Computations!D1017)","v":3477.5657879849682},{"$f":"Computations!$F$18+Computations!$E$18*Computations!D1017+Computations!$D$18*Computations!D1017^2","v":3407.998146163538},{"$f":"Computations!$F$19+Computations!$E$19*Computations!D1017+Computations!$D$19*Computations!D1017^2+Computations!$C$19*Computations!D1017^3","v":3407.998146163538},{"$f":"Computations!$J$15+Computations!$I$15*D1017","v":450000},{"$f":"EXP(Computations!$J$16)*EXP(Computations!$I$16)^Computations!D1017","v":450000.00000000035},{"$f":"Computations!$J$17+Computations!$I$17*LN(Computations!D1017)","v":450000},{"$f":"Computations!$J$18+Computations!$I$18*Computations!D1017+Computations!$H$18*Computations!D1017^2","v":450000},{"$f":"Computations!$J$19+Computations!$I$19*Computations!D1017+Computations!$H$19*Computations!D1017^2+Computations!$G$19*Computations!D1017^3","v":450000}]
[964,0.29213759293112962,0.2924294401880661,0.29228351655959783,0.99981853916415486,2.986701394536162E-6,4398.4673231526021,450000,{"$f":"G1018-H1018/User_entry!$E$18","v":2898.4673231526021},2898.4673231526021,null,{"$f":"HLOOKUP(User_entry!$B$56,Computations!$N$54:$R$1054,Computations!A1018+1,FALSE)","v":4398.4673231526021},{"$f":"HLOOKUP(User_entry!$E$56,Computations!$S$54:$W$1054,Computations!A1018+1,FALSE)","v":450000},{"$f":"Computations!$F$15+Computations!$E$15*D1018","v":4398.4673231526021},{"$f":"EXP(Computations!$F$16)*EXP(Computations!$E$16)^Computations!D1018","v":6630.9370275070369},{"$f":"Computations!$F$17+Computations!$E$17*LN(Computations!D1018)","v":3478.8349661973443},{"$f":"Computations!$F$18+Computations!$E$18*Computations!D1018+Computations!$D$18*Computations!D1018^2","v":3408.0600265821517},{"$f":"Computations!$F$19+Computations!$E$19*Computations!D1018+Computations!$D$19*Computations!D1018^2+Computations!$C$19*Computations!D1018^3","v":3408.0600265821517},{"$f":"Computations!$J$15+Computations!$I$15*D1018","v":450000},{"$f":"EXP(Computations!$J$16)*EXP(Computations!$I$16)^Computations!D1018","v":450000.00000000035},{"$f":"Computations!$J$17+Computations!$I$17*LN(Computations!D1018)","v":450000},{"$f":"Computations!$J$18+Computations!$I$18*Computations!D1018+Computations!$H$18*Computations!D1018^2","v":450000},{"$f":"Computations!$J$19+Computations!$I$19*Computations!D1018+Computations!$H$19*Computations!D1018^2+Computations!$G$19*Computations!D1018^3","v":450000}]
[965,0.2924294401880661,0.29272128744500259,0.29257536381653437,0.99982147968955937,2.9405254045045126E-6,4402.3074186386093,450000,{"$f":"G1019-H1019/User_entry!$E$18","v":2902.3074186386093},2902.3074186386093,null,{"$f":"HLOOKUP(User_entry!$B$56,Computations!$N$54:$R$1054,Computations!A1019+1,FALSE)","v":4402.3074186386093},{"$f":"HLOOKUP(User_entry!$E$56,Computations!$S$54:$W$1054,Computations!A1019+1,FALSE)","v":450000},{"$f":"Computations!$F$15+Computations!$E$15*D1019","v":4402.3074186386093},{"$f":"EXP(Computations!$F$16)*EXP(Computations!$E$16)^Computations!D1019","v":6644.6943192198951},{"$f":"Computations!$F$17+Computations!$E$17*LN(Computations!D1019)","v":3480.1028777580427},{"$f":"Computations!$F$18+Computations!$E$18*Computations!D1019+Computations!$D$18*Computations!D1019^2","v":3408.1155977547369},{"$f":"Computations!$F$19+Computations!$E$19*Computations!D1019+Computations!$D$19*Computations!D1019^2+Computations!$C$19*Computations!D1019^3","v":3408.1155977547369},{"$f":"Computations!$J$15+Computations!$I$15*D1019","v":450000},{"$f":"EXP(Computations!$J$16)*EXP(Computations!$I$16)^Computations!D1019","v":450000.00000000035},{"$f":"Computations!$J$17+Computations!$I$17*LN(Computations!D1019)","v":450000},{"$f":"Computations!$J$18+Computations!$I$18*Computations!D1019+Computations!$H$18*Computations!D1019^2","v":450000},{"$f":"Computations!$J$19+Computations!$I$19*Computations!D1019+Computations!$H$19*Computations!D1019^2+Computations!$G$19*Computations!D1019^3","v":450000}]
[966,0.29272128744500259,0.29301313470193907,0.2928672110734708,0.99982437471583596,2.8950262765947699E-6,4406.1475141246146,450000,{"$f":"G1020-H1020/User_entry!$E$18","v":2906.1475141246146},2906.1475141246146,null,{"$f":"HLOOKUP(User_entry!$B$56,Computations!$N$54:$R$1054,Computations!A1020+1,FALSE)","v":4406.1475141246146},{"$f":"HLOOKUP(User_entry!$E$56,Computations!$S$54:$W$1054,Computations!A1020+1,FALSE)","v":450000},{"$f":"Computations!$F$15+Computations!$E$15*D1020","v":4406.1475141246146},{"$f":"EXP(Computations!$F$16)*EXP(Computations!$E$16)^Computations!D1020","v":6658.4801533656664},{"$f":"Computations!$F$17+Computations!$E$17*LN(Computations!D1020)","v":3481.3695251928011},{"$f":"Computations!$F$18+Computations!$E$18*Computations!D1020+Computations!$D$18*Computations!D1020^2","v":3408.1648596812947},{"$f":"Computations!$F$19+Computations!$E$19*Computations!D1020+Computations!$D$19*Computations!D1020^2+Computations!$C$19*Computations!D1020^3","v":3408.1648596812947},{"$f":"Computations!$J$15+Computations!$I$15*D1020","v":450000},{"$f":"EXP(Computations!$J$16)*EXP(Computations!$I$16)^Computations!D1020","v":450000.00000000035},{"$f":"Computations!$J$17+Computations!$I$17*LN(Computations!D1020)","v":450000},{"$f":"Computations!$J$18+Computations!$I$18*Computations!D1020+Computations!$H$18*Computations!D1020^2","v":450000},{"$f":"Computations!$J$19+Computations!$I$19*Computations!D1020+Computations!$H$19*Computations!D1020^2+Computations!$G$19*Computations!D1020^3","v":450000}]
[967,0.29301313470193907,0.29330498195887555,0.29315905833040734,0.99982722491053544,2.8501946994774485E-6,4409.9876096106218,450000,{"$f":"G1021-H1021/User_entry!$E$18","v":2909.9876096106218},2909.9876096106218,null,{"$f":"HLOOKUP(User_entry!$B$56,Computations!$N$54:$R$1054,Computations!A1021+1,FALSE)","v":4409.9876096106218},{"$f":"HLOOKUP(User_entry!$E$56,Computations!$S$54:$W$1054,Computations!A1021+1,FALSE)","v":450000},{"$f":"Computations!$F$15+Computations!$E$15*D1021","v":4409.9876096106218},{"$f":"EXP(Computations!$F$16)*EXP(Computations!$E$16)^Computations!D1021","v":6672.2945891617137},{"$f":"Computations!$F$17+Computations!$E$17*LN(Computations!D1021)","v":3482.6349110198144},{"$f":"Computations!$F$18+Computations!$E$18*Computations!D1021+Computations!$D$18*Computations!D1021^2","v":3408.2078123618235},{"$f":"Computations!$F$19+Computations!$E$19*Computations!D1021+Computations!$D$19*Computations!D1021^2+Computations!$C$19*Computations!D1021^3","v":3408.2078123618235},{"$f":"Computations!$J$15+Computations!$I$15*D1021","v":450000},{"$f":"EXP(Computations!$J$16)*EXP(Computations!$I$16)^Computations!D1021","v":450000.00000000035},{"$f":"Computations!$J$17+Computations!$I$17*LN(Computations!D1021)","v":450000},{"$f":"Computations!$J$18+Computations!$I$18*Computations!D1021+Computations!$H$18*Computations!D1021^2","v":450000},{"$f":"Computations!$J$19+Computations!$I$19*Computations!D1021+Computations!$H$19*Computations!D1021^2+Computations!$G$19*Computations!D1021^3","v":450000}]
[968,0.29330498195887555,0.29359682921581204,0.29345090558734377,0.99983003093201461,2.8060214791736371E-6,4413.8277050966271,450000,{"$f":"G1022-H1022/User_entry!$E$18","v":2913.8277050966271},2913.8277050966271,null,{"$f":"HLOOKUP(User_entry!$B$56,Computations!$N$54:$R$1054,Computations!A1022+1,FALSE)","v":4413.8277050966271},{"$f":"HLOOKUP(User_entry!$E$56,Computations!$S$54:$W$1054,Computations!A1022+1,FALSE)","v":450000},{"$f":"Computations!$F$15+Computations!$E$15*D1022","v":4413.8277050966271},{"$f":"EXP(Computations!$F$16)*EXP(Computations!$E$16)^Computations!D1022","v":6686.137685948248},{"$f":"Computations!$F$17+Computations!$E$17*LN(Computations!D1022)","v":3483.8990377497562},{"$f":"Computations!$F$18+Computations!$E$18*Computations!D1022+Computations!$D$18*Computations!D1022^2","v":3408.244455796324},{"$f":"Computations!$F$19+Computations!$E$19*Computations!D1022+Computations!$D$19*Computations!D1022^2+Computations!$C$19*Computations!D1022^3","v":3408.244455796324},{"$f":"Computations!$J$15+Computations!$I$15*D1022","v":450000},{"$f":"EXP(Computations!$J$16)*EXP(Computations!$I$16)^Computations!D1022","v":450000.00000000035},{"$f":"Computations!$J$17+Computations!$I$17*LN(Computations!D1022)","v":450000},{"$f":"Computations!$J$18+Computations!$I$18*Computations!D1022+Computations!$H$18*Computations!D1022^2","v":450000},{"$f":"Computations!$J$19+Computations!$I$19*Computations!D1022+Computations!$H$19*Computations!D1022^2+Computations!$G$19*Computations!D1022^3","v":450000}]
[969,0.29359682921581204,0.29388867647274852,0.29374275284428031,0.99983279342955411,2.7624975394990869E-6,4417.6678005826343,450000,{"$f":"G1023-H1023/User_entry!$E$18","v":2917.6678005826343},2917.6678005826343,null,{"$f":"HLOOKUP(User_entry!$B$56,Computations!$N$54:$R$1054,Computations!A1023+1,FALSE)","v":4417.6678005826343},{"$f":"HLOOKUP(User_entry!$E$56,Computations!$S$54:$W$1054,Computations!A1023+1,FALSE)","v":450000},{"$f":"Computations!$F$15+Computations!$E$15*D1023","v":4417.6678005826343},{"$f":"EXP(Computations!$F$16)*EXP(Computations!$E$16)^Computations!D1023","v":6700.0095031886121},{"$f":"Computations!$F$17+Computations!$E$17*LN(Computations!D1023)","v":3485.1619078858166},{"$f":"Computations!$F$18+Computations!$E$18*Computations!D1023+Computations!$D$18*Computations!D1023^2","v":3408.2747899847968},{"$f":"Computations!$F$19+Computations!$E$19*Computations!D1023+Computations!$D$19*Computations!D1023^2+Computations!$C$19*Computations!D1023^3","v":3408.2747899847968},{"$f":"Computations!$J$15+Computations!$I$15*D1023","v":450000},{"$f":"EXP(Computations!$J$16)*EXP(Computations!$I$16)^Computations!D1023","v":450000.00000000035},{"$f":"Computations!$J$17+Computations!$I$17*LN(Computations!D1023)","v":450000},{"$f":"Computations!$J$18+Computations!$I$18*Computations!D1023+Computations!$H$18*Computations!D1023^2","v":450000},{"$f":"Computations!$J$19+Computations!$I$19*Computations!D1023+Computations!$H$19*Computations!D1023^2+Computations!$G$19*Computations!D1023^3","v":450000}]
[970,0.29388867647274852,0.29418052372968501,0.29403460010121674,0.99983551304347373,2.7196139196217217E-6,4421.5078960686405,450000,{"$f":"G1024-H1024/User_entry!$E$18","v":2921.5078960686405},2921.5078960686405,null,{"$f":"HLOOKUP(User_entry!$B$56,Computations!$N$54:$R$1054,Computations!A1024+1,FALSE)","v":4421.5078960686405},{"$f":"HLOOKUP(User_entry!$E$56,Computations!$S$54:$W$1054,Computations!A1024+1,FALSE)","v":450000},{"$f":"Computations!$F$15+Computations!$E$15*D1024","v":4421.5078960686405},{"$f":"EXP(Computations!$F$16)*EXP(Computations!$E$16)^Computations!D1024","v":6713.9101004694921},{"$f":"Computations!$F$17+Computations!$E$17*LN(Computations!D1024)","v":3486.423523923726},{"$f":"Computations!$F$18+Computations!$E$18*Computations!D1024+Computations!$D$18*Computations!D1024^2","v":3408.2988149272414},{"$f":"Computations!$F$19+Computations!$E$19*Computations!D1024+Computations!$D$19*Computations!D1024^2+Computations!$C$19*Computations!D1024^3","v":3408.2988149272414},{"$f":"Computations!$J$15+Computations!$I$15*D1024","v":450000},{"$f":"EXP(Computations!$J$16)*EXP(Computations!$I$16)^Computations!D1024","v":450000.00000000035},{"$f":"Computations!$J$17+Computations!$I$17*LN(Computations!D1024)","v":450000},{"$f":"Computations!$J$18+Computations!$I$18*Computations!D1024+Computations!$H$18*Computations!D1024^2","v":450000},{"$f":"Computations!$J$19+Computations!$I$19*Computations!D1024+Computations!$H$19*Computations!D1024^2+Computations!$G$19*Computations!D1024^3","v":450000}]
[971,0.29418052372968501,0.29447237098662149,0.29432644735815328,0.99983819040524657,2.677361772840392E-6,4425.3479915546477,450000,{"$f":"G1025-H1025/User_entry!$E$18","v":2925.3479915546477},2925.3479915546477,null,{"$f":"HLOOKUP(User_entry!$B$56,Computations!$N$54:$R$1054,Computations!A1025+1,FALSE)","v":4425.3479915546477},{"$f":"HLOOKUP(User_entry!$E$56,Computations!$S$54:$W$1054,Computations!A1025+1,FALSE)","v":450000},{"$f":"Computations!$F$15+Computations!$E$15*D1025","v":4425.3479915546477},{"$f":"EXP(Computations!$F$16)*EXP(Computations!$E$16)^Computations!D1025","v":6727.8395375012287},{"$f":"Computations!$F$17+Computations!$E$17*LN(Computations!D1025)","v":3487.6838883517885},{"$f":"Computations!$F$18+Computations!$E$18*Computations!D1025+Computations!$D$18*Computations!D1025^2","v":3408.3165306236569},{"$f":"Computations!$F$19+Computations!$E$19*Computations!D1025+Computations!$D$19*Computations!D1025^2+Computations!$C$19*Computations!D1025^3","v":3408.3165306236569},{"$f":"Computations!$J$15+Computations!$I$15*D1025","v":450000},{"$f":"EXP(Computations!$J$16)*EXP(Computations!$I$16)^Computations!D1025","v":450000.00000000035},{"$f":"Computations!$J$17+Computations!$I$17*LN(Computations!D1025)","v":450000},{"$f":"Computations!$J$18+Computations!$I$18*Computations!D1025+Computations!$H$18*Computations!D1025^2","v":450000},{"$f":"Computations!$J$19+Computations!$I$19*Computations!D1025+Computations!$H$19*Computations!D1025^2+Computations!$G$19*Computations!D1025^3","v":450000}]
[972,0.29447237098662149,0.29476421824355797,0.2946182946150897,0.99984082613761249,2.6357323659187415E-6,4429.188087040653,450000,{"$f":"G1026-H1026/User_entry!$E$18","v":2929.188087040653},2929.188087040653,null,{"$f":"HLOOKUP(User_entry!$B$56,Computations!$N$54:$R$1054,Computations!A1026+1,FALSE)","v":4429.188087040653},{"$f":"HLOOKUP(User_entry!$E$56,Computations!$S$54:$W$1054,Computations!A1026+1,FALSE)","v":450000},{"$f":"Computations!$F$15+Computations!$E$15*D1026","v":4429.188087040653},{"$f":"EXP(Computations!$F$16)*EXP(Computations!$E$16)^Computations!D1026","v":6741.7978741180195},{"$f":"Computations!$F$17+Computations!$E$17*LN(Computations!D1026)","v":3488.9430036509075},{"$f":"Computations!$F$18+Computations!$E$18*Computations!D1026+Computations!$D$18*Computations!D1026^2","v":3408.3279370740447},{"$f":"Computations!$F$19+Computations!$E$19*Computations!D1026+Computations!$D$19*Computations!D1026^2+Computations!$C$19*Computations!D1026^3","v":3408.3279370740447},{"$f":"Computations!$J$15+Computations!$I$15*D1026","v":450000},{"$f":"EXP(Computations!$J$16)*EXP(Computations!$I$16)^Computations!D1026","v":450000.00000000035},{"$f":"Computations!$J$17+Computations!$I$17*LN(Computations!D1026)","v":450000},{"$f":"Computations!$J$18+Computations!$I$18*Computations!D1026+Computations!$H$18*Computations!D1026^2","v":450000},{"$f":"Computations!$J$19+Computations!$I$19*Computations!D1026+Computations!$H$19*Computations!D1026^2+Computations!$G$19*Computations!D1026^3","v":450000}]
[973,0.29476421824355797,0.29505606550049446,0.29491014187202624,0.99984342085468947,2.5947170769757832E-6,4433.0281825266602,450000,{"$f":"G1027-H1027/User_entry!$E$18","v":2933.0281825266602},2933.0281825266602,null,{"$f":"HLOOKUP(User_entry!$B$56,Computations!$N$54:$R$1054,Computations!A1027+1,FALSE)","v":4433.0281825266602},{"$f":"HLOOKUP(User_entry!$E$56,Computations!$S$54:$W$1054,Computations!A1027+1,FALSE)","v":450000},{"$f":"Computations!$F$15+Computations!$E$15*D1027","v":4433.0281825266602},{"$f":"EXP(Computations!$F$16)*EXP(Computations!$E$16)^Computations!D1027","v":6755.7851702782191},{"$f":"Computations!$F$17+Computations!$E$17*LN(Computations!D1027)","v":3490.2008722946216},{"$f":"Computations!$F$18+Computations!$E$18*Computations!D1027+Computations!$D$18*Computations!D1027^2","v":3408.3330342784043},{"$f":"Computations!$F$19+Computations!$E$19*Computations!D1027+Computations!$D$19*Computations!D1027^2+Computations!$C$19*Computations!D1027^3","v":3408.3330342784043},{"$f":"Computations!$J$15+Computations!$I$15*D1027","v":450000},{"$f":"EXP(Computations!$J$16)*EXP(Computations!$I$16)^Computations!D1027","v":450000.00000000035},{"$f":"Computations!$J$17+Computations!$I$17*LN(Computations!D1027)","v":450000},{"$f":"Computations!$J$18+Computations!$I$18*Computations!D1027+Computations!$H$18*Computations!D1027^2","v":450000},{"$f":"Computations!$J$19+Computations!$I$19*Computations!D1027+Computations!$H$19*Computations!D1027^2+Computations!$G$19*Computations!D1027^3","v":450000}]
[974,0.29505606550049446,0.29534791275743094,0.29520198912896267,0.99984597516208407,2.5543073945977213E-6,4436.8682780126655,450000,{"$f":"G1028-H1028/User_entry!$E$18","v":2936.8682780126655},2936.8682780126655,null,{"$f":"HLOOKUP(User_entry!$B$56,Computations!$N$54:$R$1054,Computations!A1028+1,FALSE)","v":4436.8682780126655},{"$f":"HLOOKUP(User_entry!$E$56,Computations!$S$54:$W$1054,Computations!A1028+1,FALSE)","v":450000},{"$f":"Computations!$F$15+Computations!$E$15*D1028","v":4436.8682780126655},{"$f":"EXP(Computations!$F$16)*EXP(Computations!$E$16)^Computations!D1028","v":6769.8014860645608},{"$f":"Computations!$F$17+Computations!$E$17*LN(Computations!D1028)","v":3491.4574967491244},{"$f":"Computations!$F$18+Computations!$E$18*Computations!D1028+Computations!$D$18*Computations!D1028^2","v":3408.3318222367357},{"$f":"Computations!$F$19+Computations!$E$19*Computations!D1028+Computations!$D$19*Computations!D1028^2+Computations!$C$19*Computations!D1028^3","v":3408.3318222367357},{"$f":"Computations!$J$15+Computations!$I$15*D1028","v":450000},{"$f":"EXP(Computations!$J$16)*EXP(Computations!$I$16)^Computations!D1028","v":450000.00000000035},{"$f":"Computations!$J$17+Computations!$I$17*LN(Computations!D1028)","v":450000},{"$f":"Computations!$J$18+Computations!$I$18*Computations!D1028+Computations!$H$18*Computations!D1028^2","v":450000},{"$f":"Computations!$J$19+Computations!$I$19*Computations!D1028+Computations!$H$19*Computations!D1028^2+Computations!$G$19*Computations!D1028^3","v":450000}]
[975,0.29534791275743094,0.29563976001436743,0.29549383638589921,0.99984848965700057,2.5144949165056829E-6,4440.7083734986727,450000,{"$f":"G1029-H1029/User_entry!$E$18","v":2940.7083734986727},2940.7083734986727,null,{"$f":"HLOOKUP(User_entry!$B$56,Computations!$N$54:$R$1054,Computations!A1029+1,FALSE)","v":4440.7083734986727},{"$f":"HLOOKUP(User_entry!$E$56,Computations!$S$54:$W$1054,Computations!A1029+1,FALSE)","v":450000},{"$f":"Computations!$F$15+Computations!$E$15*D1029","v":4440.7083734986727},{"$f":"EXP(Computations!$F$16)*EXP(Computations!$E$16)^Computations!D1029","v":6783.8468816844561},{"$f":"Computations!$F$17+Computations!$E$17*LN(Computations!D1029)","v":3492.7128794733026},{"$f":"Computations!$F$18+Computations!$E$18*Computations!D1029+Computations!$D$18*Computations!D1029^2","v":3408.3243009490388},{"$f":"Computations!$F$19+Computations!$E$19*Computations!D1029+Computations!$D$19*Computations!D1029^2+Computations!$C$19*Computations!D1029^3","v":3408.3243009490388},{"$f":"Computations!$J$15+Computations!$I$15*D1029","v":450000},{"$f":"EXP(Computations!$J$16)*EXP(Computations!$I$16)^Computations!D1029","v":450000.00000000035},{"$f":"Computations!$J$17+Computations!$I$17*LN(Computations!D1029)","v":450000},{"$f":"Computations!$J$18+Computations!$I$18*Computations!D1029+Computations!$H$18*Computations!D1029^2","v":450000},{"$f":"Computations!$J$19+Computations!$I$19*Computations!D1029+Computations!$H$19*Computations!D1029^2+Computations!$G$19*Computations!D1029^3","v":450000}]
[976,0.29563976001436743,0.29593160727130391,0.29578568364283564,0.99985096492834924,2.4752713486675404E-6,4444.548468984678,450000,{"$f":"G1030-H1030/User_entry!$E$18","v":2944.548468984678},2944.548468984678,null,{"$f":"HLOOKUP(User_entry!$B$56,Computations!$N$54:$R$1054,Computations!A1030+1,FALSE)","v":4444.548468984678},{"$f":"HLOOKUP(User_entry!$E$56,Computations!$S$54:$W$1054,Computations!A1030+1,FALSE)","v":450000},{"$f":"Computations!$F$15+Computations!$E$15*D1030","v":4444.548468984678},{"$f":"EXP(Computations!$F$16)*EXP(Computations!$E$16)^Computations!D1030","v":6797.9214174702001},{"$f":"Computations!$F$17+Computations!$E$17*LN(Computations!D1030)","v":3493.9670229187582},{"$f":"Computations!$F$18+Computations!$E$18*Computations!D1030+Computations!$D$18*Computations!D1030^2","v":3408.3104704153129},{"$f":"Computations!$F$19+Computations!$E$19*Computations!D1030+Computations!$D$19*Computations!D1030^2+Computations!$C$19*Computations!D1030^3","v":3408.3104704153129},{"$f":"Computations!$J$15+Computations!$I$15*D1030","v":450000},{"$f":"EXP(Computations!$J$16)*EXP(Computations!$I$16)^Computations!D1030","v":450000.00000000035},{"$f":"Computations!$J$17+Computations!$I$17*LN(Computations!D1030)","v":450000},{"$f":"Computations!$J$18+Computations!$I$18*Computations!D1030+Computations!$H$18*Computations!D1030^2","v":450000},{"$f":"Computations!$J$19+Computations!$I$19*Computations!D1030+Computations!$H$19*Computations!D1030^2+Computations!$G$19*Computations!D1030^3","v":450000}]
[977,0.29593160727130391,0.29622345452824039,0.29607753089977218,0.99985340155685232,2.4366285030774648E-6,4448.3885644706852,450000,{"$f":"G1031-H1031/User_entry!$E$18","v":2948.3885644706852},2948.3885644706852,null,{"$f":"HLOOKUP(User_entry!$B$56,Computations!$N$54:$R$1054,Computations!A1031+1,FALSE)","v":4448.3885644706852},{"$f":"HLOOKUP(User_entry!$E$56,Computations!$S$54:$W$1054,Computations!A1031+1,FALSE)","v":450000},{"$f":"Computations!$F$15+Computations!$E$15*D1031","v":4448.3885644706852},{"$f":"EXP(Computations!$F$16)*EXP(Computations!$E$16)^Computations!D1031","v":6812.0251538792882},{"$f":"Computations!$F$17+Computations!$E$17*LN(Computations!D1031)","v":3495.2199295298415},{"$f":"Computations!$F$18+Computations!$E$18*Computations!D1031+Computations!$D$18*Computations!D1031^2","v":3408.2903306355597},{"$f":"Computations!$F$19+Computations!$E$19*Computations!D1031+Computations!$D$19*Computations!D1031^2+Computations!$C$19*Computations!D1031^3","v":3408.2903306355597},{"$f":"Computations!$J$15+Computations!$I$15*D1031","v":450000},{"$f":"EXP(Computations!$J$16)*EXP(Computations!$I$16)^Computations!D1031","v":450000.00000000035},{"$f":"Computations!$J$17+Computations!$I$17*LN(Computations!D1031)","v":450000},{"$f":"Computations!$J$18+Computations!$I$18*Computations!D1031+Computations!$H$18*Computations!D1031^2","v":450000},{"$f":"Computations!$J$19+Computations!$I$19*Computations!D1031+Computations!$H$19*Computations!D1031^2+Computations!$G$19*Computations!D1031^3","v":450000}]
[978,0.29622345452824039,0.29651530178517688,0.29636937815670861,0.99985580011515007,2.3985582977559261E-6,4452.2286599566914,450000,{"$f":"G1032-H1032/User_entry!$E$18","v":2952.2286599566914},2952.2286599566914,null,{"$f":"HLOOKUP(User_entry!$B$56,Computations!$N$54:$R$1054,Computations!A1032+1,FALSE)","v":4452.2286599566914},{"$f":"HLOOKUP(User_entry!$E$56,Computations!$S$54:$W$1054,Computations!A1032+1,FALSE)","v":450000},{"$f":"Computations!$F$15+Computations!$E$15*D1032","v":4452.2286599566914},{"$f":"EXP(Computations!$F$16)*EXP(Computations!$E$16)^Computations!D1032","v":6826.1581514946292},{"$f":"Computations!$F$17+Computations!$E$17*LN(Computations!D1032)","v":3496.4716017436776},{"$f":"Computations!$F$18+Computations!$E$18*Computations!D1032+Computations!$D$18*Computations!D1032^2","v":3408.2638816097783},{"$f":"Computations!$F$19+Computations!$E$19*Computations!D1032+Computations!$D$19*Computations!D1032^2+Computations!$C$19*Computations!D1032^3","v":3408.2638816097783},{"$f":"Computations!$J$15+Computations!$I$15*D1032","v":450000},{"$f":"EXP(Computations!$J$16)*EXP(Computations!$I$16)^Computations!D1032","v":450000.00000000035},{"$f":"Computations!$J$17+Computations!$I$17*LN(Computations!D1032)","v":450000},{"$f":"Computations!$J$18+Computations!$I$18*Computations!D1032+Computations!$H$18*Computations!D1032^2","v":450000},{"$f":"Computations!$J$19+Computations!$I$19*Computations!D1032+Computations!$H$19*Computations!D1032^2+Computations!$G$19*Computations!D1032^3","v":450000}]
[979,0.29651530178517688,0.29680714904211336,0.29666122541364515,0.99985816116790427,2.3610527541961801E-6,4456.0687554426986,450000,{"$f":"G1033-H1033/User_entry!$E$18","v":2956.0687554426986},2956.0687554426986,null,{"$f":"HLOOKUP(User_entry!$B$56,Computations!$N$54:$R$1054,Computations!A1033+1,FALSE)","v":4456.0687554426986},{"$f":"HLOOKUP(User_entry!$E$56,Computations!$S$54:$W$1054,Computations!A1033+1,FALSE)","v":450000},{"$f":"Computations!$F$15+Computations!$E$15*D1033","v":4456.0687554426986},{"$f":"EXP(Computations!$F$16)*EXP(Computations!$E$16)^Computations!D1033","v":6840.3204710248328},{"$f":"Computations!$F$17+Computations!$E$17*LN(Computations!D1033)","v":3497.722041990196},{"$f":"Computations!$F$18+Computations!$E$18*Computations!D1033+Computations!$D$18*Computations!D1033^2","v":3408.2311233379683},{"$f":"Computations!$F$19+Computations!$E$19*Computations!D1033+Computations!$D$19*Computations!D1033^2+Computations!$C$19*Computations!D1033^3","v":3408.2311233379683},{"$f":"Computations!$J$15+Computations!$I$15*D1033","v":450000},{"$f":"EXP(Computations!$J$16)*EXP(Computations!$I$16)^Computations!D1033","v":450000.00000000035},{"$f":"Computations!$J$17+Computations!$I$17*LN(Computations!D1033)","v":450000},{"$f":"Computations!$J$18+Computations!$I$18*Computations!D1033+Computations!$H$18*Computations!D1033^2","v":450000},{"$f":"Computations!$J$19+Computations!$I$19*Computations!D1033+Computations!$H$19*Computations!D1033^2+Computations!$G$19*Computations!D1033^3","v":450000}]
[980,0.29680714904211336,0.29709899629904984,0.29695307267058157,0.99986048527190174,2.3241039974752908E-6,4459.9088509287039,450000,{"$f":"G1034-H1034/User_entry!$E$18","v":2959.9088509287039},2959.9088509287039,null,{"$f":"HLOOKUP(User_entry!$B$56,Computations!$N$54:$R$1054,Computations!A1034+1,FALSE)","v":4459.9088509287039},{"$f":"HLOOKUP(User_entry!$E$56,Computations!$S$54:$W$1054,Computations!A1034+1,FALSE)","v":450000},{"$f":"Computations!$F$15+Computations!$E$15*D1034","v":4459.9088509287039},{"$f":"EXP(Computations!$F$16)*EXP(Computations!$E$16)^Computations!D1034","v":6854.5121733044543},{"$f":"Computations!$F$17+Computations!$E$17*LN(Computations!D1034)","v":3498.9712526921562},{"$f":"Computations!$F$18+Computations!$E$18*Computations!D1034+Computations!$D$18*Computations!D1034^2","v":3408.19205582013},{"$f":"Computations!$F$19+Computations!$E$19*Computations!D1034+Computations!$D$19*Computations!D1034^2+Computations!$C$19*Computations!D1034^3","v":3408.19205582013},{"$f":"Computations!$J$15+Computations!$I$15*D1034","v":450000},{"$f":"EXP(Computations!$J$16)*EXP(Computations!$I$16)^Computations!D1034","v":450000.00000000035},{"$f":"Computations!$J$17+Computations!$I$17*LN(Computations!D1034)","v":450000},{"$f":"Computations!$J$18+Computations!$I$18*Computations!D1034+Computations!$H$18*Computations!D1034^2","v":450000},{"$f":"Computations!$J$19+Computations!$I$19*Computations!D1034+Computations!$H$19*Computations!D1034^2+Computations!$G$19*Computations!D1034^3","v":450000}]
[981,0.29709899629904984,0.29739084355598633,0.29724491992751811,0.99986277297615622,2.2877042544777737E-6,4463.7489464147111,450000,{"$f":"G1035-H1035/User_entry!$E$18","v":2963.7489464147111},2963.7489464147111,null,{"$f":"HLOOKUP(User_entry!$B$56,Computations!$N$54:$R$1054,Computations!A1035+1,FALSE)","v":4463.7489464147111},{"$f":"HLOOKUP(User_entry!$E$56,Computations!$S$54:$W$1054,Computations!A1035+1,FALSE)","v":450000},{"$f":"Computations!$F$15+Computations!$E$15*D1035","v":4463.7489464147111},{"$f":"EXP(Computations!$F$16)*EXP(Computations!$E$16)^Computations!D1035","v":6868.7333192942751},{"$f":"Computations!$F$17+Computations!$E$17*LN(Computations!D1035)","v":3500.2192362651804},{"$f":"Computations!$F$18+Computations!$E$18*Computations!D1035+Computations!$D$18*Computations!D1035^2","v":3408.1466790562631},{"$f":"Computations!$F$19+Computations!$E$19*Computations!D1035+Computations!$D$19*Computations!D1035^2+Computations!$C$19*Computations!D1035^3","v":3408.1466790562631},{"$f":"Computations!$J$15+Computations!$I$15*D1035","v":450000},{"$f":"EXP(Computations!$J$16)*EXP(Computations!$I$16)^Computations!D1035","v":450000.00000000035},{"$f":"Computations!$J$17+Computations!$I$17*LN(Computations!D1035)","v":450000},{"$f":"Computations!$J$18+Computations!$I$18*Computations!D1035+Computations!$H$18*Computations!D1035^2","v":450000},{"$f":"Computations!$J$19+Computations!$I$19*Computations!D1035+Computations!$H$19*Computations!D1035^2+Computations!$G$19*Computations!D1035^3","v":450000}]
[982,0.29739084355598633,0.29768269081292281,0.29753676718445454,0.99986502482200845,2.2518458522302609E-6,4467.5890419007164,450000,{"$f":"G1036-H1036/User_entry!$E$18","v":2967.5890419007164},2967.5890419007164,null,{"$f":"HLOOKUP(User_entry!$B$56,Computations!$N$54:$R$1054,Computations!A1036+1,FALSE)","v":4467.5890419007164},{"$f":"HLOOKUP(User_entry!$E$56,Computations!$S$54:$W$1054,Computations!A1036+1,FALSE)","v":450000},{"$f":"Computations!$F$15+Computations!$E$15*D1036","v":4467.5890419007164},{"$f":"EXP(Computations!$F$16)*EXP(Computations!$E$16)^Computations!D1036","v":6882.9839700815392},{"$f":"Computations!$F$17+Computations!$E$17*LN(Computations!D1036)","v":3501.4659951177764},{"$f":"Computations!$F$18+Computations!$E$18*Computations!D1036+Computations!$D$18*Computations!D1036^2","v":3408.094993046368},{"$f":"Computations!$F$19+Computations!$E$19*Computations!D1036+Computations!$D$19*Computations!D1036^2+Computations!$C$19*Computations!D1036^3","v":3408.094993046368},{"$f":"Computations!$J$15+Computations!$I$15*D1036","v":450000},{"$f":"EXP(Computations!$J$16)*EXP(Computations!$I$16)^Computations!D1036","v":450000.00000000035},{"$f":"Computations!$J$17+Computations!$I$17*LN(Computations!D1036)","v":450000},{"$f":"Computations!$J$18+Computations!$I$18*Computations!D1036+Computations!$H$18*Computations!D1036^2","v":450000},{"$f":"Computations!$J$19+Computations!$I$19*Computations!D1036+Computations!$H$19*Computations!D1036^2+Computations!$G$19*Computations!D1036^3","v":450000}]
[983,0.29768269081292281,0.2979745380698593,0.29782861444139108,0.99986724134322535,2.2165212169023008E-6,4471.4291373867236,450000,{"$f":"G1037-H1037/User_entry!$E$18","v":2971.4291373867236},2971.4291373867236,null,{"$f":"HLOOKUP(User_entry!$B$56,Computations!$N$54:$R$1054,Computations!A1037+1,FALSE)","v":4471.4291373867236},{"$f":"HLOOKUP(User_entry!$E$56,Computations!$S$54:$W$1054,Computations!A1037+1,FALSE)","v":450000},{"$f":"Computations!$F$15+Computations!$E$15*D1037","v":4471.4291373867236},{"$f":"EXP(Computations!$F$16)*EXP(Computations!$E$16)^Computations!D1037","v":6897.2641868802421},{"$f":"Computations!$F$17+Computations!$E$17*LN(Computations!D1037)","v":3502.7115316513714},{"$f":"Computations!$F$18+Computations!$E$18*Computations!D1037+Computations!$D$18*Computations!D1037^2","v":3408.0369977904461},{"$f":"Computations!$F$19+Computations!$E$19*Computations!D1037+Computations!$D$19*Computations!D1037^2+Computations!$C$19*Computations!D1037^3","v":3408.0369977904461},{"$f":"Computations!$J$15+Computations!$I$15*D1037","v":450000},{"$f":"EXP(Computations!$J$16)*EXP(Computations!$I$16)^Computations!D1037","v":450000.00000000035},{"$f":"Computations!$J$17+Computations!$I$17*LN(Computations!D1037)","v":450000},{"$f":"Computations!$J$18+Computations!$I$18*Computations!D1037+Computations!$H$18*Computations!D1037^2","v":450000},{"$f":"Computations!$J$19+Computations!$I$19*Computations!D1037+Computations!$H$19*Computations!D1037^2+Computations!$G$19*Computations!D1037^3","v":450000}]
[984,0.2979745380698593,0.29826638532679578,0.29812046169832751,0.99986942306609938,2.1817228740284023E-6,4475.2692328727289,450000,{"$f":"G1038-H1038/User_entry!$E$18","v":2975.2692328727289},2975.2692328727289,null,{"$f":"HLOOKUP(User_entry!$B$56,Computations!$N$54:$R$1054,Computations!A1038+1,FALSE)","v":4475.2692328727289},{"$f":"HLOOKUP(User_entry!$E$56,Computations!$S$54:$W$1054,Computations!A1038+1,FALSE)","v":450000},{"$f":"Computations!$F$15+Computations!$E$15*D1038","v":4475.2692328727289},{"$f":"EXP(Computations!$F$16)*EXP(Computations!$E$16)^Computations!D1038","v":6911.5740310313668},{"$f":"Computations!$F$17+Computations!$E$17*LN(Computations!D1038)","v":3503.9558482603334},{"$f":"Computations!$F$18+Computations!$E$18*Computations!D1038+Computations!$D$18*Computations!D1038^2","v":3407.9726932884942},{"$f":"Computations!$F$19+Computations!$E$19*Computations!D1038+Computations!$D$19*Computations!D1038^2+Computations!$C$19*Computations!D1038^3","v":3407.9726932884942},{"$f":"Computations!$J$15+Computations!$I$15*D1038","v":450000},{"$f":"EXP(Computations!$J$16)*EXP(Computations!$I$16)^Computations!D1038","v":450000.00000000035},{"$f":"Computations!$J$17+Computations!$I$17*LN(Computations!D1038)","v":450000},{"$f":"Computations!$J$18+Computations!$I$18*Computations!D1038+Computations!$H$18*Computations!D1038^2","v":450000},{"$f":"Computations!$J$19+Computations!$I$19*Computations!D1038+Computations!$H$19*Computations!D1038^2+Computations!$G$19*Computations!D1038^3","v":450000}]
[985,0.29826638532679578,0.29855823258373226,0.29841230895526405,0.99987157050954456,2.1474434451773661E-6,4479.1093283587361,450000,{"$f":"G1039-H1039/User_entry!$E$18","v":2979.1093283587361},2979.1093283587361,null,{"$f":"HLOOKUP(User_entry!$B$56,Computations!$N$54:$R$1054,Computations!A1039+1,FALSE)","v":4479.1093283587361},{"$f":"HLOOKUP(User_entry!$E$56,Computations!$S$54:$W$1054,Computations!A1039+1,FALSE)","v":450000},{"$f":"Computations!$F$15+Computations!$E$15*D1039","v":4479.1093283587361},{"$f":"EXP(Computations!$F$16)*EXP(Computations!$E$16)^Computations!D1039","v":6925.9135640031727},{"$f":"Computations!$F$17+Computations!$E$17*LN(Computations!D1039)","v":3505.1989473320036},{"$f":"Computations!$F$18+Computations!$E$18*Computations!D1039+Computations!$D$18*Computations!D1039^2","v":3407.9020795405149},{"$f":"Computations!$F$19+Computations!$E$19*Computations!D1039+Computations!$D$19*Computations!D1039^2+Computations!$C$19*Computations!D1039^3","v":3407.9020795405149},{"$f":"Computations!$J$15+Computations!$I$15*D1039","v":450000},{"$f":"EXP(Computations!$J$16)*EXP(Computations!$I$16)^Computations!D1039","v":450000.00000000035},{"$f":"Computations!$J$17+Computations!$I$17*LN(Computations!D1039)","v":450000},{"$f":"Computations!$J$18+Computations!$I$18*Computations!D1039+Computations!$H$18*Computations!D1039^2","v":450000},{"$f":"Computations!$J$19+Computations!$I$19*Computations!D1039+Computations!$H$19*Computations!D1039^2+Computations!$G$19*Computations!D1039^3","v":450000}]
[986,0.29855823258373226,0.29885007984066875,0.29870415621220048,0.99987368418519273,2.1136756481743291E-6,4482.9494238447423,450000,{"$f":"G1040-H1040/User_entry!$E$18","v":2982.9494238447423},2982.9494238447423,null,{"$f":"HLOOKUP(User_entry!$B$56,Computations!$N$54:$R$1054,Computations!A1040+1,FALSE)","v":4482.9494238447423},{"$f":"HLOOKUP(User_entry!$E$56,Computations!$S$54:$W$1054,Computations!A1040+1,FALSE)","v":450000},{"$f":"Computations!$F$15+Computations!$E$15*D1040","v":4482.9494238447423},{"$f":"EXP(Computations!$F$16)*EXP(Computations!$E$16)^Computations!D1040","v":6940.2828473914396},{"$f":"Computations!$F$17+Computations!$E$17*LN(Computations!D1040)","v":3506.4408312467212},{"$f":"Computations!$F$18+Computations!$E$18*Computations!D1040+Computations!$D$18*Computations!D1040^2","v":3407.8251565465071},{"$f":"Computations!$F$19+Computations!$E$19*Computations!D1040+Computations!$D$19*Computations!D1040^2+Computations!$C$19*Computations!D1040^3","v":3407.8251565465071},{"$f":"Computations!$J$15+Computations!$I$15*D1040","v":450000},{"$f":"EXP(Computations!$J$16)*EXP(Computations!$I$16)^Computations!D1040","v":450000.00000000035},{"$f":"Computations!$J$17+Computations!$I$17*LN(Computations!D1040)","v":450000},{"$f":"Computations!$J$18+Computations!$I$18*Computations!D1040+Computations!$H$18*Computations!D1040^2","v":450000},{"$f":"Computations!$J$19+Computations!$I$19*Computations!D1040+Computations!$H$19*Computations!D1040^2+Computations!$G$19*Computations!D1040^3","v":450000}]
[987,0.29885007984066875,0.29914192709760523,0.29899600346913702,0.99987576459748873,2.0804122959905413E-6,4486.7895193307495,450000,{"$f":"G1041-H1041/User_entry!$E$18","v":2986.7895193307495},2986.7895193307495,null,{"$f":"HLOOKUP(User_entry!$B$56,Computations!$N$54:$R$1054,Computations!A1041+1,FALSE)","v":4486.7895193307495},{"$f":"HLOOKUP(User_entry!$E$56,Computations!$S$54:$W$1054,Computations!A1041+1,FALSE)","v":450000},{"$f":"Computations!$F$15+Computations!$E$15*D1041","v":4486.7895193307495},{"$f":"EXP(Computations!$F$16)*EXP(Computations!$E$16)^Computations!D1041","v":6954.6819429197549},{"$f":"Computations!$F$17+Computations!$E$17*LN(Computations!D1041)","v":3507.6815023778531},{"$f":"Computations!$F$18+Computations!$E$18*Computations!D1041+Computations!$D$18*Computations!D1041^2","v":3407.7419243064719},{"$f":"Computations!$F$19+Computations!$E$19*Computations!D1041+Computations!$D$19*Computations!D1041^2+Computations!$C$19*Computations!D1041^3","v":3407.7419243064719},{"$f":"Computations!$J$15+Computations!$I$15*D1041","v":450000},{"$f":"EXP(Computations!$J$16)*EXP(Computations!$I$16)^Computations!D1041","v":450000.00000000035},{"$f":"Computations!$J$17+Computations!$I$17*LN(Computations!D1041)","v":450000},{"$f":"Computations!$J$18+Computations!$I$18*Computations!D1041+Computations!$H$18*Computations!D1041^2","v":450000},{"$f":"Computations!$J$19+Computations!$I$19*Computations!D1041+Computations!$H$19*Computations!D1041^2+Computations!$G$19*Computations!D1041^3","v":450000}]
[988,0.29914192709760523,0.29943377435454172,0.29928785072607345,0.99987781224378347,2.0476462947449647E-6,4490.6296148167548,450000,{"$f":"G1042-H1042/User_entry!$E$18","v":2990.6296148167548},2990.6296148167548,null,{"$f":"HLOOKUP(User_entry!$B$56,Computations!$N$54:$R$1054,Computations!A1042+1,FALSE)","v":4490.6296148167548},{"$f":"HLOOKUP(User_entry!$E$56,Computations!$S$54:$W$1054,Computations!A1042+1,FALSE)","v":450000},{"$f":"Computations!$F$15+Computations!$E$15*D1042","v":4490.6296148167548},{"$f":"EXP(Computations!$F$16)*EXP(Computations!$E$16)^Computations!D1042","v":6969.1109124397453},{"$f":"Computations!$F$17+Computations!$E$17*LN(Computations!D1042)","v":3508.9209630918176},{"$f":"Computations!$F$18+Computations!$E$18*Computations!D1042+Computations!$D$18*Computations!D1042^2","v":3407.6523828204072},{"$f":"Computations!$F$19+Computations!$E$19*Computations!D1042+Computations!$D$19*Computations!D1042^2+Computations!$C$19*Computations!D1042^3","v":3407.6523828204072},{"$f":"Computations!$J$15+Computations!$I$15*D1042","v":450000},{"$f":"EXP(Computations!$J$16)*EXP(Computations!$I$16)^Computations!D1042","v":450000.00000000035},{"$f":"Computations!$J$17+Computations!$I$17*LN(Computations!D1042)","v":450000},{"$f":"Computations!$J$18+Computations!$I$18*Computations!D1042+Computations!$H$18*Computations!D1042^2","v":450000},{"$f":"Computations!$J$19+Computations!$I$19*Computations!D1042+Computations!$H$19*Computations!D1042^2+Computations!$G$19*Computations!D1042^3","v":450000}]
[989,0.29943377435454172,0.2997256216114782,0.29957969798300998,0.99987982761442695,2.0153706434822283E-6,4494.469710302762,450000,{"$f":"G1043-H1043/User_entry!$E$18","v":2994.469710302762},2994.469710302762,null,{"$f":"HLOOKUP(User_entry!$B$56,Computations!$N$54:$R$1054,Computations!A1043+1,FALSE)","v":4494.469710302762},{"$f":"HLOOKUP(User_entry!$E$56,Computations!$S$54:$W$1054,Computations!A1043+1,FALSE)","v":450000},{"$f":"Computations!$F$15+Computations!$E$15*D1043","v":4494.469710302762},{"$f":"EXP(Computations!$F$16)*EXP(Computations!$E$16)^Computations!D1043","v":6983.5698179313795},{"$f":"Computations!$F$17+Computations!$E$17*LN(Computations!D1043)","v":3510.1592157481164},{"$f":"Computations!$F$18+Computations!$E$18*Computations!D1043+Computations!$D$18*Computations!D1043^2","v":3407.5565320883143},{"$f":"Computations!$F$19+Computations!$E$19*Computations!D1043+Computations!$D$19*Computations!D1043^2+Computations!$C$19*Computations!D1043^3","v":3407.5565320883143},{"$f":"Computations!$J$15+Computations!$I$15*D1043","v":450000},{"$f":"EXP(Computations!$J$16)*EXP(Computations!$I$16)^Computations!D1043","v":450000.00000000035},{"$f":"Computations!$J$17+Computations!$I$17*LN(Computations!D1043)","v":450000},{"$f":"Computations!$J$18+Computations!$I$18*Computations!D1043+Computations!$H$18*Computations!D1043^2","v":450000},{"$f":"Computations!$J$19+Computations!$I$19*Computations!D1043+Computations!$H$19*Computations!D1043^2+Computations!$G$19*Computations!D1043^3","v":450000}]
[990,0.2997256216114782,0.30001746886841468,0.29987154523994641,0.99988181119285968,1.9835784327293382E-6,4498.3098057887673,450000,{"$f":"G1044-H1044/User_entry!$E$18","v":2998.3098057887673},2998.3098057887673,null,{"$f":"HLOOKUP(User_entry!$B$56,Computations!$N$54:$R$1054,Computations!A1044+1,FALSE)","v":4498.3098057887673},{"$f":"HLOOKUP(User_entry!$E$56,Computations!$S$54:$W$1054,Computations!A1044+1,FALSE)","v":450000},{"$f":"Computations!$F$15+Computations!$E$15*D1044","v":4498.3098057887673},{"$f":"EXP(Computations!$F$16)*EXP(Computations!$E$16)^Computations!D1044","v":6998.0587215032019},{"$f":"Computations!$F$17+Computations!$E$17*LN(Computations!D1044)","v":3511.3962626993552},{"$f":"Computations!$F$18+Computations!$E$18*Computations!D1044+Computations!$D$18*Computations!D1044^2","v":3407.4543721101936},{"$f":"Computations!$F$19+Computations!$E$19*Computations!D1044+Computations!$D$19*Computations!D1044^2+Computations!$C$19*Computations!D1044^3","v":3407.4543721101936},{"$f":"Computations!$J$15+Computations!$I$15*D1044","v":450000},{"$f":"EXP(Computations!$J$16)*EXP(Computations!$I$16)^Computations!D1044","v":450000.00000000035},{"$f":"Computations!$J$17+Computations!$I$17*LN(Computations!D1044)","v":450000},{"$f":"Computations!$J$18+Computations!$I$18*Computations!D1044+Computations!$H$18*Computations!D1044^2","v":450000},{"$f":"Computations!$J$19+Computations!$I$19*Computations!D1044+Computations!$H$19*Computations!D1044^2+Computations!$G$19*Computations!D1044^3","v":450000}]
[991,0.30001746886841468,0.30030931612535117,0.30016339249688295,0.99988376345570296,1.9522628432744327E-6,4502.1499012747745,450000,{"$f":"G1045-H1045/User_entry!$E$18","v":3002.1499012747745},3002.1499012747745,null,{"$f":"HLOOKUP(User_entry!$B$56,Computations!$N$54:$R$1054,Computations!A1045+1,FALSE)","v":4502.1499012747745},{"$f":"HLOOKUP(User_entry!$E$56,Computations!$S$54:$W$1054,Computations!A1045+1,FALSE)","v":450000},{"$f":"Computations!$F$15+Computations!$E$15*D1045","v":4502.1499012747745},{"$f":"EXP(Computations!$F$16)*EXP(Computations!$E$16)^Computations!D1045","v":7012.5776853926282},{"$f":"Computations!$F$17+Computations!$E$17*LN(Computations!D1045)","v":3512.6321062912784},{"$f":"Computations!$F$18+Computations!$E$18*Computations!D1045+Computations!$D$18*Computations!D1045^2","v":3407.3459028860448},{"$f":"Computations!$F$19+Computations!$E$19*Computations!D1045+Computations!$D$19*Computations!D1045^2+Computations!$C$19*Computations!D1045^3","v":3407.3459028860448},{"$f":"Computations!$J$15+Computations!$I$15*D1045","v":450000},{"$f":"EXP(Computations!$J$16)*EXP(Computations!$I$16)^Computations!D1045","v":450000.00000000035},{"$f":"Computations!$J$17+Computations!$I$17*LN(Computations!D1045)","v":450000},{"$f":"Computations!$J$18+Computations!$I$18*Computations!D1045+Computations!$H$18*Computations!D1045^2","v":450000},{"$f":"Computations!$J$19+Computations!$I$19*Computations!D1045+Computations!$H$19*Computations!D1045^2+Computations!$G$19*Computations!D1045^3","v":450000}]
[992,0.30030931612535117,0.30060116338228765,0.30045523975381938,0.99988568487284835,1.9214171453896256E-6,4505.9899967607798,450000,{"$f":"G1046-H1046/User_entry!$E$18","v":3005.9899967607798},3005.9899967607798,null,{"$f":"HLOOKUP(User_entry!$B$56,Computations!$N$54:$R$1054,Computations!A1046+1,FALSE)","v":4505.9899967607798},{"$f":"HLOOKUP(User_entry!$E$56,Computations!$S$54:$W$1054,Computations!A1046+1,FALSE)","v":450000},{"$f":"Computations!$F$15+Computations!$E$15*D1046","v":4505.9899967607798},{"$f":"EXP(Computations!$F$16)*EXP(Computations!$E$16)^Computations!D1046","v":7027.1267719661819},{"$f":"Computations!$F$17+Computations!$E$17*LN(Computations!D1046)","v":3513.8667488627866},{"$f":"Computations!$F$18+Computations!$E$18*Computations!D1046+Computations!$D$18*Computations!D1046^2","v":3407.2311244158677},{"$f":"Computations!$F$19+Computations!$E$19*Computations!D1046+Computations!$D$19*Computations!D1046^2+Computations!$C$19*Computations!D1046^3","v":3407.2311244158677},{"$f":"Computations!$J$15+Computations!$I$15*D1046","v":450000},{"$f":"EXP(Computations!$J$16)*EXP(Computations!$I$16)^Computations!D1046","v":450000.00000000035},{"$f":"Computations!$J$17+Computations!$I$17*LN(Computations!D1046)","v":450000},{"$f":"Computations!$J$18+Computations!$I$18*Computations!D1046+Computations!$H$18*Computations!D1046^2","v":450000},{"$f":"Computations!$J$19+Computations!$I$19*Computations!D1046+Computations!$H$19*Computations!D1046^2+Computations!$G$19*Computations!D1046^3","v":450000}]
[993,0.30060116338228765,0.30089301063922413,0.30074708701075592,0.99988757590754607,1.8910346977207837E-6,4509.830092246787,450000,{"$f":"G1047-H1047/User_entry!$E$18","v":3009.830092246787},3009.830092246787,null,{"$f":"HLOOKUP(User_entry!$B$56,Computations!$N$54:$R$1054,Computations!A1047+1,FALSE)","v":4509.830092246787},{"$f":"HLOOKUP(User_entry!$E$56,Computations!$S$54:$W$1054,Computations!A1047+1,FALSE)","v":450000},{"$f":"Computations!$F$15+Computations!$E$15*D1047","v":4509.830092246787},{"$f":"EXP(Computations!$F$16)*EXP(Computations!$E$16)^Computations!D1047","v":7041.7060437198033},{"$f":"Computations!$F$17+Computations!$E$17*LN(Computations!D1047)","v":3515.1001927459729},{"$f":"Computations!$F$18+Computations!$E$18*Computations!D1047+Computations!$D$18*Computations!D1047^2","v":3407.110036699662},{"$f":"Computations!$F$19+Computations!$E$19*Computations!D1047+Computations!$D$19*Computations!D1047^2+Computations!$C$19*Computations!D1047^3","v":3407.110036699662},{"$f":"Computations!$J$15+Computations!$I$15*D1047","v":450000},{"$f":"EXP(Computations!$J$16)*EXP(Computations!$I$16)^Computations!D1047","v":450000.00000000035},{"$f":"Computations!$J$17+Computations!$I$17*LN(Computations!D1047)","v":450000},{"$f":"Computations!$J$18+Computations!$I$18*Computations!D1047+Computations!$H$18*Computations!D1047^2","v":450000},{"$f":"Computations!$J$19+Computations!$I$19*Computations!D1047+Computations!$H$19*Computations!D1047^2+Computations!$G$19*Computations!D1047^3","v":450000}]
[994,0.30089301063922413,0.30118485789616062,0.30103893426769235,0.99988943701649169,1.8611089456221919E-6,4513.6701877327932,450000,{"$f":"G1048-H1048/User_entry!$E$18","v":3013.6701877327932},3013.6701877327932,null,{"$f":"HLOOKUP(User_entry!$B$56,Computations!$N$54:$R$1054,Computations!A1048+1,FALSE)","v":4513.6701877327932},{"$f":"HLOOKUP(User_entry!$E$56,Computations!$S$54:$W$1054,Computations!A1048+1,FALSE)","v":450000},{"$f":"Computations!$F$15+Computations!$E$15*D1048","v":4513.6701877327932},{"$f":"EXP(Computations!$F$16)*EXP(Computations!$E$16)^Computations!D1048","v":7056.3155632790713},{"$f":"Computations!$F$17+Computations!$E$17*LN(Computations!D1048)","v":3516.3324402661401},{"$f":"Computations!$F$18+Computations!$E$18*Computations!D1048+Computations!$D$18*Computations!D1048^2","v":3406.9826397374281},{"$f":"Computations!$F$19+Computations!$E$19*Computations!D1048+Computations!$D$19*Computations!D1048^2+Computations!$C$19*Computations!D1048^3","v":3406.9826397374281},{"$f":"Computations!$J$15+Computations!$I$15*D1048","v":450000},{"$f":"EXP(Computations!$J$16)*EXP(Computations!$I$16)^Computations!D1048","v":450000.00000000035},{"$f":"Computations!$J$17+Computations!$I$17*LN(Computations!D1048)","v":450000},{"$f":"Computations!$J$18+Computations!$I$18*Computations!D1048+Computations!$H$18*Computations!D1048^2","v":450000},{"$f":"Computations!$J$19+Computations!$I$19*Computations!D1048+Computations!$H$19*Computations!D1048^2+Computations!$G$19*Computations!D1048^3","v":450000}]
[995,0.30118485789616062,0.3014767051530971,0.30133078152462889,0.99989126864991296,1.8316334212675756E-6,4517.5102832188004,450000,{"$f":"G1049-H1049/User_entry!$E$18","v":3017.5102832188004},3017.5102832188004,null,{"$f":"HLOOKUP(User_entry!$B$56,Computations!$N$54:$R$1054,Computations!A1049+1,FALSE)","v":4517.5102832188004},{"$f":"HLOOKUP(User_entry!$E$56,Computations!$S$54:$W$1054,Computations!A1049+1,FALSE)","v":450000},{"$f":"Computations!$F$15+Computations!$E$15*D1049","v":4517.5102832188004},{"$f":"EXP(Computations!$F$16)*EXP(Computations!$E$16)^Computations!D1049","v":7070.9553933995066},{"$f":"Computations!$F$17+Computations!$E$17*LN(Computations!D1049)","v":3517.5634937418345},{"$f":"Computations!$F$18+Computations!$E$18*Computations!D1049+Computations!$D$18*Computations!D1049^2","v":3406.8489335291661},{"$f":"Computations!$F$19+Computations!$E$19*Computations!D1049+Computations!$D$19*Computations!D1049^2+Computations!$C$19*Computations!D1049^3","v":3406.8489335291661},{"$f":"Computations!$J$15+Computations!$I$15*D1049","v":450000},{"$f":"EXP(Computations!$J$16)*EXP(Computations!$I$16)^Computations!D1049","v":450000.00000000035},{"$f":"Computations!$J$17+Computations!$I$17*LN(Computations!D1049)","v":450000},{"$f":"Computations!$J$18+Computations!$I$18*Computations!D1049+Computations!$H$18*Computations!D1049^2","v":450000},{"$f":"Computations!$J$19+Computations!$I$19*Computations!D1049+Computations!$H$19*Computations!D1049^2+Computations!$G$19*Computations!D1049^3","v":450000}]
[996,0.3014767051530971,0.30176855241003359,0.30162262878156532,0.99989307125165461,1.8026017416516993E-6,4521.3503787048057,450000,{"$f":"G1050-H1050/User_entry!$E$18","v":3021.3503787048057},3021.3503787048057,null,{"$f":"HLOOKUP(User_entry!$B$56,Computations!$N$54:$R$1054,Computations!A1050+1,FALSE)","v":4521.3503787048057},{"$f":"HLOOKUP(User_entry!$E$56,Computations!$S$54:$W$1054,Computations!A1050+1,FALSE)","v":450000},{"$f":"Computations!$F$15+Computations!$E$15*D1050","v":4521.3503787048057},{"$f":"EXP(Computations!$F$16)*EXP(Computations!$E$16)^Computations!D1050","v":7085.6255969668237},{"$f":"Computations!$F$17+Computations!$E$17*LN(Computations!D1050)","v":3518.7933554848678},{"$f":"Computations!$F$18+Computations!$E$18*Computations!D1050+Computations!$D$18*Computations!D1050^2","v":3406.7089180748767},{"$f":"Computations!$F$19+Computations!$E$19*Computations!D1050+Computations!$D$19*Computations!D1050^2+Computations!$C$19*Computations!D1050^3","v":3406.7089180748767},{"$f":"Computations!$J$15+Computations!$I$15*D1050","v":450000},{"$f":"EXP(Computations!$J$16)*EXP(Computations!$I$16)^Computations!D1050","v":450000.00000000035},{"$f":"Computations!$J$17+Computations!$I$17*LN(Computations!D1050)","v":450000},{"$f":"Computations!$J$18+Computations!$I$18*Computations!D1050+Computations!$H$18*Computations!D1050^2","v":450000},{"$f":"Computations!$J$19+Computations!$I$19*Computations!D1050+Computations!$H$19*Computations!D1050^2+Computations!$G$19*Computations!D1050^3","v":450000}]
[997,0.30176855241003359,0.30206039966697007,0.30191447603850186,0.99989484525926264,1.7740076080352551E-6,4525.1904741908129,450000,{"$f":"G1051-H1051/User_entry!$E$18","v":3025.1904741908129},3025.1904741908129,null,{"$f":"HLOOKUP(User_entry!$B$56,Computations!$N$54:$R$1054,Computations!A1051+1,FALSE)","v":4525.1904741908129},{"$f":"HLOOKUP(User_entry!$E$56,Computations!$S$54:$W$1054,Computations!A1051+1,FALSE)","v":450000},{"$f":"Computations!$F$15+Computations!$E$15*D1051","v":4525.1904741908129},{"$f":"EXP(Computations!$F$16)*EXP(Computations!$E$16)^Computations!D1051","v":7100.3262369972144},{"$f":"Computations!$F$17+Computations!$E$17*LN(Computations!D1051)","v":3520.0220278003444},{"$f":"Computations!$F$18+Computations!$E$18*Computations!D1051+Computations!$D$18*Computations!D1051^2","v":3406.5625933745578},{"$f":"Computations!$F$19+Computations!$E$19*Computations!D1051+Computations!$D$19*Computations!D1051^2+Computations!$C$19*Computations!D1051^3","v":3406.5625933745578},{"$f":"Computations!$J$15+Computations!$I$15*D1051","v":450000},{"$f":"EXP(Computations!$J$16)*EXP(Computations!$I$16)^Computations!D1051","v":450000.00000000035},{"$f":"Computations!$J$17+Computations!$I$17*LN(Computations!D1051)","v":450000},{"$f":"Computations!$J$18+Computations!$I$18*Computations!D1051+Computations!$H$18*Computations!D1051^2","v":450000},{"$f":"Computations!$J$19+Computations!$I$19*Computations!D1051+Computations!$H$19*Computations!D1051^2+Computations!$G$19*Computations!D1051^3","v":450000}]
[998,0.30206039966697007,0.30235224692390655,0.30220632329543828,0.99989659110406715,1.7458448045015729E-6,4529.0305696768182,450000,{"$f":"G1052-H1052/User_entry!$E$18","v":3029.0305696768182},3029.0305696768182,null,{"$f":"HLOOKUP(User_entry!$B$56,Computations!$N$54:$R$1054,Computations!A1052+1,FALSE)","v":4529.0305696768182},{"$f":"HLOOKUP(User_entry!$E$56,Computations!$S$54:$W$1054,Computations!A1052+1,FALSE)","v":450000},{"$f":"Computations!$F$15+Computations!$E$15*D1052","v":4529.0305696768182},{"$f":"EXP(Computations!$F$16)*EXP(Computations!$E$16)^Computations!D1052","v":7115.0573766375983},{"$f":"Computations!$F$17+Computations!$E$17*LN(Computations!D1052)","v":3521.2495129866857},{"$f":"Computations!$F$18+Computations!$E$18*Computations!D1052+Computations!$D$18*Computations!D1052^2","v":3406.4099594282111},{"$f":"Computations!$F$19+Computations!$E$19*Computations!D1052+Computations!$D$19*Computations!D1052^2+Computations!$C$19*Computations!D1052^3","v":3406.4099594282111},{"$f":"Computations!$J$15+Computations!$I$15*D1052","v":450000},{"$f":"EXP(Computations!$J$16)*EXP(Computations!$I$16)^Computations!D1052","v":450000.00000000035},{"$f":"Computations!$J$17+Computations!$I$17*LN(Computations!D1052)","v":450000},{"$f":"Computations!$J$18+Computations!$I$18*Computations!D1052+Computations!$H$18*Computations!D1052^2","v":450000},{"$f":"Computations!$J$19+Computations!$I$19*Computations!D1052+Computations!$H$19*Computations!D1052^2+Computations!$G$19*Computations!D1052^3","v":450000}]
[999,0.30235224692390655,0.30264409418084304,0.30249817055237482,0.99989830921126477,1.7181071976235529E-6,4532.8706651628254,450000,{"$f":"G1053-H1053/User_entry!$E$18","v":3032.8706651628254},3032.8706651628254,null,{"$f":"HLOOKUP(User_entry!$B$56,Computations!$N$54:$R$1054,Computations!A1053+1,FALSE)","v":4532.8706651628254},{"$f":"HLOOKUP(User_entry!$E$56,Computations!$S$54:$W$1054,Computations!A1053+1,FALSE)","v":450000},{"$f":"Computations!$F$15+Computations!$E$15*D1053","v":4532.8706651628254},{"$f":"EXP(Computations!$F$16)*EXP(Computations!$E$16)^Computations!D1053","v":7129.8190791659254},{"$f":"Computations!$F$17+Computations!$E$17*LN(Computations!D1053)","v":3522.4758133356604},{"$f":"Computations!$F$18+Computations!$E$18*Computations!D1053+Computations!$D$18*Computations!D1053^2","v":3406.2510162358358},{"$f":"Computations!$F$19+Computations!$E$19*Computations!D1053+Computations!$D$19*Computations!D1053^2+Computations!$C$19*Computations!D1053^3","v":3406.2510162358358},{"$f":"Computations!$J$15+Computations!$I$15*D1053","v":450000},{"$f":"EXP(Computations!$J$16)*EXP(Computations!$I$16)^Computations!D1053","v":450000.00000000035},{"$f":"Computations!$J$17+Computations!$I$17*LN(Computations!D1053)","v":450000},{"$f":"Computations!$J$18+Computations!$I$18*Computations!D1053+Computations!$H$18*Computations!D1053^2","v":450000},{"$f":"Computations!$J$19+Computations!$I$19*Computations!D1053+Computations!$H$19*Computations!D1053^2+Computations!$G$19*Computations!D1053^3","v":450000}]
[1000,0.30264409418084304,0.30293594143777952,0.30279001780931125,0.99990000000000001,{"$f":"E1054-E1053","v":1.6907887352424211E-6},{"$f":"L1054","v":4536.7107606488307},450000,{"$f":"G1054-H1054/User_entry!$E$18","v":3036.7107606488307},3036.7107606488307,null,{"$f":"HLOOKUP(User_entry!$B$56,Computations!$N$54:$R$1054,Computations!A1054+1,FALSE)","v":4536.7107606488307},{"$f":"HLOOKUP(User_entry!$E$56,Computations!$S$54:$W$1054,Computations!A1054+1,FALSE)","v":450000},{"$f":"Computations!$F$15+Computations!$E$15*D1054","v":4536.7107606488307},{"$f":"EXP(Computations!$F$16)*EXP(Computations!$E$16)^Computations!D1054","v":7144.6114079914105},{"$f":"Computations!$F$17+Computations!$E$17*LN(Computations!D1054)","v":3523.7009311324045},{"$f":"Computations!$F$18+Computations!$E$18*Computations!D1054+Computations!$D$18*Computations!D1054^2","v":3406.0857637974332},{"$f":"Computations!$F$19+Computations!$E$19*Computations!D1054+Computations!$D$19*Computations!D1054^2+Computations!$C$19*Computations!D1054^3","v":3406.0857637974332},{"$f":"Computations!$J$15+Computations!$I$15*D1054","v":450000},{"$f":"EXP(Computations!$J$16)*EXP(Computations!$I$16)^Computations!D1054","v":450000.00000000035},{"$f":"Computations!$J$17+Computations!$I$17*LN(Computations!D1054)","v":450000},{"$f":"Computations!$J$18+Computations!$I$18*Computations!D1054+Computations!$H$18*Computations!D1054^2","v":450000},{"$f":"Computations!$J$19+Computations!$I$19*Computations!D1054+Computations!$H$19*Computations!D1054^2+Computations!$G$19*Computations!D1054^3","v":450000}]
[]
["Aggregated data for display on results worksheet"]
[null,"Interval",{"$f":"(D10-D9)/60","v":4.8641209489414354E-3}]
[{"$f":"A53","v":"Index"},{"$f":"B53","v":"Lower bound interval"},"Upper bound interval","Midpoint","Cumulative density","Density within interval","Predicted DALYs averted","Predicted costs incurred","Net DALYs | endpoint",{"$f":"J53","v":"Net DALYs with research"},null,{"$f":"L53","v":"Selected models"},null,"Outcomes predicted by different functions",null,null,null,null,"Costs predicted by different functions"]
[null,null,null,null,null,null,null,null,null,null,null,"Outcomes","Costs",{"$f":"N54","v":"Linear"},{"$f":"O54","v":"Exponential"},"Logarithmic","Polynomial - quadratic","Polynomial - cubic","Linear","Exponential","Logarithmic","Polynomial - quadratic","Polynomial - cubic"]
[1,{"$f":"D9","v":1.1088684501295472E-2},{"$f":"B1060+$C$1057","v":1.5952805450236907E-2},{"$f":"AVERAGE(B1060:C1060)","v":1.352074497576619E-2},{"$f":"IF($D$3=\"Beta\",_xlfn.BETA.DIST(C1060,$D$4,$D$5,TRUE),IF($D$3=\"Gamma\",_xlfn.GAMMA.DIST(C1060,$D$4,$D$5,TRUE),IF($D$3=\"Lognorm\",_xlfn.LOGNORM.DIST(C1060,$D$4,$D$5,TRUE),_xlfn.NORM.DIST(C1060,$D$4,$D$5,TRUE))))","v":6.1065824112286487E-4},{"$f":"E1060-E1059","v":6.1065824112286487E-4},{"$f":"L1060","v":730.53611810218717},{"$f":"M1060","v":450000},{"$f":"G1060-H1060/User_entry!$E$18","v":-769.46388189781283},{"$f":"MAX(I1060,0)","v":0},null,{"$f":"HLOOKUP(User_entry!$B$56,$N$1059:$R$1119,A1060+1,FALSE)","v":730.53611810218717},{"$f":"HLOOKUP(User_entry!$E$56,$S$1059:$W$1119,A1060+1,FALSE)","v":450000},{"$f":"Computations!$F$15+Computations!$E$15*D1060","v":730.53611810218717},{"$f":"EXP(Computations!$F$16)*EXP(Computations!$E$16)^Computations!D1060","v":915.8545144771349},{"$f":"Computations!$F$17+Computations!$E$17*LN(Computations!D1060)","v":-425.86343065467463},{"$f":"Computations!$F$18+Computations!$E$18*Computations!D1060+Computations!$D$18*Computations!D1060^2","v":473.86774040749594},{"$f":"Computations!$F$19+Computations!$E$19*Computations!D1060+Computations!$D$19*Computations!D1060^2+Computations!$C$19*Computations!D1060^3","v":473.86774040749594},{"$f":"Computations!$J$15+Computations!$I$15*D1060","v":450000},{"$f":"EXP(Computations!$J$16)*EXP(Computations!$I$16)^Computations!D1060","v":450000.00000000035},{"$f":"Computations!$J$17+Computations!$I$17*LN(Computations!D1060)","v":450000},{"$f":"Computations!$J$18+Computations!$I$18*Computations!D1060+Computations!$H$18*Computations!D1060^2","v":450000},{"$f":"Computations!$J$19+Computations!$I$19*Computations!D1060+Computations!$H$19*Computations!D1060^2+Computations!$G$19*Computations!D1060^3","v":450000}]
[2,{"$f":"C1060","v":1.5952805450236907E-2},{"$f":"B1061+$C$1057","v":2.0816926399178343E-2},{"$f":"AVERAGE(B1061:C1061)","v":1.8384865924707623E-2},2.1756818474396662E-3,{"$f":"E1061-E1060","v":1.5650236063168015E-3},{"$f":"L1061","v":794.53770953562707},{"$f":"M1061","v":450000},{"$f":"G1061-H1061/User_entry!$E$18","v":-705.46229046437293},0,null,{"$f":"HLOOKUP(User_entry!$B$56,$N$1059:$R$1119,A1061+1,FALSE)","v":794.53770953562707},{"$f":"HLOOKUP(User_entry!$E$56,$S$1059:$W$1119,A1061+1,FALSE)","v":450000},{"$f":"Computations!$F$15+Computations!$E$15*D1061","v":794.53770953562707},{"$f":"EXP(Computations!$F$16)*EXP(Computations!$E$16)^Computations!D1061","v":948.04337504560942},{"$f":"Computations!$F$17+Computations!$E$17*LN(Computations!D1061)","v":-35.45363138886205},{"$f":"Computations!$F$18+Computations!$E$18*Computations!D1061+Computations!$D$18*Computations!D1061^2","v":574.40991112992833},{"$f":"Computations!$F$19+Computations!$E$19*Computations!D1061+Computations!$D$19*Computations!D1061^2+Computations!$C$19*Computations!D1061^3","v":574.40991112992833},{"$f":"Computations!$J$15+Computations!$I$15*D1061","v":450000},{"$f":"EXP(Computations!$J$16)*EXP(Computations!$I$16)^Computations!D1061","v":450000.00000000035},{"$f":"Computations!$J$17+Computations!$I$17*LN(Computations!D1061)","v":450000},{"$f":"Computations!$J$18+Computations!$I$18*Computations!D1061+Computations!$H$18*Computations!D1061^2","v":450000},{"$f":"Computations!$J$19+Computations!$I$19*Computations!D1061+Computations!$H$19*Computations!D1061^2+Computations!$G$19*Computations!D1061^3","v":450000}]
[3,{"$f":"C1061","v":2.0816926399178343E-2},{"$f":"B1062+$C$1057","v":2.5681047348119778E-2},2.3248986873649062E-2,5.6863935207771034E-3,3.5107116733374371E-3,858.53930096906709,450000,{"$f":"G1062-H1062/User_entry!$E$18","v":-641.46069903093291},0,null,{"$f":"HLOOKUP(User_entry!$B$56,$N$1059:$R$1119,A1062+1,FALSE)","v":858.53930096906709},{"$f":"HLOOKUP(User_entry!$E$56,$S$1059:$W$1119,A1062+1,FALSE)","v":450000},{"$f":"Computations!$F$15+Computations!$E$15*D1062","v":858.53930096906709},{"$f":"EXP(Computations!$F$16)*EXP(Computations!$E$16)^Computations!D1062","v":981.36355366549753},{"$f":"Computations!$F$17+Computations!$E$17*LN(Computations!D1062)","v":262.76166053825273},{"$f":"Computations!$F$18+Computations!$E$18*Computations!D1062+Computations!$D$18*Computations!D1062^2","v":673.19951351118061},{"$f":"Computations!$F$19+Computations!$E$19*Computations!D1062+Computations!$D$19*Computations!D1062^2+Computations!$C$19*Computations!D1062^3","v":673.19951351118061},{"$f":"Computations!$J$15+Computations!$I$15*D1062","v":450000},{"$f":"EXP(Computations!$J$16)*EXP(Computations!$I$16)^Computations!D1062","v":450000.00000000035},{"$f":"Computations!$J$17+Computations!$I$17*LN(Computations!D1062)","v":450000},{"$f":"Computations!$J$18+Computations!$I$18*Computations!D1062+Computations!$H$18*Computations!D1062^2","v":450000},{"$f":"Computations!$J$19+Computations!$I$19*Computations!D1062+Computations!$H$19*Computations!D1062^2+Computations!$G$19*Computations!D1062^3","v":450000}]
[4,2.5681047348119778E-2,{"$f":"B1063+$C$1057","v":3.0545168297061213E-2},2.8113107822590494E-2,1.2150923516566202E-2,{"$f":"E1063-E1062","v":6.4645299957890989E-3},922.54089240250687,450000,{"$f":"G1063-H1063/User_entry!$E$18","v":-577.45910759749313},0,null,{"$f":"HLOOKUP(User_entry!$B$56,$N$1059:$R$1119,A1063+1,FALSE)","v":922.54089240250687},{"$f":"HLOOKUP(User_entry!$E$56,$S$1059:$W$1119,A1063+1,FALSE)","v":450000},{"$f":"Computations!$F$15+Computations!$E$15*D1063","v":922.54089240250687},{"$f":"EXP(Computations!$F$16)*EXP(Computations!$E$16)^Computations!D1063","v":1015.8548119347823},{"$f":"Computations!$F$17+Computations!$E$17*LN(Computations!D1063)","v":504.11285029304418},{"$f":"Computations!$F$18+Computations!$E$18*Computations!D1063+Computations!$D$18*Computations!D1063^2","v":770.23654755125278},{"$f":"Computations!$F$19+Computations!$E$19*Computations!D1063+Computations!$D$19*Computations!D1063^2+Computations!$C$19*Computations!D1063^3","v":770.23654755125278},{"$f":"Computations!$J$15+Computations!$I$15*D1063","v":450000},{"$f":"EXP(Computations!$J$16)*EXP(Computations!$I$16)^Computations!D1063","v":450000.00000000035},{"$f":"Computations!$J$17+Computations!$I$17*LN(Computations!D1063)","v":450000},{"$f":"Computations!$J$18+Computations!$I$18*Computations!D1063+Computations!$H$18*Computations!D1063^2","v":450000},{"$f":"Computations!$J$19+Computations!$I$19*Computations!D1063+Computations!$H$19*Computations!D1063^2+Computations!$G$19*Computations!D1063^3","v":450000}]
[5,3.0545168297061213E-2,3.5409289246002645E-2,{"$f":"AVERAGE(B1064:C1064)","v":3.2977228771531933E-2},2.2541006005222824E-2,1.0390082488656622E-2,986.54248383594688,450000,{"$f":"G1064-H1064/User_entry!$E$18","v":-513.45751616405312},0,null,{"$f":"HLOOKUP(User_entry!$B$56,$N$1059:$R$1119,A1064+1,FALSE)","v":986.54248383594688},{"$f":"HLOOKUP(User_entry!$E$56,$S$1059:$W$1119,A1064+1,FALSE)","v":450000},{"$f":"Computations!$F$15+Computations!$E$15*D1064","v":986.54248383594688},{"$f":"EXP(Computations!$F$16)*EXP(Computations!$E$16)^Computations!D1064","v":1051.5583089228937},{"$f":"Computations!$F$17+Computations!$E$17*LN(Computations!D1064)","v":706.85149169737451},{"$f":"Computations!$F$18+Computations!$E$18*Computations!D1064+Computations!$D$18*Computations!D1064^2","v":865.52101325014507},{"$f":"Computations!$F$19+Computations!$E$19*Computations!D1064+Computations!$D$19*Computations!D1064^2+Computations!$C$19*Computations!D1064^3","v":865.52101325014507},{"$f":"Computations!$J$15+Computations!$I$15*D1064","v":450000},{"$f":"EXP(Computations!$J$16)*EXP(Computations!$I$16)^Computations!D1064","v":450000.00000000035},{"$f":"Computations!$J$17+Computations!$I$17*LN(Computations!D1064)","v":450000},{"$f":"Computations!$J$18+Computations!$I$18*Computations!D1064+Computations!$H$18*Computations!D1064^2","v":450000},{"$f":"Computations!$J$19+Computations!$I$19*Computations!D1064+Computations!$H$19*Computations!D1064^2+Computations!$G$19*Computations!D1064^3","v":450000}]
[6,3.5409289246002645E-2,4.0273410194944084E-2,3.7841349720473365E-2,3.7660205075659654E-2,1.511919907043683E-2,1050.5440752693867,450000,{"$f":"G1065-H1065/User_entry!$E$18","v":-449.45592473061333},0,null,{"$f":"HLOOKUP(User_entry!$B$56,$N$1059:$R$1119,A1065+1,FALSE)","v":1050.5440752693867},{"$f":"HLOOKUP(User_entry!$E$56,$S$1059:$W$1119,A1065+1,FALSE)","v":450000},{"$f":"Computations!$F$15+Computations!$E$15*D1065","v":1050.5440752693867},{"$f":"EXP(Computations!$F$16)*EXP(Computations!$E$16)^Computations!D1065","v":1088.5166502866027},{"$f":"Computations!$F$17+Computations!$E$17*LN(Computations!D1065)","v":881.64523805294448},{"$f":"Computations!$F$18+Computations!$E$18*Computations!D1065+Computations!$D$18*Computations!D1065^2","v":959.05291060785703},{"$f":"Computations!$F$19+Computations!$E$19*Computations!D1065+Computations!$D$19*Computations!D1065^2+Computations!$C$19*Computations!D1065^3","v":959.05291060785703},{"$f":"Computations!$J$15+Computations!$I$15*D1065","v":450000},{"$f":"EXP(Computations!$J$16)*EXP(Computations!$I$16)^Computations!D1065","v":450000.00000000035},{"$f":"Computations!$J$17+Computations!$I$17*LN(Computations!D1065)","v":450000},{"$f":"Computations!$J$18+Computations!$I$18*Computations!D1065+Computations!$H$18*Computations!D1065^2","v":450000},{"$f":"Computations!$J$19+Computations!$I$19*Computations!D1065+Computations!$H$19*Computations!D1065^2+Computations!$G$19*Computations!D1065^3","v":450000}]
[7,4.0273410194944084E-2,4.5137531143885523E-2,4.2705470669414804E-2,5.8052840525552554E-2,2.03926354498929E-2,1114.5456667028266,450000,{"$f":"G1066-H1066/User_entry!$E$18","v":-385.45433329717343},0,null,{"$f":"HLOOKUP(User_entry!$B$56,$N$1059:$R$1119,A1066+1,FALSE)","v":1114.5456667028266},{"$f":"HLOOKUP(User_entry!$E$56,$S$1059:$W$1119,A1066+1,FALSE)","v":450000},{"$f":"Computations!$F$15+Computations!$E$15*D1066","v":1114.5456667028266},{"$f":"EXP(Computations!$F$16)*EXP(Computations!$E$16)^Computations!D1066","v":1126.7739391121556},{"$f":"Computations!$F$17+Computations!$E$17*LN(Computations!D1066)","v":1035.2727960103543},{"$f":"Computations!$F$18+Computations!$E$18*Computations!D1066+Computations!$D$18*Computations!D1066^2","v":1050.8322396243893},{"$f":"Computations!$F$19+Computations!$E$19*Computations!D1066+Computations!$D$19*Computations!D1066^2+Computations!$C$19*Computations!D1066^3","v":1050.8322396243893},{"$f":"Computations!$J$15+Computations!$I$15*D1066","v":450000},{"$f":"EXP(Computations!$J$16)*EXP(Computations!$I$16)^Computations!D1066","v":450000.00000000035},{"$f":"Computations!$J$17+Computations!$I$17*LN(Computations!D1066)","v":450000},{"$f":"Computations!$J$18+Computations!$I$18*Computations!D1066+Computations!$H$18*Computations!D1066^2","v":450000},{"$f":"Computations!$J$19+Computations!$I$19*Computations!D1066+Computations!$H$19*Computations!D1066^2+Computations!$G$19*Computations!D1066^3","v":450000}]
[8,4.5137531143885523E-2,5.0001652092826962E-2,4.7569591618356243E-2,8.3958310239049469E-2,2.5905469713496915E-2,1178.5472581362667,450000,{"$f":"G1067-H1067/User_entry!$E$18","v":-321.45274186373331},0,null,{"$f":"HLOOKUP(User_entry!$B$56,$N$1059:$R$1119,A1067+1,FALSE)","v":1178.5472581362667},{"$f":"HLOOKUP(User_entry!$E$56,$S$1059:$W$1119,A1067+1,FALSE)","v":450000},{"$f":"Computations!$F$15+Computations!$E$15*D1067","v":1178.5472581362667},{"$f":"EXP(Computations!$F$16)*EXP(Computations!$E$16)^Computations!D1067","v":1166.3758285443198},{"$f":"Computations!$F$17+Computations!$E$17*LN(Computations!D1067)","v":1172.3110366391224},{"$f":"Computations!$F$18+Computations!$E$18*Computations!D1067+Computations!$D$18*Computations!D1067^2","v":1140.8590002997412},{"$f":"Computations!$F$19+Computations!$E$19*Computations!D1067+Computations!$D$19*Computations!D1067^2+Computations!$C$19*Computations!D1067^3","v":1140.8590002997412},{"$f":"Computations!$J$15+Computations!$I$15*D1067","v":450000},{"$f":"EXP(Computations!$J$16)*EXP(Computations!$I$16)^Computations!D1067","v":450000.00000000035},{"$f":"Computations!$J$17+Computations!$I$17*LN(Computations!D1067)","v":450000},{"$f":"Computations!$J$18+Computations!$I$18*Computations!D1067+Computations!$H$18*Computations!D1067^2","v":450000},{"$f":"Computations!$J$19+Computations!$I$19*Computations!D1067+Computations!$H$19*Computations!D1067^2+Computations!$G$19*Computations!D1067^3","v":450000}]
[9,5.0001652092826962E-2,5.4865773041768401E-2,5.2433712567297681E-2,0.11530639185148252,3.1348081612433049E-2,1242.5488495697066,450000,{"$f":"G1068-H1068/User_entry!$E$18","v":-257.45115043029341},0,null,{"$f":"HLOOKUP(User_entry!$B$56,$N$1059:$R$1119,A1068+1,FALSE)","v":1242.5488495697066},{"$f":"HLOOKUP(User_entry!$E$56,$S$1059:$W$1119,A1068+1,FALSE)","v":450000},{"$f":"Computations!$F$15+Computations!$E$15*D1068","v":1242.5488495697066},{"$f":"EXP(Computations!$F$16)*EXP(Computations!$E$16)^Computations!D1068","v":1207.3695762651423},{"$f":"Computations!$F$17+Computations!$E$17*LN(Computations!D1068)","v":1295.996098891123},{"$f":"Computations!$F$18+Computations!$E$18*Computations!D1068+Computations!$D$18*Computations!D1068^2","v":1229.1331926339135},{"$f":"Computations!$F$19+Computations!$E$19*Computations!D1068+Computations!$D$19*Computations!D1068^2+Computations!$C$19*Computations!D1068^3","v":1229.1331926339135},{"$f":"Computations!$J$15+Computations!$I$15*D1068","v":450000},{"$f":"EXP(Computations!$J$16)*EXP(Computations!$I$16)^Computations!D1068","v":450000.00000000035},{"$f":"Computations!$J$17+Computations!$I$17*LN(Computations!D1068)","v":450000},{"$f":"Computations!$J$18+Computations!$I$18*Computations!D1068+Computations!$H$18*Computations!D1068^2","v":450000},{"$f":"Computations!$J$19+Computations!$I$19*Computations!D1068+Computations!$H$19*Computations!D1068^2+Computations!$G$19*Computations!D1068^3","v":450000}]
[10,{"$f":"C1068","v":5.4865773041768401E-2},{"$f":"B1069+$C$1057","v":5.972989399070984E-2},{"$f":"AVERAGE(B1069:C1069)","v":5.729783351623912E-2},{"$f":"IF($D$3=\"Beta\",_xlfn.BETA.DIST(C1069,$D$4,$D$5,TRUE),IF($D$3=\"Gamma\",_xlfn.GAMMA.DIST(C1069,$D$4,$D$5,TRUE),IF($D$3=\"Lognorm\",_xlfn.LOGNORM.DIST(C1069,$D$4,$D$5,TRUE),_xlfn.NORM.DIST(C1069,$D$4,$D$5,TRUE))))","v":0.15174447491780618},{"$f":"E1069-E1068","v":3.6438083066323665E-2},{"$f":"L1069","v":1306.5504410031467},{"$f":"M1069","v":450000},{"$f":"G1069-H1069/User_entry!$E$18","v":-193.44955899685328},{"$f":"MAX(I1069,0)","v":0},null,{"$f":"HLOOKUP(User_entry!$B$56,$N$1059:$R$1119,A1069+1,FALSE)","v":1306.5504410031467},{"$f":"HLOOKUP(User_entry!$E$56,$S$1059:$W$1119,A1069+1,FALSE)","v":450000},{"$f":"Computations!$F$15+Computations!$E$15*D1069","v":1306.5504410031467},{"$f":"EXP(Computations!$F$16)*EXP(Computations!$E$16)^Computations!D1069","v":1249.8041008874338},{"$f":"Computations!$F$17+Computations!$E$17*LN(Computations!D1069)","v":1408.7007813823307},{"$f":"Computations!$F$18+Computations!$E$18*Computations!D1069+Computations!$D$18*Computations!D1069^2","v":1315.6548166269051},{"$f":"Computations!$F$19+Computations!$E$19*Computations!D1069+Computations!$D$19*Computations!D1069^2+Computations!$C$19*Computations!D1069^3","v":1315.6548166269051},{"$f":"Computations!$J$15+Computations!$I$15*D1069","v":450000},{"$f":"EXP(Computations!$J$16)*EXP(Computations!$I$16)^Computations!D1069","v":450000.00000000035},{"$f":"Computations!$J$17+Computations!$I$17*LN(Computations!D1069)","v":450000},{"$f":"Computations!$J$18+Computations!$I$18*Computations!D1069+Computations!$H$18*Computations!D1069^2","v":450000},{"$f":"Computations!$J$19+Computations!$I$19*Computations!D1069+Computations!$H$19*Computations!D1069^2+Computations!$G$19*Computations!D1069^3","v":450000}]
[11,5.972989399070984E-2,6.4594014939651279E-2,6.2161954465180559E-2,0.19268622565555457,4.0941750737748389E-2,1370.5520324365866,450000,{"$f":"G1070-H1070/User_entry!$E$18","v":-129.44796756341339},0,null,{"$f":"HLOOKUP(User_entry!$B$56,$N$1059:$R$1119,A1070+1,FALSE)","v":1370.5520324365866},{"$f":"HLOOKUP(User_entry!$E$56,$S$1059:$W$1119,A1070+1,FALSE)","v":450000},{"$f":"Computations!$F$15+Computations!$E$15*D1070","v":1370.5520324365866},{"$f":"EXP(Computations!$F$16)*EXP(Computations!$E$16)^Computations!D1070","v":1293.7300403302727},{"$f":"Computations!$F$17+Computations!$E$17*LN(Computations!D1070)","v":1512.2167156722676},{"$f":"Computations!$F$18+Computations!$E$18*Computations!D1070+Computations!$D$18*Computations!D1070^2","v":1400.4238722787168},{"$f":"Computations!$F$19+Computations!$E$19*Computations!D1070+Computations!$D$19*Computations!D1070^2+Computations!$C$19*Computations!D1070^3","v":1400.4238722787168},{"$f":"Computations!$J$15+Computations!$I$15*D1070","v":450000},{"$f":"EXP(Computations!$J$16)*EXP(Computations!$I$16)^Computations!D1070","v":450000.00000000035},{"$f":"Computations!$J$17+Computations!$I$17*LN(Computations!D1070)","v":450000},{"$f":"Computations!$J$18+Computations!$I$18*Computations!D1070+Computations!$H$18*Computations!D1070^2","v":450000},{"$f":"Computations!$J$19+Computations!$I$19*Computations!D1070+Computations!$H$19*Computations!D1070^2+Computations!$G$19*Computations!D1070^3","v":450000}]
[12,6.4594014939651279E-2,6.9458135888592717E-2,6.7026075414122005E-2,0.23737173744370416,4.4685511788149584E-2,1434.5536238700265,450000,{"$f":"G1071-H1071/User_entry!$E$18","v":-65.446376129973487},0,null,{"$f":"HLOOKUP(User_entry!$B$56,$N$1059:$R$1119,A1071+1,FALSE)","v":1434.5536238700265},{"$f":"HLOOKUP(User_entry!$E$56,$S$1059:$W$1119,A1071+1,FALSE)","v":450000},{"$f":"Computations!$F$15+Computations!$E$15*D1071","v":1434.5536238700265},{"$f":"EXP(Computations!$F$16)*EXP(Computations!$E$16)^Computations!D1071","v":1339.1998122461896},{"$f":"Computations!$F$17+Computations!$E$17*LN(Computations!D1071)","v":1607.9299161019126},{"$f":"Computations!$F$18+Computations!$E$18*Computations!D1071+Computations!$D$18*Computations!D1071^2","v":1483.4403595893489},{"$f":"Computations!$F$19+Computations!$E$19*Computations!D1071+Computations!$D$19*Computations!D1071^2+Computations!$C$19*Computations!D1071^3","v":1483.4403595893489},{"$f":"Computations!$J$15+Computations!$I$15*D1071","v":450000},{"$f":"EXP(Computations!$J$16)*EXP(Computations!$I$16)^Computations!D1071","v":450000.00000000035},{"$f":"Computations!$J$17+Computations!$I$17*LN(Computations!D1071)","v":450000},{"$f":"Computations!$J$18+Computations!$I$18*Computations!D1071+Computations!$H$18*Computations!D1071^2","v":450000},{"$f":"Computations!$J$19+Computations!$I$19*Computations!D1071+Computations!$H$19*Computations!D1071^2+Computations!$G$19*Computations!D1071^3","v":450000}]
[13,6.9458135888592717E-2,7.4322256837534156E-2,7.189019636306343E-2,0.28493084843591904,4.7559110992214881E-2,1498.5552153034664,450000,{"$f":"G1072-H1072/User_entry!$E$18","v":-1.4447846965335884},0,null,{"$f":"HLOOKUP(User_entry!$B$56,$N$1059:$R$1119,A1072+1,FALSE)","v":1498.5552153034664},{"$f":"HLOOKUP(User_entry!$E$56,$S$1059:$W$1119,A1072+1,FALSE)","v":450000},{"$f":"Computations!$F$15+Computations!$E$15*D1072","v":1498.5552153034664},{"$f":"EXP(Computations!$F$16)*EXP(Computations!$E$16)^Computations!D1072","v":1386.2676765721408},{"$f":"Computations!$F$17+Computations!$E$17*LN(Computations!D1072)","v":1696.9346744781769},{"$f":"Computations!$F$18+Computations!$E$18*Computations!D1072+Computations!$D$18*Computations!D1072^2","v":1564.7042785588005},{"$f":"Computations!$F$19+Computations!$E$19*Computations!D1072+Computations!$D$19*Computations!D1072^2+Computations!$C$19*Computations!D1072^3","v":1564.7042785588005},{"$f":"Computations!$J$15+Computations!$I$15*D1072","v":450000},{"$f":"EXP(Computations!$J$16)*EXP(Computations!$I$16)^Computations!D1072","v":450000.00000000035},{"$f":"Computations!$J$17+Computations!$I$17*LN(Computations!D1072)","v":450000},{"$f":"Computations!$J$18+Computations!$I$18*Computations!D1072+Computations!$H$18*Computations!D1072^2","v":450000},{"$f":"Computations!$J$19+Computations!$I$19*Computations!D1072+Computations!$H$19*Computations!D1072^2+Computations!$G$19*Computations!D1072^3","v":450000}]
[14,7.4322256837534156E-2,7.9186377786475595E-2,7.6754317312004883E-2,0.33444336062162611,4.9512512185707069E-2,1562.5568067369065,450000,{"$f":"G1073-H1073/User_entry!$E$18","v":62.556806736906537},62.556806736906537,null,{"$f":"HLOOKUP(User_entry!$B$56,$N$1059:$R$1119,A1073+1,FALSE)","v":1562.5568067369065},{"$f":"HLOOKUP(User_entry!$E$56,$S$1059:$W$1119,A1073+1,FALSE)","v":450000},{"$f":"Computations!$F$15+Computations!$E$15*D1073","v":1562.5568067369065},{"$f":"EXP(Computations!$F$16)*EXP(Computations!$E$16)^Computations!D1073","v":1434.9898002789164},{"$f":"Computations!$F$17+Computations!$E$17*LN(Computations!D1073)","v":1780.1100875649531},{"$f":"Computations!$F$18+Computations!$E$18*Computations!D1073+Computations!$D$18*Computations!D1073^2","v":1644.2156291870724},{"$f":"Computations!$F$19+Computations!$E$19*Computations!D1073+Computations!$D$19*Computations!D1073^2+Computations!$C$19*Computations!D1073^3","v":1644.2156291870724},{"$f":"Computations!$J$15+Computations!$I$15*D1073","v":450000},{"$f":"EXP(Computations!$J$16)*EXP(Computations!$I$16)^Computations!D1073","v":450000.00000000035},{"$f":"Computations!$J$17+Computations!$I$17*LN(Computations!D1073)","v":450000},{"$f":"Computations!$J$18+Computations!$I$18*Computations!D1073+Computations!$H$18*Computations!D1073^2","v":450000},{"$f":"Computations!$J$19+Computations!$I$19*Computations!D1073+Computations!$H$19*Computations!D1073^2+Computations!$G$19*Computations!D1073^3","v":450000}]
[15,7.9186377786475595E-2,8.4050498735417034E-2,8.1618438260946308E-2,0.38499195249849283,5.0548591876866722E-2,1626.5583981703462,450000,{"$f":"G1074-H1074/User_entry!$E$18","v":126.55839817034621},126.55839817034621,null,{"$f":"HLOOKUP(User_entry!$B$56,$N$1059:$R$1119,A1074+1,FALSE)","v":1626.5583981703462},{"$f":"HLOOKUP(User_entry!$E$56,$S$1059:$W$1119,A1074+1,FALSE)","v":450000},{"$f":"Computations!$F$15+Computations!$E$15*D1074","v":1626.5583981703462},{"$f":"EXP(Computations!$F$16)*EXP(Computations!$E$16)^Computations!D1074","v":1485.4243243962446},{"$f":"Computations!$F$17+Computations!$E$17*LN(Computations!D1074)","v":1858.1730273613957},{"$f":"Computations!$F$18+Computations!$E$18*Computations!D1074+Computations!$D$18*Computations!D1074^2","v":1721.9744114741638},{"$f":"Computations!$F$19+Computations!$E$19*Computations!D1074+Computations!$D$19*Computations!D1074^2+Computations!$C$19*Computations!D1074^3","v":1721.9744114741638},{"$f":"Computations!$J$15+Computations!$I$15*D1074","v":450000},{"$f":"EXP(Computations!$J$16)*EXP(Computations!$I$16)^Computations!D1074","v":450000.00000000035},{"$f":"Computations!$J$17+Computations!$I$17*LN(Computations!D1074)","v":450000},{"$f":"Computations!$J$18+Computations!$I$18*Computations!D1074+Computations!$H$18*Computations!D1074^2","v":450000},{"$f":"Computations!$J$19+Computations!$I$19*Computations!D1074+Computations!$H$19*Computations!D1074^2+Computations!$G$19*Computations!D1074^3","v":450000}]
[16,8.4050498735417034E-2,8.8914619684358473E-2,8.648255920988776E-2,0.43570539953871285,5.0713447040220017E-2,1690.5599896037863,450000,{"$f":"G1075-H1075/User_entry!$E$18","v":190.55998960378633},190.55998960378633,null,{"$f":"HLOOKUP(User_entry!$B$56,$N$1059:$R$1119,A1075+1,FALSE)","v":1690.5599896037863},{"$f":"HLOOKUP(User_entry!$E$56,$S$1059:$W$1119,A1075+1,FALSE)","v":450000},{"$f":"Computations!$F$15+Computations!$E$15*D1075","v":1690.5599896037863},{"$f":"EXP(Computations!$F$16)*EXP(Computations!$E$16)^Computations!D1075","v":1537.631433393582},{"$f":"Computations!$F$17+Computations!$E$17*LN(Computations!D1075)","v":1931.7157536274412},{"$f":"Computations!$F$18+Computations!$E$18*Computations!D1075+Computations!$D$18*Computations!D1075^2","v":1797.9806254200755},{"$f":"Computations!$F$19+Computations!$E$19*Computations!D1075+Computations!$D$19*Computations!D1075^2+Computations!$C$19*Computations!D1075^3","v":1797.9806254200755},{"$f":"Computations!$J$15+Computations!$I$15*D1075","v":450000},{"$f":"EXP(Computations!$J$16)*EXP(Computations!$I$16)^Computations!D1075","v":450000.00000000035},{"$f":"Computations!$J$17+Computations!$I$17*LN(Computations!D1075)","v":450000},{"$f":"Computations!$J$18+Computations!$I$18*Computations!D1075+Computations!$H$18*Computations!D1075^2","v":450000},{"$f":"Computations!$J$19+Computations!$I$19*Computations!D1075+Computations!$H$19*Computations!D1075^2+Computations!$G$19*Computations!D1075^3","v":450000}]
[17,8.8914619684358473E-2,9.3778740633299912E-2,9.1346680158829185E-2,0.48579119015401356,5.0085790615300718E-2,1754.5615810372262,450000,{"$f":"G1076-H1076/User_entry!$E$18","v":254.56158103722623},254.56158103722623,null,{"$f":"HLOOKUP(User_entry!$B$56,$N$1059:$R$1119,A1076+1,FALSE)","v":1754.5615810372262},{"$f":"HLOOKUP(User_entry!$E$56,$S$1059:$W$1119,A1076+1,FALSE)","v":450000},{"$f":"Computations!$F$15+Computations!$E$15*D1076","v":1754.5615810372262},{"$f":"EXP(Computations!$F$16)*EXP(Computations!$E$16)^Computations!D1076","v":1591.6734269993742},{"$f":"Computations!$F$17+Computations!$E$17*LN(Computations!D1076)","v":2001.2332202918178},{"$f":"Computations!$F$18+Computations!$E$18*Computations!D1076+Computations!$D$18*Computations!D1076^2","v":1872.2342710248065},{"$f":"Computations!$F$19+Computations!$E$19*Computations!D1076+Computations!$D$19*Computations!D1076^2+Computations!$C$19*Computations!D1076^3","v":1872.2342710248065},{"$f":"Computations!$J$15+Computations!$I$15*D1076","v":450000},{"$f":"EXP(Computations!$J$16)*EXP(Computations!$I$16)^Computations!D1076","v":450000.00000000035},{"$f":"Computations!$J$17+Computations!$I$17*LN(Computations!D1076)","v":450000},{"$f":"Computations!$J$18+Computations!$I$18*Computations!D1076+Computations!$H$18*Computations!D1076^2","v":450000},{"$f":"Computations!$J$19+Computations!$I$19*Computations!D1076+Computations!$H$19*Computations!D1076^2+Computations!$G$19*Computations!D1076^3","v":450000}]
[18,9.3778740633299912E-2,9.8642861582241351E-2,9.6210801107770638E-2,0.53455772204234686,4.8766531888333298E-2,1818.5631724706664,450000,{"$f":"G1077-H1077/User_entry!$E$18","v":318.56317247066636},318.56317247066636,null,{"$f":"HLOOKUP(User_entry!$B$56,$N$1059:$R$1119,A1077+1,FALSE)","v":1818.5631724706664},{"$f":"HLOOKUP(User_entry!$E$56,$S$1059:$W$1119,A1077+1,FALSE)","v":450000},{"$f":"Computations!$F$15+Computations!$E$15*D1077","v":1818.5631724706664},{"$f":"EXP(Computations!$F$16)*EXP(Computations!$E$16)^Computations!D1077","v":1647.6147945445011},{"$f":"Computations!$F$17+Computations!$E$17*LN(Computations!D1077)","v":2067.1432891446266},{"$f":"Computations!$F$18+Computations!$E$18*Computations!D1077+Computations!$D$18*Computations!D1077^2","v":1944.7353482883584},{"$f":"Computations!$F$19+Computations!$E$19*Computations!D1077+Computations!$D$19*Computations!D1077^2+Computations!$C$19*Computations!D1077^3","v":1944.7353482883584},{"$f":"Computations!$J$15+Computations!$I$15*D1077","v":450000},{"$f":"EXP(Computations!$J$16)*EXP(Computations!$I$16)^Computations!D1077","v":450000.00000000035},{"$f":"Computations!$J$17+Computations!$I$17*LN(Computations!D1077)","v":450000},{"$f":"Computations!$J$18+Computations!$I$18*Computations!D1077+Computations!$H$18*Computations!D1077^2","v":450000},{"$f":"Computations!$J$19+Computations!$I$19*Computations!D1077+Computations!$H$19*Computations!D1077^2+Computations!$G$19*Computations!D1077^3","v":450000}]
[19,9.8642861582241351E-2,0.10350698253118279,0.10107492205671206,0.58142700823801352,4.686928619566666E-2,1882.564763904106,450000,{"$f":"G1078-H1078/User_entry!$E$18","v":382.56476390410603},382.56476390410603,null,{"$f":"HLOOKUP(User_entry!$B$56,$N$1059:$R$1119,A1078+1,FALSE)","v":1882.564763904106},{"$f":"HLOOKUP(User_entry!$E$56,$S$1059:$W$1119,A1078+1,FALSE)","v":450000},{"$f":"Computations!$F$15+Computations!$E$15*D1078","v":1882.564763904106},{"$f":"EXP(Computations!$F$16)*EXP(Computations!$E$16)^Computations!D1078","v":1705.5222919186081},{"$f":"Computations!$F$17+Computations!$E$17*LN(Computations!D1078)","v":2129.8019528237974},{"$f":"Computations!$F$18+Computations!$E$18*Computations!D1078+Computations!$D$18*Computations!D1078^2","v":2015.4838572107296},{"$f":"Computations!$F$19+Computations!$E$19*Computations!D1078+Computations!$D$19*Computations!D1078^2+Computations!$C$19*Computations!D1078^3","v":2015.4838572107296},{"$f":"Computations!$J$15+Computations!$I$15*D1078","v":450000},{"$f":"EXP(Computations!$J$16)*EXP(Computations!$I$16)^Computations!D1078","v":450000.00000000035},{"$f":"Computations!$J$17+Computations!$I$17*LN(Computations!D1078)","v":450000},{"$f":"Computations!$J$18+Computations!$I$18*Computations!D1078+Computations!$H$18*Computations!D1078^2","v":450000},{"$f":"Computations!$J$19+Computations!$I$19*Computations!D1078+Computations!$H$19*Computations!D1078^2+Computations!$G$19*Computations!D1078^3","v":450000}]
[20,0.10350698253118279,0.10837110348012423,0.10593904300565352,0.62593926472375183,4.4512256485738311E-2,1946.5663553375462,450000,{"$f":"G1079-H1079/User_entry!$E$18","v":446.56635533754616},446.56635533754616,null,{"$f":"HLOOKUP(User_entry!$B$56,$N$1059:$R$1119,A1079+1,FALSE)","v":1946.5663553375462},{"$f":"HLOOKUP(User_entry!$E$56,$S$1059:$W$1119,A1079+1,FALSE)","v":450000},{"$f":"Computations!$F$15+Computations!$E$15*D1079","v":1946.5663553375462},{"$f":"EXP(Computations!$F$16)*EXP(Computations!$E$16)^Computations!D1079","v":1765.4650212311726},{"$f":"Computations!$F$17+Computations!$E$17*LN(Computations!D1079)","v":2189.5149764057942},{"$f":"Computations!$F$18+Computations!$E$18*Computations!D1079+Computations!$D$18*Computations!D1079^2","v":2084.4797977919211},{"$f":"Computations!$F$19+Computations!$E$19*Computations!D1079+Computations!$D$19*Computations!D1079^2+Computations!$C$19*Computations!D1079^3","v":2084.4797977919211},{"$f":"Computations!$J$15+Computations!$I$15*D1079","v":450000},{"$f":"EXP(Computations!$J$16)*EXP(Computations!$I$16)^Computations!D1079","v":450000.00000000035},{"$f":"Computations!$J$17+Computations!$I$17*LN(Computations!D1079)","v":450000},{"$f":"Computations!$J$18+Computations!$I$18*Computations!D1079+Computations!$H$18*Computations!D1079^2","v":450000},{"$f":"Computations!$J$19+Computations!$I$19*Computations!D1079+Computations!$H$19*Computations!D1079^2+Computations!$G$19*Computations!D1079^3","v":450000}]
[21,0.10837110348012423,0.11323522442906567,0.11080316395459494,0.6677509536329217,4.1811688909169864E-2,2010.5679467709861,450000,{"$f":"G1080-H1080/User_entry!$E$18","v":510.56794677098605},510.56794677098605,null,{"$f":"HLOOKUP(User_entry!$B$56,$N$1059:$R$1119,A1080+1,FALSE)","v":2010.5679467709861},{"$f":"HLOOKUP(User_entry!$E$56,$S$1059:$W$1119,A1080+1,FALSE)","v":450000},{"$f":"Computations!$F$15+Computations!$E$15*D1080","v":2010.5679467709861},{"$f":"EXP(Computations!$F$16)*EXP(Computations!$E$16)^Computations!D1080","v":1827.5145132723537},{"$f":"Computations!$F$17+Computations!$E$17*LN(Computations!D1080)","v":2246.5469234072752},{"$f":"Computations!$F$18+Computations!$E$18*Computations!D1080+Computations!$D$18*Computations!D1080^2","v":2151.7231700319317},{"$f":"Computations!$F$19+Computations!$E$19*Computations!D1080+Computations!$D$19*Computations!D1080^2+Computations!$C$19*Computations!D1080^3","v":2151.7231700319317},{"$f":"Computations!$J$15+Computations!$I$15*D1080","v":450000},{"$f":"EXP(Computations!$J$16)*EXP(Computations!$I$16)^Computations!D1080","v":450000.00000000035},{"$f":"Computations!$J$17+Computations!$I$17*LN(Computations!D1080)","v":450000},{"$f":"Computations!$J$18+Computations!$I$18*Computations!D1080+Computations!$H$18*Computations!D1080^2","v":450000},{"$f":"Computations!$J$19+Computations!$I$19*Computations!D1080+Computations!$H$19*Computations!D1080^2+Computations!$G$19*Computations!D1080^3","v":450000}]
[22,0.11323522442906567,0.11809934537800711,0.11566728490353639,0.70662787957527362,3.8876925942351925E-2,2074.569538204426,450000,{"$f":"G1081-H1081/User_entry!$E$18","v":574.56953820442595},574.56953820442595,null,{"$f":"HLOOKUP(User_entry!$B$56,$N$1059:$R$1119,A1081+1,FALSE)","v":2074.569538204426},{"$f":"HLOOKUP(User_entry!$E$56,$S$1059:$W$1119,A1081+1,FALSE)","v":450000},{"$f":"Computations!$F$15+Computations!$E$15*D1081","v":2074.569538204426},{"$f":"EXP(Computations!$F$16)*EXP(Computations!$E$16)^Computations!D1081","v":1891.7448128720357},{"$f":"Computations!$F$17+Computations!$E$17*LN(Computations!D1081)","v":2301.1282411687607},{"$f":"Computations!$F$18+Computations!$E$18*Computations!D1081+Computations!$D$18*Computations!D1081^2","v":2217.2139739307631},{"$f":"Computations!$F$19+Computations!$E$19*Computations!D1081+Computations!$D$19*Computations!D1081^2+Computations!$C$19*Computations!D1081^3","v":2217.2139739307631},{"$f":"Computations!$J$15+Computations!$I$15*D1081","v":450000},{"$f":"EXP(Computations!$J$16)*EXP(Computations!$I$16)^Computations!D1081","v":450000.00000000035},{"$f":"Computations!$J$17+Computations!$I$17*LN(Computations!D1081)","v":450000},{"$f":"Computations!$J$18+Computations!$I$18*Computations!D1081+Computations!$H$18*Computations!D1081^2","v":450000},{"$f":"Computations!$J$19+Computations!$I$19*Computations!D1081+Computations!$H$19*Computations!D1081^2+Computations!$G$19*Computations!D1081^3","v":450000}]
[23,0.11809934537800711,0.12296346632694855,0.12053140585247782,0.74243483724136872,3.5806957666095096E-2,2138.5711296378659,450000,{"$f":"G1082-H1082/User_entry!$E$18","v":638.57112963786585},638.57112963786585,null,{"$f":"HLOOKUP(User_entry!$B$56,$N$1059:$R$1119,A1082+1,FALSE)","v":2138.5711296378659},{"$f":"HLOOKUP(User_entry!$E$56,$S$1059:$W$1119,A1082+1,FALSE)","v":450000},{"$f":"Computations!$F$15+Computations!$E$15*D1082","v":2138.5711296378659},{"$f":"EXP(Computations!$F$16)*EXP(Computations!$E$16)^Computations!D1082","v":1958.2325672589177},{"$f":"Computations!$F$17+Computations!$E$17*LN(Computations!D1082)","v":2353.4608857323374},{"$f":"Computations!$F$18+Computations!$E$18*Computations!D1082+Computations!$D$18*Computations!D1082^2","v":2280.9522094884142},{"$f":"Computations!$F$19+Computations!$E$19*Computations!D1082+Computations!$D$19*Computations!D1082^2+Computations!$C$19*Computations!D1082^3","v":2280.9522094884142},{"$f":"Computations!$J$15+Computations!$I$15*D1082","v":450000},{"$f":"EXP(Computations!$J$16)*EXP(Computations!$I$16)^Computations!D1082","v":450000.00000000035},{"$f":"Computations!$J$17+Computations!$I$17*LN(Computations!D1082)","v":450000},{"$f":"Computations!$J$18+Computations!$I$18*Computations!D1082+Computations!$H$18*Computations!D1082^2","v":450000},{"$f":"Computations!$J$19+Computations!$I$19*Computations!D1082+Computations!$H$19*Computations!D1082^2+Computations!$G$19*Computations!D1082^3","v":450000}]
[24,0.12296346632694855,0.12782758727588997,0.12539552680141924,0.77512313306100267,3.268829581963395E-2,2202.5727210713058,450000,{"$f":"G1083-H1083/User_entry!$E$18","v":702.57272107130575},702.57272107130575,null,{"$f":"HLOOKUP(User_entry!$B$56,$N$1059:$R$1119,A1083+1,FALSE)","v":2202.5727210713058},{"$f":"HLOOKUP(User_entry!$E$56,$S$1059:$W$1119,A1083+1,FALSE)","v":450000},{"$f":"Computations!$F$15+Computations!$E$15*D1083","v":2202.5727210713058},{"$f":"EXP(Computations!$F$16)*EXP(Computations!$E$16)^Computations!D1083","v":2027.0571175251016},{"$f":"Computations!$F$17+Computations!$E$17*LN(Computations!D1083)","v":2403.7228332186878},{"$f":"Computations!$F$18+Computations!$E$18*Computations!D1083+Computations!$D$18*Computations!D1083^2","v":2342.9378767048847},{"$f":"Computations!$F$19+Computations!$E$19*Computations!D1083+Computations!$D$19*Computations!D1083^2+Computations!$C$19*Computations!D1083^3","v":2342.9378767048847},{"$f":"Computations!$J$15+Computations!$I$15*D1083","v":450000},{"$f":"EXP(Computations!$J$16)*EXP(Computations!$I$16)^Computations!D1083","v":450000.00000000035},{"$f":"Computations!$J$17+Computations!$I$17*LN(Computations!D1083)","v":450000},{"$f":"Computations!$J$18+Computations!$I$18*Computations!D1083+Computations!$H$18*Computations!D1083^2","v":450000},{"$f":"Computations!$J$19+Computations!$I$19*Computations!D1083+Computations!$H$19*Computations!D1083^2+Computations!$G$19*Computations!D1083^3","v":450000}]
[25,0.12782758727588997,0.1326917082248314,0.1302596477503607,0.80471708938706521,2.9593956326062543E-2,2266.5743125047456,450000,{"$f":"G1084-H1084/User_entry!$E$18","v":766.57431250474565},766.57431250474565,null,{"$f":"HLOOKUP(User_entry!$B$56,$N$1059:$R$1119,A1084+1,FALSE)","v":2266.5743125047456},{"$f":"HLOOKUP(User_entry!$E$56,$S$1059:$W$1119,A1084+1,FALSE)","v":450000},{"$f":"Computations!$F$15+Computations!$E$15*D1084","v":2266.5743125047456},{"$f":"EXP(Computations!$F$16)*EXP(Computations!$E$16)^Computations!D1084","v":2098.3005933053132},{"$f":"Computations!$F$17+Computations!$E$17*LN(Computations!D1084)","v":2452.0717321745524},{"$f":"Computations!$F$18+Computations!$E$18*Computations!D1084+Computations!$D$18*Computations!D1084^2","v":2403.1709755801762},{"$f":"Computations!$F$19+Computations!$E$19*Computations!D1084+Computations!$D$19*Computations!D1084^2+Computations!$C$19*Computations!D1084^3","v":2403.1709755801762},{"$f":"Computations!$J$15+Computations!$I$15*D1084","v":450000},{"$f":"EXP(Computations!$J$16)*EXP(Computations!$I$16)^Computations!D1084","v":450000.00000000035},{"$f":"Computations!$J$17+Computations!$I$17*LN(Computations!D1084)","v":450000},{"$f":"Computations!$J$18+Computations!$I$18*Computations!D1084+Computations!$H$18*Computations!D1084^2","v":450000},{"$f":"Computations!$J$19+Computations!$I$19*Computations!D1084+Computations!$H$19*Computations!D1084^2+Computations!$G$19*Computations!D1084^3","v":450000}]
[26,0.1326917082248314,0.13755582917377282,0.13512376869930209,0.83130041409076427,2.6583324703699063E-2,2330.5759039381855,450000,{"$f":"G1085-H1085/User_entry!$E$18","v":830.57590393818555},830.57590393818555,null,{"$f":"HLOOKUP(User_entry!$B$56,$N$1059:$R$1119,A1085+1,FALSE)","v":2330.5759039381855},{"$f":"HLOOKUP(User_entry!$E$56,$S$1059:$W$1119,A1085+1,FALSE)","v":450000},{"$f":"Computations!$F$15+Computations!$E$15*D1085","v":2330.5759039381855},{"$f":"EXP(Computations!$F$16)*EXP(Computations!$E$16)^Computations!D1085","v":2172.0480107837448},{"$f":"Computations!$F$17+Computations!$E$17*LN(Computations!D1085)","v":2498.6478859964359},{"$f":"Computations!$F$18+Computations!$E$18*Computations!D1085+Computations!$D$18*Computations!D1085^2","v":2461.6515061142863},{"$f":"Computations!$F$19+Computations!$E$19*Computations!D1085+Computations!$D$19*Computations!D1085^2+Computations!$C$19*Computations!D1085^3","v":2461.6515061142863},{"$f":"Computations!$J$15+Computations!$I$15*D1085","v":450000},{"$f":"EXP(Computations!$J$16)*EXP(Computations!$I$16)^Computations!D1085","v":450000.00000000035},{"$f":"Computations!$J$17+Computations!$I$17*LN(Computations!D1085)","v":450000},{"$f":"Computations!$J$18+Computations!$I$18*Computations!D1085+Computations!$H$18*Computations!D1085^2","v":450000},{"$f":"Computations!$J$19+Computations!$I$19*Computations!D1085+Computations!$H$19*Computations!D1085^2+Computations!$G$19*Computations!D1085^3","v":450000}]
[27,0.13755582917377282,0.14241995012271425,0.13998788964824355,0.85500310087614129,2.3702686785377014E-2,2394.5774953716254,450000,{"$f":"G1086-H1086/User_entry!$E$18","v":894.57749537162545},894.57749537162545,null,{"$f":"HLOOKUP(User_entry!$B$56,$N$1059:$R$1119,A1086+1,FALSE)","v":2394.5774953716254},{"$f":"HLOOKUP(User_entry!$E$56,$S$1059:$W$1119,A1086+1,FALSE)","v":450000},{"$f":"Computations!$F$15+Computations!$E$15*D1086","v":2394.5774953716254},{"$f":"EXP(Computations!$F$16)*EXP(Computations!$E$16)^Computations!D1086","v":2248.3873741454745},{"$f":"Computations!$F$17+Computations!$E$17*LN(Computations!D1086)","v":2543.5767076825832},{"$f":"Computations!$F$18+Computations!$E$18*Computations!D1086+Computations!$D$18*Computations!D1086^2","v":2518.3794683072178},{"$f":"Computations!$F$19+Computations!$E$19*Computations!D1086+Computations!$D$19*Computations!D1086^2+Computations!$C$19*Computations!D1086^3","v":2518.3794683072178},{"$f":"Computations!$J$15+Computations!$I$15*D1086","v":450000},{"$f":"EXP(Computations!$J$16)*EXP(Computations!$I$16)^Computations!D1086","v":450000.00000000035},{"$f":"Computations!$J$17+Computations!$I$17*LN(Computations!D1086)","v":450000},{"$f":"Computations!$J$18+Computations!$I$18*Computations!D1086+Computations!$H$18*Computations!D1086^2","v":450000},{"$f":"Computations!$J$19+Computations!$I$19*Computations!D1086+Computations!$H$19*Computations!D1086^2+Computations!$G$19*Computations!D1086^3","v":450000}]
[28,0.14241995012271425,0.14728407107165567,0.14485201059718494,0.87598932838644961,2.098622751030832E-2,2458.5790868050649,450000,{"$f":"G1087-H1087/User_entry!$E$18","v":958.57908680506489},958.57908680506489,null,{"$f":"HLOOKUP(User_entry!$B$56,$N$1059:$R$1119,A1087+1,FALSE)","v":2458.5790868050649},{"$f":"HLOOKUP(User_entry!$E$56,$S$1059:$W$1119,A1087+1,FALSE)","v":450000},{"$f":"Computations!$F$15+Computations!$E$15*D1087","v":2458.5790868050649},{"$f":"EXP(Computations!$F$16)*EXP(Computations!$E$16)^Computations!D1087","v":2327.4097805935171},{"$f":"Computations!$F$17+Computations!$E$17*LN(Computations!D1087)","v":2586.9707551262768},{"$f":"Computations!$F$18+Computations!$E$18*Computations!D1087+Computations!$D$18*Computations!D1087^2","v":2573.354862158968},{"$f":"Computations!$F$19+Computations!$E$19*Computations!D1087+Computations!$D$19*Computations!D1087^2+Computations!$C$19*Computations!D1087^3","v":2573.354862158968},{"$f":"Computations!$J$15+Computations!$I$15*D1087","v":450000},{"$f":"EXP(Computations!$J$16)*EXP(Computations!$I$16)^Computations!D1087","v":450000.00000000035},{"$f":"Computations!$J$17+Computations!$I$17*LN(Computations!D1087)","v":450000},{"$f":"Computations!$J$18+Computations!$I$18*Computations!D1087+Computations!$H$18*Computations!D1087^2","v":450000},{"$f":"Computations!$J$19+Computations!$I$19*Computations!D1087+Computations!$H$19*Computations!D1087^2+Computations!$G$19*Computations!D1087^3","v":450000}]
[29,0.14728407107165567,0.1521481920205971,0.1497161315461264,0.894446656127454,1.8457327741004392E-2,2522.5806782385052,450000,{"$f":"G1088-H1088/User_entry!$E$18","v":1022.5806782385052},1022.5806782385052,null,{"$f":"HLOOKUP(User_entry!$B$56,$N$1059:$R$1119,A1088+1,FALSE)","v":2522.5806782385052},{"$f":"HLOOKUP(User_entry!$E$56,$S$1059:$W$1119,A1088+1,FALSE)","v":450000},{"$f":"Computations!$F$15+Computations!$E$15*D1088","v":2522.5806782385052},{"$f":"EXP(Computations!$F$16)*EXP(Computations!$E$16)^Computations!D1088","v":2409.2095290568404},{"$f":"Computations!$F$17+Computations!$E$17*LN(Computations!D1088)","v":2628.931430126313},{"$f":"Computations!$F$18+Computations!$E$18*Computations!D1088+Computations!$D$18*Computations!D1088^2","v":2626.5776876695386},{"$f":"Computations!$F$19+Computations!$E$19*Computations!D1088+Computations!$D$19*Computations!D1088^2+Computations!$C$19*Computations!D1088^3","v":2626.5776876695386},{"$f":"Computations!$J$15+Computations!$I$15*D1088","v":450000},{"$f":"EXP(Computations!$J$16)*EXP(Computations!$I$16)^Computations!D1088","v":450000.00000000035},{"$f":"Computations!$J$17+Computations!$I$17*LN(Computations!D1088)","v":450000},{"$f":"Computations!$J$18+Computations!$I$18*Computations!D1088+Computations!$H$18*Computations!D1088^2","v":450000},{"$f":"Computations!$J$19+Computations!$I$19*Computations!D1088+Computations!$H$19*Computations!D1088^2+Computations!$G$19*Computations!D1088^3","v":450000}]
[30,0.1521481920205971,0.15701231296953852,0.15458025249506779,0.9105766751027341,1.6130018975280103E-2,2586.5822696719442,450000,{"$f":"G1089-H1089/User_entry!$E$18","v":1086.5822696719442},1086.5822696719442,null,{"$f":"HLOOKUP(User_entry!$B$56,$N$1059:$R$1119,A1089+1,FALSE)","v":2586.5822696719442},{"$f":"HLOOKUP(User_entry!$E$56,$S$1059:$W$1119,A1089+1,FALSE)","v":450000},{"$f":"Computations!$F$15+Computations!$E$15*D1089","v":2586.5822696719442},{"$f":"EXP(Computations!$F$16)*EXP(Computations!$E$16)^Computations!D1089","v":2493.8842327190519},{"$f":"Computations!$F$17+Computations!$E$17*LN(Computations!D1089)","v":2669.5504056624195},{"$f":"Computations!$F$18+Computations!$E$18*Computations!D1089+Computations!$D$18*Computations!D1089^2","v":2678.0479448389287},{"$f":"Computations!$F$19+Computations!$E$19*Computations!D1089+Computations!$D$19*Computations!D1089^2+Computations!$C$19*Computations!D1089^3","v":2678.0479448389287},{"$f":"Computations!$J$15+Computations!$I$15*D1089","v":450000},{"$f":"EXP(Computations!$J$16)*EXP(Computations!$I$16)^Computations!D1089","v":450000.00000000035},{"$f":"Computations!$J$17+Computations!$I$17*LN(Computations!D1089)","v":450000},{"$f":"Computations!$J$18+Computations!$I$18*Computations!D1089+Computations!$H$18*Computations!D1089^2","v":450000},{"$f":"Computations!$J$19+Computations!$I$19*Computations!D1089+Computations!$H$19*Computations!D1089^2+Computations!$G$19*Computations!D1089^3","v":450000}]
[31,0.15701231296953852,0.16187643391847995,0.15944437344400925,0.92458716066014546,1.4010485557411356E-2,2650.5838611053841,450000,{"$f":"G1090-H1090/User_entry!$E$18","v":1150.5838611053841},1150.5838611053841,null,{"$f":"HLOOKUP(User_entry!$B$56,$N$1059:$R$1119,A1090+1,FALSE)","v":2650.5838611053841},{"$f":"HLOOKUP(User_entry!$E$56,$S$1059:$W$1119,A1090+1,FALSE)","v":450000},{"$f":"Computations!$F$15+Computations!$E$15*D1090","v":2650.5838611053841},{"$f":"EXP(Computations!$F$16)*EXP(Computations!$E$16)^Computations!D1090","v":2581.5349355020594},{"$f":"Computations!$F$17+Computations!$E$17*LN(Computations!D1090)","v":2708.9108319758061},{"$f":"Computations!$F$18+Computations!$E$18*Computations!D1090+Computations!$D$18*Computations!D1090^2","v":2727.7656336671394},{"$f":"Computations!$F$19+Computations!$E$19*Computations!D1090+Computations!$D$19*Computations!D1090^2+Computations!$C$19*Computations!D1090^3","v":2727.7656336671394},{"$f":"Computations!$J$15+Computations!$I$15*D1090","v":450000},{"$f":"EXP(Computations!$J$16)*EXP(Computations!$I$16)^Computations!D1090","v":450000.00000000035},{"$f":"Computations!$J$17+Computations!$I$17*LN(Computations!D1090)","v":450000},{"$f":"Computations!$J$18+Computations!$I$18*Computations!D1090+Computations!$H$18*Computations!D1090^2","v":450000},{"$f":"Computations!$J$19+Computations!$I$19*Computations!D1090+Computations!$H$19*Computations!D1090^2+Computations!$G$19*Computations!D1090^3","v":450000}]
[32,0.16187643391847995,0.16674055486742137,0.16430849439295064,0.9366856922865221,1.2098531626376641E-2,2714.585452538824,450000,{"$f":"G1091-H1091/User_entry!$E$18","v":1214.585452538824},1214.585452538824,null,{"$f":"HLOOKUP(User_entry!$B$56,$N$1059:$R$1119,A1091+1,FALSE)","v":2714.585452538824},{"$f":"HLOOKUP(User_entry!$E$56,$S$1059:$W$1119,A1091+1,FALSE)","v":450000},{"$f":"Computations!$F$15+Computations!$E$15*D1091","v":2714.585452538824},{"$f":"EXP(Computations!$F$16)*EXP(Computations!$E$16)^Computations!D1091","v":2672.2662326436812},{"$f":"Computations!$F$17+Computations!$E$17*LN(Computations!D1091)","v":2747.088361357281},{"$f":"Computations!$F$18+Computations!$E$18*Computations!D1091+Computations!$D$18*Computations!D1091^2","v":2775.7307541541695},{"$f":"Computations!$F$19+Computations!$E$19*Computations!D1091+Computations!$D$19*Computations!D1091^2+Computations!$C$19*Computations!D1091^3","v":2775.7307541541695},{"$f":"Computations!$J$15+Computations!$I$15*D1091","v":450000},{"$f":"EXP(Computations!$J$16)*EXP(Computations!$I$16)^Computations!D1091","v":450000.00000000035},{"$f":"Computations!$J$17+Computations!$I$17*LN(Computations!D1091)","v":450000},{"$f":"Computations!$J$18+Computations!$I$18*Computations!D1091+Computations!$H$18*Computations!D1091^2","v":450000},{"$f":"Computations!$J$19+Computations!$I$19*Computations!D1091+Computations!$H$19*Computations!D1091^2+Computations!$G$19*Computations!D1091^3","v":450000}]
[33,0.16674055486742137,0.17160467581636279,0.1691726153418921,0.9470746467303145,1.0388954443792398E-2,2778.5870439722639,450000,{"$f":"G1092-H1092/User_entry!$E$18","v":1278.5870439722639},1278.5870439722639,null,{"$f":"HLOOKUP(User_entry!$B$56,$N$1059:$R$1119,A1092+1,FALSE)","v":2778.5870439722639},{"$f":"HLOOKUP(User_entry!$E$56,$S$1059:$W$1119,A1092+1,FALSE)","v":450000},{"$f":"Computations!$F$15+Computations!$E$15*D1092","v":2778.5870439722639},{"$f":"EXP(Computations!$F$16)*EXP(Computations!$E$16)^Computations!D1092","v":2766.1863955131275},{"$f":"Computations!$F$17+Computations!$E$17*LN(Computations!D1092)","v":2784.1520233920228},{"$f":"Computations!$F$18+Computations!$E$18*Computations!D1092+Computations!$D$18*Computations!D1092^2","v":2821.9433063000206},{"$f":"Computations!$F$19+Computations!$E$19*Computations!D1092+Computations!$D$19*Computations!D1092^2+Computations!$C$19*Computations!D1092^3","v":2821.9433063000206},{"$f":"Computations!$J$15+Computations!$I$15*D1092","v":450000},{"$f":"EXP(Computations!$J$16)*EXP(Computations!$I$16)^Computations!D1092","v":450000.00000000035},{"$f":"Computations!$J$17+Computations!$I$17*LN(Computations!D1092)","v":450000},{"$f":"Computations!$J$18+Computations!$I$18*Computations!D1092+Computations!$H$18*Computations!D1092^2","v":450000},{"$f":"Computations!$J$19+Computations!$I$19*Computations!D1092+Computations!$H$19*Computations!D1092^2+Computations!$G$19*Computations!D1092^3","v":450000}]
[34,0.17160467581636279,0.17646879676530422,0.17403673629083349,0.95594743311529085,8.87278638497635E-3,2842.5886354057038,450000,{"$f":"G1093-H1093/User_entry!$E$18","v":1342.5886354057038},1342.5886354057038,null,{"$f":"HLOOKUP(User_entry!$B$56,$N$1059:$R$1119,A1093+1,FALSE)","v":2842.5886354057038},{"$f":"HLOOKUP(User_entry!$E$56,$S$1059:$W$1119,A1093+1,FALSE)","v":450000},{"$f":"Computations!$F$15+Computations!$E$15*D1093","v":2842.5886354057038},{"$f":"EXP(Computations!$F$16)*EXP(Computations!$E$16)^Computations!D1093","v":2863.407500813259},{"$f":"Computations!$F$17+Computations!$E$17*LN(Computations!D1093)","v":2820.164976106852},{"$f":"Computations!$F$18+Computations!$E$18*Computations!D1093+Computations!$D$18*Computations!D1093^2","v":2866.4032901046903},{"$f":"Computations!$F$19+Computations!$E$19*Computations!D1093+Computations!$D$19*Computations!D1093^2+Computations!$C$19*Computations!D1093^3","v":2866.4032901046903},{"$f":"Computations!$J$15+Computations!$I$15*D1093","v":450000},{"$f":"EXP(Computations!$J$16)*EXP(Computations!$I$16)^Computations!D1093","v":450000.00000000035},{"$f":"Computations!$J$17+Computations!$I$17*LN(Computations!D1093)","v":450000},{"$f":"Computations!$J$18+Computations!$I$18*Computations!D1093+Computations!$H$18*Computations!D1093^2","v":450000},{"$f":"Computations!$J$19+Computations!$I$19*Computations!D1093+Computations!$H$19*Computations!D1093^2+Computations!$G$19*Computations!D1093^3","v":450000}]
[35,0.17646879676530422,0.18133291771424564,0.17890085723977495,0.96348581776101283,7.538384645721985E-3,2906.5902268391437,450000,{"$f":"G1094-H1094/User_entry!$E$18","v":1406.5902268391437},1406.5902268391437,null,{"$f":"HLOOKUP(User_entry!$B$56,$N$1059:$R$1119,A1094+1,FALSE)","v":2906.5902268391437},{"$f":"HLOOKUP(User_entry!$E$56,$S$1059:$W$1119,A1094+1,FALSE)","v":450000},{"$f":"Computations!$F$15+Computations!$E$15*D1094","v":2906.5902268391437},{"$f":"EXP(Computations!$F$16)*EXP(Computations!$E$16)^Computations!D1094","v":2964.0455643238406},{"$f":"Computations!$F$17+Computations!$E$17*LN(Computations!D1094)","v":2855.1851535534179},{"$f":"Computations!$F$18+Computations!$E$18*Computations!D1094+Computations!$D$18*Computations!D1094^2","v":2909.1107055681805},{"$f":"Computations!$F$19+Computations!$E$19*Computations!D1094+Computations!$D$19*Computations!D1094^2+Computations!$C$19*Computations!D1094^3","v":2909.1107055681805},{"$f":"Computations!$J$15+Computations!$I$15*D1094","v":450000},{"$f":"EXP(Computations!$J$16)*EXP(Computations!$I$16)^Computations!D1094","v":450000.00000000035},{"$f":"Computations!$J$17+Computations!$I$17*LN(Computations!D1094)","v":450000},{"$f":"Computations!$J$18+Computations!$I$18*Computations!D1094+Computations!$H$18*Computations!D1094^2","v":450000},{"$f":"Computations!$J$19+Computations!$I$19*Computations!D1094+Computations!$H$19*Computations!D1094^2+Computations!$G$19*Computations!D1094^3","v":450000}]
[36,0.18133291771424564,0.18619703866318707,0.18376497818871634,0.96985817855549483,6.3723607944820015E-3,2970.5918182725827,450000,{"$f":"G1095-H1095/User_entry!$E$18","v":1470.5918182725827},1470.5918182725827,null,{"$f":"HLOOKUP(User_entry!$B$56,$N$1059:$R$1119,A1095+1,FALSE)","v":2970.5918182725827},{"$f":"HLOOKUP(User_entry!$E$56,$S$1059:$W$1119,A1095+1,FALSE)","v":450000},{"$f":"Computations!$F$15+Computations!$E$15*D1095","v":2970.5918182725827},{"$f":"EXP(Computations!$F$16)*EXP(Computations!$E$16)^Computations!D1095","v":3068.2206793453502},{"$f":"Computations!$F$17+Computations!$E$17*LN(Computations!D1095)","v":2889.2658265031155},{"$f":"Computations!$F$18+Computations!$E$18*Computations!D1095+Computations!$D$18*Computations!D1095^2","v":2950.0655526904911},{"$f":"Computations!$F$19+Computations!$E$19*Computations!D1095+Computations!$D$19*Computations!D1095^2+Computations!$C$19*Computations!D1095^3","v":2950.0655526904911},{"$f":"Computations!$J$15+Computations!$I$15*D1095","v":450000},{"$f":"EXP(Computations!$J$16)*EXP(Computations!$I$16)^Computations!D1095","v":450000.00000000035},{"$f":"Computations!$J$17+Computations!$I$17*LN(Computations!D1095)","v":450000},{"$f":"Computations!$J$18+Computations!$I$18*Computations!D1095+Computations!$H$18*Computations!D1095^2","v":450000},{"$f":"Computations!$J$19+Computations!$I$19*Computations!D1095+Computations!$H$19*Computations!D1095^2+Computations!$G$19*Computations!D1095^3","v":450000}]
[37,0.18619703866318707,0.19106115961212849,0.1886290991376578,0.97521853059747277,5.3603520419779338E-3,3034.5934097060235,450000,{"$f":"G1096-H1096/User_entry!$E$18","v":1534.5934097060235},1534.5934097060235,null,{"$f":"HLOOKUP(User_entry!$B$56,$N$1059:$R$1119,A1096+1,FALSE)","v":3034.5934097060235},{"$f":"HLOOKUP(User_entry!$E$56,$S$1059:$W$1119,A1096+1,FALSE)","v":450000},{"$f":"Computations!$F$15+Computations!$E$15*D1096","v":3034.5934097060235},{"$f":"EXP(Computations!$F$16)*EXP(Computations!$E$16)^Computations!D1096","v":3176.0571600085937},{"$f":"Computations!$F$17+Computations!$E$17*LN(Computations!D1096)","v":2922.4560898785976},{"$f":"Computations!$F$18+Computations!$E$18*Computations!D1096+Computations!$D$18*Computations!D1096^2","v":2989.2678314716204},{"$f":"Computations!$F$19+Computations!$E$19*Computations!D1096+Computations!$D$19*Computations!D1096^2+Computations!$C$19*Computations!D1096^3","v":2989.2678314716204},{"$f":"Computations!$J$15+Computations!$I$15*D1096","v":450000},{"$f":"EXP(Computations!$J$16)*EXP(Computations!$I$16)^Computations!D1096","v":450000.00000000035},{"$f":"Computations!$J$17+Computations!$I$17*LN(Computations!D1096)","v":450000},{"$f":"Computations!$J$18+Computations!$I$18*Computations!D1096+Computations!$H$18*Computations!D1096^2","v":450000},{"$f":"Computations!$J$19+Computations!$I$19*Computations!D1096+Computations!$H$19*Computations!D1096^2+Computations!$G$19*Computations!D1096^3","v":450000}]
[38,0.19106115961212849,0.19592528056106992,0.19349322008659919,0.97970617355615552,4.4876429586827582E-3,3098.5950011394625,450000,{"$f":"G1097-H1097/User_entry!$E$18","v":1598.5950011394625},1598.5950011394625,null,{"$f":"HLOOKUP(User_entry!$B$56,$N$1059:$R$1119,A1097+1,FALSE)","v":3098.5950011394625},{"$f":"HLOOKUP(User_entry!$E$56,$S$1059:$W$1119,A1097+1,FALSE)","v":450000},{"$f":"Computations!$F$15+Computations!$E$15*D1097","v":3098.5950011394625},{"$f":"EXP(Computations!$F$16)*EXP(Computations!$E$16)^Computations!D1097","v":3287.6836896210903},{"$f":"Computations!$F$17+Computations!$E$17*LN(Computations!D1097)","v":2954.8012881175068},{"$f":"Computations!$F$18+Computations!$E$18*Computations!D1097+Computations!$D$18*Computations!D1097^2","v":3026.7175419115702},{"$f":"Computations!$F$19+Computations!$E$19*Computations!D1097+Computations!$D$19*Computations!D1097^2+Computations!$C$19*Computations!D1097^3","v":3026.7175419115702},{"$f":"Computations!$J$15+Computations!$I$15*D1097","v":450000},{"$f":"EXP(Computations!$J$16)*EXP(Computations!$I$16)^Computations!D1097","v":450000.00000000035},{"$f":"Computations!$J$17+Computations!$I$17*LN(Computations!D1097)","v":450000},{"$f":"Computations!$J$18+Computations!$I$18*Computations!D1097+Computations!$H$18*Computations!D1097^2","v":450000},{"$f":"Computations!$J$19+Computations!$I$19*Computations!D1097+Computations!$H$19*Computations!D1097^2+Computations!$G$19*Computations!D1097^3","v":450000}]
[39,0.19592528056106992,0.20078940151001134,0.19835734103554065,0.98344582438496975,3.7396508288142227E-3,3162.5965925729024,450000,{"$f":"G1098-H1098/User_entry!$E$18","v":1662.5965925729024},1662.5965925729024,null,{"$f":"HLOOKUP(User_entry!$B$56,$N$1059:$R$1119,A1098+1,FALSE)","v":3162.5965925729024},{"$f":"HLOOKUP(User_entry!$E$56,$S$1059:$W$1119,A1098+1,FALSE)","v":450000},{"$f":"Computations!$F$15+Computations!$E$15*D1098","v":3162.5965925729024},{"$f":"EXP(Computations!$F$16)*EXP(Computations!$E$16)^Computations!D1098","v":3403.2334742273042},{"$f":"Computations!$F$17+Computations!$E$17*LN(Computations!D1098)","v":2986.343387717558},{"$f":"Computations!$F$18+Computations!$E$18*Computations!D1098+Computations!$D$18*Computations!D1098^2","v":3062.4146840103404},{"$f":"Computations!$F$19+Computations!$E$19*Computations!D1098+Computations!$D$19*Computations!D1098^2+Computations!$C$19*Computations!D1098^3","v":3062.4146840103404},{"$f":"Computations!$J$15+Computations!$I$15*D1098","v":450000},{"$f":"EXP(Computations!$J$16)*EXP(Computations!$I$16)^Computations!D1098","v":450000.00000000035},{"$f":"Computations!$J$17+Computations!$I$17*LN(Computations!D1098)","v":450000},{"$f":"Computations!$J$18+Computations!$I$18*Computations!D1098+Computations!$H$18*Computations!D1098^2","v":450000},{"$f":"Computations!$J$19+Computations!$I$19*Computations!D1098+Computations!$H$19*Computations!D1098^2+Computations!$G$19*Computations!D1098^3","v":450000}]
[40,0.20078940151001134,0.20565352245895277,0.20322146198448204,0.98654811474692194,3.102290361952198E-3,3226.5981840063423,450000,{"$f":"G1099-H1099/User_entry!$E$18","v":1726.5981840063423},1726.5981840063423,null,{"$f":"HLOOKUP(User_entry!$B$56,$N$1059:$R$1119,A1099+1,FALSE)","v":3226.5981840063423},{"$f":"HLOOKUP(User_entry!$E$56,$S$1059:$W$1119,A1099+1,FALSE)","v":450000},{"$f":"Computations!$F$15+Computations!$E$15*D1099","v":3226.5981840063423},{"$f":"EXP(Computations!$F$16)*EXP(Computations!$E$16)^Computations!D1099","v":3522.8444015659193},{"$f":"Computations!$F$17+Computations!$E$17*LN(Computations!D1099)","v":3017.1213046429948},{"$f":"Computations!$F$18+Computations!$E$18*Computations!D1099+Computations!$D$18*Computations!D1099^2","v":3096.3592577679306},{"$f":"Computations!$F$19+Computations!$E$19*Computations!D1099+Computations!$D$19*Computations!D1099^2+Computations!$C$19*Computations!D1099^3","v":3096.3592577679306},{"$f":"Computations!$J$15+Computations!$I$15*D1099","v":450000},{"$f":"EXP(Computations!$J$16)*EXP(Computations!$I$16)^Computations!D1099","v":450000.00000000035},{"$f":"Computations!$J$17+Computations!$I$17*LN(Computations!D1099)","v":450000},{"$f":"Computations!$J$18+Computations!$I$18*Computations!D1099+Computations!$H$18*Computations!D1099^2","v":450000},{"$f":"Computations!$J$19+Computations!$I$19*Computations!D1099+Computations!$H$19*Computations!D1099^2+Computations!$G$19*Computations!D1099^3","v":450000}]
[41,0.20565352245895277,0.21051764340789419,0.2080855829334235,0.98911034927546337,2.5622345285414294E-3,3290.5997754397822,450000,{"$f":"G1100-H1100/User_entry!$E$18","v":1790.5997754397822},1790.5997754397822,null,{"$f":"HLOOKUP(User_entry!$B$56,$N$1059:$R$1119,A1100+1,FALSE)","v":3290.5997754397822},{"$f":"HLOOKUP(User_entry!$E$56,$S$1059:$W$1119,A1100+1,FALSE)","v":450000},{"$f":"Computations!$F$15+Computations!$E$15*D1100","v":3290.5997754397822},{"$f":"EXP(Computations!$F$16)*EXP(Computations!$E$16)^Computations!D1100","v":3646.6592056138911},{"$f":"Computations!$F$17+Computations!$E$17*LN(Computations!D1100)","v":3047.1711930003949},{"$f":"Computations!$F$18+Computations!$E$18*Computations!D1100+Computations!$D$18*Computations!D1100^2","v":3128.5512631843403},{"$f":"Computations!$F$19+Computations!$E$19*Computations!D1100+Computations!$D$19*Computations!D1100^2+Computations!$C$19*Computations!D1100^3","v":3128.5512631843403},{"$f":"Computations!$J$15+Computations!$I$15*D1100","v":450000},{"$f":"EXP(Computations!$J$16)*EXP(Computations!$I$16)^Computations!D1100","v":450000.00000000035},{"$f":"Computations!$J$17+Computations!$I$17*LN(Computations!D1100)","v":450000},{"$f":"Computations!$J$18+Computations!$I$18*Computations!D1100+Computations!$H$18*Computations!D1100^2","v":450000},{"$f":"Computations!$J$19+Computations!$I$19*Computations!D1100+Computations!$H$19*Computations!D1100^2+Computations!$G$19*Computations!D1100^3","v":450000}]
[42,0.21051764340789419,0.21538176435683562,0.21294970388236489,0.99121743750590774,2.107088230444365E-3,3354.6013668732212,450000,{"$f":"G1101-H1101/User_entry!$E$18","v":1854.6013668732212},1854.6013668732212,null,{"$f":"HLOOKUP(User_entry!$B$56,$N$1059:$R$1119,A1101+1,FALSE)","v":3354.6013668732212},{"$f":"HLOOKUP(User_entry!$E$56,$S$1059:$W$1119,A1101+1,FALSE)","v":450000},{"$f":"Computations!$F$15+Computations!$E$15*D1101","v":3354.6013668732212},{"$f":"EXP(Computations!$F$16)*EXP(Computations!$E$16)^Computations!D1101","v":3774.8256369135847},{"$f":"Computations!$F$17+Computations!$E$17*LN(Computations!D1101)","v":3076.526700354977},{"$f":"Computations!$F$18+Computations!$E$18*Computations!D1101+Computations!$D$18*Computations!D1101^2","v":3158.9907002595705},{"$f":"Computations!$F$19+Computations!$E$19*Computations!D1101+Computations!$D$19*Computations!D1101^2+Computations!$C$19*Computations!D1101^3","v":3158.9907002595705},{"$f":"Computations!$J$15+Computations!$I$15*D1101","v":450000},{"$f":"EXP(Computations!$J$16)*EXP(Computations!$I$16)^Computations!D1101","v":450000.00000000035},{"$f":"Computations!$J$17+Computations!$I$17*LN(Computations!D1101)","v":450000},{"$f":"Computations!$J$18+Computations!$I$18*Computations!D1101+Computations!$H$18*Computations!D1101^2","v":450000},{"$f":"Computations!$J$19+Computations!$I$19*Computations!D1101+Computations!$H$19*Computations!D1101^2+Computations!$G$19*Computations!D1101^3","v":450000}]
[43,0.21538176435683562,0.22024588530577704,0.21781382483130635,0.99294292819719909,1.7254906912913537E-3,3418.602958306662,450000,{"$f":"G1102-H1102/User_entry!$E$18","v":1918.602958306662},1918.602958306662,null,{"$f":"HLOOKUP(User_entry!$B$56,$N$1059:$R$1119,A1102+1,FALSE)","v":3418.602958306662},{"$f":"HLOOKUP(User_entry!$E$56,$S$1059:$W$1119,A1102+1,FALSE)","v":450000},{"$f":"Computations!$F$15+Computations!$E$15*D1102","v":3418.602958306662},{"$f":"EXP(Computations!$F$16)*EXP(Computations!$E$16)^Computations!D1102","v":3907.4966388862981},{"$f":"Computations!$F$17+Computations!$E$17*LN(Computations!D1102)","v":3105.2191942091486},{"$f":"Computations!$F$18+Computations!$E$18*Computations!D1102+Computations!$D$18*Computations!D1102^2","v":3187.6775689936203},{"$f":"Computations!$F$19+Computations!$E$19*Computations!D1102+Computations!$D$19*Computations!D1102^2+Computations!$C$19*Computations!D1102^3","v":3187.6775689936203},{"$f":"Computations!$J$15+Computations!$I$15*D1102","v":450000},{"$f":"EXP(Computations!$J$16)*EXP(Computations!$I$16)^Computations!D1102","v":450000.00000000035},{"$f":"Computations!$J$17+Computations!$I$17*LN(Computations!D1102)","v":450000},{"$f":"Computations!$J$18+Computations!$I$18*Computations!D1102+Computations!$H$18*Computations!D1102^2","v":450000},{"$f":"Computations!$J$19+Computations!$I$19*Computations!D1102+Computations!$H$19*Computations!D1102^2+Computations!$G$19*Computations!D1102^3","v":450000}]
[44,0.22024588530577704,0.22511000625471847,0.22267794578024774,0.99435008932075641,1.4071611235573211E-3,3482.604549740101,450000,{"$f":"G1103-H1103/User_entry!$E$18","v":1982.604549740101},1982.604549740101,null,{"$f":"HLOOKUP(User_entry!$B$56,$N$1059:$R$1119,A1103+1,FALSE)","v":3482.604549740101},{"$f":"HLOOKUP(User_entry!$E$56,$S$1059:$W$1119,A1103+1,FALSE)","v":450000},{"$f":"Computations!$F$15+Computations!$E$15*D1103","v":3482.604549740101},{"$f":"EXP(Computations!$F$16)*EXP(Computations!$E$16)^Computations!D1103","v":4044.8305303425191},{"$f":"Computations!$F$17+Computations!$E$17*LN(Computations!D1103)","v":3133.277963465739},{"$f":"Computations!$F$18+Computations!$E$18*Computations!D1103+Computations!$D$18*Computations!D1103^2","v":3214.6118693864892},{"$f":"Computations!$F$19+Computations!$E$19*Computations!D1103+Computations!$D$19*Computations!D1103^2+Computations!$C$19*Computations!D1103^3","v":3214.6118693864892},{"$f":"Computations!$J$15+Computations!$I$15*D1103","v":450000},{"$f":"EXP(Computations!$J$16)*EXP(Computations!$I$16)^Computations!D1103","v":450000.00000000035},{"$f":"Computations!$J$17+Computations!$I$17*LN(Computations!D1103)","v":450000},{"$f":"Computations!$J$18+Computations!$I$18*Computations!D1103+Computations!$H$18*Computations!D1103^2","v":450000},{"$f":"Computations!$J$19+Computations!$I$19*Computations!D1103+Computations!$H$19*Computations!D1103^2+Computations!$G$19*Computations!D1103^3","v":450000}]
[45,0.22511000625471847,0.22997412720365989,0.2275420667291892,0.99549298993502489,1.1429006142684717E-3,3546.6061411735409,450000,{"$f":"G1104-H1104/User_entry!$E$18","v":2046.6061411735409},2046.6061411735409,null,{"$f":"HLOOKUP(User_entry!$B$56,$N$1059:$R$1119,A1104+1,FALSE)","v":3546.6061411735409},{"$f":"HLOOKUP(User_entry!$E$56,$S$1059:$W$1119,A1104+1,FALSE)","v":450000},{"$f":"Computations!$F$15+Computations!$E$15*D1104","v":3546.6061411735409},{"$f":"EXP(Computations!$F$16)*EXP(Computations!$E$16)^Computations!D1104","v":4186.9911944067626},{"$f":"Computations!$F$17+Computations!$E$17*LN(Computations!D1104)","v":3160.7303981200166},{"$f":"Computations!$F$18+Computations!$E$18*Computations!D1104+Computations!$D$18*Computations!D1104^2","v":3239.7936014381794},{"$f":"Computations!$F$19+Computations!$E$19*Computations!D1104+Computations!$D$19*Computations!D1104^2+Computations!$C$19*Computations!D1104^3","v":3239.7936014381794},{"$f":"Computations!$J$15+Computations!$I$15*D1104","v":450000},{"$f":"EXP(Computations!$J$16)*EXP(Computations!$I$16)^Computations!D1104","v":450000.00000000035},{"$f":"Computations!$J$17+Computations!$I$17*LN(Computations!D1104)","v":450000},{"$f":"Computations!$J$18+Computations!$I$18*Computations!D1104+Computations!$H$18*Computations!D1104^2","v":450000},{"$f":"Computations!$J$19+Computations!$I$19*Computations!D1104+Computations!$H$19*Computations!D1104^2+Computations!$G$19*Computations!D1104^3","v":450000}]
[46,0.22997412720365989,0.23483824815260132,0.23240618767813059,0.99641755136784893,9.2456143282404479E-4,3610.6077326069808,450000,{"$f":"G1105-H1105/User_entry!$E$18","v":2110.6077326069808},2110.6077326069808,null,{"$f":"HLOOKUP(User_entry!$B$56,$N$1059:$R$1119,A1105+1,FALSE)","v":3610.6077326069808},{"$f":"HLOOKUP(User_entry!$E$56,$S$1059:$W$1119,A1105+1,FALSE)","v":450000},{"$f":"Computations!$F$15+Computations!$E$15*D1105","v":3610.6077326069808},{"$f":"EXP(Computations!$F$16)*EXP(Computations!$E$16)^Computations!D1105","v":4334.1482740823831},{"$f":"Computations!$F$17+Computations!$E$17*LN(Computations!D1105)","v":3187.6021499441258},{"$f":"Computations!$F$18+Computations!$E$18*Computations!D1105+Computations!$D$18*Computations!D1105^2","v":3263.2227651486892},{"$f":"Computations!$F$19+Computations!$E$19*Computations!D1105+Computations!$D$19*Computations!D1105^2+Computations!$C$19*Computations!D1105^3","v":3263.2227651486892},{"$f":"Computations!$J$15+Computations!$I$15*D1105","v":450000},{"$f":"EXP(Computations!$J$16)*EXP(Computations!$I$16)^Computations!D1105","v":450000.00000000035},{"$f":"Computations!$J$17+Computations!$I$17*LN(Computations!D1105)","v":450000},{"$f":"Computations!$J$18+Computations!$I$18*Computations!D1105+Computations!$H$18*Computations!D1105^2","v":450000},{"$f":"Computations!$J$19+Computations!$I$19*Computations!D1105+Computations!$H$19*Computations!D1105^2+Computations!$G$19*Computations!D1105^3","v":450000}]
[47,0.23483824815260132,0.23970236910154274,0.23727030862707205,0.99716254459073761,7.4499322288867909E-4,3674.6093240404207,450000,{"$f":"G1106-H1106/User_entry!$E$18","v":2174.6093240404207},2174.6093240404207,null,{"$f":"HLOOKUP(User_entry!$B$56,$N$1059:$R$1119,A1106+1,FALSE)","v":3674.6093240404207},{"$f":"HLOOKUP(User_entry!$E$56,$S$1059:$W$1119,A1106+1,FALSE)","v":450000},{"$f":"Computations!$F$15+Computations!$E$15*D1106","v":3674.6093240404207},{"$f":"EXP(Computations!$F$16)*EXP(Computations!$E$16)^Computations!D1106","v":4486.4773746897872},{"$f":"Computations!$F$17+Computations!$E$17*LN(Computations!D1106)","v":3213.9172765267522},{"$f":"Computations!$F$18+Computations!$E$18*Computations!D1106+Computations!$D$18*Computations!D1106^2","v":3284.8993605180185},{"$f":"Computations!$F$19+Computations!$E$19*Computations!D1106+Computations!$D$19*Computations!D1106^2+Computations!$C$19*Computations!D1106^3","v":3284.8993605180185},{"$f":"Computations!$J$15+Computations!$I$15*D1106","v":450000},{"$f":"EXP(Computations!$J$16)*EXP(Computations!$I$16)^Computations!D1106","v":450000.00000000035},{"$f":"Computations!$J$17+Computations!$I$17*LN(Computations!D1106)","v":450000},{"$f":"Computations!$J$18+Computations!$I$18*Computations!D1106+Computations!$H$18*Computations!D1106^2","v":450000},{"$f":"Computations!$J$19+Computations!$I$19*Computations!D1106+Computations!$H$19*Computations!D1106^2+Computations!$G$19*Computations!D1106^3","v":450000}]
[48,0.23970236910154274,0.24456649005048417,0.24213442957601344,0.99776051847023639,5.97973879498781E-4,3738.6109154738606,450000,{"$f":"G1107-H1107/User_entry!$E$18","v":2238.6109154738606},2238.6109154738606,null,{"$f":"HLOOKUP(User_entry!$B$56,$N$1059:$R$1119,A1107+1,FALSE)","v":3738.6109154738606},{"$f":"HLOOKUP(User_entry!$E$56,$S$1059:$W$1119,A1107+1,FALSE)","v":450000},{"$f":"Computations!$F$15+Computations!$E$15*D1107","v":3738.6109154738606},{"$f":"EXP(Computations!$F$16)*EXP(Computations!$E$16)^Computations!D1107","v":4644.1602734195603},{"$f":"Computations!$F$17+Computations!$E$17*LN(Computations!D1107)","v":3239.6983706951132},{"$f":"Computations!$F$18+Computations!$E$18*Computations!D1107+Computations!$D$18*Computations!D1107^2","v":3304.8233875461683},{"$f":"Computations!$F$19+Computations!$E$19*Computations!D1107+Computations!$D$19*Computations!D1107^2+Computations!$C$19*Computations!D1107^3","v":3304.8233875461683},{"$f":"Computations!$J$15+Computations!$I$15*D1107","v":450000},{"$f":"EXP(Computations!$J$16)*EXP(Computations!$I$16)^Computations!D1107","v":450000.00000000035},{"$f":"Computations!$J$17+Computations!$I$17*LN(Computations!D1107)","v":450000},{"$f":"Computations!$J$18+Computations!$I$18*Computations!D1107+Computations!$H$18*Computations!D1107^2","v":450000},{"$f":"Computations!$J$19+Computations!$I$19*Computations!D1107+Computations!$H$19*Computations!D1107^2+Computations!$G$19*Computations!D1107^3","v":450000}]
[49,0.24456649005048417,0.24943061099942559,0.2469985505249549,0.99823864985688238,4.7813138664598576E-4,3802.6125069073005,450000,{"$f":"G1108-H1108/User_entry!$E$18","v":2302.6125069073005},2302.6125069073005,null,{"$f":"HLOOKUP(User_entry!$B$56,$N$1059:$R$1119,A1108+1,FALSE)","v":3802.6125069073005},{"$f":"HLOOKUP(User_entry!$E$56,$S$1059:$W$1119,A1108+1,FALSE)","v":450000},{"$f":"Computations!$F$15+Computations!$E$15*D1108","v":3802.6125069073005},{"$f":"EXP(Computations!$F$16)*EXP(Computations!$E$16)^Computations!D1108","v":4807.3851362506357},{"$f":"Computations!$F$17+Computations!$E$17*LN(Computations!D1108)","v":3264.9666770640551},{"$f":"Computations!$F$18+Computations!$E$18*Computations!D1108+Computations!$D$18*Computations!D1108^2","v":3322.9948462331377},{"$f":"Computations!$F$19+Computations!$E$19*Computations!D1108+Computations!$D$19*Computations!D1108^2+Computations!$C$19*Computations!D1108^3","v":3322.9948462331377},{"$f":"Computations!$J$15+Computations!$I$15*D1108","v":450000},{"$f":"EXP(Computations!$J$16)*EXP(Computations!$I$16)^Computations!D1108","v":450000.00000000035},{"$f":"Computations!$J$17+Computations!$I$17*LN(Computations!D1108)","v":450000},{"$f":"Computations!$J$18+Computations!$I$18*Computations!D1108+Computations!$H$18*Computations!D1108^2","v":450000},{"$f":"Computations!$J$19+Computations!$I$19*Computations!D1108+Computations!$H$19*Computations!D1108^2+Computations!$G$19*Computations!D1108^3","v":450000}]
[50,0.24943061099942559,0.25429473194836705,0.25186267147389629,0.99861951138759819,3.8086153071581474E-4,3866.6140983407395,450000,{"$f":"G1109-H1109/User_entry!$E$18","v":2366.6140983407395},2366.6140983407395,null,{"$f":"HLOOKUP(User_entry!$B$56,$N$1059:$R$1119,A1109+1,FALSE)","v":3866.6140983407395},{"$f":"HLOOKUP(User_entry!$E$56,$S$1059:$W$1119,A1109+1,FALSE)","v":450000},{"$f":"Computations!$F$15+Computations!$E$15*D1109","v":3866.6140983407395},{"$f":"EXP(Computations!$F$16)*EXP(Computations!$E$16)^Computations!D1109","v":4976.3467424922901},{"$f":"Computations!$F$17+Computations!$E$17*LN(Computations!D1109)","v":3289.7421972188167},{"$f":"Computations!$F$18+Computations!$E$18*Computations!D1109+Computations!$D$18*Computations!D1109^2","v":3339.4137365789275},{"$f":"Computations!$F$19+Computations!$E$19*Computations!D1109+Computations!$D$19*Computations!D1109^2+Computations!$C$19*Computations!D1109^3","v":3339.4137365789275},{"$f":"Computations!$J$15+Computations!$I$15*D1109","v":450000},{"$f":"EXP(Computations!$J$16)*EXP(Computations!$I$16)^Computations!D1109","v":450000.00000000035},{"$f":"Computations!$J$17+Computations!$I$17*LN(Computations!D1109)","v":450000},{"$f":"Computations!$J$18+Computations!$I$18*Computations!D1109+Computations!$H$18*Computations!D1109^2","v":450000},{"$f":"Computations!$J$19+Computations!$I$19*Computations!D1109+Computations!$H$19*Computations!D1109^2+Computations!$G$19*Computations!D1109^3","v":450000}]
[51,0.25429473194836705,0.2591588528973085,0.2567267924228378,0.99892175661230831,3.0224522471011817E-4,3930.6156897741803,450000,{"$f":"G1110-H1110/User_entry!$E$18","v":2430.6156897741803},2430.6156897741803,null,{"$f":"HLOOKUP(User_entry!$B$56,$N$1059:$R$1119,A1110+1,FALSE)","v":3930.6156897741803},{"$f":"HLOOKUP(User_entry!$E$56,$S$1059:$W$1119,A1110+1,FALSE)","v":450000},{"$f":"Computations!$F$15+Computations!$E$15*D1110","v":3930.6156897741803},{"$f":"EXP(Computations!$F$16)*EXP(Computations!$E$16)^Computations!D1110","v":5151.2467172179886},{"$f":"Computations!$F$17+Computations!$E$17*LN(Computations!D1110)","v":3314.0437848362417},{"$f":"Computations!$F$18+Computations!$E$18*Computations!D1110+Computations!$D$18*Computations!D1110^2","v":3354.0800585835364},{"$f":"Computations!$F$19+Computations!$E$19*Computations!D1110+Computations!$D$19*Computations!D1110^2+Computations!$C$19*Computations!D1110^3","v":3354.0800585835364},{"$f":"Computations!$J$15+Computations!$I$15*D1110","v":450000},{"$f":"EXP(Computations!$J$16)*EXP(Computations!$I$16)^Computations!D1110","v":450000.00000000035},{"$f":"Computations!$J$17+Computations!$I$17*LN(Computations!D1110)","v":450000},{"$f":"Computations!$J$18+Computations!$I$18*Computations!D1110+Computations!$H$18*Computations!D1110^2","v":450000},{"$f":"Computations!$J$19+Computations!$I$19*Computations!D1110+Computations!$H$19*Computations!D1110^2+Computations!$G$19*Computations!D1110^3","v":450000}]
[52,0.2591588528973085,0.26402297384624995,0.2615909133717792,0.99916072479012485,2.3896817781654534E-4,3994.6172812076202,450000,{"$f":"G1111-H1111/User_entry!$E$18","v":2494.6172812076202},2494.6172812076202,null,{"$f":"HLOOKUP(User_entry!$B$56,$N$1059:$R$1119,A1111+1,FALSE)","v":3994.6172812076202},{"$f":"HLOOKUP(User_entry!$E$56,$S$1059:$W$1119,A1111+1,FALSE)","v":450000},{"$f":"Computations!$F$15+Computations!$E$15*D1111","v":3994.6172812076202},{"$f":"EXP(Computations!$F$16)*EXP(Computations!$E$16)^Computations!D1111","v":5332.2937718683697},{"$f":"Computations!$F$17+Computations!$E$17*LN(Computations!D1111)","v":3337.8892318777412},{"$f":"Computations!$F$18+Computations!$E$18*Computations!D1111+Computations!$D$18*Computations!D1111^2","v":3366.9938122469662},{"$f":"Computations!$F$19+Computations!$E$19*Computations!D1111+Computations!$D$19*Computations!D1111^2+Computations!$C$19*Computations!D1111^3","v":3366.9938122469662},{"$f":"Computations!$J$15+Computations!$I$15*D1111","v":450000},{"$f":"EXP(Computations!$J$16)*EXP(Computations!$I$16)^Computations!D1111","v":450000.00000000035},{"$f":"Computations!$J$17+Computations!$I$17*LN(Computations!D1111)","v":450000},{"$f":"Computations!$J$18+Computations!$I$18*Computations!D1111+Computations!$H$18*Computations!D1111^2","v":450000},{"$f":"Computations!$J$19+Computations!$I$19*Computations!D1111+Computations!$H$19*Computations!D1111^2+Computations!$G$19*Computations!D1111^3","v":450000}]
[53,0.26402297384624995,0.26888709479519141,0.26645503432072071,0.99934896960652175,1.8824481639689861E-4,4058.618872641061,450000,{"$f":"G1112-H1112/User_entry!$E$18","v":2558.618872641061},2558.618872641061,null,{"$f":"HLOOKUP(User_entry!$B$56,$N$1059:$R$1119,A1112+1,FALSE)","v":4058.618872641061},{"$f":"HLOOKUP(User_entry!$E$56,$S$1059:$W$1119,A1112+1,FALSE)","v":450000},{"$f":"Computations!$F$15+Computations!$E$15*D1112","v":4058.618872641061},{"$f":"EXP(Computations!$F$16)*EXP(Computations!$E$16)^Computations!D1112","v":5519.7039533105708},{"$f":"Computations!$F$17+Computations!$E$17*LN(Computations!D1112)","v":3361.2953468411388},{"$f":"Computations!$F$18+Computations!$E$18*Computations!D1112+Computations!$D$18*Computations!D1112^2","v":3378.1549975692151},{"$f":"Computations!$F$19+Computations!$E$19*Computations!D1112+Computations!$D$19*Computations!D1112^2+Computations!$C$19*Computations!D1112^3","v":3378.1549975692151},{"$f":"Computations!$J$15+Computations!$I$15*D1112","v":450000},{"$f":"EXP(Computations!$J$16)*EXP(Computations!$I$16)^Computations!D1112","v":450000.00000000035},{"$f":"Computations!$J$17+Computations!$I$17*LN(Computations!D1112)","v":450000},{"$f":"Computations!$J$18+Computations!$I$18*Computations!D1112+Computations!$H$18*Computations!D1112^2","v":450000},{"$f":"Computations!$J$19+Computations!$I$19*Computations!D1112+Computations!$H$19*Computations!D1112^2+Computations!$G$19*Computations!D1112^3","v":450000}]
[54,0.26888709479519141,0.27375121574413286,0.2713191552696621,0.99949671729848655,1.4774769196479465E-4,4122.6204640745,450000,{"$f":"G1113-H1113/User_entry!$E$18","v":2622.6204640745},2622.6204640745,null,{"$f":"HLOOKUP(User_entry!$B$56,$N$1059:$R$1119,A1113+1,FALSE)","v":4122.6204640745},{"$f":"HLOOKUP(User_entry!$E$56,$S$1059:$W$1119,A1113+1,FALSE)","v":450000},{"$f":"Computations!$F$15+Computations!$E$15*D1113","v":4122.6204640745},{"$f":"EXP(Computations!$F$16)*EXP(Computations!$E$16)^Computations!D1113","v":5713.7009016510001},{"$f":"Computations!$F$17+Computations!$E$17*LN(Computations!D1113)","v":3384.2780259334895},{"$f":"Computations!$F$18+Computations!$E$18*Computations!D1113+Computations!$D$18*Computations!D1113^2","v":3387.5636145502845},{"$f":"Computations!$F$19+Computations!$E$19*Computations!D1113+Computations!$D$19*Computations!D1113^2+Computations!$C$19*Computations!D1113^3","v":3387.5636145502845},{"$f":"Computations!$J$15+Computations!$I$15*D1113","v":450000},{"$f":"EXP(Computations!$J$16)*EXP(Computations!$I$16)^Computations!D1113","v":450000.00000000035},{"$f":"Computations!$J$17+Computations!$I$17*LN(Computations!D1113)","v":450000},{"$f":"Computations!$J$18+Computations!$I$18*Computations!D1113+Computations!$H$18*Computations!D1113^2","v":450000},{"$f":"Computations!$J$19+Computations!$I$19*Computations!D1113+Computations!$H$19*Computations!D1113^2+Computations!$G$19*Computations!D1113^3","v":450000}]
[55,0.27375121574413286,0.27861533669307431,0.27618327621860361,0.9996122603805726,1.155430820860559E-4,4186.6220555079417,450000,{"$f":"G1114-H1114/User_entry!$E$18","v":2686.6220555079417},2686.6220555079417,null,{"$f":"HLOOKUP(User_entry!$B$56,$N$1059:$R$1119,A1114+1,FALSE)","v":4186.6220555079417},{"$f":"HLOOKUP(User_entry!$E$56,$S$1059:$W$1119,A1114+1,FALSE)","v":450000},{"$f":"Computations!$F$15+Computations!$E$15*D1114","v":4186.6220555079417},{"$f":"EXP(Computations!$F$16)*EXP(Computations!$E$16)^Computations!D1114","v":5914.516117109335},{"$f":"Computations!$F$17+Computations!$E$17*LN(Computations!D1114)","v":3406.8523179197173},{"$f":"Computations!$F$18+Computations!$E$18*Computations!D1114+Computations!$D$18*Computations!D1114^2","v":3395.2196631901734},{"$f":"Computations!$F$19+Computations!$E$19*Computations!D1114+Computations!$D$19*Computations!D1114^2+Computations!$C$19*Computations!D1114^3","v":3395.2196631901734},{"$f":"Computations!$J$15+Computations!$I$15*D1114","v":450000},{"$f":"EXP(Computations!$J$16)*EXP(Computations!$I$16)^Computations!D1114","v":450000.00000000035},{"$f":"Computations!$J$17+Computations!$I$17*LN(Computations!D1114)","v":450000},{"$f":"Computations!$J$18+Computations!$I$18*Computations!D1114+Computations!$H$18*Computations!D1114^2","v":450000},{"$f":"Computations!$J$19+Computations!$I$19*Computations!D1114+Computations!$H$19*Computations!D1114^2+Computations!$G$19*Computations!D1114^3","v":450000}]
[56,0.27861533669307431,0.28347945764201576,0.28104739716754501,0.99970229346344097,9.0033082868368197E-5,4250.6236469413807,450000,{"$f":"G1115-H1115/User_entry!$E$18","v":2750.6236469413807},2750.6236469413807,null,{"$f":"HLOOKUP(User_entry!$B$56,$N$1059:$R$1119,A1115+1,FALSE)","v":4250.6236469413807},{"$f":"HLOOKUP(User_entry!$E$56,$S$1059:$W$1119,A1115+1,FALSE)","v":450000},{"$f":"Computations!$F$15+Computations!$E$15*D1115","v":4250.6236469413807},{"$f":"EXP(Computations!$F$16)*EXP(Computations!$E$16)^Computations!D1115","v":6122.3892362720608},{"$f":"Computations!$F$17+Computations!$E$17*LN(Computations!D1115)","v":3429.0324833096483},{"$f":"Computations!$F$18+Computations!$E$18*Computations!D1115+Computations!$D$18*Computations!D1115^2","v":3401.1231434888828},{"$f":"Computations!$F$19+Computations!$E$19*Computations!D1115+Computations!$D$19*Computations!D1115^2+Computations!$C$19*Computations!D1115^3","v":3401.1231434888828},{"$f":"Computations!$J$15+Computations!$I$15*D1115","v":450000},{"$f":"EXP(Computations!$J$16)*EXP(Computations!$I$16)^Computations!D1115","v":450000.00000000035},{"$f":"Computations!$J$17+Computations!$I$17*LN(Computations!D1115)","v":450000},{"$f":"Computations!$J$18+Computations!$I$18*Computations!D1115+Computations!$H$18*Computations!D1115^2","v":450000},{"$f":"Computations!$J$19+Computations!$I$19*Computations!D1115+Computations!$H$19*Computations!D1115^2+Computations!$G$19*Computations!D1115^3","v":450000}]
[57,0.28347945764201576,0.28834357859095722,0.28591151811648652,0.99977219765173253,6.9904188291558533E-5,4314.6252383748215,450000,{"$f":"G1116-H1116/User_entry!$E$18","v":2814.6252383748215},2814.6252383748215,null,{"$f":"HLOOKUP(User_entry!$B$56,$N$1059:$R$1119,A1116+1,FALSE)","v":4314.6252383748215},{"$f":"HLOOKUP(User_entry!$E$56,$S$1059:$W$1119,A1116+1,FALSE)","v":450000},{"$f":"Computations!$F$15+Computations!$E$15*D1116","v":4314.6252383748215},{"$f":"EXP(Computations!$F$16)*EXP(Computations!$E$16)^Computations!D1116","v":6337.5683180553742},{"$f":"Computations!$F$17+Computations!$E$17*LN(Computations!D1116)","v":3450.8320484664218},{"$f":"Computations!$F$18+Computations!$E$18*Computations!D1116+Computations!$D$18*Computations!D1116^2","v":3405.2740554464117},{"$f":"Computations!$F$19+Computations!$E$19*Computations!D1116+Computations!$D$19*Computations!D1116^2+Computations!$C$19*Computations!D1116^3","v":3405.2740554464117},{"$f":"Computations!$J$15+Computations!$I$15*D1116","v":450000},{"$f":"EXP(Computations!$J$16)*EXP(Computations!$I$16)^Computations!D1116","v":450000.00000000035},{"$f":"Computations!$J$17+Computations!$I$17*LN(Computations!D1116)","v":450000},{"$f":"Computations!$J$18+Computations!$I$18*Computations!D1116+Computations!$H$18*Computations!D1116^2","v":450000},{"$f":"Computations!$J$19+Computations!$I$19*Computations!D1116+Computations!$H$19*Computations!D1116^2+Computations!$G$19*Computations!D1116^3","v":450000}]
[58,0.28834357859095722,0.29320769953989867,0.29077563906542792,0.99982627978609484,5.4082134362309908E-5,4378.6268298082614,450000,{"$f":"G1117-H1117/User_entry!$E$18","v":2878.6268298082614},2878.6268298082614,null,{"$f":"HLOOKUP(User_entry!$B$56,$N$1059:$R$1119,A1117+1,FALSE)","v":4378.6268298082614},{"$f":"HLOOKUP(User_entry!$E$56,$S$1059:$W$1119,A1117+1,FALSE)","v":450000},{"$f":"Computations!$F$15+Computations!$E$15*D1117","v":4378.6268298082614},{"$f":"EXP(Computations!$F$16)*EXP(Computations!$E$16)^Computations!D1117","v":6560.3101397185337},{"$f":"Computations!$F$17+Computations!$E$17*LN(Computations!D1117)","v":3472.2638551503896},{"$f":"Computations!$F$18+Computations!$E$18*Computations!D1117+Computations!$D$18*Computations!D1117^2","v":3407.6723990627606},{"$f":"Computations!$F$19+Computations!$E$19*Computations!D1117+Computations!$D$19*Computations!D1117^2+Computations!$C$19*Computations!D1117^3","v":3407.6723990627606},{"$f":"Computations!$J$15+Computations!$I$15*D1117","v":450000},{"$f":"EXP(Computations!$J$16)*EXP(Computations!$I$16)^Computations!D1117","v":450000.00000000035},{"$f":"Computations!$J$17+Computations!$I$17*LN(Computations!D1117)","v":450000},{"$f":"Computations!$J$18+Computations!$I$18*Computations!D1117+Computations!$H$18*Computations!D1117^2","v":450000},{"$f":"Computations!$J$19+Computations!$I$19*Computations!D1117+Computations!$H$19*Computations!D1117^2+Computations!$G$19*Computations!D1117^3","v":450000}]
[59,0.29320769953989867,0.29807182048884012,0.29563976001436942,0.99986797242488967,4.1692638794832426E-5,4442.6284212417022,450000,{"$f":"G1118-H1118/User_entry!$E$18","v":2942.6284212417022},2942.6284212417022,null,{"$f":"HLOOKUP(User_entry!$B$56,$N$1059:$R$1119,A1118+1,FALSE)","v":4442.6284212417022},{"$f":"HLOOKUP(User_entry!$E$56,$S$1059:$W$1119,A1118+1,FALSE)","v":450000},{"$f":"Computations!$F$15+Computations!$E$15*D1118","v":4442.6284212417022},{"$f":"EXP(Computations!$F$16)*EXP(Computations!$E$16)^Computations!D1118","v":6790.8805032810351},{"$f":"Computations!$F$17+Computations!$E$17*LN(Computations!D1118)","v":3493.3401059529378},{"$f":"Computations!$F$18+Computations!$E$18*Computations!D1118+Computations!$D$18*Computations!D1118^2","v":3408.3181743379291},{"$f":"Computations!$F$19+Computations!$E$19*Computations!D1118+Computations!$D$19*Computations!D1118^2+Computations!$C$19*Computations!D1118^3","v":3408.3181743379291},{"$f":"Computations!$J$15+Computations!$I$15*D1118","v":450000},{"$f":"EXP(Computations!$J$16)*EXP(Computations!$I$16)^Computations!D1118","v":450000.00000000035},{"$f":"Computations!$J$17+Computations!$I$17*LN(Computations!D1118)","v":450000},{"$f":"Computations!$J$18+Computations!$I$18*Computations!D1118+Computations!$H$18*Computations!D1118^2","v":450000},{"$f":"Computations!$J$19+Computations!$I$19*Computations!D1118+Computations!$H$19*Computations!D1118^2+Computations!$G$19*Computations!D1118^3","v":450000}]
[60,0.29807182048884012,0.30293594143778158,0.30050388096331082,0.99990000000000001,3.2027575110338269E-5,4506.6300126751412,450000,{"$f":"G1119-H1119/User_entry!$E$18","v":3006.6300126751412},3006.6300126751412,null,{"$f":"HLOOKUP(User_entry!$B$56,$N$1059:$R$1119,A1119+1,FALSE)","v":4506.6300126751412},{"$f":"HLOOKUP(User_entry!$E$56,$S$1059:$W$1119,A1119+1,FALSE)","v":450000},{"$f":"Computations!$F$15+Computations!$E$15*D1119","v":4506.6300126751412},{"$f":"EXP(Computations!$F$16)*EXP(Computations!$E$16)^Computations!D1119","v":7029.5545527091572},{"$f":"Computations!$F$17+Computations!$E$17*LN(Computations!D1119)","v":3514.0724060226894},{"$f":"Computations!$F$18+Computations!$E$18*Computations!D1119+Computations!$D$18*Computations!D1119^2","v":3407.2113812719176},{"$f":"Computations!$F$19+Computations!$E$19*Computations!D1119+Computations!$D$19*Computations!D1119^2+Computations!$C$19*Computations!D1119^3","v":3407.2113812719176},{"$f":"Computations!$J$15+Computations!$I$15*D1119","v":450000},{"$f":"EXP(Computations!$J$16)*EXP(Computations!$I$16)^Computations!D1119","v":450000.00000000035},{"$f":"Computations!$J$17+Computations!$I$17*LN(Computations!D1119)","v":450000},{"$f":"Computations!$J$18+Computations!$I$18*Computations!D1119+Computations!$H$18*Computations!D1119^2","v":450000},{"$f":"Computations!$J$19+Computations!$I$19*Computations!D1119+Computations!$H$19*Computations!D1119^2+Computations!$G$19*Computations!D1119^3","v":450000}]
[]
["Values for graphing",null,"Data to produce verticle lines on plot"]
[null,null,{"$f":"MATCH(MIN(ABS(D1060:D1119-D6)),ABS(D1060:D1119-D6),0)","v":19},{"$f":"MATCH(MIN(ABS(D1060:D1119-trigger)),ABS(D1060:D1119-trigger),0)","v":13},0]
[null,null,{"$f":"C1122","v":19},{"$f":"MATCH(trigger,Computations!D1060:D1119,1)","v":13},1]

{"sheet":"Controls","index":4,"n_rows":14,"n_cols":3,"rows_kept":14,"cut":false,"hidden":false,"merged":[]}
[]
[null,"Proportion or probability","Beta"]
[null,"Cost","Gamma"]
[null,"Hazard ratio, relative risk, odds ratio","Lognorm"]
[null,"Mean difference, change from baseline","Normal"]
[]
[null,"One patient"]
[null,"All patients"]
[]
[null,"Linear"]
[null,"Exponential"]
[null,"Logarithmic"]
[null,"Polynomial - quadratic"]
[null,"Polynomial - cubic"]